{"text_format":"1","workbook":"xlsx","n_sheets":8,"sheets":["はじめにお読み下さい","リスト","春季（個人・団体）","全国（個人）","関東個人","中野優勝旗","新人","冬季"],"not_rendered":{"charts":0,"images":6,"macros":1,"external_links":0,"defined_names":9,"comments":0,"pivot_tables":0},"unopened":[],"bounds":{"document_bytes":16777216,"sheet_cells":100000,"rows_first":2000,"rows_last":500,"rows_between":2000,"halvings":0,"cell_chars":16384,"cell_head_chars":4096},"cells_cut":0,"cells_raw":0,"read":"whole","date_system":"1900"}

{"sheet":"はじめにお読み下さい","index":0,"n_rows":57,"n_cols":9,"rows_kept":57,"cut":false,"hidden":false,"merged":[]}
["使い方"]
[null,"はじめに"]
[null,null,"利用のためにはマクロを有効にする必要があります。マクロが有効になっていない場合には以下の手順を先にお願いします。"]
[null,null,"ただし、お使いのコンピュータ環境によっては、毎回この工程が必要な場合があります。"]
[null,null,"手順：ファイルを開いた直後、下のようなメッセージが出ますので、「オプション」をクリック後、「このコンテンツを有効にする」を選び、「OK」を押して下さい。"]
[]
[]
[]
[]
[]
[]
[]
[]
[]
[]
[]
[]
[]
[]
[]
[]
[null,"（１）　最初に生徒の選択ができるように生徒のリストを作成します。"]
[null,null,"※１度作成しておけば，大会毎に作成する必要はありません。"]
[null,null,"①　シート「リスト」を選択します。"]
[]
[]
[]
[]
[]
[null,null,"②　２・３年生のデータの作成を行います。県連の登録で利用したファイルから取得できます。ボタンを押してファイルを選択して下さい。"]
[]
[null,null,null,null,null,null,null,null,"※　学年において、更新の欄（上段）に学年が入っている生徒のみ取り込みます。"]
[null,null,null,null,null,null,null,null,"（退部や卒業の生徒を取り込まないようにするための対応です）"]
[]
[]
[]
[null,null,"③　１年生のデータ（追加生徒）の作成を行います。県連の登録で利用したファイルから取得できます。ボタンを押してファイルを選択して下さい。"]
[null,null,"　　　※　県連にメールで送るとIDが発行されて返送されます。その返送されたファイルを利用して下さい。"]
[]
[]
[]
[]
[]
[]
[null,"（２）　大会の申し込みを作成します。"]
[null,null,"①　申し込みを行う大会のシートを選択します。"]
[null,null,"②　学校名・引率名等，申し込みに必要な情報を選択します。"]
[null,null,"　　※　学校名・引率名は選択で選べます。４月時の登録名簿を元にしています。"]
[null,null,"③　生徒を選択します。"]
[null,null,"④　申し込みファイルを作成します。シート右のボタンを押して下さい。"]
[]
[]
[]
[]
[null,null,"⑤　このファイルと同じ場所に申し込み用ファイルが作成されますので，そのファイルをメールにて事務局まで送って下さい。"]
[null,null,"　　※　ファイル名は変更せずに送って下さい。"]
[null,null,null,"jimukyoku.ibaraki.kyudo@gmail.com"]

{"sheet":"リスト","index":1,"n_rows":201,"n_cols":25,"rows_kept":201,"cut":false,"hidden":false,"merged":[[0,1,0,2]]}
[null,null,null,null,null,null,null,null,null,null,null,null,null,null,null,null,null,null,"男","女"]
[null,"会員ＩＤ","学年","姓","名","外字有無","せい","めい","男女","生年月日","現在段位","認許日","備考","会員登録日"]
[{"$f":"P3","v":"　"},null,null,null,null,null,null,null,null,null,null,null,null,null,null,{"$f":"D3& \"　\"&E3","v":"　"},{"$f":"C3","v":0},{"$f":"I3","v":0},{"$f":"IF($R3=S$1,1,0)","v":0},{"$f":"IF($R3=T$1,1,0)","v":0},{"$f":"P3","v":"　"},{"$f":"Q3","v":0},1,{"$f":"IF(ISERROR(VLOOKUP($W3,$S$3:$V$201,3,FALSE)),\" \",VLOOKUP($W3,$S$3:$V$201,3,FALSE))","v":" "},{"$f":"IF(ISERROR(VLOOKUP($W3,$T$3:$V$201,2,FALSE)),\" \",VLOOKUP($W3,$T$3:$V$201,2,FALSE))","v":" "}]
[{"$f":"P4","v":"　"},null,null,null,null,null,null,null,null,null,null,null,null,null,null,{"$f":"D4& \"　\"&E4","v":"　"},{"$f":"C4","v":0},{"$f":"I4","v":0},{"$f":"IF($R4=S$1,S3+1,0)","v":0},{"$f":"IF($R4=T$1,T3+1,0)","v":0},{"$f":"P4","v":"　"},{"$f":"Q4","v":0},2,{"$f":"IF(ISERROR(VLOOKUP($W4,$S$3:$V$201,3,FALSE)),\" \",VLOOKUP($W4,$S$3:$V$201,3,FALSE))","v":" "},{"$f":"IF(ISERROR(VLOOKUP($W4,$T$3:$V$201,2,FALSE)),\" \",VLOOKUP($W4,$T$3:$V$201,2,FALSE))","v":" "}]
["　",null,null,null,null,null,null,null,null,null,null,null,null,null,null,"　",0,0,{"$f":"IF($R5=S$1,MAX(S$3:S4)+1,0)","v":0},{"$f":"IF($R5=T$1,MAX(T$3:T4)+1,0)","v":0},"　",0,3," "," "]
["　",null,null,null,null,null,null,null,null,null,null,null,null,null,null,"　",0,0,{"$f":"IF($R6=S$1,MAX(S$3:S5)+1,0)","v":0},{"$f":"IF($R6=T$1,MAX(T$3:T5)+1,0)","v":0},"　",0,4," "," "]
["　",null,null,null,null,null,null,null,null,null,null,null,null,null,null,"　",0,0,{"$f":"IF($R7=S$1,MAX(S$3:S6)+1,0)","v":0},{"$f":"IF($R7=T$1,MAX(T$3:T6)+1,0)","v":0},"　",0,5," "," "]
["　",null,null,null,null,null,null,null,null,null,null,null,null,null,null,"　",0,0,{"$f":"IF($R8=S$1,MAX(S$3:S7)+1,0)","v":0},{"$f":"IF($R8=T$1,MAX(T$3:T7)+1,0)","v":0},"　",0,6," "," "]
["　",null,null,null,null,null,null,null,null,null,null,null,null,null,null,"　",0,0,{"$f":"IF($R9=S$1,MAX(S$3:S8)+1,0)","v":0},{"$f":"IF($R9=T$1,MAX(T$3:T8)+1,0)","v":0},"　",0,7," "," "]
["　",null,null,null,null,null,null,null,null,null,null,null,null,null,null,"　",0,0,{"$f":"IF($R10=S$1,MAX(S$3:S9)+1,0)","v":0},{"$f":"IF($R10=T$1,MAX(T$3:T9)+1,0)","v":0},"　",0,8," "," "]
["　",null,null,null,null,null,null,null,null,null,null,null,null,null,null,"　",0,0,{"$f":"IF($R11=S$1,MAX(S$3:S10)+1,0)","v":0},{"$f":"IF($R11=T$1,MAX(T$3:T10)+1,0)","v":0},"　",0,9," "," "]
["　",null,null,null,null,null,null,null,null,null,null,null,null,null,null,"　",0,0,{"$f":"IF($R12=S$1,MAX(S$3:S11)+1,0)","v":0},{"$f":"IF($R12=T$1,MAX(T$3:T11)+1,0)","v":0},"　",0,10," "," "]
["　",null,null,null,null,null,null,null,null,null,null,null,null,null,null,"　",0,0,{"$f":"IF($R13=S$1,MAX(S$3:S12)+1,0)","v":0},{"$f":"IF($R13=T$1,MAX(T$3:T12)+1,0)","v":0},"　",0,11," "," "]
["　",null,null,null,null,null,null,null,null,null,null,null,null,null,null,"　",0,0,{"$f":"IF($R14=S$1,MAX(S$3:S13)+1,0)","v":0},{"$f":"IF($R14=T$1,MAX(T$3:T13)+1,0)","v":0},"　",0,12," "," "]
["　",null,null,null,null,null,null,null,null,null,null,null,null,null,null,"　",0,0,{"$f":"IF($R15=S$1,MAX(S$3:S14)+1,0)","v":0},{"$f":"IF($R15=T$1,MAX(T$3:T14)+1,0)","v":0},"　",0,13," "," "]
["　",null,null,null,null,null,null,null,null,null,null,null,null,null,null,"　",0,0,{"$f":"IF($R16=S$1,MAX(S$3:S15)+1,0)","v":0},{"$f":"IF($R16=T$1,MAX(T$3:T15)+1,0)","v":0},"　",0,14," "," "]
["　",null,null,null,null,null,null,null,null,null,null,null,null,null,null,"　",0,0,{"$f":"IF($R17=S$1,MAX(S$3:S16)+1,0)","v":0},{"$f":"IF($R17=T$1,MAX(T$3:T16)+1,0)","v":0},"　",0,15," "," "]
["　",null,null,null,null,null,null,null,null,null,null,null,null,null,null,"　",0,0,{"$f":"IF($R18=S$1,MAX(S$3:S17)+1,0)","v":0},{"$f":"IF($R18=T$1,MAX(T$3:T17)+1,0)","v":0},"　",0,16," "," "]
["　",null,null,null,null,null,null,null,null,null,null,null,null,null,null,{"$f":"D19& \"　\"&E19","v":"　"},{"$f":"C19","v":0},{"$f":"I19","v":0},{"$f":"IF($R19=S$1,MAX(S$3:S18)+1,0)","v":0},{"$f":"IF($R19=T$1,MAX(T$3:T18)+1,0)","v":0},{"$f":"P19","v":"　"},{"$f":"Q19","v":0},17," "," "]
["　",null,null,null,null,null,null,null,null,null,null,null,null,null,null,"　",0,0,{"$f":"IF($R20=S$1,MAX(S$3:S19)+1,0)","v":0},{"$f":"IF($R20=T$1,MAX(T$3:T19)+1,0)","v":0},"　",0,18," "," "]
["　",null,null,null,null,null,null,null,null,null,null,null,null,null,null,"　",0,0,{"$f":"IF($R21=S$1,MAX(S$3:S20)+1,0)","v":0},{"$f":"IF($R21=T$1,MAX(T$3:T20)+1,0)","v":0},"　",0,19," "," "]
["　",null,null,null,null,null,null,null,null,null,null,null,null,null,null,"　",0,0,{"$f":"IF($R22=S$1,MAX(S$3:S21)+1,0)","v":0},{"$f":"IF($R22=T$1,MAX(T$3:T21)+1,0)","v":0},"　",0,20," "," "]
["　",null,null,null,null,null,null,null,null,null,null,null,null,null,null,"　",0,0,{"$f":"IF($R23=S$1,MAX(S$3:S22)+1,0)","v":0},{"$f":"IF($R23=T$1,MAX(T$3:T22)+1,0)","v":0},"　",0,21," "," "]
["　",null,null,null,null,null,null,null,null,null,null,null,null,null,null,"　",0,0,{"$f":"IF($R24=S$1,MAX(S$3:S23)+1,0)","v":0},{"$f":"IF($R24=T$1,MAX(T$3:T23)+1,0)","v":0},"　",0,22," "," "]
["　",null,null,null,null,null,null,null,null,null,null,null,null,null,null,"　",0,0,{"$f":"IF($R25=S$1,MAX(S$3:S24)+1,0)","v":0},{"$f":"IF($R25=T$1,MAX(T$3:T24)+1,0)","v":0},"　",0,23," "," "]
["　",null,null,null,null,null,null,null,null,null,null,null,null,null,null,"　",0,0,{"$f":"IF($R26=S$1,MAX(S$3:S25)+1,0)","v":0},{"$f":"IF($R26=T$1,MAX(T$3:T25)+1,0)","v":0},"　",0,24," "," "]
["　",null,null,null,null,null,null,null,null,null,null,null,null,null,null,"　",0,0,{"$f":"IF($R27=S$1,MAX(S$3:S26)+1,0)","v":0},{"$f":"IF($R27=T$1,MAX(T$3:T26)+1,0)","v":0},"　",0,25," "," "]
["　",null,null,null,null,null,null,null,null,null,null,null,null,null,null,"　",0,0,{"$f":"IF($R28=S$1,MAX(S$3:S27)+1,0)","v":0},{"$f":"IF($R28=T$1,MAX(T$3:T27)+1,0)","v":0},"　",0,26," "," "]
["　",null,null,null,null,null,null,null,null,null,null,null,null,null,null,"　",0,0,{"$f":"IF($R29=S$1,MAX(S$3:S28)+1,0)","v":0},{"$f":"IF($R29=T$1,MAX(T$3:T28)+1,0)","v":0},"　",0,27," "," "]
["　",null,null,null,null,null,null,null,null,null,null,null,null,null,null,"　",0,0,{"$f":"IF($R30=S$1,MAX(S$3:S29)+1,0)","v":0},{"$f":"IF($R30=T$1,MAX(T$3:T29)+1,0)","v":0},"　",0,28," "," "]
["　",null,null,null,null,null,null,null,null,null,null,null,null,null,null,"　",0,0,{"$f":"IF($R31=S$1,MAX(S$3:S30)+1,0)","v":0},{"$f":"IF($R31=T$1,MAX(T$3:T30)+1,0)","v":0},"　",0,29," "," "]
["　",null,null,null,null,null,null,null,null,null,null,null,null,null,null,"　",0,0,{"$f":"IF($R32=S$1,MAX(S$3:S31)+1,0)","v":0},{"$f":"IF($R32=T$1,MAX(T$3:T31)+1,0)","v":0},"　",0,30," "," "]
["　",null,null,null,null,null,null,null,null,null,null,null,null,null,null,"　",0,0,{"$f":"IF($R33=S$1,MAX(S$3:S32)+1,0)","v":0},{"$f":"IF($R33=T$1,MAX(T$3:T32)+1,0)","v":0},"　",0,31," "," "]
["　",null,null,null,null,null,null,null,null,null,null,null,null,null,null,"　",0,0,{"$f":"IF($R34=S$1,MAX(S$3:S33)+1,0)","v":0},{"$f":"IF($R34=T$1,MAX(T$3:T33)+1,0)","v":0},"　",0,32," "," "]
["　",null,null,null,null,null,null,null,null,null,null,null,null,null,null,"　",0,0,{"$f":"IF($R35=S$1,MAX(S$3:S34)+1,0)","v":0},{"$f":"IF($R35=T$1,MAX(T$3:T34)+1,0)","v":0},"　",0,33," "," "]
["　",null,null,null,null,null,null,null,null,null,null,null,null,null,null,"　",0,0,{"$f":"IF($R36=S$1,MAX(S$3:S35)+1,0)","v":0},{"$f":"IF($R36=T$1,MAX(T$3:T35)+1,0)","v":0},"　",0,34," "," "]
["　",null,null,null,null,null,null,null,null,null,null,null,null,null,null,"　",0,0,{"$f":"IF($R37=S$1,MAX(S$3:S36)+1,0)","v":0},{"$f":"IF($R37=T$1,MAX(T$3:T36)+1,0)","v":0},"　",0,35," "," "]
["　",null,null,null,null,null,null,null,null,null,null,null,null,null,null,"　",0,0,{"$f":"IF($R38=S$1,MAX(S$3:S37)+1,0)","v":0},{"$f":"IF($R38=T$1,MAX(T$3:T37)+1,0)","v":0},"　",0,36," "," "]
["　",null,null,null,null,null,null,null,null,null,null,null,null,null,null,"　",0,0,{"$f":"IF($R39=S$1,MAX(S$3:S38)+1,0)","v":0},{"$f":"IF($R39=T$1,MAX(T$3:T38)+1,0)","v":0},"　",0,37," "," "]
["　",null,null,null,null,null,null,null,null,null,null,null,null,null,null,"　",0,0,{"$f":"IF($R40=S$1,MAX(S$3:S39)+1,0)","v":0},{"$f":"IF($R40=T$1,MAX(T$3:T39)+1,0)","v":0},"　",0,38," "," "]
["　",null,null,null,null,null,null,null,null,null,null,null,null,null,null,"　",0,0,{"$f":"IF($R41=S$1,MAX(S$3:S40)+1,0)","v":0},{"$f":"IF($R41=T$1,MAX(T$3:T40)+1,0)","v":0},"　",0,39," "," "]
["　",null,null,null,null,null,null,null,null,null,null,null,null,null,null,"　",0,0,{"$f":"IF($R42=S$1,MAX(S$3:S41)+1,0)","v":0},{"$f":"IF($R42=T$1,MAX(T$3:T41)+1,0)","v":0},"　",0,40," "," "]
["　",null,null,null,null,null,null,null,null,null,null,null,null,null,null,"　",0,0,{"$f":"IF($R43=S$1,MAX(S$3:S42)+1,0)","v":0},{"$f":"IF($R43=T$1,MAX(T$3:T42)+1,0)","v":0},"　",0,41," "," "]
["　",null,null,null,null,null,null,null,null,null,null,null,null,null,null,"　",0,0,{"$f":"IF($R44=S$1,MAX(S$3:S43)+1,0)","v":0},{"$f":"IF($R44=T$1,MAX(T$3:T43)+1,0)","v":0},"　",0,42," "," "]
["　",null,null,null,null,null,null,null,null,null,null,null,null,null,null,"　",0,0,{"$f":"IF($R45=S$1,MAX(S$3:S44)+1,0)","v":0},{"$f":"IF($R45=T$1,MAX(T$3:T44)+1,0)","v":0},"　",0,43," "," "]
["　",null,null,null,null,null,null,null,null,null,null,null,null,null,null,"　",0,0,{"$f":"IF($R46=S$1,MAX(S$3:S45)+1,0)","v":0},{"$f":"IF($R46=T$1,MAX(T$3:T45)+1,0)","v":0},"　",0,44," "," "]
["　",null,null,null,null,null,null,null,null,null,null,null,null,null,null,"　",0,0,{"$f":"IF($R47=S$1,MAX(S$3:S46)+1,0)","v":0},{"$f":"IF($R47=T$1,MAX(T$3:T46)+1,0)","v":0},"　",0,45," "," "]
["　",null,null,null,null,null,null,null,null,null,null,null,null,null,null,"　",0,0,{"$f":"IF($R48=S$1,MAX(S$3:S47)+1,0)","v":0},{"$f":"IF($R48=T$1,MAX(T$3:T47)+1,0)","v":0},"　",0,46," "," "]
["　",null,null,null,null,null,null,null,null,null,null,null,null,null,null,"　",0,0,{"$f":"IF($R49=S$1,MAX(S$3:S48)+1,0)","v":0},{"$f":"IF($R49=T$1,MAX(T$3:T48)+1,0)","v":0},"　",0,47," "," "]
["　",null,null,null,null,null,null,null,null,null,null,null,null,null,null,"　",0,0,{"$f":"IF($R50=S$1,MAX(S$3:S49)+1,0)","v":0},{"$f":"IF($R50=T$1,MAX(T$3:T49)+1,0)","v":0},"　",0,48," "," "]
["　",null,null,null,null,null,null,null,null,null,null,null,null,null,null,"　",0,0,{"$f":"IF($R51=S$1,MAX(S$3:S50)+1,0)","v":0},{"$f":"IF($R51=T$1,MAX(T$3:T50)+1,0)","v":0},"　",0,49," "," "]
["　",null,null,null,null,null,null,null,null,null,null,null,null,null,null,"　",0,0,{"$f":"IF($R52=S$1,MAX(S$3:S51)+1,0)","v":0},{"$f":"IF($R52=T$1,MAX(T$3:T51)+1,0)","v":0},"　",0,50," "," "]
["　",null,null,null,null,null,null,null,null,null,null,null,null,null,null,"　",0,0,{"$f":"IF($R53=S$1,MAX(S$3:S52)+1,0)","v":0},{"$f":"IF($R53=T$1,MAX(T$3:T52)+1,0)","v":0},"　",0,51," "," "]
["　",null,null,null,null,null,null,null,null,null,null,null,null,null,null,"　",0,0,{"$f":"IF($R54=S$1,MAX(S$3:S53)+1,0)","v":0},{"$f":"IF($R54=T$1,MAX(T$3:T53)+1,0)","v":0},"　",0,52," "," "]
["　",null,null,null,null,null,null,null,null,null,null,null,null,null,null,"　",0,0,{"$f":"IF($R55=S$1,MAX(S$3:S54)+1,0)","v":0},{"$f":"IF($R55=T$1,MAX(T$3:T54)+1,0)","v":0},"　",0,53," "," "]
["　",null,null,null,null,null,null,null,null,null,null,null,null,null,null,"　",0,0,{"$f":"IF($R56=S$1,MAX(S$3:S55)+1,0)","v":0},{"$f":"IF($R56=T$1,MAX(T$3:T55)+1,0)","v":0},"　",0,54," "," "]
["　",null,null,null,null,null,null,null,null,null,null,null,null,null,null,"　",0,0,{"$f":"IF($R57=S$1,MAX(S$3:S56)+1,0)","v":0},{"$f":"IF($R57=T$1,MAX(T$3:T56)+1,0)","v":0},"　",0,55," "," "]
["　",null,null,null,null,null,null,null,null,null,null,null,null,null,null,"　",0,0,{"$f":"IF($R58=S$1,MAX(S$3:S57)+1,0)","v":0},{"$f":"IF($R58=T$1,MAX(T$3:T57)+1,0)","v":0},"　",0,56," "," "]
["　",null,null,null,null,null,null,null,null,null,null,null,null,null,null,"　",0,0,{"$f":"IF($R59=S$1,MAX(S$3:S58)+1,0)","v":0},{"$f":"IF($R59=T$1,MAX(T$3:T58)+1,0)","v":0},"　",0,57," "," "]
["　",null,null,null,null,null,null,null,null,null,null,null,null,null,null,"　",0,0,{"$f":"IF($R60=S$1,MAX(S$3:S59)+1,0)","v":0},{"$f":"IF($R60=T$1,MAX(T$3:T59)+1,0)","v":0},"　",0,58," "," "]
["　",null,null,null,null,null,null,null,null,null,null,null,null,null,null,"　",0,0,{"$f":"IF($R61=S$1,MAX(S$3:S60)+1,0)","v":0},{"$f":"IF($R61=T$1,MAX(T$3:T60)+1,0)","v":0},"　",0,59," "," "]
["　",null,null,null,null,null,null,null,null,null,null,null,null,null,null,"　",0,0,{"$f":"IF($R62=S$1,MAX(S$3:S61)+1,0)","v":0},{"$f":"IF($R62=T$1,MAX(T$3:T61)+1,0)","v":0},"　",0,60," "," "]
["　",null,null,null,null,null,null,null,null,null,null,null,null,null,null,"　",0,0,{"$f":"IF($R63=S$1,MAX(S$3:S62)+1,0)","v":0},{"$f":"IF($R63=T$1,MAX(T$3:T62)+1,0)","v":0},"　",0,61," "," "]
["　",null,null,null,null,null,null,null,null,null,null,null,null,null,null,"　",0,0,{"$f":"IF($R64=S$1,MAX(S$3:S63)+1,0)","v":0},{"$f":"IF($R64=T$1,MAX(T$3:T63)+1,0)","v":0},"　",0,62," "," "]
["　",null,null,null,null,null,null,null,null,null,null,null,null,null,null,"　",0,0,{"$f":"IF($R65=S$1,MAX(S$3:S64)+1,0)","v":0},{"$f":"IF($R65=T$1,MAX(T$3:T64)+1,0)","v":0},"　",0,63," "," "]
["　",null,null,null,null,null,null,null,null,null,null,null,null,null,null,"　",0,0,{"$f":"IF($R66=S$1,MAX(S$3:S65)+1,0)","v":0},{"$f":"IF($R66=T$1,MAX(T$3:T65)+1,0)","v":0},"　",0,64," "," "]
["　",null,null,null,null,null,null,null,null,null,null,null,null,null,null,"　",0,0,{"$f":"IF($R67=S$1,MAX(S$3:S66)+1,0)","v":0},{"$f":"IF($R67=T$1,MAX(T$3:T66)+1,0)","v":0},"　",0,65," "," "]
[{"$f":"P68","v":"　"},null,null,null,null,null,null,null,null,null,null,null,null,null,null,"　",0,0,{"$f":"IF($R68=S$1,MAX(S$3:S67)+1,0)","v":0},{"$f":"IF($R68=T$1,MAX(T$3:T67)+1,0)","v":0},"　",0,66,{"$f":"IF(ISERROR(VLOOKUP($W68,$S$3:$V$201,3,FALSE)),\" \",VLOOKUP($W68,$S$3:$V$201,3,FALSE))","v":" "},{"$f":"IF(ISERROR(VLOOKUP($W68,$T$3:$V$201,2,FALSE)),\" \",VLOOKUP($W68,$T$3:$V$201,2,FALSE))","v":" "}]
["　",null,null,null,null,null,null,null,null,null,null,null,null,null,null,"　",0,0,{"$f":"IF($R69=S$1,MAX(S$3:S68)+1,0)","v":0},{"$f":"IF($R69=T$1,MAX(T$3:T68)+1,0)","v":0},"　",0,67," "," "]
["　",null,null,null,null,null,null,null,null,null,null,null,null,null,null,"　",0,0,{"$f":"IF($R70=S$1,MAX(S$3:S69)+1,0)","v":0},{"$f":"IF($R70=T$1,MAX(T$3:T69)+1,0)","v":0},"　",0,68," "," "]
["　",null,null,null,null,null,null,null,null,null,null,null,null,null,null,"　",0,0,{"$f":"IF($R71=S$1,MAX(S$3:S70)+1,0)","v":0},{"$f":"IF($R71=T$1,MAX(T$3:T70)+1,0)","v":0},"　",0,69," "," "]
["　",null,null,null,null,null,null,null,null,null,null,null,null,null,null,"　",0,0,{"$f":"IF($R72=S$1,MAX(S$3:S71)+1,0)","v":0},{"$f":"IF($R72=T$1,MAX(T$3:T71)+1,0)","v":0},"　",0,70," "," "]
["　",null,null,null,null,null,null,null,null,null,null,null,null,null,null,"　",0,0,{"$f":"IF($R73=S$1,MAX(S$3:S72)+1,0)","v":0},{"$f":"IF($R73=T$1,MAX(T$3:T72)+1,0)","v":0},"　",0,71," "," "]
["　",null,null,null,null,null,null,null,null,null,null,null,null,null,null,"　",0,0,{"$f":"IF($R74=S$1,MAX(S$3:S73)+1,0)","v":0},{"$f":"IF($R74=T$1,MAX(T$3:T73)+1,0)","v":0},"　",0,72," "," "]
["　",null,null,null,null,null,null,null,null,null,null,null,null,null,null,"　",0,0,{"$f":"IF($R75=S$1,MAX(S$3:S74)+1,0)","v":0},{"$f":"IF($R75=T$1,MAX(T$3:T74)+1,0)","v":0},"　",0,73," "," "]
["　",null,null,null,null,null,null,null,null,null,null,null,null,null,null,"　",0,0,{"$f":"IF($R76=S$1,MAX(S$3:S75)+1,0)","v":0},{"$f":"IF($R76=T$1,MAX(T$3:T75)+1,0)","v":0},"　",0,74," "," "]
["　",null,null,null,null,null,null,null,null,null,null,null,null,null,null,"　",0,0,{"$f":"IF($R77=S$1,MAX(S$3:S76)+1,0)","v":0},{"$f":"IF($R77=T$1,MAX(T$3:T76)+1,0)","v":0},"　",0,75," "," "]
["　",null,null,null,null,null,null,null,null,null,null,null,null,null,null,"　",0,0,{"$f":"IF($R78=S$1,MAX(S$3:S77)+1,0)","v":0},{"$f":"IF($R78=T$1,MAX(T$3:T77)+1,0)","v":0},"　",0,76," "," "]
["　",null,null,null,null,null,null,null,null,null,null,null,null,null,null,"　",0,0,{"$f":"IF($R79=S$1,MAX(S$3:S78)+1,0)","v":0},{"$f":"IF($R79=T$1,MAX(T$3:T78)+1,0)","v":0},"　",0,77," "," "]
["　",null,null,null,null,null,null,null,null,null,null,null,null,null,null,"　",0,0,{"$f":"IF($R80=S$1,MAX(S$3:S79)+1,0)","v":0},{"$f":"IF($R80=T$1,MAX(T$3:T79)+1,0)","v":0},"　",0,78," "," "]
["　",null,null,null,null,null,null,null,null,null,null,null,null,null,null,"　",0,0,{"$f":"IF($R81=S$1,MAX(S$3:S80)+1,0)","v":0},{"$f":"IF($R81=T$1,MAX(T$3:T80)+1,0)","v":0},"　",0,79," "," "]
["　",null,null,null,null,null,null,null,null,null,null,null,null,null,null,"　",0,0,{"$f":"IF($R82=S$1,MAX(S$3:S81)+1,0)","v":0},{"$f":"IF($R82=T$1,MAX(T$3:T81)+1,0)","v":0},"　",0,80," "," "]
["　",null,null,null,null,null,null,null,null,null,null,null,null,null,null,{"$f":"D83& \"　\"&E83","v":"　"},{"$f":"C83","v":0},{"$f":"I83","v":0},{"$f":"IF($R83=S$1,MAX(S$3:S82)+1,0)","v":0},{"$f":"IF($R83=T$1,MAX(T$3:T82)+1,0)","v":0},{"$f":"P83","v":"　"},{"$f":"Q83","v":0},81," "," "]
["　",null,null,null,null,null,null,null,null,null,null,null,null,null,null,"　",0,0,{"$f":"IF($R84=S$1,MAX(S$3:S83)+1,0)","v":0},{"$f":"IF($R84=T$1,MAX(T$3:T83)+1,0)","v":0},"　",0,82," "," "]
["　",null,null,null,null,null,null,null,null,null,null,null,null,null,null,"　",0,0,{"$f":"IF($R85=S$1,MAX(S$3:S84)+1,0)","v":0},{"$f":"IF($R85=T$1,MAX(T$3:T84)+1,0)","v":0},"　",0,83," "," "]
["　",null,null,null,null,null,null,null,null,null,null,null,null,null,null,"　",0,0,{"$f":"IF($R86=S$1,MAX(S$3:S85)+1,0)","v":0},{"$f":"IF($R86=T$1,MAX(T$3:T85)+1,0)","v":0},"　",0,84," "," "]
["　",null,null,null,null,null,null,null,null,null,null,null,null,null,null,"　",0,0,{"$f":"IF($R87=S$1,MAX(S$3:S86)+1,0)","v":0},{"$f":"IF($R87=T$1,MAX(T$3:T86)+1,0)","v":0},"　",0,85," "," "]
["　",null,null,null,null,null,null,null,null,null,null,null,null,null,null,"　",0,0,{"$f":"IF($R88=S$1,MAX(S$3:S87)+1,0)","v":0},{"$f":"IF($R88=T$1,MAX(T$3:T87)+1,0)","v":0},"　",0,86," "," "]
["　",null,null,null,null,null,null,null,null,null,null,null,null,null,null,"　",0,0,{"$f":"IF($R89=S$1,MAX(S$3:S88)+1,0)","v":0},{"$f":"IF($R89=T$1,MAX(T$3:T88)+1,0)","v":0},"　",0,87," "," "]
["　",null,null,null,null,null,null,null,null,null,null,null,null,null,null,"　",0,0,{"$f":"IF($R90=S$1,MAX(S$3:S89)+1,0)","v":0},{"$f":"IF($R90=T$1,MAX(T$3:T89)+1,0)","v":0},"　",0,88," "," "]
["　",null,null,null,null,null,null,null,null,null,null,null,null,null,null,"　",0,0,{"$f":"IF($R91=S$1,MAX(S$3:S90)+1,0)","v":0},{"$f":"IF($R91=T$1,MAX(T$3:T90)+1,0)","v":0},"　",0,89," "," "]
["　",null,null,null,null,null,null,null,null,null,null,null,null,null,null,"　",0,0,{"$f":"IF($R92=S$1,MAX(S$3:S91)+1,0)","v":0},{"$f":"IF($R92=T$1,MAX(T$3:T91)+1,0)","v":0},"　",0,90," "," "]
["　",null,null,null,null,null,null,null,null,null,null,null,null,null,null,"　",0,0,{"$f":"IF($R93=S$1,MAX(S$3:S92)+1,0)","v":0},{"$f":"IF($R93=T$1,MAX(T$3:T92)+1,0)","v":0},"　",0,91," "," "]
["　",null,null,null,null,null,null,null,null,null,null,null,null,null,null,"　",0,0,{"$f":"IF($R94=S$1,MAX(S$3:S93)+1,0)","v":0},{"$f":"IF($R94=T$1,MAX(T$3:T93)+1,0)","v":0},"　",0,92," "," "]
["　",null,null,null,null,null,null,null,null,null,null,null,null,null,null,"　",0,0,{"$f":"IF($R95=S$1,MAX(S$3:S94)+1,0)","v":0},{"$f":"IF($R95=T$1,MAX(T$3:T94)+1,0)","v":0},"　",0,93," "," "]
["　",null,null,null,null,null,null,null,null,null,null,null,null,null,null,"　",0,0,{"$f":"IF($R96=S$1,MAX(S$3:S95)+1,0)","v":0},{"$f":"IF($R96=T$1,MAX(T$3:T95)+1,0)","v":0},"　",0,94," "," "]
["　",null,null,null,null,null,null,null,null,null,null,null,null,null,null,"　",0,0,{"$f":"IF($R97=S$1,MAX(S$3:S96)+1,0)","v":0},{"$f":"IF($R97=T$1,MAX(T$3:T96)+1,0)","v":0},"　",0,95," "," "]
["　",null,null,null,null,null,null,null,null,null,null,null,null,null,null,"　",0,0,{"$f":"IF($R98=S$1,MAX(S$3:S97)+1,0)","v":0},{"$f":"IF($R98=T$1,MAX(T$3:T97)+1,0)","v":0},"　",0,96," "," "]
["　",null,null,null,null,null,null,null,null,null,null,null,null,null,null,"　",0,0,{"$f":"IF($R99=S$1,MAX(S$3:S98)+1,0)","v":0},{"$f":"IF($R99=T$1,MAX(T$3:T98)+1,0)","v":0},"　",0,97," "," "]
["　",null,null,null,null,null,null,null,null,null,null,null,null,null,null,"　",0,0,{"$f":"IF($R100=S$1,MAX(S$3:S99)+1,0)","v":0},{"$f":"IF($R100=T$1,MAX(T$3:T99)+1,0)","v":0},"　",0,98," "," "]
["　",null,null,null,null,null,null,null,null,null,null,null,null,null,null,"　",0,0,{"$f":"IF($R101=S$1,MAX(S$3:S100)+1,0)","v":0},{"$f":"IF($R101=T$1,MAX(T$3:T100)+1,0)","v":0},"　",0,99," "," "]
["　",null,null,null,null,null,null,null,null,null,null,null,null,null,null,"　",0,0,{"$f":"IF($R102=S$1,MAX(S$3:S101)+1,0)","v":0},{"$f":"IF($R102=T$1,MAX(T$3:T101)+1,0)","v":0},"　",0,100," "," "]
["　",null,null,null,null,null,null,null,null,null,null,null,null,null,null,"　",0,0,{"$f":"IF($R103=S$1,MAX(S$3:S102)+1,0)","v":0},{"$f":"IF($R103=T$1,MAX(T$3:T102)+1,0)","v":0},"　",0,101," "," "]
["　",null,null,null,null,null,null,null,null,null,null,null,null,null,null,"　",0,0,{"$f":"IF($R104=S$1,MAX(S$3:S103)+1,0)","v":0},{"$f":"IF($R104=T$1,MAX(T$3:T103)+1,0)","v":0},"　",0,102," "," "]
["　",null,null,null,null,null,null,null,null,null,null,null,null,null,null,"　",0,0,{"$f":"IF($R105=S$1,MAX(S$3:S104)+1,0)","v":0},{"$f":"IF($R105=T$1,MAX(T$3:T104)+1,0)","v":0},"　",0,103," "," "]
["　",null,null,null,null,null,null,null,null,null,null,null,null,null,null,"　",0,0,{"$f":"IF($R106=S$1,MAX(S$3:S105)+1,0)","v":0},{"$f":"IF($R106=T$1,MAX(T$3:T105)+1,0)","v":0},"　",0,104," "," "]
["　",null,null,null,null,null,null,null,null,null,null,null,null,null,null,"　",0,0,{"$f":"IF($R107=S$1,MAX(S$3:S106)+1,0)","v":0},{"$f":"IF($R107=T$1,MAX(T$3:T106)+1,0)","v":0},"　",0,105," "," "]
["　",null,null,null,null,null,null,null,null,null,null,null,null,null,null,"　",0,0,{"$f":"IF($R108=S$1,MAX(S$3:S107)+1,0)","v":0},{"$f":"IF($R108=T$1,MAX(T$3:T107)+1,0)","v":0},"　",0,106," "," "]
["　",null,null,null,null,null,null,null,null,null,null,null,null,null,null,"　",0,0,{"$f":"IF($R109=S$1,MAX(S$3:S108)+1,0)","v":0},{"$f":"IF($R109=T$1,MAX(T$3:T108)+1,0)","v":0},"　",0,107," "," "]
["　",null,null,null,null,null,null,null,null,null,null,null,null,null,null,"　",0,0,{"$f":"IF($R110=S$1,MAX(S$3:S109)+1,0)","v":0},{"$f":"IF($R110=T$1,MAX(T$3:T109)+1,0)","v":0},"　",0,108," "," "]
["　",null,null,null,null,null,null,null,null,null,null,null,null,null,null,"　",0,0,{"$f":"IF($R111=S$1,MAX(S$3:S110)+1,0)","v":0},{"$f":"IF($R111=T$1,MAX(T$3:T110)+1,0)","v":0},"　",0,109," "," "]
["　",null,null,null,null,null,null,null,null,null,null,null,null,null,null,"　",0,0,{"$f":"IF($R112=S$1,MAX(S$3:S111)+1,0)","v":0},{"$f":"IF($R112=T$1,MAX(T$3:T111)+1,0)","v":0},"　",0,110," "," "]
["　",null,null,null,null,null,null,null,null,null,null,null,null,null,null,"　",0,0,{"$f":"IF($R113=S$1,MAX(S$3:S112)+1,0)","v":0},{"$f":"IF($R113=T$1,MAX(T$3:T112)+1,0)","v":0},"　",0,111," "," "]
["　",null,null,null,null,null,null,null,null,null,null,null,null,null,null,"　",0,0,{"$f":"IF($R114=S$1,MAX(S$3:S113)+1,0)","v":0},{"$f":"IF($R114=T$1,MAX(T$3:T113)+1,0)","v":0},"　",0,112," "," "]
["　",null,null,null,null,null,null,null,null,null,null,null,null,null,null,"　",0,0,{"$f":"IF($R115=S$1,MAX(S$3:S114)+1,0)","v":0},{"$f":"IF($R115=T$1,MAX(T$3:T114)+1,0)","v":0},"　",0,113," "," "]
["　",null,null,null,null,null,null,null,null,null,null,null,null,null,null,"　",0,0,{"$f":"IF($R116=S$1,MAX(S$3:S115)+1,0)","v":0},{"$f":"IF($R116=T$1,MAX(T$3:T115)+1,0)","v":0},"　",0,114," "," "]
["　",null,null,null,null,null,null,null,null,null,null,null,null,null,null,"　",0,0,{"$f":"IF($R117=S$1,MAX(S$3:S116)+1,0)","v":0},{"$f":"IF($R117=T$1,MAX(T$3:T116)+1,0)","v":0},"　",0,115," "," "]
["　",null,null,null,null,null,null,null,null,null,null,null,null,null,null,"　",0,0,{"$f":"IF($R118=S$1,MAX(S$3:S117)+1,0)","v":0},{"$f":"IF($R118=T$1,MAX(T$3:T117)+1,0)","v":0},"　",0,116," "," "]
["　",null,null,null,null,null,null,null,null,null,null,null,null,null,null,"　",0,0,{"$f":"IF($R119=S$1,MAX(S$3:S118)+1,0)","v":0},{"$f":"IF($R119=T$1,MAX(T$3:T118)+1,0)","v":0},"　",0,117," "," "]
["　",null,null,null,null,null,null,null,null,null,null,null,null,null,null,"　",0,0,{"$f":"IF($R120=S$1,MAX(S$3:S119)+1,0)","v":0},{"$f":"IF($R120=T$1,MAX(T$3:T119)+1,0)","v":0},"　",0,118," "," "]
["　",null,null,null,null,null,null,null,null,null,null,null,null,null,null,"　",0,0,{"$f":"IF($R121=S$1,MAX(S$3:S120)+1,0)","v":0},{"$f":"IF($R121=T$1,MAX(T$3:T120)+1,0)","v":0},"　",0,119," "," "]
["　",null,null,null,null,null,null,null,null,null,null,null,null,null,null,"　",0,0,{"$f":"IF($R122=S$1,MAX(S$3:S121)+1,0)","v":0},{"$f":"IF($R122=T$1,MAX(T$3:T121)+1,0)","v":0},"　",0,120," "," "]
["　",null,null,null,null,null,null,null,null,null,null,null,null,null,null,"　",0,0,{"$f":"IF($R123=S$1,MAX(S$3:S122)+1,0)","v":0},{"$f":"IF($R123=T$1,MAX(T$3:T122)+1,0)","v":0},"　",0,121," "," "]
["　",null,null,null,null,null,null,null,null,null,null,null,null,null,null,"　",0,0,{"$f":"IF($R124=S$1,MAX(S$3:S123)+1,0)","v":0},{"$f":"IF($R124=T$1,MAX(T$3:T123)+1,0)","v":0},"　",0,122," "," "]
["　",null,null,null,null,null,null,null,null,null,null,null,null,null,null,"　",0,0,{"$f":"IF($R125=S$1,MAX(S$3:S124)+1,0)","v":0},{"$f":"IF($R125=T$1,MAX(T$3:T124)+1,0)","v":0},"　",0,123," "," "]
["　",null,null,null,null,null,null,null,null,null,null,null,null,null,null,"　",0,0,{"$f":"IF($R126=S$1,MAX(S$3:S125)+1,0)","v":0},{"$f":"IF($R126=T$1,MAX(T$3:T125)+1,0)","v":0},"　",0,124," "," "]
["　",null,null,null,null,null,null,null,null,null,null,null,null,null,null,"　",0,0,{"$f":"IF($R127=S$1,MAX(S$3:S126)+1,0)","v":0},{"$f":"IF($R127=T$1,MAX(T$3:T126)+1,0)","v":0},"　",0,125," "," "]
["　",null,null,null,null,null,null,null,null,null,null,null,null,null,null,"　",0,0,{"$f":"IF($R128=S$1,MAX(S$3:S127)+1,0)","v":0},{"$f":"IF($R128=T$1,MAX(T$3:T127)+1,0)","v":0},"　",0,126," "," "]
["　",null,null,null,null,null,null,null,null,null,null,null,null,null,null,"　",0,0,{"$f":"IF($R129=S$1,MAX(S$3:S128)+1,0)","v":0},{"$f":"IF($R129=T$1,MAX(T$3:T128)+1,0)","v":0},"　",0,127," "," "]
["　",null,null,null,null,null,null,null,null,null,null,null,null,null,null,"　",0,0,{"$f":"IF($R130=S$1,MAX(S$3:S129)+1,0)","v":0},{"$f":"IF($R130=T$1,MAX(T$3:T129)+1,0)","v":0},"　",0,128," "," "]
["　",null,null,null,null,null,null,null,null,null,null,null,null,null,null,"　",0,0,{"$f":"IF($R131=S$1,MAX(S$3:S130)+1,0)","v":0},{"$f":"IF($R131=T$1,MAX(T$3:T130)+1,0)","v":0},"　",0,129," "," "]
[{"$f":"P132","v":"　"},null,null,null,null,null,null,null,null,null,null,null,null,null,null,"　",0,0,{"$f":"IF($R132=S$1,MAX(S$3:S131)+1,0)","v":0},{"$f":"IF($R132=T$1,MAX(T$3:T131)+1,0)","v":0},"　",0,130,{"$f":"IF(ISERROR(VLOOKUP($W132,$S$3:$V$201,3,FALSE)),\" \",VLOOKUP($W132,$S$3:$V$201,3,FALSE))","v":" "},{"$f":"IF(ISERROR(VLOOKUP($W132,$T$3:$V$201,2,FALSE)),\" \",VLOOKUP($W132,$T$3:$V$201,2,FALSE))","v":" "}]
["　",null,null,null,null,null,null,null,null,null,null,null,null,null,null,"　",0,0,{"$f":"IF($R133=S$1,MAX(S$3:S132)+1,0)","v":0},{"$f":"IF($R133=T$1,MAX(T$3:T132)+1,0)","v":0},"　",0,131," "," "]
["　",null,null,null,null,null,null,null,null,null,null,null,null,null,null,"　",0,0,{"$f":"IF($R134=S$1,MAX(S$3:S133)+1,0)","v":0},{"$f":"IF($R134=T$1,MAX(T$3:T133)+1,0)","v":0},"　",0,132," "," "]
["　",null,null,null,null,null,null,null,null,null,null,null,null,null,null,"　",0,0,{"$f":"IF($R135=S$1,MAX(S$3:S134)+1,0)","v":0},{"$f":"IF($R135=T$1,MAX(T$3:T134)+1,0)","v":0},"　",0,133," "," "]
["　",null,null,null,null,null,null,null,null,null,null,null,null,null,null,"　",0,0,{"$f":"IF($R136=S$1,MAX(S$3:S135)+1,0)","v":0},{"$f":"IF($R136=T$1,MAX(T$3:T135)+1,0)","v":0},"　",0,134," "," "]
["　",null,null,null,null,null,null,null,null,null,null,null,null,null,null,"　",0,0,{"$f":"IF($R137=S$1,MAX(S$3:S136)+1,0)","v":0},{"$f":"IF($R137=T$1,MAX(T$3:T136)+1,0)","v":0},"　",0,135," "," "]
["　",null,null,null,null,null,null,null,null,null,null,null,null,null,null,"　",0,0,{"$f":"IF($R138=S$1,MAX(S$3:S137)+1,0)","v":0},{"$f":"IF($R138=T$1,MAX(T$3:T137)+1,0)","v":0},"　",0,136," "," "]
["　",null,null,null,null,null,null,null,null,null,null,null,null,null,null,"　",0,0,{"$f":"IF($R139=S$1,MAX(S$3:S138)+1,0)","v":0},{"$f":"IF($R139=T$1,MAX(T$3:T138)+1,0)","v":0},"　",0,137," "," "]
["　",null,null,null,null,null,null,null,null,null,null,null,null,null,null,"　",0,0,{"$f":"IF($R140=S$1,MAX(S$3:S139)+1,0)","v":0},{"$f":"IF($R140=T$1,MAX(T$3:T139)+1,0)","v":0},"　",0,138," "," "]
["　",null,null,null,null,null,null,null,null,null,null,null,null,null,null,"　",0,0,{"$f":"IF($R141=S$1,MAX(S$3:S140)+1,0)","v":0},{"$f":"IF($R141=T$1,MAX(T$3:T140)+1,0)","v":0},"　",0,139," "," "]
["　",null,null,null,null,null,null,null,null,null,null,null,null,null,null,"　",0,0,{"$f":"IF($R142=S$1,MAX(S$3:S141)+1,0)","v":0},{"$f":"IF($R142=T$1,MAX(T$3:T141)+1,0)","v":0},"　",0,140," "," "]
["　",null,null,null,null,null,null,null,null,null,null,null,null,null,null,"　",0,0,{"$f":"IF($R143=S$1,MAX(S$3:S142)+1,0)","v":0},{"$f":"IF($R143=T$1,MAX(T$3:T142)+1,0)","v":0},"　",0,141," "," "]
["　",null,null,null,null,null,null,null,null,null,null,null,null,null,null,"　",0,0,{"$f":"IF($R144=S$1,MAX(S$3:S143)+1,0)","v":0},{"$f":"IF($R144=T$1,MAX(T$3:T143)+1,0)","v":0},"　",0,142," "," "]
["　",null,null,null,null,null,null,null,null,null,null,null,null,null,null,"　",0,0,{"$f":"IF($R145=S$1,MAX(S$3:S144)+1,0)","v":0},{"$f":"IF($R145=T$1,MAX(T$3:T144)+1,0)","v":0},"　",0,143," "," "]
["　",null,null,null,null,null,null,null,null,null,null,null,null,null,null,"　",0,0,{"$f":"IF($R146=S$1,MAX(S$3:S145)+1,0)","v":0},{"$f":"IF($R146=T$1,MAX(T$3:T145)+1,0)","v":0},"　",0,144," "," "]
["　",null,null,null,null,null,null,null,null,null,null,null,null,null,null,{"$f":"D147& \"　\"&E147","v":"　"},{"$f":"C147","v":0},{"$f":"I147","v":0},{"$f":"IF($R147=S$1,MAX(S$3:S146)+1,0)","v":0},{"$f":"IF($R147=T$1,MAX(T$3:T146)+1,0)","v":0},{"$f":"P147","v":"　"},{"$f":"Q147","v":0},145," "," "]
["　",null,null,null,null,null,null,null,null,null,null,null,null,null,null,"　",0,0,{"$f":"IF($R148=S$1,MAX(S$3:S147)+1,0)","v":0},{"$f":"IF($R148=T$1,MAX(T$3:T147)+1,0)","v":0},"　",0,146," "," "]
["　",null,null,null,null,null,null,null,null,null,null,null,null,null,null,"　",0,0,{"$f":"IF($R149=S$1,MAX(S$3:S148)+1,0)","v":0},{"$f":"IF($R149=T$1,MAX(T$3:T148)+1,0)","v":0},"　",0,147," "," "]
["　",null,null,null,null,null,null,null,null,null,null,null,null,null,null,"　",0,0,{"$f":"IF($R150=S$1,MAX(S$3:S149)+1,0)","v":0},{"$f":"IF($R150=T$1,MAX(T$3:T149)+1,0)","v":0},"　",0,148," "," "]
["　",null,null,null,null,null,null,null,null,null,null,null,null,null,null,"　",0,0,{"$f":"IF($R151=S$1,MAX(S$3:S150)+1,0)","v":0},{"$f":"IF($R151=T$1,MAX(T$3:T150)+1,0)","v":0},"　",0,149," "," "]
["　",null,null,null,null,null,null,null,null,null,null,null,null,null,null,"　",0,0,{"$f":"IF($R152=S$1,MAX(S$3:S151)+1,0)","v":0},{"$f":"IF($R152=T$1,MAX(T$3:T151)+1,0)","v":0},"　",0,150," "," "]
["　",null,null,null,null,null,null,null,null,null,null,null,null,null,null,"　",0,0,{"$f":"IF($R153=S$1,MAX(S$3:S152)+1,0)","v":0},{"$f":"IF($R153=T$1,MAX(T$3:T152)+1,0)","v":0},"　",0,151," "," "]
["　",null,null,null,null,null,null,null,null,null,null,null,null,null,null,"　",0,0,{"$f":"IF($R154=S$1,MAX(S$3:S153)+1,0)","v":0},{"$f":"IF($R154=T$1,MAX(T$3:T153)+1,0)","v":0},"　",0,152," "," "]
["　",null,null,null,null,null,null,null,null,null,null,null,null,null,null,"　",0,0,{"$f":"IF($R155=S$1,MAX(S$3:S154)+1,0)","v":0},{"$f":"IF($R155=T$1,MAX(T$3:T154)+1,0)","v":0},"　",0,153," "," "]
["　",null,null,null,null,null,null,null,null,null,null,null,null,null,null,"　",0,0,{"$f":"IF($R156=S$1,MAX(S$3:S155)+1,0)","v":0},{"$f":"IF($R156=T$1,MAX(T$3:T155)+1,0)","v":0},"　",0,154," "," "]
["　",null,null,null,null,null,null,null,null,null,null,null,null,null,null,"　",0,0,{"$f":"IF($R157=S$1,MAX(S$3:S156)+1,0)","v":0},{"$f":"IF($R157=T$1,MAX(T$3:T156)+1,0)","v":0},"　",0,155," "," "]
["　",null,null,null,null,null,null,null,null,null,null,null,null,null,null,"　",0,0,{"$f":"IF($R158=S$1,MAX(S$3:S157)+1,0)","v":0},{"$f":"IF($R158=T$1,MAX(T$3:T157)+1,0)","v":0},"　",0,156," "," "]
["　",null,null,null,null,null,null,null,null,null,null,null,null,null,null,"　",0,0,{"$f":"IF($R159=S$1,MAX(S$3:S158)+1,0)","v":0},{"$f":"IF($R159=T$1,MAX(T$3:T158)+1,0)","v":0},"　",0,157," "," "]
["　",null,null,null,null,null,null,null,null,null,null,null,null,null,null,"　",0,0,{"$f":"IF($R160=S$1,MAX(S$3:S159)+1,0)","v":0},{"$f":"IF($R160=T$1,MAX(T$3:T159)+1,0)","v":0},"　",0,158," "," "]
["　",null,null,null,null,null,null,null,null,null,null,null,null,null,null,"　",0,0,{"$f":"IF($R161=S$1,MAX(S$3:S160)+1,0)","v":0},{"$f":"IF($R161=T$1,MAX(T$3:T160)+1,0)","v":0},"　",0,159," "," "]
["　",null,null,null,null,null,null,null,null,null,null,null,null,null,null,"　",0,0,{"$f":"IF($R162=S$1,MAX(S$3:S161)+1,0)","v":0},{"$f":"IF($R162=T$1,MAX(T$3:T161)+1,0)","v":0},"　",0,160," "," "]
["　",null,null,null,null,null,null,null,null,null,null,null,null,null,null,"　",0,0,{"$f":"IF($R163=S$1,MAX(S$3:S162)+1,0)","v":0},{"$f":"IF($R163=T$1,MAX(T$3:T162)+1,0)","v":0},"　",0,161," "," "]
["　",null,null,null,null,null,null,null,null,null,null,null,null,null,null,"　",0,0,{"$f":"IF($R164=S$1,MAX(S$3:S163)+1,0)","v":0},{"$f":"IF($R164=T$1,MAX(T$3:T163)+1,0)","v":0},"　",0,162," "," "]
["　",null,null,null,null,null,null,null,null,null,null,null,null,null,null,"　",0,0,{"$f":"IF($R165=S$1,MAX(S$3:S164)+1,0)","v":0},{"$f":"IF($R165=T$1,MAX(T$3:T164)+1,0)","v":0},"　",0,163," "," "]
["　",null,null,null,null,null,null,null,null,null,null,null,null,null,null,"　",0,0,{"$f":"IF($R166=S$1,MAX(S$3:S165)+1,0)","v":0},{"$f":"IF($R166=T$1,MAX(T$3:T165)+1,0)","v":0},"　",0,164," "," "]
["　",null,null,null,null,null,null,null,null,null,null,null,null,null,null,"　",0,0,{"$f":"IF($R167=S$1,MAX(S$3:S166)+1,0)","v":0},{"$f":"IF($R167=T$1,MAX(T$3:T166)+1,0)","v":0},"　",0,165," "," "]
["　",null,null,null,null,null,null,null,null,null,null,null,null,null,null,"　",0,0,{"$f":"IF($R168=S$1,MAX(S$3:S167)+1,0)","v":0},{"$f":"IF($R168=T$1,MAX(T$3:T167)+1,0)","v":0},"　",0,166," "," "]
["　",null,null,null,null,null,null,null,null,null,null,null,null,null,null,"　",0,0,{"$f":"IF($R169=S$1,MAX(S$3:S168)+1,0)","v":0},{"$f":"IF($R169=T$1,MAX(T$3:T168)+1,0)","v":0},"　",0,167," "," "]
["　",null,null,null,null,null,null,null,null,null,null,null,null,null,null,"　",0,0,{"$f":"IF($R170=S$1,MAX(S$3:S169)+1,0)","v":0},{"$f":"IF($R170=T$1,MAX(T$3:T169)+1,0)","v":0},"　",0,168," "," "]
["　",null,null,null,null,null,null,null,null,null,null,null,null,null,null,"　",0,0,{"$f":"IF($R171=S$1,MAX(S$3:S170)+1,0)","v":0},{"$f":"IF($R171=T$1,MAX(T$3:T170)+1,0)","v":0},"　",0,169," "," "]
["　",null,null,null,null,null,null,null,null,null,null,null,null,null,null,"　",0,0,{"$f":"IF($R172=S$1,MAX(S$3:S171)+1,0)","v":0},{"$f":"IF($R172=T$1,MAX(T$3:T171)+1,0)","v":0},"　",0,170," "," "]
["　",null,null,null,null,null,null,null,null,null,null,null,null,null,null,"　",0,0,{"$f":"IF($R173=S$1,MAX(S$3:S172)+1,0)","v":0},{"$f":"IF($R173=T$1,MAX(T$3:T172)+1,0)","v":0},"　",0,171," "," "]
["　",null,null,null,null,null,null,null,null,null,null,null,null,null,null,"　",0,0,{"$f":"IF($R174=S$1,MAX(S$3:S173)+1,0)","v":0},{"$f":"IF($R174=T$1,MAX(T$3:T173)+1,0)","v":0},"　",0,172," "," "]
["　",null,null,null,null,null,null,null,null,null,null,null,null,null,null,"　",0,0,{"$f":"IF($R175=S$1,MAX(S$3:S174)+1,0)","v":0},{"$f":"IF($R175=T$1,MAX(T$3:T174)+1,0)","v":0},"　",0,173," "," "]
["　",null,null,null,null,null,null,null,null,null,null,null,null,null,null,"　",0,0,{"$f":"IF($R176=S$1,MAX(S$3:S175)+1,0)","v":0},{"$f":"IF($R176=T$1,MAX(T$3:T175)+1,0)","v":0},"　",0,174," "," "]
["　",null,null,null,null,null,null,null,null,null,null,null,null,null,null,"　",0,0,{"$f":"IF($R177=S$1,MAX(S$3:S176)+1,0)","v":0},{"$f":"IF($R177=T$1,MAX(T$3:T176)+1,0)","v":0},"　",0,175," "," "]
["　",null,null,null,null,null,null,null,null,null,null,null,null,null,null,"　",0,0,{"$f":"IF($R178=S$1,MAX(S$3:S177)+1,0)","v":0},{"$f":"IF($R178=T$1,MAX(T$3:T177)+1,0)","v":0},"　",0,176," "," "]
["　",null,null,null,null,null,null,null,null,null,null,null,null,null,null,"　",0,0,{"$f":"IF($R179=S$1,MAX(S$3:S178)+1,0)","v":0},{"$f":"IF($R179=T$1,MAX(T$3:T178)+1,0)","v":0},"　",0,177," "," "]
["　",null,null,null,null,null,null,null,null,null,null,null,null,null,null,"　",0,0,{"$f":"IF($R180=S$1,MAX(S$3:S179)+1,0)","v":0},{"$f":"IF($R180=T$1,MAX(T$3:T179)+1,0)","v":0},"　",0,178," "," "]
["　",null,null,null,null,null,null,null,null,null,null,null,null,null,null,"　",0,0,{"$f":"IF($R181=S$1,MAX(S$3:S180)+1,0)","v":0},{"$f":"IF($R181=T$1,MAX(T$3:T180)+1,0)","v":0},"　",0,179," "," "]
["　",null,null,null,null,null,null,null,null,null,null,null,null,null,null,"　",0,0,{"$f":"IF($R182=S$1,MAX(S$3:S181)+1,0)","v":0},{"$f":"IF($R182=T$1,MAX(T$3:T181)+1,0)","v":0},"　",0,180," "," "]
["　",null,null,null,null,null,null,null,null,null,null,null,null,null,null,"　",0,0,{"$f":"IF($R183=S$1,MAX(S$3:S182)+1,0)","v":0},{"$f":"IF($R183=T$1,MAX(T$3:T182)+1,0)","v":0},"　",0,181," "," "]
["　",null,null,null,null,null,null,null,null,null,null,null,null,null,null,"　",0,0,{"$f":"IF($R184=S$1,MAX(S$3:S183)+1,0)","v":0},{"$f":"IF($R184=T$1,MAX(T$3:T183)+1,0)","v":0},"　",0,182," "," "]
["　",null,null,null,null,null,null,null,null,null,null,null,null,null,null,"　",0,0,{"$f":"IF($R185=S$1,MAX(S$3:S184)+1,0)","v":0},{"$f":"IF($R185=T$1,MAX(T$3:T184)+1,0)","v":0},"　",0,183," "," "]
["　",null,null,null,null,null,null,null,null,null,null,null,null,null,null,"　",0,0,{"$f":"IF($R186=S$1,MAX(S$3:S185)+1,0)","v":0},{"$f":"IF($R186=T$1,MAX(T$3:T185)+1,0)","v":0},"　",0,184," "," "]
["　",null,null,null,null,null,null,null,null,null,null,null,null,null,null,"　",0,0,{"$f":"IF($R187=S$1,MAX(S$3:S186)+1,0)","v":0},{"$f":"IF($R187=T$1,MAX(T$3:T186)+1,0)","v":0},"　",0,185," "," "]
["　",null,null,null,null,null,null,null,null,null,null,null,null,null,null,"　",0,0,{"$f":"IF($R188=S$1,MAX(S$3:S187)+1,0)","v":0},{"$f":"IF($R188=T$1,MAX(T$3:T187)+1,0)","v":0},"　",0,186," "," "]
["　",null,null,null,null,null,null,null,null,null,null,null,null,null,null,"　",0,0,{"$f":"IF($R189=S$1,MAX(S$3:S188)+1,0)","v":0},{"$f":"IF($R189=T$1,MAX(T$3:T188)+1,0)","v":0},"　",0,187," "," "]
["　",null,null,null,null,null,null,null,null,null,null,null,null,null,null,"　",0,0,{"$f":"IF($R190=S$1,MAX(S$3:S189)+1,0)","v":0},{"$f":"IF($R190=T$1,MAX(T$3:T189)+1,0)","v":0},"　",0,188," "," "]
["　",null,null,null,null,null,null,null,null,null,null,null,null,null,null,"　",0,0,{"$f":"IF($R191=S$1,MAX(S$3:S190)+1,0)","v":0},{"$f":"IF($R191=T$1,MAX(T$3:T190)+1,0)","v":0},"　",0,189," "," "]
["　",null,null,null,null,null,null,null,null,null,null,null,null,null,null,"　",0,0,{"$f":"IF($R192=S$1,MAX(S$3:S191)+1,0)","v":0},{"$f":"IF($R192=T$1,MAX(T$3:T191)+1,0)","v":0},"　",0,190," "," "]
["　",null,null,null,null,null,null,null,null,null,null,null,null,null,null,"　",0,0,{"$f":"IF($R193=S$1,MAX(S$3:S192)+1,0)","v":0},{"$f":"IF($R193=T$1,MAX(T$3:T192)+1,0)","v":0},"　",0,191," "," "]
["　",null,null,null,null,null,null,null,null,null,null,null,null,null,null,"　",0,0,{"$f":"IF($R194=S$1,MAX(S$3:S193)+1,0)","v":0},{"$f":"IF($R194=T$1,MAX(T$3:T193)+1,0)","v":0},"　",0,192," "," "]
["　",null,null,null,null,null,null,null,null,null,null,null,null,null,null,"　",0,0,{"$f":"IF($R195=S$1,MAX(S$3:S194)+1,0)","v":0},{"$f":"IF($R195=T$1,MAX(T$3:T194)+1,0)","v":0},"　",0,193," "," "]
[{"$f":"P196","v":"　"},null,null,null,null,null,null,null,null,null,null,null,null,null,null,"　",0,0,{"$f":"IF($R196=S$1,MAX(S$3:S195)+1,0)","v":0},{"$f":"IF($R196=T$1,MAX(T$3:T195)+1,0)","v":0},"　",0,194,{"$f":"IF(ISERROR(VLOOKUP($W196,$S$3:$V$201,3,FALSE)),\" \",VLOOKUP($W196,$S$3:$V$201,3,FALSE))","v":" "},{"$f":"IF(ISERROR(VLOOKUP($W196,$T$3:$V$201,2,FALSE)),\" \",VLOOKUP($W196,$T$3:$V$201,2,FALSE))","v":" "}]
["　",null,null,null,null,null,null,null,null,null,null,null,null,null,null,"　",0,0,{"$f":"IF($R197=S$1,MAX(S$3:S196)+1,0)","v":0},{"$f":"IF($R197=T$1,MAX(T$3:T196)+1,0)","v":0},"　",0,195," "," "]
["　",null,null,null,null,null,null,null,null,null,null,null,null,null,null,"　",0,0,{"$f":"IF($R198=S$1,MAX(S$3:S197)+1,0)","v":0},{"$f":"IF($R198=T$1,MAX(T$3:T197)+1,0)","v":0},"　",0,196," "," "]
["　",null,null,null,null,null,null,null,null,null,null,null,null,null,null,"　",0,0,{"$f":"IF($R199=S$1,MAX(S$3:S198)+1,0)","v":0},{"$f":"IF($R199=T$1,MAX(T$3:T198)+1,0)","v":0},"　",0,197," "," "]
["　",null,null,null,null,null,null,null,null,null,null,null,null,null,null,"　",0,0,{"$f":"IF($R200=S$1,MAX(S$3:S199)+1,0)","v":0},{"$f":"IF($R200=T$1,MAX(T$3:T199)+1,0)","v":0},"　",0,198," "," "]
["　",null,null,null,null,null,null,null,null,null,null,null,null,null,null,"　",0,0,{"$f":"IF($R201=S$1,MAX(S$3:S200)+1,0)","v":0},{"$f":"IF($R201=T$1,MAX(T$3:T200)+1,0)","v":0},"　",0,199," "," "]

{"sheet":"春季（個人・団体）","index":2,"n_rows":340,"n_cols":30,"rows_kept":340,"cut":false,"hidden":false,"merged":[[0,1,0,21],[1,1,1,3],[1,4,1,19],[2,1,2,19],[3,1,3,3],[3,4,3,7],[3,8,3,11],[3,12,3,15],[3,16,3,19],[15,0,17,0],[15,11,17,11],[16,3,16,8],[16,14,16,19],[17,3,17,8],[17,14,17,19],[11,3,11,8],[11,14,11,19],[12,0,14,0],[12,3,12,8],[12,11,14,11],[12,14,12,19],[13,3,13,8],[13,14,13,19],[14,3,14,8],[14,14,14,19],[9,0,11,0],[9,3,9,8],[9,11,11,11],[9,14,9,19],[10,3,10,8],[10,14,10,19],[9,12,13,12],[21,0,23,0],[21,3,21,8],[21,11,23,11],[21,14,21,19],[22,3,22,8],[22,14,22,19],[23,3,23,8],[23,14,23,19],[18,0,20,0],[18,3,18,8],[18,11,20,11],[18,14,18,19],[19,3,19,8],[19,14,19,19],[20,3,20,8],[20,14,20,19],[27,0,29,0],[27,3,27,8],[27,11,29,11],[27,14,27,19],[28,3,28,8],[28,14,28,19],[29,3,29,8],[29,14,29,19],[24,0,26,0],[24,3,24,8],[24,11,26,11],[24,14,24,19],[25,3,25,8],[25,14,25,19],[26,3,26,8],[26,14,26,19],[33,0,35,0],[33,3,33,8],[33,11,35,11],[33,14,33,19],[34,3,34,8],[34,14,34,19],[35,3,35,8],[35,14,35,19],[30,0,32,0],[30,3,30,8],[30,11,32,11],[30,14,30,19],[31,3,31,8],[31,14,31,19],[32,3,32,8],[32,14,32,19],[39,0,41,0],[39,3,39,8],[39,11,41,11],[39,14,39,19],[40,3,40,8],[40,14,40,19],[41,3,41,8],[41,14,41,19],[36,0,38,0],[36,3,36,8],[36,11,38,11],[36,14,36,19],[37,3,37,8],[37,14,37,19],[38,3,38,8],[38,14,38,19],[45,0,47,0],[45,3,45,8],[45,11,47,11],[45,14,45,19],[46,3,46,8],[46,14,46,19],[47,3,47,8],[47,14,47,19],[42,0,44,0],[42,3,42,8],[42,11,44,11],[42,14,42,19],[43,3,43,8],[43,14,43,19],[44,3,44,8],[44,14,44,19],[51,0,53,0],[51,3,51,8],[51,11,53,11],[51,14,51,19],[52,3,52,8],[52,14,52,19],[53,3,53,8],[53,14,53,19],[48,0,50,0],[48,3,48,8],[48,11,50,11],[48,14,48,19],[49,3,49,8],[49,14,49,19],[50,3,50,8],[50,14,50,19],[57,0,59,0],[57,3,57,8],[57,11,59,11],[57,14,57,19],[58,3,58,8],[58,14,58,19],[59,3,59,8],[59,14,59,19],[54,0,56,0],[54,3,54,8],[54,11,56,11],[54,14,54,19],[55,3,55,8],[55,14,55,19],[56,3,56,8],[56,14,56,19],[60,1,60,2],[60,3,60,8],[60,12,60,13],[60,14,60,19],[4,1,4,3],[4,4,4,7],[4,8,4,11],[4,12,4,15],[4,16,4,19],[9,1,13,1],[8,3,8,8],[8,14,8,19],[5,1,5,3],[5,4,5,7],[5,8,5,11],[5,12,5,15],[5,16,5,19]]}
[null,"令和6年度茨城県高等学校弓道春季大会兼関東高等学校弓道大会茨城県予選会（個人競技）\n令和６年度茨城県高等学校弓道春季大会兼茨城県高等学校総合体育大会兼関東高等学校弓道大会茨城\n県予選会兼全国高等学校弓道大会茨城県予選会兼茨城県民総合体育大会（団体競技）\n申し込み\n\n",null,null,null,null,null,null,null,null,null,null,null,null,null,null,null,null,null,null,null,null,null,null,6,20,21,22,23,24]
[null,"学校名\n（正式名称）",null,null,null,null,null,null,null,null,null,null,null,null,null,null,null,null,null,null,null,null,null,null,{"$f":"IF(ISERROR(VLOOKUP($E$2,$A$66:$AD$138,Y1,FALSE)),\"\",VLOOKUP($E$2,$A$66:$AD$138,Y1,FALSE))","v":""},"","","","",""]
[null,"引率者"]
[null,"5月10日（金）\n男子団体",null,null,null,null,null,null,null,null,null,null,null,null,null,null,null,null,null,null,"昼食の数"]
[null,"5月11日（土）\n女子団体",null,null,null,null,null,null,null,null,null,null,null,null,null,null,null,null,null,null,"昼食の数"]
[null,"5月14日（火）\n個人",null,null,null,null,null,null,null,null,null,null,null,null,null,null,null,null,null,null,"昼食の数"]
[null,null,null,null,null,null,null,null,"※引率2人目以降はこちらに入力"]
[null,"男子団体",null,null,null,null,null,null,null,null,null,null,"女子団体"]
[null,"チーム","立順","選手名",null,null,null,null,null,"学年",null,null,"チーム","立順","選手名",null,null,null,null,null,"学年"]
["A",{"$f":"IF(LEN($Y$2)=0,\"\",$Y$2)","v":""},1,null,null,null,null,null,null,{"$f":"IF(LEN(D10)=0,\"\",VLOOKUP(D10,リスト!$A$3:$N$201,3,FALSE))","v":""},{"$f":"IF(LEN(D10)=0,\"\",VLOOKUP(D10,リスト!$A$3:$N$201,2,FALSE))","v":""},"A",{"$f":"IF(LEN($Y$2)=0,\"\",$Y$2)","v":""},1,null,null,null,null,null,null,{"$f":"IF(LEN(O10)=0,\"\",VLOOKUP(O10,リスト!$A$3:$N$201,3,FALSE))","v":""},{"$f":"IF(LEN(O10)=0,\"\",VLOOKUP(O10,リスト!$A$3:$N$201,2,FALSE))","v":""},null,null,{"$f":"COUNTA(D10:I12)","v":0},{"$f":"COUNTA(O10:T12)","v":0}]
[null,null,2,null,null,null,null,null,null,{"$f":"IF(LEN(D11)=0,\"\",VLOOKUP(D11,リスト!$A$3:$N$201,3,FALSE))","v":""},{"$f":"IF(LEN(D11)=0,\"\",VLOOKUP(D11,リスト!$A$3:$N$201,2,FALSE))","v":""},null,null,2,null,null,null,null,null,null,{"$f":"IF(LEN(O11)=0,\"\",VLOOKUP(O11,リスト!$A$3:$N$201,3,FALSE))","v":""},{"$f":"IF(LEN(O11)=0,\"\",VLOOKUP(O11,リスト!$A$3:$N$201,2,FALSE))","v":""},null,null,{"$f":"COUNTA(D10:I12)","v":0},{"$f":"COUNTA(O10:T12)","v":0}]
[null,null,3,null,null,null,null,null,null,{"$f":"IF(LEN(D12)=0,\"\",VLOOKUP(D12,リスト!$A$3:$N$201,3,FALSE))","v":""},{"$f":"IF(LEN(D12)=0,\"\",VLOOKUP(D12,リスト!$A$3:$N$201,2,FALSE))","v":""},null,null,3,null,null,null,null,null,null,{"$f":"IF(LEN(O12)=0,\"\",VLOOKUP(O12,リスト!$A$3:$N$201,3,FALSE))","v":""},{"$f":"IF(LEN(O12)=0,\"\",VLOOKUP(O12,リスト!$A$3:$N$201,2,FALSE))","v":""},null,null,{"$f":"COUNTA(D10:I12)","v":0},{"$f":"COUNTA(O10:T12)","v":0}]
["B",null,4,null,null,null,null,null,null,{"$f":"IF(LEN(D13)=0,\"\",VLOOKUP(D13,リスト!$A$3:$N$201,3,FALSE))","v":""},{"$f":"IF(LEN(D13)=0,\"\",VLOOKUP(D13,リスト!$A$3:$N$201,2,FALSE))","v":""},"B",null,4,null,null,null,null,null,null,{"$f":"IF(LEN(O13)=0,\"\",VLOOKUP(O13,リスト!$A$3:$N$201,3,FALSE))","v":""},{"$f":"IF(LEN(O13)=0,\"\",VLOOKUP(O13,リスト!$A$3:$N$201,2,FALSE))","v":""},null,null,{"$f":"COUNTA(D13:I15)","v":0},{"$f":"COUNTA(O13:T15)","v":0}]
[null,null,5,null,null,null,null,null,null,{"$f":"IF(LEN(D14)=0,\"\",VLOOKUP(D14,リスト!$A$3:$N$201,3,FALSE))","v":""},{"$f":"IF(LEN(D14)=0,\"\",VLOOKUP(D14,リスト!$A$3:$N$201,2,FALSE))","v":""},null,null,5,null,null,null,null,null,null,{"$f":"IF(LEN(O14)=0,\"\",VLOOKUP(O14,リスト!$A$3:$N$201,3,FALSE))","v":""},{"$f":"IF(LEN(O14)=0,\"\",VLOOKUP(O14,リスト!$A$3:$N$201,2,FALSE))","v":""},null,null,{"$f":"COUNTA(D13:I15)","v":0},{"$f":"COUNTA(O13:T15)","v":0}]
[null,null,null,null,null,null,null,null,null,null,{"$f":"IF(LEN(D15)=0,\"\",VLOOKUP(D15,リスト!$A$3:$N$201,2,FALSE))","v":""},null,null,null,null,null,null,null,null,null,null,{"$f":"IF(LEN(O15)=0,\"\",VLOOKUP(O15,リスト!$A$3:$N$201,2,FALSE))","v":""},null,null,{"$f":"COUNTA(D13:I15)","v":0},{"$f":"COUNTA(O13:T15)","v":0}]
["C","男子個人",null,null,null,null,null,null,null,null,{"$f":"IF(LEN(D16)=0,\"\",VLOOKUP(D16,リスト!$A$3:$N$201,2,FALSE))","v":""},"C","女子個人",null,null,null,null,null,null,null,null,{"$f":"IF(LEN(O16)=0,\"\",VLOOKUP(O16,リスト!$A$3:$N$201,2,FALSE))","v":""},null,null,{"$f":"COUNTA(D16:I18)","v":0},{"$f":"COUNTA(O16:T18)","v":0}]
[null,null,1,null,null,null,null,null,null,{"$f":"IF(LEN(D17)=0,\"\",VLOOKUP(D17,リスト!$A$3:$N$201,3,FALSE))","v":""},{"$f":"IF(LEN(D17)=0,\"\",VLOOKUP(D17,リスト!$A$3:$N$201,2,FALSE))","v":""},null,null,1,null,null,null,null,null,null,{"$f":"IF(LEN(O17)=0,\"\",VLOOKUP(O17,リスト!$A$3:$N$201,3,FALSE))","v":""},{"$f":"IF(LEN(O17)=0,\"\",VLOOKUP(O17,リスト!$A$3:$N$201,2,FALSE))","v":""},null,null,{"$f":"COUNTA(D16:I18)","v":0},{"$f":"COUNTA(O16:T18)","v":0}]
[null,null,2,null,null,null,null,null,null,{"$f":"IF(LEN(D18)=0,\"\",VLOOKUP(D18,リスト!$A$3:$N$201,3,FALSE))","v":""},{"$f":"IF(LEN(D18)=0,\"\",VLOOKUP(D18,リスト!$A$3:$N$201,2,FALSE))","v":""},null,null,2,null,null,null,null,null,null,{"$f":"IF(LEN(O18)=0,\"\",VLOOKUP(O18,リスト!$A$3:$N$201,3,FALSE))","v":""},{"$f":"IF(LEN(O18)=0,\"\",VLOOKUP(O18,リスト!$A$3:$N$201,2,FALSE))","v":""},null,null,{"$f":"COUNTA(D16:I18)","v":0},{"$f":"COUNTA(O16:T18)","v":0}]
["D",null,3,null,null,null,null,null,null,{"$f":"IF(LEN(D19)=0,\"\",VLOOKUP(D19,リスト!$A$3:$N$201,3,FALSE))","v":""},{"$f":"IF(LEN(D19)=0,\"\",VLOOKUP(D19,リスト!$A$3:$N$201,2,FALSE))","v":""},"D",null,3,null,null,null,null,null,null,{"$f":"IF(LEN(O19)=0,\"\",VLOOKUP(O19,リスト!$A$3:$N$201,3,FALSE))","v":""},{"$f":"IF(LEN(O19)=0,\"\",VLOOKUP(O19,リスト!$A$3:$N$201,2,FALSE))","v":""},null,null,{"$f":"COUNTA(D19:I21)","v":0},{"$f":"COUNTA(O19:T21)","v":0}]
[null,null,4,null,null,null,null,null,null,{"$f":"IF(LEN(D20)=0,\"\",VLOOKUP(D20,リスト!$A$3:$N$201,3,FALSE))","v":""},{"$f":"IF(LEN(D20)=0,\"\",VLOOKUP(D20,リスト!$A$3:$N$201,2,FALSE))","v":""},null,null,4,null,null,null,null,null,null,{"$f":"IF(LEN(O20)=0,\"\",VLOOKUP(O20,リスト!$A$3:$N$201,3,FALSE))","v":""},{"$f":"IF(LEN(O20)=0,\"\",VLOOKUP(O20,リスト!$A$3:$N$201,2,FALSE))","v":""},null,null,{"$f":"COUNTA(D19:I21)","v":0},{"$f":"COUNTA(O19:T21)","v":0}]
[null,null,5,null,null,null,null,null,null,{"$f":"IF(LEN(D21)=0,\"\",VLOOKUP(D21,リスト!$A$3:$N$201,3,FALSE))","v":""},{"$f":"IF(LEN(D21)=0,\"\",VLOOKUP(D21,リスト!$A$3:$N$201,2,FALSE))","v":""},null,null,5,null,null,null,null,null,null,{"$f":"IF(LEN(O21)=0,\"\",VLOOKUP(O21,リスト!$A$3:$N$201,3,FALSE))","v":""},{"$f":"IF(LEN(O21)=0,\"\",VLOOKUP(O21,リスト!$A$3:$N$201,2,FALSE))","v":""},null,null,{"$f":"COUNTA(D19:I21)","v":0},{"$f":"COUNTA(O19:T21)","v":0}]
["E",null,6,null,null,null,null,null,null,{"$f":"IF(LEN(D22)=0,\"\",VLOOKUP(D22,リスト!$A$3:$N$201,3,FALSE))","v":""},{"$f":"IF(LEN(D22)=0,\"\",VLOOKUP(D22,リスト!$A$3:$N$201,2,FALSE))","v":""},"E",null,6,null,null,null,null,null,null,{"$f":"IF(LEN(O22)=0,\"\",VLOOKUP(O22,リスト!$A$3:$N$201,3,FALSE))","v":""},{"$f":"IF(LEN(O22)=0,\"\",VLOOKUP(O22,リスト!$A$3:$N$201,2,FALSE))","v":""},null,null,{"$f":"COUNTA(D22:I24)","v":0},{"$f":"COUNTA(O22:T24)","v":0}]
[null,null,7,null,null,null,null,null,null,{"$f":"IF(LEN(D23)=0,\"\",VLOOKUP(D23,リスト!$A$3:$N$201,3,FALSE))","v":""},{"$f":"IF(LEN(D23)=0,\"\",VLOOKUP(D23,リスト!$A$3:$N$201,2,FALSE))","v":""},null,null,7,null,null,null,null,null,null,{"$f":"IF(LEN(O23)=0,\"\",VLOOKUP(O23,リスト!$A$3:$N$201,3,FALSE))","v":""},{"$f":"IF(LEN(O23)=0,\"\",VLOOKUP(O23,リスト!$A$3:$N$201,2,FALSE))","v":""},null,null,{"$f":"COUNTA(D22:I24)","v":0},{"$f":"COUNTA(O22:T24)","v":0}]
[null,null,8,null,null,null,null,null,null,{"$f":"IF(LEN(D24)=0,\"\",VLOOKUP(D24,リスト!$A$3:$N$201,3,FALSE))","v":""},{"$f":"IF(LEN(D24)=0,\"\",VLOOKUP(D24,リスト!$A$3:$N$201,2,FALSE))","v":""},null,null,8,null,null,null,null,null,null,{"$f":"IF(LEN(O24)=0,\"\",VLOOKUP(O24,リスト!$A$3:$N$201,3,FALSE))","v":""},{"$f":"IF(LEN(O24)=0,\"\",VLOOKUP(O24,リスト!$A$3:$N$201,2,FALSE))","v":""},null,null,{"$f":"COUNTA(D22:I24)","v":0},{"$f":"COUNTA(O22:T24)","v":0}]
["F",null,9,null,null,null,null,null,null,{"$f":"IF(LEN(D25)=0,\"\",VLOOKUP(D25,リスト!$A$3:$N$201,3,FALSE))","v":""},{"$f":"IF(LEN(D25)=0,\"\",VLOOKUP(D25,リスト!$A$3:$N$201,2,FALSE))","v":""},"F",null,9,null,null,null,null,null,null,{"$f":"IF(LEN(O25)=0,\"\",VLOOKUP(O25,リスト!$A$3:$N$201,3,FALSE))","v":""},{"$f":"IF(LEN(O25)=0,\"\",VLOOKUP(O25,リスト!$A$3:$N$201,2,FALSE))","v":""},null,null,{"$f":"COUNTA(D25:I27)","v":0},{"$f":"COUNTA(O25:T27)","v":0}]
[null,null,10,null,null,null,null,null,null,{"$f":"IF(LEN(D26)=0,\"\",VLOOKUP(D26,リスト!$A$3:$N$201,3,FALSE))","v":""},{"$f":"IF(LEN(D26)=0,\"\",VLOOKUP(D26,リスト!$A$3:$N$201,2,FALSE))","v":""},null,null,10,null,null,null,null,null,null,{"$f":"IF(LEN(O26)=0,\"\",VLOOKUP(O26,リスト!$A$3:$N$201,3,FALSE))","v":""},{"$f":"IF(LEN(O26)=0,\"\",VLOOKUP(O26,リスト!$A$3:$N$201,2,FALSE))","v":""},null,null,{"$f":"COUNTA(D25:I27)","v":0},{"$f":"COUNTA(O25:T27)","v":0}]
[null,null,11,null,null,null,null,null,null,{"$f":"IF(LEN(D27)=0,\"\",VLOOKUP(D27,リスト!$A$3:$N$201,3,FALSE))","v":""},{"$f":"IF(LEN(D27)=0,\"\",VLOOKUP(D27,リスト!$A$3:$N$201,2,FALSE))","v":""},null,null,11,null,null,null,null,null,null,{"$f":"IF(LEN(O27)=0,\"\",VLOOKUP(O27,リスト!$A$3:$N$201,3,FALSE))","v":""},{"$f":"IF(LEN(O27)=0,\"\",VLOOKUP(O27,リスト!$A$3:$N$201,2,FALSE))","v":""},null,null,{"$f":"COUNTA(D25:I27)","v":0},{"$f":"COUNTA(O25:T27)","v":0}]
["G",null,12,null,null,null,null,null,null,{"$f":"IF(LEN(D28)=0,\"\",VLOOKUP(D28,リスト!$A$3:$N$201,3,FALSE))","v":""},{"$f":"IF(LEN(D28)=0,\"\",VLOOKUP(D28,リスト!$A$3:$N$201,2,FALSE))","v":""},"G",null,12,null,null,null,null,null,null,{"$f":"IF(LEN(O28)=0,\"\",VLOOKUP(O28,リスト!$A$3:$N$201,3,FALSE))","v":""},{"$f":"IF(LEN(O28)=0,\"\",VLOOKUP(O28,リスト!$A$3:$N$201,2,FALSE))","v":""},null,null,{"$f":"COUNTA(D28:I30)","v":0},{"$f":"COUNTA(O28:T30)","v":0}]
[null,null,13,null,null,null,null,null,null,{"$f":"IF(LEN(D29)=0,\"\",VLOOKUP(D29,リスト!$A$3:$N$201,3,FALSE))","v":""},{"$f":"IF(LEN(D29)=0,\"\",VLOOKUP(D29,リスト!$A$3:$N$201,2,FALSE))","v":""},null,null,13,null,null,null,null,null,null,{"$f":"IF(LEN(O29)=0,\"\",VLOOKUP(O29,リスト!$A$3:$N$201,3,FALSE))","v":""},{"$f":"IF(LEN(O29)=0,\"\",VLOOKUP(O29,リスト!$A$3:$N$201,2,FALSE))","v":""},null,null,{"$f":"COUNTA(D28:I30)","v":0},{"$f":"COUNTA(O28:T30)","v":0}]
[null,null,14,null,null,null,null,null,null,{"$f":"IF(LEN(D30)=0,\"\",VLOOKUP(D30,リスト!$A$3:$N$201,3,FALSE))","v":""},{"$f":"IF(LEN(D30)=0,\"\",VLOOKUP(D30,リスト!$A$3:$N$201,2,FALSE))","v":""},null,null,14,null,null,null,null,null,null,{"$f":"IF(LEN(O30)=0,\"\",VLOOKUP(O30,リスト!$A$3:$N$201,3,FALSE))","v":""},{"$f":"IF(LEN(O30)=0,\"\",VLOOKUP(O30,リスト!$A$3:$N$201,2,FALSE))","v":""},null,null,{"$f":"COUNTA(D28:I30)","v":0},{"$f":"COUNTA(O28:T30)","v":0}]
["H",null,15,null,null,null,null,null,null,{"$f":"IF(LEN(D31)=0,\"\",VLOOKUP(D31,リスト!$A$3:$N$201,3,FALSE))","v":""},{"$f":"IF(LEN(D31)=0,\"\",VLOOKUP(D31,リスト!$A$3:$N$201,2,FALSE))","v":""},"H",null,15,null,null,null,null,null,null,{"$f":"IF(LEN(O31)=0,\"\",VLOOKUP(O31,リスト!$A$3:$N$201,3,FALSE))","v":""},{"$f":"IF(LEN(O31)=0,\"\",VLOOKUP(O31,リスト!$A$3:$N$201,2,FALSE))","v":""},null,null,{"$f":"COUNTA(D31:I33)","v":0},{"$f":"COUNTA(O31:T33)","v":0}]
[null,null,16,null,null,null,null,null,null,{"$f":"IF(LEN(D32)=0,\"\",VLOOKUP(D32,リスト!$A$3:$N$201,3,FALSE))","v":""},{"$f":"IF(LEN(D32)=0,\"\",VLOOKUP(D32,リスト!$A$3:$N$201,2,FALSE))","v":""},null,null,16,null,null,null,null,null,null,{"$f":"IF(LEN(O32)=0,\"\",VLOOKUP(O32,リスト!$A$3:$N$201,3,FALSE))","v":""},{"$f":"IF(LEN(O32)=0,\"\",VLOOKUP(O32,リスト!$A$3:$N$201,2,FALSE))","v":""},null,null,{"$f":"COUNTA(D31:I33)","v":0},{"$f":"COUNTA(O31:T33)","v":0}]
[null,null,17,null,null,null,null,null,null,{"$f":"IF(LEN(D33)=0,\"\",VLOOKUP(D33,リスト!$A$3:$N$201,3,FALSE))","v":""},{"$f":"IF(LEN(D33)=0,\"\",VLOOKUP(D33,リスト!$A$3:$N$201,2,FALSE))","v":""},null,null,17,null,null,null,null,null,null,{"$f":"IF(LEN(O33)=0,\"\",VLOOKUP(O33,リスト!$A$3:$N$201,3,FALSE))","v":""},{"$f":"IF(LEN(O33)=0,\"\",VLOOKUP(O33,リスト!$A$3:$N$201,2,FALSE))","v":""},null,null,{"$f":"COUNTA(D31:I33)","v":0},{"$f":"COUNTA(O31:T33)","v":0}]
["I",null,18,null,null,null,null,null,null,{"$f":"IF(LEN(D34)=0,\"\",VLOOKUP(D34,リスト!$A$3:$N$201,3,FALSE))","v":""},{"$f":"IF(LEN(D34)=0,\"\",VLOOKUP(D34,リスト!$A$3:$N$201,2,FALSE))","v":""},"I",null,18,null,null,null,null,null,null,{"$f":"IF(LEN(O34)=0,\"\",VLOOKUP(O34,リスト!$A$3:$N$201,3,FALSE))","v":""},{"$f":"IF(LEN(O34)=0,\"\",VLOOKUP(O34,リスト!$A$3:$N$201,2,FALSE))","v":""},null,null,{"$f":"COUNTA(D34:I36)","v":0},{"$f":"COUNTA(O34:T36)","v":0}]
[null,null,19,null,null,null,null,null,null,{"$f":"IF(LEN(D35)=0,\"\",VLOOKUP(D35,リスト!$A$3:$N$201,3,FALSE))","v":""},{"$f":"IF(LEN(D35)=0,\"\",VLOOKUP(D35,リスト!$A$3:$N$201,2,FALSE))","v":""},null,null,19,null,null,null,null,null,null,{"$f":"IF(LEN(O35)=0,\"\",VLOOKUP(O35,リスト!$A$3:$N$201,3,FALSE))","v":""},{"$f":"IF(LEN(O35)=0,\"\",VLOOKUP(O35,リスト!$A$3:$N$201,2,FALSE))","v":""},null,null,{"$f":"COUNTA(D34:I36)","v":0},{"$f":"COUNTA(O34:T36)","v":0}]
[null,null,20,null,null,null,null,null,null,{"$f":"IF(LEN(D36)=0,\"\",VLOOKUP(D36,リスト!$A$3:$N$201,3,FALSE))","v":""},{"$f":"IF(LEN(D36)=0,\"\",VLOOKUP(D36,リスト!$A$3:$N$201,2,FALSE))","v":""},null,null,20,null,null,null,null,null,null,{"$f":"IF(LEN(O36)=0,\"\",VLOOKUP(O36,リスト!$A$3:$N$201,3,FALSE))","v":""},{"$f":"IF(LEN(O36)=0,\"\",VLOOKUP(O36,リスト!$A$3:$N$201,2,FALSE))","v":""},null,null,{"$f":"COUNTA(D34:I36)","v":0},{"$f":"COUNTA(O34:T36)","v":0}]
["J",null,21,null,null,null,null,null,null,{"$f":"IF(LEN(D37)=0,\"\",VLOOKUP(D37,リスト!$A$3:$N$201,3,FALSE))","v":""},{"$f":"IF(LEN(D37)=0,\"\",VLOOKUP(D37,リスト!$A$3:$N$201,2,FALSE))","v":""},"J",null,21,null,null,null,null,null,null,{"$f":"IF(LEN(O37)=0,\"\",VLOOKUP(O37,リスト!$A$3:$N$201,3,FALSE))","v":""},{"$f":"IF(LEN(O37)=0,\"\",VLOOKUP(O37,リスト!$A$3:$N$201,2,FALSE))","v":""},null,null,{"$f":"COUNTA(D37:I39)","v":0},{"$f":"COUNTA(O37:T39)","v":0}]
[null,null,22,null,null,null,null,null,null,{"$f":"IF(LEN(D38)=0,\"\",VLOOKUP(D38,リスト!$A$3:$N$201,3,FALSE))","v":""},{"$f":"IF(LEN(D38)=0,\"\",VLOOKUP(D38,リスト!$A$3:$N$201,2,FALSE))","v":""},null,null,22,null,null,null,null,null,null,{"$f":"IF(LEN(O38)=0,\"\",VLOOKUP(O38,リスト!$A$3:$N$201,3,FALSE))","v":""},{"$f":"IF(LEN(O38)=0,\"\",VLOOKUP(O38,リスト!$A$3:$N$201,2,FALSE))","v":""},null,null,{"$f":"COUNTA(D37:I39)","v":0},{"$f":"COUNTA(O37:T39)","v":0}]
[null,null,23,null,null,null,null,null,null,{"$f":"IF(LEN(D39)=0,\"\",VLOOKUP(D39,リスト!$A$3:$N$201,3,FALSE))","v":""},{"$f":"IF(LEN(D39)=0,\"\",VLOOKUP(D39,リスト!$A$3:$N$201,2,FALSE))","v":""},null,null,23,null,null,null,null,null,null,{"$f":"IF(LEN(O39)=0,\"\",VLOOKUP(O39,リスト!$A$3:$N$201,3,FALSE))","v":""},{"$f":"IF(LEN(O39)=0,\"\",VLOOKUP(O39,リスト!$A$3:$N$201,2,FALSE))","v":""},null,null,{"$f":"COUNTA(D37:I39)","v":0},{"$f":"COUNTA(O37:T39)","v":0}]
["K",null,24,null,null,null,null,null,null,{"$f":"IF(LEN(D40)=0,\"\",VLOOKUP(D40,リスト!$A$3:$N$201,3,FALSE))","v":""},{"$f":"IF(LEN(D40)=0,\"\",VLOOKUP(D40,リスト!$A$3:$N$201,2,FALSE))","v":""},"K",null,24,null,null,null,null,null,null,{"$f":"IF(LEN(O40)=0,\"\",VLOOKUP(O40,リスト!$A$3:$N$201,3,FALSE))","v":""},{"$f":"IF(LEN(O40)=0,\"\",VLOOKUP(O40,リスト!$A$3:$N$201,2,FALSE))","v":""},null,null,{"$f":"COUNTA(D40:I42)","v":0},{"$f":"COUNTA(O40:T42)","v":0}]
[null,null,25,null,null,null,null,null,null,{"$f":"IF(LEN(D41)=0,\"\",VLOOKUP(D41,リスト!$A$3:$N$201,3,FALSE))","v":""},{"$f":"IF(LEN(D41)=0,\"\",VLOOKUP(D41,リスト!$A$3:$N$201,2,FALSE))","v":""},null,null,25,null,null,null,null,null,null,{"$f":"IF(LEN(O41)=0,\"\",VLOOKUP(O41,リスト!$A$3:$N$201,3,FALSE))","v":""},{"$f":"IF(LEN(O41)=0,\"\",VLOOKUP(O41,リスト!$A$3:$N$201,2,FALSE))","v":""},null,null,{"$f":"COUNTA(D40:I42)","v":0},{"$f":"COUNTA(O40:T42)","v":0}]
[null,null,26,null,null,null,null,null,null,{"$f":"IF(LEN(D42)=0,\"\",VLOOKUP(D42,リスト!$A$3:$N$201,3,FALSE))","v":""},{"$f":"IF(LEN(D42)=0,\"\",VLOOKUP(D42,リスト!$A$3:$N$201,2,FALSE))","v":""},null,null,26,null,null,null,null,null,null,{"$f":"IF(LEN(O42)=0,\"\",VLOOKUP(O42,リスト!$A$3:$N$201,3,FALSE))","v":""},{"$f":"IF(LEN(O42)=0,\"\",VLOOKUP(O42,リスト!$A$3:$N$201,2,FALSE))","v":""},null,null,{"$f":"COUNTA(D40:I42)","v":0},{"$f":"COUNTA(O40:T42)","v":0}]
["L",null,27,null,null,null,null,null,null,{"$f":"IF(LEN(D43)=0,\"\",VLOOKUP(D43,リスト!$A$3:$N$201,3,FALSE))","v":""},{"$f":"IF(LEN(D43)=0,\"\",VLOOKUP(D43,リスト!$A$3:$N$201,2,FALSE))","v":""},"L",null,27,null,null,null,null,null,null,{"$f":"IF(LEN(O43)=0,\"\",VLOOKUP(O43,リスト!$A$3:$N$201,3,FALSE))","v":""},{"$f":"IF(LEN(O43)=0,\"\",VLOOKUP(O43,リスト!$A$3:$N$201,2,FALSE))","v":""},null,null,{"$f":"COUNTA(D43:I45)","v":0},{"$f":"COUNTA(O43:T45)","v":0}]
[null,null,28,null,null,null,null,null,null,{"$f":"IF(LEN(D44)=0,\"\",VLOOKUP(D44,リスト!$A$3:$N$201,3,FALSE))","v":""},{"$f":"IF(LEN(D44)=0,\"\",VLOOKUP(D44,リスト!$A$3:$N$201,2,FALSE))","v":""},null,null,28,null,null,null,null,null,null,{"$f":"IF(LEN(O44)=0,\"\",VLOOKUP(O44,リスト!$A$3:$N$201,3,FALSE))","v":""},{"$f":"IF(LEN(O44)=0,\"\",VLOOKUP(O44,リスト!$A$3:$N$201,2,FALSE))","v":""},null,null,{"$f":"COUNTA(D43:I45)","v":0},{"$f":"COUNTA(O43:T45)","v":0}]
[null,null,29,null,null,null,null,null,null,{"$f":"IF(LEN(D45)=0,\"\",VLOOKUP(D45,リスト!$A$3:$N$201,3,FALSE))","v":""},{"$f":"IF(LEN(D45)=0,\"\",VLOOKUP(D45,リスト!$A$3:$N$201,2,FALSE))","v":""},null,null,29,null,null,null,null,null,null,{"$f":"IF(LEN(O45)=0,\"\",VLOOKUP(O45,リスト!$A$3:$N$201,3,FALSE))","v":""},{"$f":"IF(LEN(O45)=0,\"\",VLOOKUP(O45,リスト!$A$3:$N$201,2,FALSE))","v":""},null,null,{"$f":"COUNTA(D43:I45)","v":0},{"$f":"COUNTA(O43:T45)","v":0}]
["M",null,30,null,null,null,null,null,null,{"$f":"IF(LEN(D46)=0,\"\",VLOOKUP(D46,リスト!$A$3:$N$201,3,FALSE))","v":""},{"$f":"IF(LEN(D46)=0,\"\",VLOOKUP(D46,リスト!$A$3:$N$201,2,FALSE))","v":""},"M",null,30,null,null,null,null,null,null,{"$f":"IF(LEN(O46)=0,\"\",VLOOKUP(O46,リスト!$A$3:$N$201,3,FALSE))","v":""},{"$f":"IF(LEN(O46)=0,\"\",VLOOKUP(O46,リスト!$A$3:$N$201,2,FALSE))","v":""},null,null,{"$f":"COUNTA(D46:I48)","v":0},{"$f":"COUNTA(O46:T48)","v":0}]
[null,null,31,null,null,null,null,null,null,{"$f":"IF(LEN(D47)=0,\"\",VLOOKUP(D47,リスト!$A$3:$N$201,3,FALSE))","v":""},{"$f":"IF(LEN(D47)=0,\"\",VLOOKUP(D47,リスト!$A$3:$N$201,2,FALSE))","v":""},null,null,31,null,null,null,null,null,null,{"$f":"IF(LEN(O47)=0,\"\",VLOOKUP(O47,リスト!$A$3:$N$201,3,FALSE))","v":""},{"$f":"IF(LEN(O47)=0,\"\",VLOOKUP(O47,リスト!$A$3:$N$201,2,FALSE))","v":""},null,null,{"$f":"COUNTA(D46:I48)","v":0},{"$f":"COUNTA(O46:T48)","v":0}]
[null,null,32,null,null,null,null,null,null,{"$f":"IF(LEN(D48)=0,\"\",VLOOKUP(D48,リスト!$A$3:$N$201,3,FALSE))","v":""},{"$f":"IF(LEN(D48)=0,\"\",VLOOKUP(D48,リスト!$A$3:$N$201,2,FALSE))","v":""},null,null,32,null,null,null,null,null,null,{"$f":"IF(LEN(O48)=0,\"\",VLOOKUP(O48,リスト!$A$3:$N$201,3,FALSE))","v":""},{"$f":"IF(LEN(O48)=0,\"\",VLOOKUP(O48,リスト!$A$3:$N$201,2,FALSE))","v":""},null,null,{"$f":"COUNTA(D46:I48)","v":0},{"$f":"COUNTA(O46:T48)","v":0}]
["N",null,33,null,null,null,null,null,null,{"$f":"IF(LEN(D49)=0,\"\",VLOOKUP(D49,リスト!$A$3:$N$201,3,FALSE))","v":""},{"$f":"IF(LEN(D49)=0,\"\",VLOOKUP(D49,リスト!$A$3:$N$201,2,FALSE))","v":""},"N",null,33,null,null,null,null,null,null,{"$f":"IF(LEN(O49)=0,\"\",VLOOKUP(O49,リスト!$A$3:$N$201,3,FALSE))","v":""},{"$f":"IF(LEN(O49)=0,\"\",VLOOKUP(O49,リスト!$A$3:$N$201,2,FALSE))","v":""},null,null,{"$f":"COUNTA(D49:I51)","v":0},{"$f":"COUNTA(O49:T51)","v":0}]
[null,null,34,null,null,null,null,null,null,{"$f":"IF(LEN(D50)=0,\"\",VLOOKUP(D50,リスト!$A$3:$N$201,3,FALSE))","v":""},{"$f":"IF(LEN(D50)=0,\"\",VLOOKUP(D50,リスト!$A$3:$N$201,2,FALSE))","v":""},null,null,34,null,null,null,null,null,null,{"$f":"IF(LEN(O50)=0,\"\",VLOOKUP(O50,リスト!$A$3:$N$201,3,FALSE))","v":""},{"$f":"IF(LEN(O50)=0,\"\",VLOOKUP(O50,リスト!$A$3:$N$201,2,FALSE))","v":""},null,null,{"$f":"COUNTA(D49:I51)","v":0},{"$f":"COUNTA(O49:T51)","v":0}]
[null,null,35,null,null,null,null,null,null,{"$f":"IF(LEN(D51)=0,\"\",VLOOKUP(D51,リスト!$A$3:$N$201,3,FALSE))","v":""},{"$f":"IF(LEN(D51)=0,\"\",VLOOKUP(D51,リスト!$A$3:$N$201,2,FALSE))","v":""},null,null,35,null,null,null,null,null,null,{"$f":"IF(LEN(O51)=0,\"\",VLOOKUP(O51,リスト!$A$3:$N$201,3,FALSE))","v":""},{"$f":"IF(LEN(O51)=0,\"\",VLOOKUP(O51,リスト!$A$3:$N$201,2,FALSE))","v":""},null,null,{"$f":"COUNTA(D49:I51)","v":0},{"$f":"COUNTA(O49:T51)","v":0}]
["O",null,36,null,null,null,null,null,null,{"$f":"IF(LEN(D52)=0,\"\",VLOOKUP(D52,リスト!$A$3:$N$201,3,FALSE))","v":""},{"$f":"IF(LEN(D52)=0,\"\",VLOOKUP(D52,リスト!$A$3:$N$201,2,FALSE))","v":""},"O",null,36,null,null,null,null,null,null,{"$f":"IF(LEN(O52)=0,\"\",VLOOKUP(O52,リスト!$A$3:$N$201,3,FALSE))","v":""},{"$f":"IF(LEN(O52)=0,\"\",VLOOKUP(O52,リスト!$A$3:$N$201,2,FALSE))","v":""},null,null,{"$f":"COUNTA(D52:I54)","v":0},{"$f":"COUNTA(O52:T54)","v":0}]
[null,null,37,null,null,null,null,null,null,{"$f":"IF(LEN(D53)=0,\"\",VLOOKUP(D53,リスト!$A$3:$N$201,3,FALSE))","v":""},{"$f":"IF(LEN(D53)=0,\"\",VLOOKUP(D53,リスト!$A$3:$N$201,2,FALSE))","v":""},null,null,37,null,null,null,null,null,null,{"$f":"IF(LEN(O53)=0,\"\",VLOOKUP(O53,リスト!$A$3:$N$201,3,FALSE))","v":""},{"$f":"IF(LEN(O53)=0,\"\",VLOOKUP(O53,リスト!$A$3:$N$201,2,FALSE))","v":""},null,null,{"$f":"COUNTA(D52:I54)","v":0},{"$f":"COUNTA(O52:T54)","v":0}]
[null,null,38,null,null,null,null,null,null,{"$f":"IF(LEN(D54)=0,\"\",VLOOKUP(D54,リスト!$A$3:$N$201,3,FALSE))","v":""},{"$f":"IF(LEN(D54)=0,\"\",VLOOKUP(D54,リスト!$A$3:$N$201,2,FALSE))","v":""},null,null,38,null,null,null,null,null,null,{"$f":"IF(LEN(O54)=0,\"\",VLOOKUP(O54,リスト!$A$3:$N$201,3,FALSE))","v":""},{"$f":"IF(LEN(O54)=0,\"\",VLOOKUP(O54,リスト!$A$3:$N$201,2,FALSE))","v":""},null,null,{"$f":"COUNTA(D52:I54)","v":0},{"$f":"COUNTA(O52:T54)","v":0}]
["P",null,39,null,null,null,null,null,null,{"$f":"IF(LEN(D55)=0,\"\",VLOOKUP(D55,リスト!$A$3:$N$201,3,FALSE))","v":""},{"$f":"IF(LEN(D55)=0,\"\",VLOOKUP(D55,リスト!$A$3:$N$201,2,FALSE))","v":""},"P",null,39,null,null,null,null,null,null,{"$f":"IF(LEN(O55)=0,\"\",VLOOKUP(O55,リスト!$A$3:$N$201,3,FALSE))","v":""},{"$f":"IF(LEN(O55)=0,\"\",VLOOKUP(O55,リスト!$A$3:$N$201,2,FALSE))","v":""},null,null,{"$f":"COUNTA(D55:I57)","v":0},{"$f":"COUNTA(O55:T57)","v":0}]
[null,null,40,null,null,null,null,null,null,{"$f":"IF(LEN(D56)=0,\"\",VLOOKUP(D56,リスト!$A$3:$N$201,3,FALSE))","v":""},{"$f":"IF(LEN(D56)=0,\"\",VLOOKUP(D56,リスト!$A$3:$N$201,2,FALSE))","v":""},null,null,40,null,null,null,null,null,null,{"$f":"IF(LEN(O56)=0,\"\",VLOOKUP(O56,リスト!$A$3:$N$201,3,FALSE))","v":""},{"$f":"IF(LEN(O56)=0,\"\",VLOOKUP(O56,リスト!$A$3:$N$201,2,FALSE))","v":""},null,null,{"$f":"COUNTA(D55:I57)","v":0},{"$f":"COUNTA(O55:T57)","v":0}]
[null,null,41,null,null,null,null,null,null,{"$f":"IF(LEN(D57)=0,\"\",VLOOKUP(D57,リスト!$A$3:$N$201,3,FALSE))","v":""},{"$f":"IF(LEN(D57)=0,\"\",VLOOKUP(D57,リスト!$A$3:$N$201,2,FALSE))","v":""},null,null,41,null,null,null,null,null,null,{"$f":"IF(LEN(O57)=0,\"\",VLOOKUP(O57,リスト!$A$3:$N$201,3,FALSE))","v":""},{"$f":"IF(LEN(O57)=0,\"\",VLOOKUP(O57,リスト!$A$3:$N$201,2,FALSE))","v":""},null,null,{"$f":"COUNTA(D55:I57)","v":0},{"$f":"COUNTA(O55:T57)","v":0}]
["Q",null,42,null,null,null,null,null,null,{"$f":"IF(LEN(D58)=0,\"\",VLOOKUP(D58,リスト!$A$3:$N$201,3,FALSE))","v":""},{"$f":"IF(LEN(D58)=0,\"\",VLOOKUP(D58,リスト!$A$3:$N$201,2,FALSE))","v":""},"Q",null,42,null,null,null,null,null,null,{"$f":"IF(LEN(O58)=0,\"\",VLOOKUP(O58,リスト!$A$3:$N$201,3,FALSE))","v":""},{"$f":"IF(LEN(O58)=0,\"\",VLOOKUP(O58,リスト!$A$3:$N$201,2,FALSE))","v":""},null,null,{"$f":"COUNTA(D58:I60)","v":0},{"$f":"COUNTA(O58:T60)","v":0}]
[null,null,43,null,null,null,null,null,null,{"$f":"IF(LEN(D59)=0,\"\",VLOOKUP(D59,リスト!$A$3:$N$201,3,FALSE))","v":""},{"$f":"IF(LEN(D59)=0,\"\",VLOOKUP(D59,リスト!$A$3:$N$201,2,FALSE))","v":""},null,null,43,null,null,null,null,null,null,{"$f":"IF(LEN(O59)=0,\"\",VLOOKUP(O59,リスト!$A$3:$N$201,3,FALSE))","v":""},{"$f":"IF(LEN(O59)=0,\"\",VLOOKUP(O59,リスト!$A$3:$N$201,2,FALSE))","v":""},null,null,{"$f":"COUNTA(D58:I60)","v":0},{"$f":"COUNTA(O58:T60)","v":0}]
[null,null,44,null,null,null,null,null,null,{"$f":"IF(LEN(D60)=0,\"\",VLOOKUP(D60,リスト!$A$3:$N$201,3,FALSE))","v":""},{"$f":"IF(LEN(D60)=0,\"\",VLOOKUP(D60,リスト!$A$3:$N$201,2,FALSE))","v":""},null,null,44,null,null,null,null,null,null,{"$f":"IF(LEN(O60)=0,\"\",VLOOKUP(O60,リスト!$A$3:$N$201,3,FALSE))","v":""},{"$f":"IF(LEN(O60)=0,\"\",VLOOKUP(O60,リスト!$A$3:$N$201,2,FALSE))","v":""},null,null,{"$f":"COUNTA(D58:I60)","v":0},{"$f":"COUNTA(O58:T60)","v":0}]
[]
[]
[]
[]
[]
[{"$f":"I66","v":"日立第一高等学校"},1,1,1,"日一","日立一","県立",0,"日立第一高等学校","日立第一","ひたちだいいち","男","女","317-0063","日立市若葉町3-15-1","0294-22-6488","31700630294-22-64880294-21-4490","0294-21-4490","磯邉　裕一","志賀　達哉","安斎　正人","坂本　八穂","大場　久美子","　",null,{"$f":"COUNTA(O64:T66)","v":6}]
[{"$f":"I67","v":"日立第二高等学校"},1,2,2,"日二","日立二","県立",0,"日立第二高等学校","日立第二","ひたちだいに","","女","317-0071","日立市鹿島町3-2-1","0294-22-3254","31700710294-22-32540294-21-4583","0294-21-4583","蛭田　清孝","本田　由子","井手　悠賀","石川　翔子","　","　",null,{"$f":"COUNTA(N67:S69)","v":18}]
["日立商業高等学校",1,3,3,"日商","日立商","県立",0,"日立商業高等学校","日立商業","ひたちしょうぎょう","男","女","319-1222","日立市久慈町6-20-1","0294-52-4779","31912220294-52-47790294-53-8243","0294-53-8243","栗田　武志","真仲　泰成","岡見　伸行","青山　紀子","　","　",null,{"$f":"COUNTA(N67:S69)","v":18}]
["日立北高等学校",1,4,4,"日北","日立北","県立",0,"日立北高等学校","日立北","ひたちきた","男","女","319-1411","日立市川尻町6-11-1","0294-43-2101","31914110294-43-21010294-43-7967","0294-43-7967","清水　秀一","矢部　克美","小中　貴司","鈴木　利佳","　","　",null,{"$f":"COUNTA(N67:S69)","v":18}]
["磯原郷英高等学校",1,5,5,"磯郷","磯郷英","県立",0,"磯原郷英高等学校","磯原郷英","いそはらきょうえい","男","女","319-1541","北茨城市磯原町磯原912","0293-42-0260","31915410293-42-02600293-42-6545","0293-42-6545","長山　祐司","松浦　祥吾","鈴木　光雄","　","　","　"]
["太田第一高等学校",1,6,6,"太一","太田一","県立",0,"太田第一高等学校","太田第一","おおただいいち","男","女","313-0005","常陸太田市栄町58","0294-72-2115","31300050294-72-21150294-72-2119","0294-72-2119","谷津　勉","西野　志津子","重中　茜","　","　","　"]
["太田西山高等学校",1,7,7,"西山","太西山","県立",0,"太田西山高等学校","太田西山","おおたせいざん","男","女","313-0007","常陸太田市新宿町210","0294-72-2136","31300070294-72-21360294-72-2147","0294-72-2147","菊池　幸惠","黒川　誠","佐伯　祐","　","　","　"]
["小瀬高等学校",1,1,8,"小瀬","小瀬","県立",0,"小瀬高等学校","小　　瀬","おせ","男","女","319-2401","常陸大宮市上小瀬1881","0295-56-2204","31924010295-56-22040295-56-3804","0295-56-3804","山下　則雄","北嶋　大輔","野上　勇","　","　","　"]
["常陸大宮高等学校",2,2,9,"常大","常大宮","県立",0,"常陸大宮高等学校","常陸大宮","みとだいいち","男","","319-2255","常陸大宮市野中町3257-2","0295-52-2175","31922550295-52-21750295-53-6914","0295-53-6914","堀川　洋","西野　有希","倉持　太陽","　","　","　"]
["水戸第一高等学校",2,3,10,"水一","水戸一","県立",0,"水戸第一高等学校","水戸第一","みとだいに","男","女","310-0011","水戸市三の丸3-10-1","029-224-2254","3100011029-224-2254029-225-5694","029-225-5694","御厩　祐司","石井　孝典","金井　正人","　","　","　"]
["水戸第二高等学校",2,4,11,"水二","水戸二","県立",0,"水戸第二高等学校","水戸第二","みとだいさん","","女","310-0062","水戸市大町2-2-14","029-224-2543","3100062029-224-2543029-225-5049","029-225-5049","渡邉　剛","恩田　洋一","梶原　拓光","　","　","　"]
["水戸第三高等学校",2,5,12,"水三","水戸三","県立",0,"水戸第三高等学校","水戸第三","みどりおか","","女","310-0011","水戸市三の丸2-7-27","029-224-2044","3100011029-224-2044029-225-4524","029-225-4524","南雲　康司","深谷　拓","辺見　知子","　","　","　"]
["緑岡高等学校",2,6,13,"緑岡","緑岡","県立",0,"緑岡高等学校","緑　　岡","みとこうぎょう","男","女","310-0852","水戸市笠原町1284","029-241-0311","3100852029-241-0311029-241-7929","029-241-7929","今瀬　一博","田口　泰子","楠　正則","小塚　由紀子","野村　勝美","　"]
["水戸工業高等学校",2,7,14,"水工","水戸工","県立",0,"水戸工業高等学校","水戸工業","みとさくらのまき","男","女","310-0836","水戸市元吉田町1101","029-247-5711","3100836029-247-5711029-248-6399","029-248-6399","久松　政信","牧田　幸博","関口　仁","　","　","　"]
["水戸桜ノ牧高等学校",2,8,15,"桜牧","桜ノ牧","県立",0,"水戸桜ノ牧高等学校","水戸桜ノ牧","さわ","男","女","310-0914","水戸市小吹町2070","029-243-3644","3100914029-243-3644029-241-9642","029-241-9642","秋山　克巳","坂本　裕哉","梶山　潤","寺内　芳江","　","　"]
["佐和高等学校",2,9,16,"佐和","佐和","県立",0,"佐和高等学校","佐　　和","かさま","男","女","312-0061","ひたちなか市稲田636-1","029-285-1819","30916110296-72-11710296-72-2590","029-285-8401","鈴木　猛","辻元　誠之","清水　智子","　","　","　"]
["那珂湊高等学校",2,10,17,"那湊","那珂湊","県立",0,"那珂湊高等学校","那 珂 湊","かさま","男","女","311-1224","ひたちなか市山ノ上町4-6","029-262-2642","3111224029-262-2642029-263-3961","029-263-3961","鈴木　富美子","関口　昭","満生　香子","　","　","　"]
["笠間高等学校",2,11,18,"笠間","笠間","県立",0,"笠間高等学校","笠　　間","みとさくらのまきじょうほく","男","女","309-1611","笠間市笠間1668","0296-72-1171","30916110296-72-11710296-72-2590","0296-72-2590","渡邉　英一","人見　広章","　","　","　","　"]
["水戸桜ノ牧高等学校常北校",2,12,19,"常北","常北","県立",0,"水戸桜ノ牧高等学校常北校","水戸桜ノ牧常北","とうかい","男","","311-4306","東茨城郡城里町春園1634","029-288-2028","3114306029-288-2028029-288-4969","029-288-4969","秋山　克巳","大図　卓也","安蔵　恭吾","海老原　洋法","　","　"]
["東海高等学校",2,13,20,"東海","東海","県立",0,"東海高等学校","東　　海","いばらきひがし","男","女","319-1112","那珂郡東海村大字村松771-1","029-282-7501","3191112029-282-7501029-287-1328","029-287-1328","正木　昇","荒木　広大","小田　義雄","　","　","　"]
["茨城東高等学校",2,14,21,"茨東","茨城東","県立",0,"茨城東高等学校","茨 城 東","なか","男","女","311-3157","東茨城郡茨城町小幡2524","029-292-6245","3113157029-292-6245029-292-2405","029-292-2405","上田　英雄","菅野　学","飯田　延稔","　","　","　"]
["那珂高等学校",2,15,22,"那珂","那珂","県立",0,"那珂高等学校","那　　珂","いばらき","男","女","311-0111","那珂市後台1710-1","029-295-2710","3110111029-295-2710029-295-4640","029-295-4640","阿内　勉","大内　麻子","朝比奈　泰紀","　","　","　"]
["茨城高等学校",2,16,23,"茨城","茨城","","私立","茨城高等学校","茨　　城","すいじょう","男","女","310-0065","水戸市八幡町16-1","029-221-4936","3100065029-221-4936029-221-4923","029-221-4923","梶　克治","遠藤　康","作山　友孝","　","　","　"]
["水城高等学校",2,17,24,"水城","水城",0,"私立","水城高等学校","水　　城","いばらきこうぎょうこうとうせんもん","男","女","310-0804","水戸市白梅2-1-45","029-247-6509","3100804029-247-6509029-248-7252","029-248-7252","小田部　幹夫","中村　諒","武田　悠平","　","　","　"]
["茨城工業高等専門学校",2,18,25,"高専","茨高専","国立",0,"茨城工業高等専門学校","茨城工業高等専門学校","ほこただいいち","男","女","312-8508","ひたちなか市中根866","029-272-5201","3128508029-272-5201029-271-2813","029-271-2813","鈴木　秋弘","丸山　智章","平本　留理","大津　麻紀子","　","　"]
["鉾田第一高等学校",3,1,26,"鉾一","鉾田一","県立",0,"鉾田第一高等学校","鉾田第一","ほこただいに","男","女","311-1517","鉾田市鉾田1090-2","0291-33-2161","31115170291-33-21610291-33-6086","0291-33-6086","飯山　美都子","星　浩一","杉山　公実子","　","　","　"]
["鉾田第二高等学校",3,2,27,"鉾二","鉾田二","県立",0,"鉾田第二高等学校","鉾田第二","たまつくりこうぎょう","男","女","311-1517","鉾田市鉾田1158","0291-33-2171","31115170291-33-21710291-33-6093","0291-33-6093","海老澤　浩一","沼里　民子","廣原　嘉明","　","　","　"]
["玉造工業高等学校",3,3,28,"玉工","玉造工","県立",0,"玉造工業高等学校","玉造工業","あそう","男","女","311-3501","行方市芹沢1552","0299-55-0138","31135010299-55-01380299-55-3454","0299-55-3454","大塚　哲蔵","小畑　繁","　","　","　","　"]
["麻生高等学校",3,4,29,"麻生","麻生","県立",0,"麻生高等学校","麻　　生","いたこ","男","女","311-3832","行方市麻生1806","0299-72-0098","31138320299-72-00980299-72-2317","0299-72-2317","園部　晃嗣","齊藤　啓","森作　実玖也","　","　","　"]
["潮来高等学校",3,5,30,"潮来","潮来","県立",0,"潮来高等学校","潮　　来","かしま","男","女","311-2448","潮来市須賀3025","0299-66-2142","31124480299-66-21420299-66-2670","0299-66-2670","小澤　茂幸","萩原　卓","飯島　愛美","髙野　深愛","　","　"]
["鹿島高等学校",3,6,31,"鹿島","鹿島","県立",0,"鹿島高等学校","鹿　　島","はさき","男","女","314-0038","鹿嶋市城山2-2-19","0299-82-1903","31400380299-82-19030299-84-1547","0299-84-1547","小沼　浩幸","山口　薫","青塚　明香","甲　良美","谷田部　大地","　"]
["波崎高等学校",3,7,32,"波崎","波崎","県立",0,"波崎高等学校","波　　崎","せいしんがくえん","男","女","314-0343","神栖市土合本町2-9928-1","0479-48-0044","31403430479-48-00440479-48-4679","0479-48-4679","高橋　秀樹","山田　宏","　","　","　","　"]
["清真学園高等学校",3,8,33,"清真","清真学",0,"私立","清真学園高等学校","清真学園","つちうらだいいち","男","女","314-0031","鹿嶋市宮中伏見4448-5","0299-83-1811","31400310299-83-18110299-83-6414","0299-83-6414","飯山　克則","炭谷　崇人","佐久間　和彰","釜田　啓市","清野　千里","　"]
["土浦第一高等学校",4,1,34,"土一","土浦一","県立",0,"土浦第一高等学校","土浦第一","つちうらだいに","男","女","300-0051","土浦市真鍋4-4-2","029-822-0137","3000051029-822-0137029-826-3521","029-826-3521","プラニク　ヨゲンドラ","柴沼　陽","大野　岳志","　","　","　"]
["土浦第二高等学校",4,2,35,"土二","土浦二","県立",0,"土浦第二高等学校","土浦第二","つちうらだいさん","男","女","300-0041","土浦市立田町9-6","029-822-5027","3000041029-822-5027029-826-3522","029-826-3522","深谷　靖","塚本　晋太郎","土井　和恵","　","　","杉山　尚之"]
["土浦第三高等学校",4,3,36,"土三","土浦三","県立",0,"土浦第三高等学校","土浦第三","つちうらこうぎょう","男","女","300-0835","土浦市大岩田1599","029-821-1605","3000835029-821-1605029-826-3523","029-826-3523","渡邊　聡","松本　現","鎌田　千亜紀","石井　美香","　","　"]
["土浦工業高等学校",4,4,37,"土工","土浦工","県立",0,"土浦工業高等学校","土浦工業","いしおかだいいち","男","女","300-0051","土浦市真鍋6-11-20","029-821-1953","3000051029-821-1953029-822-6924","029-822-6924","後藤　光彦","千葉　一茂","福岡　聖美","蓼沼　正弘","　","　"]
["石岡第一高等学校",4,5,38,"石一","石岡一","県立",0,"石岡第一高等学校","石岡第一","いしおかだいに","男","女","315-0001","石岡市石岡1-9","0299-22-4135","31500010299-22-41350299-22-6289","0299-22-6289","櫻井　隆之","川村　理絵","土居　義邦","前野　和美","　","　"]
["石岡第二高等学校",4,6,39,"石二","石岡二","県立",0,"石岡第二高等学校","石岡第二","いしおかしょうぎょう","男","女","315-0013","石岡市府中5-14-14","0299-23-2101","31500130299-23-21010299-23-4895","0299-23-4895","鈴木　教生","門井　寿通","岡田　睦美","　","　","　"]
["石岡商業高等学校",4,7,40,"石商","石岡商","県立",0,"石岡商業高等学校","石岡商業","つちうらにほんだいがく","男","女","315-0033","石岡市東光台3-4-1","0299-26-4138","31500330299-26-41380299-26-1029","0299-26-1029","木戸　智子","青柳　優","森作　明美","　","　","　"]
["土浦日本大学高等学校",4,8,41,"土日","土日大",0,{"$error":"#REF!"},"土浦日本大学高等学校","土浦日本大学","じょうそうがくいん","男","女","300-0826","土浦市小松ケ丘町4-46","029-822-3382","3000826029-822-3382029-823-8743","029-823-8743","伊藤　哲也","中川　久倫","阿久井　琉菜","　","　","　"]
["常総学院高等学校",4,9,42,"常総","常総学",0,"私立","常総学院高等学校","常総学院","かすみがうら","男","女","300-0849","土浦市中村西根1010","029-842-8771","3000849029-842-8771029-841-1808","029-841-1808","壁谷　恵","宮本　和明","柴山　紗矢香","塚本　重毅","ステント　ブラッドリー","　"]
["霞ケ浦高等学校",4,10,43,"霞浦","霞ヶ浦",0,"私立","霞ケ浦高等学校","霞 ケ 浦","つちうらにほんだいがくちゅうとうきょういくがっこう","男","女","300-0301","稲敷郡阿見町青宿50","029-887-0013","3000301029-887-0013029-887-9380","029-887-9380","岡村　守","桜井　恭平","柳澤　雅世","　","　","　"]
["土浦日本大学中等教育学校",4,11,44,"土中","土中等",0,"私立","土浦日本大学中等教育学校","土浦日本大学中等教育学校",{"$error":"#REF!"},"男","女","300-0826","土浦市小松ケ丘町4-46","029-822-3386","3000826029-822-3386029-835-3538","029-835-3538","堀切　浩一","塩原　崇","佐藤　錬","　","　","　"]
["竜ケ崎第一高等学校",5,1,45,"竜一","竜崎一","県立",0,"竜ケ崎第一高等学校","竜ケ崎第一","りゅうがさきだいに","男","女","301-0844","龍ヶ崎市平畑248","0297-62-2146","30108440297-62-21460297-62-9836","0297-62-9836","太田垣　淳一","八重柏　由佳","石川　瑶子","前田　将貴","　","　"]
["竜ケ崎第二高等学校",5,2,46,"竜二","竜崎二","県立",0,"竜ケ崎第二高等学校","竜ケ崎第二","りゅうがさきみなみ","男","女","301-0834","龍ケ崎市3087","0297-62-3078","30108340297-62-30780297-62-9850","0297-62-9850","箕輪　文子","前田　彬貴","小吹　光","　","　","　"]
["竜ケ崎南高等学校",5,3,47,"竜南","竜崎南","県立",0,"竜ケ崎南高等学校","竜ケ崎南","えどさきそうごう","男","","301-0021","龍ケ崎市北方町120","0297-64-2167","30100210297-64-21670297-64-5241","0297-64-5241","須藤　一道","飛田　樹","杉浦　拓郎","　","　","　"]
["江戸崎総合高等学校",5,4,48,"江総","江総合","県立",0,"江戸崎総合高等学校","江戸崎総合","とりでだいいち","男","女","300-0504","稲敷市江戸崎甲476-2","029-892-2103","3000504029-892-2103029-892-3957","029-892-3957","川田　　利行","篠崎　美穂","河野　亮一","渡邉　怜奈","　","　"]
["取手第一高等学校",5,5,49,"取一","取手一","県立",0,"取手第一高等学校","取手第一","とりでだいに","男","女","302-0013","取手市台宿2-4-1","0297-72-1348","30200130297-72-13480297-73-7814","0297-73-7814","高野　健二","山中　範子","高木　渉","後藤　裕一","　","久保田　清"]
["取手第二高等学校",5,6,50,"取二","取手二","県立",0,"取手第二高等学校","取手第二","ふじしろ","","女","302-0005","取手市東2-5-1","0297-73-0049","30200050297-73-00490297-73-7821","0297-73-7821","池田　聡","寺田　和馬","　","　","　","　"]
["藤代高等学校",5,7,51,"藤代","藤代","県立",0,"藤代高等学校","藤　　代","うしく","男","女","300-1537","取手市毛有640","0297-82-6283","30015370297-82-62830297-82-6021","0297-82-6021","根本　雄一","深堀　いずみ","富岡　美和","木村　愛","　","　"]
["牛久高等学校",5,8,52,"牛久","牛久","県立",0,"牛久高等学校","牛    久","うしくえいしん","男","女","300-1204","牛久市岡見町2081-1","029-873-6220","3001204029-873-6220029-874-8580","029-874-8580","田﨑　泰昭","人見　正敏","塚本　貞行","　","　","　"]
["牛久栄進高等学校",5,9,53,"栄進","牛栄進","県立",0,"牛久栄進高等学校","牛久栄進","とうようだいうしく","男","女","300-1201","牛久市東猯穴町876","029-843-3110","3001201029-843-3110029-842-1891","029-842-1891","奈良　由紀子","坂井　昌平","宇野　香代子","門井　美奈子","　","　"]
["東洋大学付属牛久高等学校",5,10,54,"東牛","東牛久",0,"私立","東洋大学付属牛久高等学校","東洋大学附属牛久","あいこくがくえんだいがくふぞくりゅうがさき","男","女","300-1211","牛久市柏田町1360-2","029-872-0924","3001211029-872-0924029-874-1055","029-874-1055","金澤　利明","江橋　正安","大島　優子","　","　","　"]
["江戸川学園取手高等学校",5,11,55,"江学","江戸川",0,"私立","江戸川学園取手高等学校","江戸川学園取手","あいこくがくえんだいがくふぞくりゅうがさき","男","女","302-0025","取手市西1-37-1","0297-74-8771","30200250297-74-87710297-73-4851","0297-73-4851","山本　宏之","関　貴之","野田　泰誠","　","　","明間　勲"]
["愛国学園大学附属龍ケ崎高等学校",5,12,56,"愛国","愛国学",0,"私立","愛国学園大学附属龍ケ崎高等学校","愛国学園大学附属龍ケ崎","つくば","","女","301-0041","龍ケ崎市若柴町2747","0297-66-0757","30100410297-66-07570297-66-0526","0297-66-0526","倉持　正男","坂本　渉","柴崎　智宣","　","　","　"]
["筑波高等学校",6,1,57,"筑波","筑波","県立",0,"筑波高等学校","筑　　波","たけぞの","男","女","300-4231","つくば市北条4387","029-867-0041","3004231029-867-0041029-867-4688","029-867-4688","鈴木　恒一","山北　大志","門井　浩","菊池　郁治","吉田　浩昭","林田　國洋"]
["竹園高等学校",6,2,58,"竹園","竹園","県立",0,"竹園高等学校","竹　　園","つくばこうか","男","女","305-0032","つくば市竹園3-9-1","029-851-7515","3050032029-851-7515029-852-5533","029-852-5533","辻　武　晴","宮内　雅史","今　瀬　英一朗","上　本　達　也","　","　"]
["つくば工科高等学校",6,3,59,"工科","つ工科","県立",0,"つくば工科高等学校","つくば工科","いわせ","男","女","305-0861","つくば市谷田部1818","029-836-1441","3050861029-836-1441029-836-4700","029-836-4700","石塚　照美","信戸　修一","三浦　秀之","　","　","　"]
["岩瀬高等学校",6,4,60,"岩瀬","岩瀬","県立",0,"岩瀬高等学校","岩　　瀬","しもだてだいいち","男","女","309-1294","桜川市岩瀬1511-1","0296-75-2475","30912940296-75-24750296-75-4906","0296-75-4906","西條　礼子","堀　裕美","市村　瀬里","藤森　知恵子","　","　"]
["下館第一高等学校",6,5,61,"館一","下館一","県立",0,"下館第一高等学校","下館第一",{"$error":"#REF!"},"男","女","308-0825","筑西市下中山590","0296-24-6344","30808250296-24-63440296-25-4673","0296-25-4673","木村　功","星野　雅一","海老名　晶弓","中島　陽樹","　","岩田　隆"]
["下館第二高等学校",6,6,62,"館二","下館二","県立",0,"下館第二高等学校","下館第二","しもつまだいいち","男","女","308-0051","筑西市岡芹一丁目37","0296-22-5361",{"$error":"#REF!"},"0296-25-4683","池田　恭彦","柴　弥寿子","斉藤　由起子","　","　","　"]
["明野高等学校",6,7,63,"明野","明野","県立",0,"明野高等学校","明野","しもつまだいに","男","女","300-4515","筑西市倉持1176-1","0296-52-3121",{"$error":"#REF!"},"0296-52-5869","井上　剛","塚原　千秋","真家　大輔","望月　ありさ","　","　"]
["下妻第一高等学校",6,8,64,"妻一","下妻一","県立",0,"下妻第一高等学校","下妻第一",{"$error":"#REF!"},"男","女","304-0067","下妻市下妻乙226-1","0296-44-5158","30400670296-44-25490296-43-9173","0296-43-9172","生井　秀一","中泉　尚人","濵野　美智","坂入　純子","　","　"]
["下妻第二高等学校",6,9,65,"妻二","下妻二","県立",0,"下妻第二高等学校","下妻第二","みつかいどうだいいち","男","女","304-0067","下妻市下妻乙347-8","0296-44-2549","30400670296-44-25490296-43-9173","0296-43-9173","島根　千春","大垣　朋也","福永　弘","　","　","　"]
[{"$f":"I131","v":"水海道第一高等学校"},6,10,66,"海一","水海一","県立",0,"水海道第一高等学校","水海道第一","こがだいに","男","女","303-0025","常総市水海道亀岡町2543","0297-22-0029","30300250297-22-00290297-22-5479","0297-22-5479","福田　崇","緒方　響","髙藤　啓光","　","　","　"]
["八千代高等学校",6,11,67,"八千代","八千代","県立",0,"八千代高等学校","八 千 代","こがだいさん","男","女","300-3561","結城郡八千代町大字平塚4824-2","0296-48-1836","30600240280-32-04440280-31-6602","0296-48-3201","榊原　洋子","鈴木　千裕","藤白　祐佳","　","　","　"]
["古河第二高等学校",6,12,68,"古二","古河二","県立",0,"古河第二高等学校","古河第二","さんわ","男","女","306-0024","古河市幸町19-18","0280-32-0444","30600240280-32-04440280-31-6602","0280-31-6602","有瀧　由起子","海野　俊介","栗原　邦男","　","　","　"]
["古河第三高等学校",6,13,69,"古三","古河三","県立",0,"古河第三高等学校","古河第三","さかい","男","女","306-0054","古河市中田新田12-1","0280-48-2755","30601230280-76-49590280-76-4935","0280-48-5424","早川　尚人","秋葉　尚子","山中　英憲","立川　正信","　","　"]
["三和高等学校",6,14,70,"三和","三和","県立",0,"三和高等学校","三　　和","もりや","男","女","306-0123","古河市五部54-1","0280-76-4959","30601230280-76-49590280-76-4935","0280-76-4935","鈴木　厚子","小島　彩華","諏訪　主樹","　","　","　"]
["境高等学校",6,15,71,"境","境","県立",0,"境高等学校","境","つくばしゅうえい","男","女","306-0433","猿島郡境町175","0280-87-0123","30201070297-48-64090297-45-8479","0280-87-5688","新井　智子","齋藤　起輝","吉澤　靖","木村　亜紀子","　","　"]
["守谷高等学校",6,16,72,"守谷","守谷","県立",0,"守谷高等学校","守　　谷",0,"男","女","302-0107","守谷市大木70","0297-48-6409","30201070297-48-64090297-45-8479","0297-45-8479","髙野　美有紀","松﨑　稔昌","本田　敦","早乙女　舞","　","　"]
["つくば秀英高等学校",6,17,73,"秀英","秀英",0,"私立","つくば秀英高等学校","つくば秀英",0,"男","女","300-2655","つくば市島名151","029-847-1611","","029-847-3111","石川　英昭","谷端　弘孝","川喜多　麻里","寺井　誠","福田　恒昭","　"]
[]
[]
[]
[{"$f":"リスト!A3","v":"　"},{"$f":"リスト!B3","v":0},{"$f":"リスト!C3","v":0},{"$f":"リスト!D3","v":0},{"$f":"リスト!E3","v":0},{"$f":"リスト!F3","v":0},{"$f":"リスト!G3","v":0},{"$f":"リスト!H3","v":0},{"$f":"リスト!I3","v":0},{"$f":"リスト!J3","v":0},{"$f":"リスト!K3","v":0},{"$f":"リスト!L3","v":0},{"$f":"リスト!M3","v":0},{"$f":"リスト!N3","v":0}]
[{"$f":"リスト!A4","v":"　"},{"$f":"リスト!B4","v":0},{"$f":"リスト!C4","v":0},{"$f":"リスト!D4","v":0},{"$f":"リスト!E4","v":0},{"$f":"リスト!F4","v":0},{"$f":"リスト!G4","v":0},{"$f":"リスト!H4","v":0},{"$f":"リスト!I4","v":0},{"$f":"リスト!J4","v":0},{"$f":"リスト!K4","v":0},{"$f":"リスト!L4","v":0},{"$f":"リスト!M4","v":0},{"$f":"リスト!N4","v":0}]
[{"$f":"リスト!A5","v":"　"},{"$f":"リスト!B5","v":0},{"$f":"リスト!C5","v":0},{"$f":"リスト!D5","v":0},{"$f":"リスト!E5","v":0},{"$f":"リスト!F5","v":0},{"$f":"リスト!G5","v":0},{"$f":"リスト!H5","v":0},{"$f":"リスト!I5","v":0},{"$f":"リスト!J5","v":0},{"$f":"リスト!K5","v":0},{"$f":"リスト!L5","v":0},{"$f":"リスト!M5","v":0},{"$f":"リスト!N5","v":0}]
[{"$f":"リスト!A6","v":"　"},{"$f":"リスト!B6","v":0},{"$f":"リスト!C6","v":0},{"$f":"リスト!D6","v":0},{"$f":"リスト!E6","v":0},{"$f":"リスト!F6","v":0},{"$f":"リスト!G6","v":0},{"$f":"リスト!H6","v":0},{"$f":"リスト!I6","v":0},{"$f":"リスト!J6","v":0},{"$f":"リスト!K6","v":0},{"$f":"リスト!L6","v":0},{"$f":"リスト!M6","v":0},{"$f":"リスト!N6","v":0}]
[{"$f":"リスト!A7","v":"　"},{"$f":"リスト!B7","v":0},{"$f":"リスト!C7","v":0},{"$f":"リスト!D7","v":0},{"$f":"リスト!E7","v":0},{"$f":"リスト!F7","v":0},{"$f":"リスト!G7","v":0},{"$f":"リスト!H7","v":0},{"$f":"リスト!I7","v":0},{"$f":"リスト!J7","v":0},{"$f":"リスト!K7","v":0},{"$f":"リスト!L7","v":0},{"$f":"リスト!M7","v":0},{"$f":"リスト!N7","v":0}]
[{"$f":"リスト!A8","v":"　"},{"$f":"リスト!B8","v":0},{"$f":"リスト!C8","v":0},{"$f":"リスト!D8","v":0},{"$f":"リスト!E8","v":0},{"$f":"リスト!F8","v":0},{"$f":"リスト!G8","v":0},{"$f":"リスト!H8","v":0},{"$f":"リスト!I8","v":0},{"$f":"リスト!J8","v":0},{"$f":"リスト!K8","v":0},{"$f":"リスト!L8","v":0},{"$f":"リスト!M8","v":0},{"$f":"リスト!N8","v":0}]
[{"$f":"リスト!A9","v":"　"},{"$f":"リスト!B9","v":0},{"$f":"リスト!C9","v":0},{"$f":"リスト!D9","v":0},{"$f":"リスト!E9","v":0},{"$f":"リスト!F9","v":0},{"$f":"リスト!G9","v":0},{"$f":"リスト!H9","v":0},{"$f":"リスト!I9","v":0},{"$f":"リスト!J9","v":0},{"$f":"リスト!K9","v":0},{"$f":"リスト!L9","v":0},{"$f":"リスト!M9","v":0},{"$f":"リスト!N9","v":0}]
[{"$f":"リスト!A10","v":"　"},{"$f":"リスト!B10","v":0},{"$f":"リスト!C10","v":0},{"$f":"リスト!D10","v":0},{"$f":"リスト!E10","v":0},{"$f":"リスト!F10","v":0},{"$f":"リスト!G10","v":0},{"$f":"リスト!H10","v":0},{"$f":"リスト!I10","v":0},{"$f":"リスト!J10","v":0},{"$f":"リスト!K10","v":0},{"$f":"リスト!L10","v":0},{"$f":"リスト!M10","v":0},{"$f":"リスト!N10","v":0}]
[{"$f":"リスト!A11","v":"　"},{"$f":"リスト!B11","v":0},{"$f":"リスト!C11","v":0},{"$f":"リスト!D11","v":0},{"$f":"リスト!E11","v":0},{"$f":"リスト!F11","v":0},{"$f":"リスト!G11","v":0},{"$f":"リスト!H11","v":0},{"$f":"リスト!I11","v":0},{"$f":"リスト!J11","v":0},{"$f":"リスト!K11","v":0},{"$f":"リスト!L11","v":0},{"$f":"リスト!M11","v":0},{"$f":"リスト!N11","v":0}]
[{"$f":"リスト!A12","v":"　"},{"$f":"リスト!B12","v":0},{"$f":"リスト!C12","v":0},{"$f":"リスト!D12","v":0},{"$f":"リスト!E12","v":0},{"$f":"リスト!F12","v":0},{"$f":"リスト!G12","v":0},{"$f":"リスト!H12","v":0},{"$f":"リスト!I12","v":0},{"$f":"リスト!J12","v":0},{"$f":"リスト!K12","v":0},{"$f":"リスト!L12","v":0},{"$f":"リスト!M12","v":0},{"$f":"リスト!N12","v":0}]
[{"$f":"リスト!A13","v":"　"},{"$f":"リスト!B13","v":0},{"$f":"リスト!C13","v":0},{"$f":"リスト!D13","v":0},{"$f":"リスト!E13","v":0},{"$f":"リスト!F13","v":0},{"$f":"リスト!G13","v":0},{"$f":"リスト!H13","v":0},{"$f":"リスト!I13","v":0},{"$f":"リスト!J13","v":0},{"$f":"リスト!K13","v":0},{"$f":"リスト!L13","v":0},{"$f":"リスト!M13","v":0},{"$f":"リスト!N13","v":0}]
[{"$f":"リスト!A14","v":"　"},{"$f":"リスト!B14","v":0},{"$f":"リスト!C14","v":0},{"$f":"リスト!D14","v":0},{"$f":"リスト!E14","v":0},{"$f":"リスト!F14","v":0},{"$f":"リスト!G14","v":0},{"$f":"リスト!H14","v":0},{"$f":"リスト!I14","v":0},{"$f":"リスト!J14","v":0},{"$f":"リスト!K14","v":0},{"$f":"リスト!L14","v":0},{"$f":"リスト!M14","v":0},{"$f":"リスト!N14","v":0}]
[{"$f":"リスト!A15","v":"　"},{"$f":"リスト!B15","v":0},{"$f":"リスト!C15","v":0},{"$f":"リスト!D15","v":0},{"$f":"リスト!E15","v":0},{"$f":"リスト!F15","v":0},{"$f":"リスト!G15","v":0},{"$f":"リスト!H15","v":0},{"$f":"リスト!I15","v":0},{"$f":"リスト!J15","v":0},{"$f":"リスト!K15","v":0},{"$f":"リスト!L15","v":0},{"$f":"リスト!M15","v":0},{"$f":"リスト!N15","v":0}]
[{"$f":"リスト!A16","v":"　"},{"$f":"リスト!B16","v":0},{"$f":"リスト!C16","v":0},{"$f":"リスト!D16","v":0},{"$f":"リスト!E16","v":0},{"$f":"リスト!F16","v":0},{"$f":"リスト!G16","v":0},{"$f":"リスト!H16","v":0},{"$f":"リスト!I16","v":0},{"$f":"リスト!J16","v":0},{"$f":"リスト!K16","v":0},{"$f":"リスト!L16","v":0},{"$f":"リスト!M16","v":0},{"$f":"リスト!N16","v":0}]
[{"$f":"リスト!A17","v":"　"},{"$f":"リスト!B17","v":0},{"$f":"リスト!C17","v":0},{"$f":"リスト!D17","v":0},{"$f":"リスト!E17","v":0},{"$f":"リスト!F17","v":0},{"$f":"リスト!G17","v":0},{"$f":"リスト!H17","v":0},{"$f":"リスト!I17","v":0},{"$f":"リスト!J17","v":0},{"$f":"リスト!K17","v":0},{"$f":"リスト!L17","v":0},{"$f":"リスト!M17","v":0},{"$f":"リスト!N17","v":0}]
[{"$f":"リスト!A18","v":"　"},{"$f":"リスト!B18","v":0},{"$f":"リスト!C18","v":0},{"$f":"リスト!D18","v":0},{"$f":"リスト!E18","v":0},{"$f":"リスト!F18","v":0},{"$f":"リスト!G18","v":0},{"$f":"リスト!H18","v":0},{"$f":"リスト!I18","v":0},{"$f":"リスト!J18","v":0},{"$f":"リスト!K18","v":0},{"$f":"リスト!L18","v":0},{"$f":"リスト!M18","v":0},{"$f":"リスト!N18","v":0}]
[{"$f":"リスト!A19","v":"　"},{"$f":"リスト!B19","v":0},{"$f":"リスト!C19","v":0},{"$f":"リスト!D19","v":0},{"$f":"リスト!E19","v":0},{"$f":"リスト!F19","v":0},{"$f":"リスト!G19","v":0},{"$f":"リスト!H19","v":0},{"$f":"リスト!I19","v":0},{"$f":"リスト!J19","v":0},{"$f":"リスト!K19","v":0},{"$f":"リスト!L19","v":0},{"$f":"リスト!M19","v":0},{"$f":"リスト!N19","v":0}]
[{"$f":"リスト!A20","v":"　"},{"$f":"リスト!B20","v":0},{"$f":"リスト!C20","v":0},{"$f":"リスト!D20","v":0},{"$f":"リスト!E20","v":0},{"$f":"リスト!F20","v":0},{"$f":"リスト!G20","v":0},{"$f":"リスト!H20","v":0},{"$f":"リスト!I20","v":0},{"$f":"リスト!J20","v":0},{"$f":"リスト!K20","v":0},{"$f":"リスト!L20","v":0},{"$f":"リスト!M20","v":0},{"$f":"リスト!N20","v":0}]
[{"$f":"リスト!A21","v":"　"},{"$f":"リスト!B21","v":0},{"$f":"リスト!C21","v":0},{"$f":"リスト!D21","v":0},{"$f":"リスト!E21","v":0},{"$f":"リスト!F21","v":0},{"$f":"リスト!G21","v":0},{"$f":"リスト!H21","v":0},{"$f":"リスト!I21","v":0},{"$f":"リスト!J21","v":0},{"$f":"リスト!K21","v":0},{"$f":"リスト!L21","v":0},{"$f":"リスト!M21","v":0},{"$f":"リスト!N21","v":0}]
[{"$f":"リスト!A22","v":"　"},{"$f":"リスト!B22","v":0},{"$f":"リスト!C22","v":0},{"$f":"リスト!D22","v":0},{"$f":"リスト!E22","v":0},{"$f":"リスト!F22","v":0},{"$f":"リスト!G22","v":0},{"$f":"リスト!H22","v":0},{"$f":"リスト!I22","v":0},{"$f":"リスト!J22","v":0},{"$f":"リスト!K22","v":0},{"$f":"リスト!L22","v":0},{"$f":"リスト!M22","v":0},{"$f":"リスト!N22","v":0}]
[{"$f":"リスト!A23","v":"　"},{"$f":"リスト!B23","v":0},{"$f":"リスト!C23","v":0},{"$f":"リスト!D23","v":0},{"$f":"リスト!E23","v":0},{"$f":"リスト!F23","v":0},{"$f":"リスト!G23","v":0},{"$f":"リスト!H23","v":0},{"$f":"リスト!I23","v":0},{"$f":"リスト!J23","v":0},{"$f":"リスト!K23","v":0},{"$f":"リスト!L23","v":0},{"$f":"リスト!M23","v":0},{"$f":"リスト!N23","v":0}]
[{"$f":"リスト!A24","v":"　"},{"$f":"リスト!B24","v":0},{"$f":"リスト!C24","v":0},{"$f":"リスト!D24","v":0},{"$f":"リスト!E24","v":0},{"$f":"リスト!F24","v":0},{"$f":"リスト!G24","v":0},{"$f":"リスト!H24","v":0},{"$f":"リスト!I24","v":0},{"$f":"リスト!J24","v":0},{"$f":"リスト!K24","v":0},{"$f":"リスト!L24","v":0},{"$f":"リスト!M24","v":0},{"$f":"リスト!N24","v":0}]
[{"$f":"リスト!A25","v":"　"},{"$f":"リスト!B25","v":0},{"$f":"リスト!C25","v":0},{"$f":"リスト!D25","v":0},{"$f":"リスト!E25","v":0},{"$f":"リスト!F25","v":0},{"$f":"リスト!G25","v":0},{"$f":"リスト!H25","v":0},{"$f":"リスト!I25","v":0},{"$f":"リスト!J25","v":0},{"$f":"リスト!K25","v":0},{"$f":"リスト!L25","v":0},{"$f":"リスト!M25","v":0},{"$f":"リスト!N25","v":0}]
[{"$f":"リスト!A26","v":"　"},{"$f":"リスト!B26","v":0},{"$f":"リスト!C26","v":0},{"$f":"リスト!D26","v":0},{"$f":"リスト!E26","v":0},{"$f":"リスト!F26","v":0},{"$f":"リスト!G26","v":0},{"$f":"リスト!H26","v":0},{"$f":"リスト!I26","v":0},{"$f":"リスト!J26","v":0},{"$f":"リスト!K26","v":0},{"$f":"リスト!L26","v":0},{"$f":"リスト!M26","v":0},{"$f":"リスト!N26","v":0}]
[{"$f":"リスト!A27","v":"　"},{"$f":"リスト!B27","v":0},{"$f":"リスト!C27","v":0},{"$f":"リスト!D27","v":0},{"$f":"リスト!E27","v":0},{"$f":"リスト!F27","v":0},{"$f":"リスト!G27","v":0},{"$f":"リスト!H27","v":0},{"$f":"リスト!I27","v":0},{"$f":"リスト!J27","v":0},{"$f":"リスト!K27","v":0},{"$f":"リスト!L27","v":0},{"$f":"リスト!M27","v":0},{"$f":"リスト!N27","v":0}]
[{"$f":"リスト!A28","v":"　"},{"$f":"リスト!B28","v":0},{"$f":"リスト!C28","v":0},{"$f":"リスト!D28","v":0},{"$f":"リスト!E28","v":0},{"$f":"リスト!F28","v":0},{"$f":"リスト!G28","v":0},{"$f":"リスト!H28","v":0},{"$f":"リスト!I28","v":0},{"$f":"リスト!J28","v":0},{"$f":"リスト!K28","v":0},{"$f":"リスト!L28","v":0},{"$f":"リスト!M28","v":0},{"$f":"リスト!N28","v":0}]
[{"$f":"リスト!A29","v":"　"},{"$f":"リスト!B29","v":0},{"$f":"リスト!C29","v":0},{"$f":"リスト!D29","v":0},{"$f":"リスト!E29","v":0},{"$f":"リスト!F29","v":0},{"$f":"リスト!G29","v":0},{"$f":"リスト!H29","v":0},{"$f":"リスト!I29","v":0},{"$f":"リスト!J29","v":0},{"$f":"リスト!K29","v":0},{"$f":"リスト!L29","v":0},{"$f":"リスト!M29","v":0},{"$f":"リスト!N29","v":0}]
[{"$f":"リスト!A30","v":"　"},{"$f":"リスト!B30","v":0},{"$f":"リスト!C30","v":0},{"$f":"リスト!D30","v":0},{"$f":"リスト!E30","v":0},{"$f":"リスト!F30","v":0},{"$f":"リスト!G30","v":0},{"$f":"リスト!H30","v":0},{"$f":"リスト!I30","v":0},{"$f":"リスト!J30","v":0},{"$f":"リスト!K30","v":0},{"$f":"リスト!L30","v":0},{"$f":"リスト!M30","v":0},{"$f":"リスト!N30","v":0}]
[{"$f":"リスト!A31","v":"　"},{"$f":"リスト!B31","v":0},{"$f":"リスト!C31","v":0},{"$f":"リスト!D31","v":0},{"$f":"リスト!E31","v":0},{"$f":"リスト!F31","v":0},{"$f":"リスト!G31","v":0},{"$f":"リスト!H31","v":0},{"$f":"リスト!I31","v":0},{"$f":"リスト!J31","v":0},{"$f":"リスト!K31","v":0},{"$f":"リスト!L31","v":0},{"$f":"リスト!M31","v":0},{"$f":"リスト!N31","v":0}]
[{"$f":"リスト!A32","v":"　"},{"$f":"リスト!B32","v":0},{"$f":"リスト!C32","v":0},{"$f":"リスト!D32","v":0},{"$f":"リスト!E32","v":0},{"$f":"リスト!F32","v":0},{"$f":"リスト!G32","v":0},{"$f":"リスト!H32","v":0},{"$f":"リスト!I32","v":0},{"$f":"リスト!J32","v":0},{"$f":"リスト!K32","v":0},{"$f":"リスト!L32","v":0},{"$f":"リスト!M32","v":0},{"$f":"リスト!N32","v":0}]
[{"$f":"リスト!A33","v":"　"},{"$f":"リスト!B33","v":0},{"$f":"リスト!C33","v":0},{"$f":"リスト!D33","v":0},{"$f":"リスト!E33","v":0},{"$f":"リスト!F33","v":0},{"$f":"リスト!G33","v":0},{"$f":"リスト!H33","v":0},{"$f":"リスト!I33","v":0},{"$f":"リスト!J33","v":0},{"$f":"リスト!K33","v":0},{"$f":"リスト!L33","v":0},{"$f":"リスト!M33","v":0},{"$f":"リスト!N33","v":0}]
[{"$f":"リスト!A34","v":"　"},{"$f":"リスト!B34","v":0},{"$f":"リスト!C34","v":0},{"$f":"リスト!D34","v":0},{"$f":"リスト!E34","v":0},{"$f":"リスト!F34","v":0},{"$f":"リスト!G34","v":0},{"$f":"リスト!H34","v":0},{"$f":"リスト!I34","v":0},{"$f":"リスト!J34","v":0},{"$f":"リスト!K34","v":0},{"$f":"リスト!L34","v":0},{"$f":"リスト!M34","v":0},{"$f":"リスト!N34","v":0}]
[{"$f":"リスト!A35","v":"　"},{"$f":"リスト!B35","v":0},{"$f":"リスト!C35","v":0},{"$f":"リスト!D35","v":0},{"$f":"リスト!E35","v":0},{"$f":"リスト!F35","v":0},{"$f":"リスト!G35","v":0},{"$f":"リスト!H35","v":0},{"$f":"リスト!I35","v":0},{"$f":"リスト!J35","v":0},{"$f":"リスト!K35","v":0},{"$f":"リスト!L35","v":0},{"$f":"リスト!M35","v":0},{"$f":"リスト!N35","v":0}]
[{"$f":"リスト!A36","v":"　"},{"$f":"リスト!B36","v":0},{"$f":"リスト!C36","v":0},{"$f":"リスト!D36","v":0},{"$f":"リスト!E36","v":0},{"$f":"リスト!F36","v":0},{"$f":"リスト!G36","v":0},{"$f":"リスト!H36","v":0},{"$f":"リスト!I36","v":0},{"$f":"リスト!J36","v":0},{"$f":"リスト!K36","v":0},{"$f":"リスト!L36","v":0},{"$f":"リスト!M36","v":0},{"$f":"リスト!N36","v":0}]
[{"$f":"リスト!A37","v":"　"},{"$f":"リスト!B37","v":0},{"$f":"リスト!C37","v":0},{"$f":"リスト!D37","v":0},{"$f":"リスト!E37","v":0},{"$f":"リスト!F37","v":0},{"$f":"リスト!G37","v":0},{"$f":"リスト!H37","v":0},{"$f":"リスト!I37","v":0},{"$f":"リスト!J37","v":0},{"$f":"リスト!K37","v":0},{"$f":"リスト!L37","v":0},{"$f":"リスト!M37","v":0},{"$f":"リスト!N37","v":0}]
[{"$f":"リスト!A38","v":"　"},{"$f":"リスト!B38","v":0},{"$f":"リスト!C38","v":0},{"$f":"リスト!D38","v":0},{"$f":"リスト!E38","v":0},{"$f":"リスト!F38","v":0},{"$f":"リスト!G38","v":0},{"$f":"リスト!H38","v":0},{"$f":"リスト!I38","v":0},{"$f":"リスト!J38","v":0},{"$f":"リスト!K38","v":0},{"$f":"リスト!L38","v":0},{"$f":"リスト!M38","v":0},{"$f":"リスト!N38","v":0}]
[{"$f":"リスト!A39","v":"　"},{"$f":"リスト!B39","v":0},{"$f":"リスト!C39","v":0},{"$f":"リスト!D39","v":0},{"$f":"リスト!E39","v":0},{"$f":"リスト!F39","v":0},{"$f":"リスト!G39","v":0},{"$f":"リスト!H39","v":0},{"$f":"リスト!I39","v":0},{"$f":"リスト!J39","v":0},{"$f":"リスト!K39","v":0},{"$f":"リスト!L39","v":0},{"$f":"リスト!M39","v":0},{"$f":"リスト!N39","v":0}]
[{"$f":"リスト!A40","v":"　"},{"$f":"リスト!B40","v":0},{"$f":"リスト!C40","v":0},{"$f":"リスト!D40","v":0},{"$f":"リスト!E40","v":0},{"$f":"リスト!F40","v":0},{"$f":"リスト!G40","v":0},{"$f":"リスト!H40","v":0},{"$f":"リスト!I40","v":0},{"$f":"リスト!J40","v":0},{"$f":"リスト!K40","v":0},{"$f":"リスト!L40","v":0},{"$f":"リスト!M40","v":0},{"$f":"リスト!N40","v":0}]
[{"$f":"リスト!A41","v":"　"},{"$f":"リスト!B41","v":0},{"$f":"リスト!C41","v":0},{"$f":"リスト!D41","v":0},{"$f":"リスト!E41","v":0},{"$f":"リスト!F41","v":0},{"$f":"リスト!G41","v":0},{"$f":"リスト!H41","v":0},{"$f":"リスト!I41","v":0},{"$f":"リスト!J41","v":0},{"$f":"リスト!K41","v":0},{"$f":"リスト!L41","v":0},{"$f":"リスト!M41","v":0},{"$f":"リスト!N41","v":0}]
[{"$f":"リスト!A42","v":"　"},{"$f":"リスト!B42","v":0},{"$f":"リスト!C42","v":0},{"$f":"リスト!D42","v":0},{"$f":"リスト!E42","v":0},{"$f":"リスト!F42","v":0},{"$f":"リスト!G42","v":0},{"$f":"リスト!H42","v":0},{"$f":"リスト!I42","v":0},{"$f":"リスト!J42","v":0},{"$f":"リスト!K42","v":0},{"$f":"リスト!L42","v":0},{"$f":"リスト!M42","v":0},{"$f":"リスト!N42","v":0}]
[{"$f":"リスト!A43","v":"　"},{"$f":"リスト!B43","v":0},{"$f":"リスト!C43","v":0},{"$f":"リスト!D43","v":0},{"$f":"リスト!E43","v":0},{"$f":"リスト!F43","v":0},{"$f":"リスト!G43","v":0},{"$f":"リスト!H43","v":0},{"$f":"リスト!I43","v":0},{"$f":"リスト!J43","v":0},{"$f":"リスト!K43","v":0},{"$f":"リスト!L43","v":0},{"$f":"リスト!M43","v":0},{"$f":"リスト!N43","v":0}]
[{"$f":"リスト!A44","v":"　"},{"$f":"リスト!B44","v":0},{"$f":"リスト!C44","v":0},{"$f":"リスト!D44","v":0},{"$f":"リスト!E44","v":0},{"$f":"リスト!F44","v":0},{"$f":"リスト!G44","v":0},{"$f":"リスト!H44","v":0},{"$f":"リスト!I44","v":0},{"$f":"リスト!J44","v":0},{"$f":"リスト!K44","v":0},{"$f":"リスト!L44","v":0},{"$f":"リスト!M44","v":0},{"$f":"リスト!N44","v":0}]
[{"$f":"リスト!A45","v":"　"},{"$f":"リスト!B45","v":0},{"$f":"リスト!C45","v":0},{"$f":"リスト!D45","v":0},{"$f":"リスト!E45","v":0},{"$f":"リスト!F45","v":0},{"$f":"リスト!G45","v":0},{"$f":"リスト!H45","v":0},{"$f":"リスト!I45","v":0},{"$f":"リスト!J45","v":0},{"$f":"リスト!K45","v":0},{"$f":"リスト!L45","v":0},{"$f":"リスト!M45","v":0},{"$f":"リスト!N45","v":0}]
[{"$f":"リスト!A46","v":"　"},{"$f":"リスト!B46","v":0},{"$f":"リスト!C46","v":0},{"$f":"リスト!D46","v":0},{"$f":"リスト!E46","v":0},{"$f":"リスト!F46","v":0},{"$f":"リスト!G46","v":0},{"$f":"リスト!H46","v":0},{"$f":"リスト!I46","v":0},{"$f":"リスト!J46","v":0},{"$f":"リスト!K46","v":0},{"$f":"リスト!L46","v":0},{"$f":"リスト!M46","v":0},{"$f":"リスト!N46","v":0}]
[{"$f":"リスト!A47","v":"　"},{"$f":"リスト!B47","v":0},{"$f":"リスト!C47","v":0},{"$f":"リスト!D47","v":0},{"$f":"リスト!E47","v":0},{"$f":"リスト!F47","v":0},{"$f":"リスト!G47","v":0},{"$f":"リスト!H47","v":0},{"$f":"リスト!I47","v":0},{"$f":"リスト!J47","v":0},{"$f":"リスト!K47","v":0},{"$f":"リスト!L47","v":0},{"$f":"リスト!M47","v":0},{"$f":"リスト!N47","v":0}]
[{"$f":"リスト!A48","v":"　"},{"$f":"リスト!B48","v":0},{"$f":"リスト!C48","v":0},{"$f":"リスト!D48","v":0},{"$f":"リスト!E48","v":0},{"$f":"リスト!F48","v":0},{"$f":"リスト!G48","v":0},{"$f":"リスト!H48","v":0},{"$f":"リスト!I48","v":0},{"$f":"リスト!J48","v":0},{"$f":"リスト!K48","v":0},{"$f":"リスト!L48","v":0},{"$f":"リスト!M48","v":0},{"$f":"リスト!N48","v":0}]
[{"$f":"リスト!A49","v":"　"},{"$f":"リスト!B49","v":0},{"$f":"リスト!C49","v":0},{"$f":"リスト!D49","v":0},{"$f":"リスト!E49","v":0},{"$f":"リスト!F49","v":0},{"$f":"リスト!G49","v":0},{"$f":"リスト!H49","v":0},{"$f":"リスト!I49","v":0},{"$f":"リスト!J49","v":0},{"$f":"リスト!K49","v":0},{"$f":"リスト!L49","v":0},{"$f":"リスト!M49","v":0},{"$f":"リスト!N49","v":0}]
[{"$f":"リスト!A50","v":"　"},{"$f":"リスト!B50","v":0},{"$f":"リスト!C50","v":0},{"$f":"リスト!D50","v":0},{"$f":"リスト!E50","v":0},{"$f":"リスト!F50","v":0},{"$f":"リスト!G50","v":0},{"$f":"リスト!H50","v":0},{"$f":"リスト!I50","v":0},{"$f":"リスト!J50","v":0},{"$f":"リスト!K50","v":0},{"$f":"リスト!L50","v":0},{"$f":"リスト!M50","v":0},{"$f":"リスト!N50","v":0}]
[{"$f":"リスト!A51","v":"　"},{"$f":"リスト!B51","v":0},{"$f":"リスト!C51","v":0},{"$f":"リスト!D51","v":0},{"$f":"リスト!E51","v":0},{"$f":"リスト!F51","v":0},{"$f":"リスト!G51","v":0},{"$f":"リスト!H51","v":0},{"$f":"リスト!I51","v":0},{"$f":"リスト!J51","v":0},{"$f":"リスト!K51","v":0},{"$f":"リスト!L51","v":0},{"$f":"リスト!M51","v":0},{"$f":"リスト!N51","v":0}]
[{"$f":"リスト!A52","v":"　"},{"$f":"リスト!B52","v":0},{"$f":"リスト!C52","v":0},{"$f":"リスト!D52","v":0},{"$f":"リスト!E52","v":0},{"$f":"リスト!F52","v":0},{"$f":"リスト!G52","v":0},{"$f":"リスト!H52","v":0},{"$f":"リスト!I52","v":0},{"$f":"リスト!J52","v":0},{"$f":"リスト!K52","v":0},{"$f":"リスト!L52","v":0},{"$f":"リスト!M52","v":0},{"$f":"リスト!N52","v":0}]
[{"$f":"リスト!A53","v":"　"},{"$f":"リスト!B53","v":0},{"$f":"リスト!C53","v":0},{"$f":"リスト!D53","v":0},{"$f":"リスト!E53","v":0},{"$f":"リスト!F53","v":0},{"$f":"リスト!G53","v":0},{"$f":"リスト!H53","v":0},{"$f":"リスト!I53","v":0},{"$f":"リスト!J53","v":0},{"$f":"リスト!K53","v":0},{"$f":"リスト!L53","v":0},{"$f":"リスト!M53","v":0},{"$f":"リスト!N53","v":0}]
[{"$f":"リスト!A54","v":"　"},{"$f":"リスト!B54","v":0},{"$f":"リスト!C54","v":0},{"$f":"リスト!D54","v":0},{"$f":"リスト!E54","v":0},{"$f":"リスト!F54","v":0},{"$f":"リスト!G54","v":0},{"$f":"リスト!H54","v":0},{"$f":"リスト!I54","v":0},{"$f":"リスト!J54","v":0},{"$f":"リスト!K54","v":0},{"$f":"リスト!L54","v":0},{"$f":"リスト!M54","v":0},{"$f":"リスト!N54","v":0}]
[{"$f":"リスト!A55","v":"　"},{"$f":"リスト!B55","v":0},{"$f":"リスト!C55","v":0},{"$f":"リスト!D55","v":0},{"$f":"リスト!E55","v":0},{"$f":"リスト!F55","v":0},{"$f":"リスト!G55","v":0},{"$f":"リスト!H55","v":0},{"$f":"リスト!I55","v":0},{"$f":"リスト!J55","v":0},{"$f":"リスト!K55","v":0},{"$f":"リスト!L55","v":0},{"$f":"リスト!M55","v":0},{"$f":"リスト!N55","v":0}]
[{"$f":"リスト!A56","v":"　"},{"$f":"リスト!B56","v":0},{"$f":"リスト!C56","v":0},{"$f":"リスト!D56","v":0},{"$f":"リスト!E56","v":0},{"$f":"リスト!F56","v":0},{"$f":"リスト!G56","v":0},{"$f":"リスト!H56","v":0},{"$f":"リスト!I56","v":0},{"$f":"リスト!J56","v":0},{"$f":"リスト!K56","v":0},{"$f":"リスト!L56","v":0},{"$f":"リスト!M56","v":0},{"$f":"リスト!N56","v":0}]
[{"$f":"リスト!A57","v":"　"},{"$f":"リスト!B57","v":0},{"$f":"リスト!C57","v":0},{"$f":"リスト!D57","v":0},{"$f":"リスト!E57","v":0},{"$f":"リスト!F57","v":0},{"$f":"リスト!G57","v":0},{"$f":"リスト!H57","v":0},{"$f":"リスト!I57","v":0},{"$f":"リスト!J57","v":0},{"$f":"リスト!K57","v":0},{"$f":"リスト!L57","v":0},{"$f":"リスト!M57","v":0},{"$f":"リスト!N57","v":0}]
[{"$f":"リスト!A58","v":"　"},{"$f":"リスト!B58","v":0},{"$f":"リスト!C58","v":0},{"$f":"リスト!D58","v":0},{"$f":"リスト!E58","v":0},{"$f":"リスト!F58","v":0},{"$f":"リスト!G58","v":0},{"$f":"リスト!H58","v":0},{"$f":"リスト!I58","v":0},{"$f":"リスト!J58","v":0},{"$f":"リスト!K58","v":0},{"$f":"リスト!L58","v":0},{"$f":"リスト!M58","v":0},{"$f":"リスト!N58","v":0}]
[{"$f":"リスト!A59","v":"　"},{"$f":"リスト!B59","v":0},{"$f":"リスト!C59","v":0},{"$f":"リスト!D59","v":0},{"$f":"リスト!E59","v":0},{"$f":"リスト!F59","v":0},{"$f":"リスト!G59","v":0},{"$f":"リスト!H59","v":0},{"$f":"リスト!I59","v":0},{"$f":"リスト!J59","v":0},{"$f":"リスト!K59","v":0},{"$f":"リスト!L59","v":0},{"$f":"リスト!M59","v":0},{"$f":"リスト!N59","v":0}]
[{"$f":"リスト!A60","v":"　"},{"$f":"リスト!B60","v":0},{"$f":"リスト!C60","v":0},{"$f":"リスト!D60","v":0},{"$f":"リスト!E60","v":0},{"$f":"リスト!F60","v":0},{"$f":"リスト!G60","v":0},{"$f":"リスト!H60","v":0},{"$f":"リスト!I60","v":0},{"$f":"リスト!J60","v":0},{"$f":"リスト!K60","v":0},{"$f":"リスト!L60","v":0},{"$f":"リスト!M60","v":0},{"$f":"リスト!N60","v":0}]
[{"$f":"リスト!A61","v":"　"},{"$f":"リスト!B61","v":0},{"$f":"リスト!C61","v":0},{"$f":"リスト!D61","v":0},{"$f":"リスト!E61","v":0},{"$f":"リスト!F61","v":0},{"$f":"リスト!G61","v":0},{"$f":"リスト!H61","v":0},{"$f":"リスト!I61","v":0},{"$f":"リスト!J61","v":0},{"$f":"リスト!K61","v":0},{"$f":"リスト!L61","v":0},{"$f":"リスト!M61","v":0},{"$f":"リスト!N61","v":0}]
[{"$f":"リスト!A62","v":"　"},{"$f":"リスト!B62","v":0},{"$f":"リスト!C62","v":0},{"$f":"リスト!D62","v":0},{"$f":"リスト!E62","v":0},{"$f":"リスト!F62","v":0},{"$f":"リスト!G62","v":0},{"$f":"リスト!H62","v":0},{"$f":"リスト!I62","v":0},{"$f":"リスト!J62","v":0},{"$f":"リスト!K62","v":0},{"$f":"リスト!L62","v":0},{"$f":"リスト!M62","v":0},{"$f":"リスト!N62","v":0}]
[{"$f":"リスト!A63","v":"　"},{"$f":"リスト!B63","v":0},{"$f":"リスト!C63","v":0},{"$f":"リスト!D63","v":0},{"$f":"リスト!E63","v":0},{"$f":"リスト!F63","v":0},{"$f":"リスト!G63","v":0},{"$f":"リスト!H63","v":0},{"$f":"リスト!I63","v":0},{"$f":"リスト!J63","v":0},{"$f":"リスト!K63","v":0},{"$f":"リスト!L63","v":0},{"$f":"リスト!M63","v":0},{"$f":"リスト!N63","v":0}]
[{"$f":"リスト!A64","v":"　"},{"$f":"リスト!B64","v":0},{"$f":"リスト!C64","v":0},{"$f":"リスト!D64","v":0},{"$f":"リスト!E64","v":0},{"$f":"リスト!F64","v":0},{"$f":"リスト!G64","v":0},{"$f":"リスト!H64","v":0},{"$f":"リスト!I64","v":0},{"$f":"リスト!J64","v":0},{"$f":"リスト!K64","v":0},{"$f":"リスト!L64","v":0},{"$f":"リスト!M64","v":0},{"$f":"リスト!N64","v":0}]
[{"$f":"リスト!A65","v":"　"},{"$f":"リスト!B65","v":0},{"$f":"リスト!C65","v":0},{"$f":"リスト!D65","v":0},{"$f":"リスト!E65","v":0},{"$f":"リスト!F65","v":0},{"$f":"リスト!G65","v":0},{"$f":"リスト!H65","v":0},{"$f":"リスト!I65","v":0},{"$f":"リスト!J65","v":0},{"$f":"リスト!K65","v":0},{"$f":"リスト!L65","v":0},{"$f":"リスト!M65","v":0},{"$f":"リスト!N65","v":0}]
[{"$f":"リスト!A66","v":"　"},{"$f":"リスト!B66","v":0},{"$f":"リスト!C66","v":0},{"$f":"リスト!D66","v":0},{"$f":"リスト!E66","v":0},{"$f":"リスト!F66","v":0},{"$f":"リスト!G66","v":0},{"$f":"リスト!H66","v":0},{"$f":"リスト!I66","v":0},{"$f":"リスト!J66","v":0},{"$f":"リスト!K66","v":0},{"$f":"リスト!L66","v":0},{"$f":"リスト!M66","v":0},{"$f":"リスト!N66","v":0}]
[{"$f":"リスト!A67","v":"　"},{"$f":"リスト!B67","v":0},{"$f":"リスト!C67","v":0},{"$f":"リスト!D67","v":0},{"$f":"リスト!E67","v":0},{"$f":"リスト!F67","v":0},{"$f":"リスト!G67","v":0},{"$f":"リスト!H67","v":0},{"$f":"リスト!I67","v":0},{"$f":"リスト!J67","v":0},{"$f":"リスト!K67","v":0},{"$f":"リスト!L67","v":0},{"$f":"リスト!M67","v":0},{"$f":"リスト!N67","v":0}]
[{"$f":"リスト!A68","v":"　"},{"$f":"リスト!B68","v":0},{"$f":"リスト!C68","v":0},{"$f":"リスト!D68","v":0},{"$f":"リスト!E68","v":0},{"$f":"リスト!F68","v":0},{"$f":"リスト!G68","v":0},{"$f":"リスト!H68","v":0},{"$f":"リスト!I68","v":0},{"$f":"リスト!J68","v":0},{"$f":"リスト!K68","v":0},{"$f":"リスト!L68","v":0},{"$f":"リスト!M68","v":0},{"$f":"リスト!N68","v":0}]
[{"$f":"リスト!A69","v":"　"},{"$f":"リスト!B69","v":0},{"$f":"リスト!C69","v":0},{"$f":"リスト!D69","v":0},{"$f":"リスト!E69","v":0},{"$f":"リスト!F69","v":0},{"$f":"リスト!G69","v":0},{"$f":"リスト!H69","v":0},{"$f":"リスト!I69","v":0},{"$f":"リスト!J69","v":0},{"$f":"リスト!K69","v":0},{"$f":"リスト!L69","v":0},{"$f":"リスト!M69","v":0},{"$f":"リスト!N69","v":0}]
[{"$f":"リスト!A70","v":"　"},{"$f":"リスト!B70","v":0},{"$f":"リスト!C70","v":0},{"$f":"リスト!D70","v":0},{"$f":"リスト!E70","v":0},{"$f":"リスト!F70","v":0},{"$f":"リスト!G70","v":0},{"$f":"リスト!H70","v":0},{"$f":"リスト!I70","v":0},{"$f":"リスト!J70","v":0},{"$f":"リスト!K70","v":0},{"$f":"リスト!L70","v":0},{"$f":"リスト!M70","v":0},{"$f":"リスト!N70","v":0}]
[{"$f":"リスト!A71","v":"　"},{"$f":"リスト!B71","v":0},{"$f":"リスト!C71","v":0},{"$f":"リスト!D71","v":0},{"$f":"リスト!E71","v":0},{"$f":"リスト!F71","v":0},{"$f":"リスト!G71","v":0},{"$f":"リスト!H71","v":0},{"$f":"リスト!I71","v":0},{"$f":"リスト!J71","v":0},{"$f":"リスト!K71","v":0},{"$f":"リスト!L71","v":0},{"$f":"リスト!M71","v":0},{"$f":"リスト!N71","v":0}]
[{"$f":"リスト!A72","v":"　"},{"$f":"リスト!B72","v":0},{"$f":"リスト!C72","v":0},{"$f":"リスト!D72","v":0},{"$f":"リスト!E72","v":0},{"$f":"リスト!F72","v":0},{"$f":"リスト!G72","v":0},{"$f":"リスト!H72","v":0},{"$f":"リスト!I72","v":0},{"$f":"リスト!J72","v":0},{"$f":"リスト!K72","v":0},{"$f":"リスト!L72","v":0},{"$f":"リスト!M72","v":0},{"$f":"リスト!N72","v":0}]
[{"$f":"リスト!A73","v":"　"},{"$f":"リスト!B73","v":0},{"$f":"リスト!C73","v":0},{"$f":"リスト!D73","v":0},{"$f":"リスト!E73","v":0},{"$f":"リスト!F73","v":0},{"$f":"リスト!G73","v":0},{"$f":"リスト!H73","v":0},{"$f":"リスト!I73","v":0},{"$f":"リスト!J73","v":0},{"$f":"リスト!K73","v":0},{"$f":"リスト!L73","v":0},{"$f":"リスト!M73","v":0},{"$f":"リスト!N73","v":0}]
[{"$f":"リスト!A74","v":"　"},{"$f":"リスト!B74","v":0},{"$f":"リスト!C74","v":0},{"$f":"リスト!D74","v":0},{"$f":"リスト!E74","v":0},{"$f":"リスト!F74","v":0},{"$f":"リスト!G74","v":0},{"$f":"リスト!H74","v":0},{"$f":"リスト!I74","v":0},{"$f":"リスト!J74","v":0},{"$f":"リスト!K74","v":0},{"$f":"リスト!L74","v":0},{"$f":"リスト!M74","v":0},{"$f":"リスト!N74","v":0}]
[{"$f":"リスト!A75","v":"　"},{"$f":"リスト!B75","v":0},{"$f":"リスト!C75","v":0},{"$f":"リスト!D75","v":0},{"$f":"リスト!E75","v":0},{"$f":"リスト!F75","v":0},{"$f":"リスト!G75","v":0},{"$f":"リスト!H75","v":0},{"$f":"リスト!I75","v":0},{"$f":"リスト!J75","v":0},{"$f":"リスト!K75","v":0},{"$f":"リスト!L75","v":0},{"$f":"リスト!M75","v":0},{"$f":"リスト!N75","v":0}]
[{"$f":"リスト!A76","v":"　"},{"$f":"リスト!B76","v":0},{"$f":"リスト!C76","v":0},{"$f":"リスト!D76","v":0},{"$f":"リスト!E76","v":0},{"$f":"リスト!F76","v":0},{"$f":"リスト!G76","v":0},{"$f":"リスト!H76","v":0},{"$f":"リスト!I76","v":0},{"$f":"リスト!J76","v":0},{"$f":"リスト!K76","v":0},{"$f":"リスト!L76","v":0},{"$f":"リスト!M76","v":0},{"$f":"リスト!N76","v":0}]
[{"$f":"リスト!A77","v":"　"},{"$f":"リスト!B77","v":0},{"$f":"リスト!C77","v":0},{"$f":"リスト!D77","v":0},{"$f":"リスト!E77","v":0},{"$f":"リスト!F77","v":0},{"$f":"リスト!G77","v":0},{"$f":"リスト!H77","v":0},{"$f":"リスト!I77","v":0},{"$f":"リスト!J77","v":0},{"$f":"リスト!K77","v":0},{"$f":"リスト!L77","v":0},{"$f":"リスト!M77","v":0},{"$f":"リスト!N77","v":0}]
[{"$f":"リスト!A78","v":"　"},{"$f":"リスト!B78","v":0},{"$f":"リスト!C78","v":0},{"$f":"リスト!D78","v":0},{"$f":"リスト!E78","v":0},{"$f":"リスト!F78","v":0},{"$f":"リスト!G78","v":0},{"$f":"リスト!H78","v":0},{"$f":"リスト!I78","v":0},{"$f":"リスト!J78","v":0},{"$f":"リスト!K78","v":0},{"$f":"リスト!L78","v":0},{"$f":"リスト!M78","v":0},{"$f":"リスト!N78","v":0}]
[{"$f":"リスト!A79","v":"　"},{"$f":"リスト!B79","v":0},{"$f":"リスト!C79","v":0},{"$f":"リスト!D79","v":0},{"$f":"リスト!E79","v":0},{"$f":"リスト!F79","v":0},{"$f":"リスト!G79","v":0},{"$f":"リスト!H79","v":0},{"$f":"リスト!I79","v":0},{"$f":"リスト!J79","v":0},{"$f":"リスト!K79","v":0},{"$f":"リスト!L79","v":0},{"$f":"リスト!M79","v":0},{"$f":"リスト!N79","v":0}]
[{"$f":"リスト!A80","v":"　"},{"$f":"リスト!B80","v":0},{"$f":"リスト!C80","v":0},{"$f":"リスト!D80","v":0},{"$f":"リスト!E80","v":0},{"$f":"リスト!F80","v":0},{"$f":"リスト!G80","v":0},{"$f":"リスト!H80","v":0},{"$f":"リスト!I80","v":0},{"$f":"リスト!J80","v":0},{"$f":"リスト!K80","v":0},{"$f":"リスト!L80","v":0},{"$f":"リスト!M80","v":0},{"$f":"リスト!N80","v":0}]
[{"$f":"リスト!A81","v":"　"},{"$f":"リスト!B81","v":0},{"$f":"リスト!C81","v":0},{"$f":"リスト!D81","v":0},{"$f":"リスト!E81","v":0},{"$f":"リスト!F81","v":0},{"$f":"リスト!G81","v":0},{"$f":"リスト!H81","v":0},{"$f":"リスト!I81","v":0},{"$f":"リスト!J81","v":0},{"$f":"リスト!K81","v":0},{"$f":"リスト!L81","v":0},{"$f":"リスト!M81","v":0},{"$f":"リスト!N81","v":0}]
[{"$f":"リスト!A82","v":"　"},{"$f":"リスト!B82","v":0},{"$f":"リスト!C82","v":0},{"$f":"リスト!D82","v":0},{"$f":"リスト!E82","v":0},{"$f":"リスト!F82","v":0},{"$f":"リスト!G82","v":0},{"$f":"リスト!H82","v":0},{"$f":"リスト!I82","v":0},{"$f":"リスト!J82","v":0},{"$f":"リスト!K82","v":0},{"$f":"リスト!L82","v":0},{"$f":"リスト!M82","v":0},{"$f":"リスト!N82","v":0}]
[{"$f":"リスト!A83","v":"　"},{"$f":"リスト!B83","v":0},{"$f":"リスト!C83","v":0},{"$f":"リスト!D83","v":0},{"$f":"リスト!E83","v":0},{"$f":"リスト!F83","v":0},{"$f":"リスト!G83","v":0},{"$f":"リスト!H83","v":0},{"$f":"リスト!I83","v":0},{"$f":"リスト!J83","v":0},{"$f":"リスト!K83","v":0},{"$f":"リスト!L83","v":0},{"$f":"リスト!M83","v":0},{"$f":"リスト!N83","v":0}]
[{"$f":"リスト!A84","v":"　"},{"$f":"リスト!B84","v":0},{"$f":"リスト!C84","v":0},{"$f":"リスト!D84","v":0},{"$f":"リスト!E84","v":0},{"$f":"リスト!F84","v":0},{"$f":"リスト!G84","v":0},{"$f":"リスト!H84","v":0},{"$f":"リスト!I84","v":0},{"$f":"リスト!J84","v":0},{"$f":"リスト!K84","v":0},{"$f":"リスト!L84","v":0},{"$f":"リスト!M84","v":0},{"$f":"リスト!N84","v":0}]
[{"$f":"リスト!A85","v":"　"},{"$f":"リスト!B85","v":0},{"$f":"リスト!C85","v":0},{"$f":"リスト!D85","v":0},{"$f":"リスト!E85","v":0},{"$f":"リスト!F85","v":0},{"$f":"リスト!G85","v":0},{"$f":"リスト!H85","v":0},{"$f":"リスト!I85","v":0},{"$f":"リスト!J85","v":0},{"$f":"リスト!K85","v":0},{"$f":"リスト!L85","v":0},{"$f":"リスト!M85","v":0},{"$f":"リスト!N85","v":0}]
[{"$f":"リスト!A86","v":"　"},{"$f":"リスト!B86","v":0},{"$f":"リスト!C86","v":0},{"$f":"リスト!D86","v":0},{"$f":"リスト!E86","v":0},{"$f":"リスト!F86","v":0},{"$f":"リスト!G86","v":0},{"$f":"リスト!H86","v":0},{"$f":"リスト!I86","v":0},{"$f":"リスト!J86","v":0},{"$f":"リスト!K86","v":0},{"$f":"リスト!L86","v":0},{"$f":"リスト!M86","v":0},{"$f":"リスト!N86","v":0}]
[{"$f":"リスト!A87","v":"　"},{"$f":"リスト!B87","v":0},{"$f":"リスト!C87","v":0},{"$f":"リスト!D87","v":0},{"$f":"リスト!E87","v":0},{"$f":"リスト!F87","v":0},{"$f":"リスト!G87","v":0},{"$f":"リスト!H87","v":0},{"$f":"リスト!I87","v":0},{"$f":"リスト!J87","v":0},{"$f":"リスト!K87","v":0},{"$f":"リスト!L87","v":0},{"$f":"リスト!M87","v":0},{"$f":"リスト!N87","v":0}]
[{"$f":"リスト!A88","v":"　"},{"$f":"リスト!B88","v":0},{"$f":"リスト!C88","v":0},{"$f":"リスト!D88","v":0},{"$f":"リスト!E88","v":0},{"$f":"リスト!F88","v":0},{"$f":"リスト!G88","v":0},{"$f":"リスト!H88","v":0},{"$f":"リスト!I88","v":0},{"$f":"リスト!J88","v":0},{"$f":"リスト!K88","v":0},{"$f":"リスト!L88","v":0},{"$f":"リスト!M88","v":0},{"$f":"リスト!N88","v":0}]
[{"$f":"リスト!A89","v":"　"},{"$f":"リスト!B89","v":0},{"$f":"リスト!C89","v":0},{"$f":"リスト!D89","v":0},{"$f":"リスト!E89","v":0},{"$f":"リスト!F89","v":0},{"$f":"リスト!G89","v":0},{"$f":"リスト!H89","v":0},{"$f":"リスト!I89","v":0},{"$f":"リスト!J89","v":0},{"$f":"リスト!K89","v":0},{"$f":"リスト!L89","v":0},{"$f":"リスト!M89","v":0},{"$f":"リスト!N89","v":0}]
[{"$f":"リスト!A90","v":"　"},{"$f":"リスト!B90","v":0},{"$f":"リスト!C90","v":0},{"$f":"リスト!D90","v":0},{"$f":"リスト!E90","v":0},{"$f":"リスト!F90","v":0},{"$f":"リスト!G90","v":0},{"$f":"リスト!H90","v":0},{"$f":"リスト!I90","v":0},{"$f":"リスト!J90","v":0},{"$f":"リスト!K90","v":0},{"$f":"リスト!L90","v":0},{"$f":"リスト!M90","v":0},{"$f":"リスト!N90","v":0}]
[{"$f":"リスト!A91","v":"　"},{"$f":"リスト!B91","v":0},{"$f":"リスト!C91","v":0},{"$f":"リスト!D91","v":0},{"$f":"リスト!E91","v":0},{"$f":"リスト!F91","v":0},{"$f":"リスト!G91","v":0},{"$f":"リスト!H91","v":0},{"$f":"リスト!I91","v":0},{"$f":"リスト!J91","v":0},{"$f":"リスト!K91","v":0},{"$f":"リスト!L91","v":0},{"$f":"リスト!M91","v":0},{"$f":"リスト!N91","v":0}]
[{"$f":"リスト!A92","v":"　"},{"$f":"リスト!B92","v":0},{"$f":"リスト!C92","v":0},{"$f":"リスト!D92","v":0},{"$f":"リスト!E92","v":0},{"$f":"リスト!F92","v":0},{"$f":"リスト!G92","v":0},{"$f":"リスト!H92","v":0},{"$f":"リスト!I92","v":0},{"$f":"リスト!J92","v":0},{"$f":"リスト!K92","v":0},{"$f":"リスト!L92","v":0},{"$f":"リスト!M92","v":0},{"$f":"リスト!N92","v":0}]
[{"$f":"リスト!A93","v":"　"},{"$f":"リスト!B93","v":0},{"$f":"リスト!C93","v":0},{"$f":"リスト!D93","v":0},{"$f":"リスト!E93","v":0},{"$f":"リスト!F93","v":0},{"$f":"リスト!G93","v":0},{"$f":"リスト!H93","v":0},{"$f":"リスト!I93","v":0},{"$f":"リスト!J93","v":0},{"$f":"リスト!K93","v":0},{"$f":"リスト!L93","v":0},{"$f":"リスト!M93","v":0},{"$f":"リスト!N93","v":0}]
[{"$f":"リスト!A94","v":"　"},{"$f":"リスト!B94","v":0},{"$f":"リスト!C94","v":0},{"$f":"リスト!D94","v":0},{"$f":"リスト!E94","v":0},{"$f":"リスト!F94","v":0},{"$f":"リスト!G94","v":0},{"$f":"リスト!H94","v":0},{"$f":"リスト!I94","v":0},{"$f":"リスト!J94","v":0},{"$f":"リスト!K94","v":0},{"$f":"リスト!L94","v":0},{"$f":"リスト!M94","v":0},{"$f":"リスト!N94","v":0}]
[{"$f":"リスト!A95","v":"　"},{"$f":"リスト!B95","v":0},{"$f":"リスト!C95","v":0},{"$f":"リスト!D95","v":0},{"$f":"リスト!E95","v":0},{"$f":"リスト!F95","v":0},{"$f":"リスト!G95","v":0},{"$f":"リスト!H95","v":0},{"$f":"リスト!I95","v":0},{"$f":"リスト!J95","v":0},{"$f":"リスト!K95","v":0},{"$f":"リスト!L95","v":0},{"$f":"リスト!M95","v":0},{"$f":"リスト!N95","v":0}]
[{"$f":"リスト!A96","v":"　"},{"$f":"リスト!B96","v":0},{"$f":"リスト!C96","v":0},{"$f":"リスト!D96","v":0},{"$f":"リスト!E96","v":0},{"$f":"リスト!F96","v":0},{"$f":"リスト!G96","v":0},{"$f":"リスト!H96","v":0},{"$f":"リスト!I96","v":0},{"$f":"リスト!J96","v":0},{"$f":"リスト!K96","v":0},{"$f":"リスト!L96","v":0},{"$f":"リスト!M96","v":0},{"$f":"リスト!N96","v":0}]
[{"$f":"リスト!A97","v":"　"},{"$f":"リスト!B97","v":0},{"$f":"リスト!C97","v":0},{"$f":"リスト!D97","v":0},{"$f":"リスト!E97","v":0},{"$f":"リスト!F97","v":0},{"$f":"リスト!G97","v":0},{"$f":"リスト!H97","v":0},{"$f":"リスト!I97","v":0},{"$f":"リスト!J97","v":0},{"$f":"リスト!K97","v":0},{"$f":"リスト!L97","v":0},{"$f":"リスト!M97","v":0},{"$f":"リスト!N97","v":0}]
[{"$f":"リスト!A98","v":"　"},{"$f":"リスト!B98","v":0},{"$f":"リスト!C98","v":0},{"$f":"リスト!D98","v":0},{"$f":"リスト!E98","v":0},{"$f":"リスト!F98","v":0},{"$f":"リスト!G98","v":0},{"$f":"リスト!H98","v":0},{"$f":"リスト!I98","v":0},{"$f":"リスト!J98","v":0},{"$f":"リスト!K98","v":0},{"$f":"リスト!L98","v":0},{"$f":"リスト!M98","v":0},{"$f":"リスト!N98","v":0}]
[{"$f":"リスト!A99","v":"　"},{"$f":"リスト!B99","v":0},{"$f":"リスト!C99","v":0},{"$f":"リスト!D99","v":0},{"$f":"リスト!E99","v":0},{"$f":"リスト!F99","v":0},{"$f":"リスト!G99","v":0},{"$f":"リスト!H99","v":0},{"$f":"リスト!I99","v":0},{"$f":"リスト!J99","v":0},{"$f":"リスト!K99","v":0},{"$f":"リスト!L99","v":0},{"$f":"リスト!M99","v":0},{"$f":"リスト!N99","v":0}]
[{"$f":"リスト!A100","v":"　"},{"$f":"リスト!B100","v":0},{"$f":"リスト!C100","v":0},{"$f":"リスト!D100","v":0},{"$f":"リスト!E100","v":0},{"$f":"リスト!F100","v":0},{"$f":"リスト!G100","v":0},{"$f":"リスト!H100","v":0},{"$f":"リスト!I100","v":0},{"$f":"リスト!J100","v":0},{"$f":"リスト!K100","v":0},{"$f":"リスト!L100","v":0},{"$f":"リスト!M100","v":0},{"$f":"リスト!N100","v":0}]
[{"$f":"リスト!A101","v":"　"},{"$f":"リスト!B101","v":0},{"$f":"リスト!C101","v":0},{"$f":"リスト!D101","v":0},{"$f":"リスト!E101","v":0},{"$f":"リスト!F101","v":0},{"$f":"リスト!G101","v":0},{"$f":"リスト!H101","v":0},{"$f":"リスト!I101","v":0},{"$f":"リスト!J101","v":0},{"$f":"リスト!K101","v":0},{"$f":"リスト!L101","v":0},{"$f":"リスト!M101","v":0},{"$f":"リスト!N101","v":0}]
[{"$f":"リスト!A102","v":"　"},{"$f":"リスト!B102","v":0},{"$f":"リスト!C102","v":0},{"$f":"リスト!D102","v":0},{"$f":"リスト!E102","v":0},{"$f":"リスト!F102","v":0},{"$f":"リスト!G102","v":0},{"$f":"リスト!H102","v":0},{"$f":"リスト!I102","v":0},{"$f":"リスト!J102","v":0},{"$f":"リスト!K102","v":0},{"$f":"リスト!L102","v":0},{"$f":"リスト!M102","v":0},{"$f":"リスト!N102","v":0}]
[{"$f":"リスト!A103","v":"　"},{"$f":"リスト!B103","v":0},{"$f":"リスト!C103","v":0},{"$f":"リスト!D103","v":0},{"$f":"リスト!E103","v":0},{"$f":"リスト!F103","v":0},{"$f":"リスト!G103","v":0},{"$f":"リスト!H103","v":0},{"$f":"リスト!I103","v":0},{"$f":"リスト!J103","v":0},{"$f":"リスト!K103","v":0},{"$f":"リスト!L103","v":0},{"$f":"リスト!M103","v":0},{"$f":"リスト!N103","v":0}]
[{"$f":"リスト!A104","v":"　"},{"$f":"リスト!B104","v":0},{"$f":"リスト!C104","v":0},{"$f":"リスト!D104","v":0},{"$f":"リスト!E104","v":0},{"$f":"リスト!F104","v":0},{"$f":"リスト!G104","v":0},{"$f":"リスト!H104","v":0},{"$f":"リスト!I104","v":0},{"$f":"リスト!J104","v":0},{"$f":"リスト!K104","v":0},{"$f":"リスト!L104","v":0},{"$f":"リスト!M104","v":0},{"$f":"リスト!N104","v":0}]
[{"$f":"リスト!A105","v":"　"},{"$f":"リスト!B105","v":0},{"$f":"リスト!C105","v":0},{"$f":"リスト!D105","v":0},{"$f":"リスト!E105","v":0},{"$f":"リスト!F105","v":0},{"$f":"リスト!G105","v":0},{"$f":"リスト!H105","v":0},{"$f":"リスト!I105","v":0},{"$f":"リスト!J105","v":0},{"$f":"リスト!K105","v":0},{"$f":"リスト!L105","v":0},{"$f":"リスト!M105","v":0},{"$f":"リスト!N105","v":0}]
[{"$f":"リスト!A106","v":"　"},{"$f":"リスト!B106","v":0},{"$f":"リスト!C106","v":0},{"$f":"リスト!D106","v":0},{"$f":"リスト!E106","v":0},{"$f":"リスト!F106","v":0},{"$f":"リスト!G106","v":0},{"$f":"リスト!H106","v":0},{"$f":"リスト!I106","v":0},{"$f":"リスト!J106","v":0},{"$f":"リスト!K106","v":0},{"$f":"リスト!L106","v":0},{"$f":"リスト!M106","v":0},{"$f":"リスト!N106","v":0}]
[{"$f":"リスト!A107","v":"　"},{"$f":"リスト!B107","v":0},{"$f":"リスト!C107","v":0},{"$f":"リスト!D107","v":0},{"$f":"リスト!E107","v":0},{"$f":"リスト!F107","v":0},{"$f":"リスト!G107","v":0},{"$f":"リスト!H107","v":0},{"$f":"リスト!I107","v":0},{"$f":"リスト!J107","v":0},{"$f":"リスト!K107","v":0},{"$f":"リスト!L107","v":0},{"$f":"リスト!M107","v":0},{"$f":"リスト!N107","v":0}]
[{"$f":"リスト!A108","v":"　"},{"$f":"リスト!B108","v":0},{"$f":"リスト!C108","v":0},{"$f":"リスト!D108","v":0},{"$f":"リスト!E108","v":0},{"$f":"リスト!F108","v":0},{"$f":"リスト!G108","v":0},{"$f":"リスト!H108","v":0},{"$f":"リスト!I108","v":0},{"$f":"リスト!J108","v":0},{"$f":"リスト!K108","v":0},{"$f":"リスト!L108","v":0},{"$f":"リスト!M108","v":0},{"$f":"リスト!N108","v":0}]
[{"$f":"リスト!A109","v":"　"},{"$f":"リスト!B109","v":0},{"$f":"リスト!C109","v":0},{"$f":"リスト!D109","v":0},{"$f":"リスト!E109","v":0},{"$f":"リスト!F109","v":0},{"$f":"リスト!G109","v":0},{"$f":"リスト!H109","v":0},{"$f":"リスト!I109","v":0},{"$f":"リスト!J109","v":0},{"$f":"リスト!K109","v":0},{"$f":"リスト!L109","v":0},{"$f":"リスト!M109","v":0},{"$f":"リスト!N109","v":0}]
[{"$f":"リスト!A110","v":"　"},{"$f":"リスト!B110","v":0},{"$f":"リスト!C110","v":0},{"$f":"リスト!D110","v":0},{"$f":"リスト!E110","v":0},{"$f":"リスト!F110","v":0},{"$f":"リスト!G110","v":0},{"$f":"リスト!H110","v":0},{"$f":"リスト!I110","v":0},{"$f":"リスト!J110","v":0},{"$f":"リスト!K110","v":0},{"$f":"リスト!L110","v":0},{"$f":"リスト!M110","v":0},{"$f":"リスト!N110","v":0}]
[{"$f":"リスト!A111","v":"　"},{"$f":"リスト!B111","v":0},{"$f":"リスト!C111","v":0},{"$f":"リスト!D111","v":0},{"$f":"リスト!E111","v":0},{"$f":"リスト!F111","v":0},{"$f":"リスト!G111","v":0},{"$f":"リスト!H111","v":0},{"$f":"リスト!I111","v":0},{"$f":"リスト!J111","v":0},{"$f":"リスト!K111","v":0},{"$f":"リスト!L111","v":0},{"$f":"リスト!M111","v":0},{"$f":"リスト!N111","v":0}]
[{"$f":"リスト!A112","v":"　"},{"$f":"リスト!B112","v":0},{"$f":"リスト!C112","v":0},{"$f":"リスト!D112","v":0},{"$f":"リスト!E112","v":0},{"$f":"リスト!F112","v":0},{"$f":"リスト!G112","v":0},{"$f":"リスト!H112","v":0},{"$f":"リスト!I112","v":0},{"$f":"リスト!J112","v":0},{"$f":"リスト!K112","v":0},{"$f":"リスト!L112","v":0},{"$f":"リスト!M112","v":0},{"$f":"リスト!N112","v":0}]
[{"$f":"リスト!A113","v":"　"},{"$f":"リスト!B113","v":0},{"$f":"リスト!C113","v":0},{"$f":"リスト!D113","v":0},{"$f":"リスト!E113","v":0},{"$f":"リスト!F113","v":0},{"$f":"リスト!G113","v":0},{"$f":"リスト!H113","v":0},{"$f":"リスト!I113","v":0},{"$f":"リスト!J113","v":0},{"$f":"リスト!K113","v":0},{"$f":"リスト!L113","v":0},{"$f":"リスト!M113","v":0},{"$f":"リスト!N113","v":0}]
[{"$f":"リスト!A114","v":"　"},{"$f":"リスト!B114","v":0},{"$f":"リスト!C114","v":0},{"$f":"リスト!D114","v":0},{"$f":"リスト!E114","v":0},{"$f":"リスト!F114","v":0},{"$f":"リスト!G114","v":0},{"$f":"リスト!H114","v":0},{"$f":"リスト!I114","v":0},{"$f":"リスト!J114","v":0},{"$f":"リスト!K114","v":0},{"$f":"リスト!L114","v":0},{"$f":"リスト!M114","v":0},{"$f":"リスト!N114","v":0}]
[{"$f":"リスト!A115","v":"　"},{"$f":"リスト!B115","v":0},{"$f":"リスト!C115","v":0},{"$f":"リスト!D115","v":0},{"$f":"リスト!E115","v":0},{"$f":"リスト!F115","v":0},{"$f":"リスト!G115","v":0},{"$f":"リスト!H115","v":0},{"$f":"リスト!I115","v":0},{"$f":"リスト!J115","v":0},{"$f":"リスト!K115","v":0},{"$f":"リスト!L115","v":0},{"$f":"リスト!M115","v":0},{"$f":"リスト!N115","v":0}]
[{"$f":"リスト!A116","v":"　"},{"$f":"リスト!B116","v":0},{"$f":"リスト!C116","v":0},{"$f":"リスト!D116","v":0},{"$f":"リスト!E116","v":0},{"$f":"リスト!F116","v":0},{"$f":"リスト!G116","v":0},{"$f":"リスト!H116","v":0},{"$f":"リスト!I116","v":0},{"$f":"リスト!J116","v":0},{"$f":"リスト!K116","v":0},{"$f":"リスト!L116","v":0},{"$f":"リスト!M116","v":0},{"$f":"リスト!N116","v":0}]
[{"$f":"リスト!A117","v":"　"},{"$f":"リスト!B117","v":0},{"$f":"リスト!C117","v":0},{"$f":"リスト!D117","v":0},{"$f":"リスト!E117","v":0},{"$f":"リスト!F117","v":0},{"$f":"リスト!G117","v":0},{"$f":"リスト!H117","v":0},{"$f":"リスト!I117","v":0},{"$f":"リスト!J117","v":0},{"$f":"リスト!K117","v":0},{"$f":"リスト!L117","v":0},{"$f":"リスト!M117","v":0},{"$f":"リスト!N117","v":0}]
[{"$f":"リスト!A118","v":"　"},{"$f":"リスト!B118","v":0},{"$f":"リスト!C118","v":0},{"$f":"リスト!D118","v":0},{"$f":"リスト!E118","v":0},{"$f":"リスト!F118","v":0},{"$f":"リスト!G118","v":0},{"$f":"リスト!H118","v":0},{"$f":"リスト!I118","v":0},{"$f":"リスト!J118","v":0},{"$f":"リスト!K118","v":0},{"$f":"リスト!L118","v":0},{"$f":"リスト!M118","v":0},{"$f":"リスト!N118","v":0}]
[{"$f":"リスト!A119","v":"　"},{"$f":"リスト!B119","v":0},{"$f":"リスト!C119","v":0},{"$f":"リスト!D119","v":0},{"$f":"リスト!E119","v":0},{"$f":"リスト!F119","v":0},{"$f":"リスト!G119","v":0},{"$f":"リスト!H119","v":0},{"$f":"リスト!I119","v":0},{"$f":"リスト!J119","v":0},{"$f":"リスト!K119","v":0},{"$f":"リスト!L119","v":0},{"$f":"リスト!M119","v":0},{"$f":"リスト!N119","v":0}]
[{"$f":"リスト!A120","v":"　"},{"$f":"リスト!B120","v":0},{"$f":"リスト!C120","v":0},{"$f":"リスト!D120","v":0},{"$f":"リスト!E120","v":0},{"$f":"リスト!F120","v":0},{"$f":"リスト!G120","v":0},{"$f":"リスト!H120","v":0},{"$f":"リスト!I120","v":0},{"$f":"リスト!J120","v":0},{"$f":"リスト!K120","v":0},{"$f":"リスト!L120","v":0},{"$f":"リスト!M120","v":0},{"$f":"リスト!N120","v":0}]
[{"$f":"リスト!A121","v":"　"},{"$f":"リスト!B121","v":0},{"$f":"リスト!C121","v":0},{"$f":"リスト!D121","v":0},{"$f":"リスト!E121","v":0},{"$f":"リスト!F121","v":0},{"$f":"リスト!G121","v":0},{"$f":"リスト!H121","v":0},{"$f":"リスト!I121","v":0},{"$f":"リスト!J121","v":0},{"$f":"リスト!K121","v":0},{"$f":"リスト!L121","v":0},{"$f":"リスト!M121","v":0},{"$f":"リスト!N121","v":0}]
[{"$f":"リスト!A122","v":"　"},{"$f":"リスト!B122","v":0},{"$f":"リスト!C122","v":0},{"$f":"リスト!D122","v":0},{"$f":"リスト!E122","v":0},{"$f":"リスト!F122","v":0},{"$f":"リスト!G122","v":0},{"$f":"リスト!H122","v":0},{"$f":"リスト!I122","v":0},{"$f":"リスト!J122","v":0},{"$f":"リスト!K122","v":0},{"$f":"リスト!L122","v":0},{"$f":"リスト!M122","v":0},{"$f":"リスト!N122","v":0}]
[{"$f":"リスト!A123","v":"　"},{"$f":"リスト!B123","v":0},{"$f":"リスト!C123","v":0},{"$f":"リスト!D123","v":0},{"$f":"リスト!E123","v":0},{"$f":"リスト!F123","v":0},{"$f":"リスト!G123","v":0},{"$f":"リスト!H123","v":0},{"$f":"リスト!I123","v":0},{"$f":"リスト!J123","v":0},{"$f":"リスト!K123","v":0},{"$f":"リスト!L123","v":0},{"$f":"リスト!M123","v":0},{"$f":"リスト!N123","v":0}]
[{"$f":"リスト!A124","v":"　"},{"$f":"リスト!B124","v":0},{"$f":"リスト!C124","v":0},{"$f":"リスト!D124","v":0},{"$f":"リスト!E124","v":0},{"$f":"リスト!F124","v":0},{"$f":"リスト!G124","v":0},{"$f":"リスト!H124","v":0},{"$f":"リスト!I124","v":0},{"$f":"リスト!J124","v":0},{"$f":"リスト!K124","v":0},{"$f":"リスト!L124","v":0},{"$f":"リスト!M124","v":0},{"$f":"リスト!N124","v":0}]
[{"$f":"リスト!A125","v":"　"},{"$f":"リスト!B125","v":0},{"$f":"リスト!C125","v":0},{"$f":"リスト!D125","v":0},{"$f":"リスト!E125","v":0},{"$f":"リスト!F125","v":0},{"$f":"リスト!G125","v":0},{"$f":"リスト!H125","v":0},{"$f":"リスト!I125","v":0},{"$f":"リスト!J125","v":0},{"$f":"リスト!K125","v":0},{"$f":"リスト!L125","v":0},{"$f":"リスト!M125","v":0},{"$f":"リスト!N125","v":0}]
[{"$f":"リスト!A126","v":"　"},{"$f":"リスト!B126","v":0},{"$f":"リスト!C126","v":0},{"$f":"リスト!D126","v":0},{"$f":"リスト!E126","v":0},{"$f":"リスト!F126","v":0},{"$f":"リスト!G126","v":0},{"$f":"リスト!H126","v":0},{"$f":"リスト!I126","v":0},{"$f":"リスト!J126","v":0},{"$f":"リスト!K126","v":0},{"$f":"リスト!L126","v":0},{"$f":"リスト!M126","v":0},{"$f":"リスト!N126","v":0}]
[{"$f":"リスト!A127","v":"　"},{"$f":"リスト!B127","v":0},{"$f":"リスト!C127","v":0},{"$f":"リスト!D127","v":0},{"$f":"リスト!E127","v":0},{"$f":"リスト!F127","v":0},{"$f":"リスト!G127","v":0},{"$f":"リスト!H127","v":0},{"$f":"リスト!I127","v":0},{"$f":"リスト!J127","v":0},{"$f":"リスト!K127","v":0},{"$f":"リスト!L127","v":0},{"$f":"リスト!M127","v":0},{"$f":"リスト!N127","v":0}]
[{"$f":"リスト!A128","v":"　"},{"$f":"リスト!B128","v":0},{"$f":"リスト!C128","v":0},{"$f":"リスト!D128","v":0},{"$f":"リスト!E128","v":0},{"$f":"リスト!F128","v":0},{"$f":"リスト!G128","v":0},{"$f":"リスト!H128","v":0},{"$f":"リスト!I128","v":0},{"$f":"リスト!J128","v":0},{"$f":"リスト!K128","v":0},{"$f":"リスト!L128","v":0},{"$f":"リスト!M128","v":0},{"$f":"リスト!N128","v":0}]
[{"$f":"リスト!A129","v":"　"},{"$f":"リスト!B129","v":0},{"$f":"リスト!C129","v":0},{"$f":"リスト!D129","v":0},{"$f":"リスト!E129","v":0},{"$f":"リスト!F129","v":0},{"$f":"リスト!G129","v":0},{"$f":"リスト!H129","v":0},{"$f":"リスト!I129","v":0},{"$f":"リスト!J129","v":0},{"$f":"リスト!K129","v":0},{"$f":"リスト!L129","v":0},{"$f":"リスト!M129","v":0},{"$f":"リスト!N129","v":0}]
[{"$f":"リスト!A130","v":"　"},{"$f":"リスト!B130","v":0},{"$f":"リスト!C130","v":0},{"$f":"リスト!D130","v":0},{"$f":"リスト!E130","v":0},{"$f":"リスト!F130","v":0},{"$f":"リスト!G130","v":0},{"$f":"リスト!H130","v":0},{"$f":"リスト!I130","v":0},{"$f":"リスト!J130","v":0},{"$f":"リスト!K130","v":0},{"$f":"リスト!L130","v":0},{"$f":"リスト!M130","v":0},{"$f":"リスト!N130","v":0}]
[{"$f":"リスト!A131","v":"　"},{"$f":"リスト!B131","v":0},{"$f":"リスト!C131","v":0},{"$f":"リスト!D131","v":0},{"$f":"リスト!E131","v":0},{"$f":"リスト!F131","v":0},{"$f":"リスト!G131","v":0},{"$f":"リスト!H131","v":0},{"$f":"リスト!I131","v":0},{"$f":"リスト!J131","v":0},{"$f":"リスト!K131","v":0},{"$f":"リスト!L131","v":0},{"$f":"リスト!M131","v":0},{"$f":"リスト!N131","v":0}]
[{"$f":"リスト!A132","v":"　"},{"$f":"リスト!B132","v":0},{"$f":"リスト!C132","v":0},{"$f":"リスト!D132","v":0},{"$f":"リスト!E132","v":0},{"$f":"リスト!F132","v":0},{"$f":"リスト!G132","v":0},{"$f":"リスト!H132","v":0},{"$f":"リスト!I132","v":0},{"$f":"リスト!J132","v":0},{"$f":"リスト!K132","v":0},{"$f":"リスト!L132","v":0},{"$f":"リスト!M132","v":0},{"$f":"リスト!N132","v":0}]
[{"$f":"リスト!A133","v":"　"},{"$f":"リスト!B133","v":0},{"$f":"リスト!C133","v":0},{"$f":"リスト!D133","v":0},{"$f":"リスト!E133","v":0},{"$f":"リスト!F133","v":0},{"$f":"リスト!G133","v":0},{"$f":"リスト!H133","v":0},{"$f":"リスト!I133","v":0},{"$f":"リスト!J133","v":0},{"$f":"リスト!K133","v":0},{"$f":"リスト!L133","v":0},{"$f":"リスト!M133","v":0},{"$f":"リスト!N133","v":0}]
[{"$f":"リスト!A134","v":"　"},{"$f":"リスト!B134","v":0},{"$f":"リスト!C134","v":0},{"$f":"リスト!D134","v":0},{"$f":"リスト!E134","v":0},{"$f":"リスト!F134","v":0},{"$f":"リスト!G134","v":0},{"$f":"リスト!H134","v":0},{"$f":"リスト!I134","v":0},{"$f":"リスト!J134","v":0},{"$f":"リスト!K134","v":0},{"$f":"リスト!L134","v":0},{"$f":"リスト!M134","v":0},{"$f":"リスト!N134","v":0}]
[{"$f":"リスト!A135","v":"　"},{"$f":"リスト!B135","v":0},{"$f":"リスト!C135","v":0},{"$f":"リスト!D135","v":0},{"$f":"リスト!E135","v":0},{"$f":"リスト!F135","v":0},{"$f":"リスト!G135","v":0},{"$f":"リスト!H135","v":0},{"$f":"リスト!I135","v":0},{"$f":"リスト!J135","v":0},{"$f":"リスト!K135","v":0},{"$f":"リスト!L135","v":0},{"$f":"リスト!M135","v":0},{"$f":"リスト!N135","v":0}]
[{"$f":"リスト!A136","v":"　"},{"$f":"リスト!B136","v":0},{"$f":"リスト!C136","v":0},{"$f":"リスト!D136","v":0},{"$f":"リスト!E136","v":0},{"$f":"リスト!F136","v":0},{"$f":"リスト!G136","v":0},{"$f":"リスト!H136","v":0},{"$f":"リスト!I136","v":0},{"$f":"リスト!J136","v":0},{"$f":"リスト!K136","v":0},{"$f":"リスト!L136","v":0},{"$f":"リスト!M136","v":0},{"$f":"リスト!N136","v":0}]
[{"$f":"リスト!A137","v":"　"},{"$f":"リスト!B137","v":0},{"$f":"リスト!C137","v":0},{"$f":"リスト!D137","v":0},{"$f":"リスト!E137","v":0},{"$f":"リスト!F137","v":0},{"$f":"リスト!G137","v":0},{"$f":"リスト!H137","v":0},{"$f":"リスト!I137","v":0},{"$f":"リスト!J137","v":0},{"$f":"リスト!K137","v":0},{"$f":"リスト!L137","v":0},{"$f":"リスト!M137","v":0},{"$f":"リスト!N137","v":0}]
[{"$f":"リスト!A138","v":"　"},{"$f":"リスト!B138","v":0},{"$f":"リスト!C138","v":0},{"$f":"リスト!D138","v":0},{"$f":"リスト!E138","v":0},{"$f":"リスト!F138","v":0},{"$f":"リスト!G138","v":0},{"$f":"リスト!H138","v":0},{"$f":"リスト!I138","v":0},{"$f":"リスト!J138","v":0},{"$f":"リスト!K138","v":0},{"$f":"リスト!L138","v":0},{"$f":"リスト!M138","v":0},{"$f":"リスト!N138","v":0}]
[{"$f":"リスト!A139","v":"　"},{"$f":"リスト!B139","v":0},{"$f":"リスト!C139","v":0},{"$f":"リスト!D139","v":0},{"$f":"リスト!E139","v":0},{"$f":"リスト!F139","v":0},{"$f":"リスト!G139","v":0},{"$f":"リスト!H139","v":0},{"$f":"リスト!I139","v":0},{"$f":"リスト!J139","v":0},{"$f":"リスト!K139","v":0},{"$f":"リスト!L139","v":0},{"$f":"リスト!M139","v":0},{"$f":"リスト!N139","v":0}]
[{"$f":"リスト!A140","v":"　"},{"$f":"リスト!B140","v":0},{"$f":"リスト!C140","v":0},{"$f":"リスト!D140","v":0},{"$f":"リスト!E140","v":0},{"$f":"リスト!F140","v":0},{"$f":"リスト!G140","v":0},{"$f":"リスト!H140","v":0},{"$f":"リスト!I140","v":0},{"$f":"リスト!J140","v":0},{"$f":"リスト!K140","v":0},{"$f":"リスト!L140","v":0},{"$f":"リスト!M140","v":0},{"$f":"リスト!N140","v":0}]
[{"$f":"リスト!A141","v":"　"},{"$f":"リスト!B141","v":0},{"$f":"リスト!C141","v":0},{"$f":"リスト!D141","v":0},{"$f":"リスト!E141","v":0},{"$f":"リスト!F141","v":0},{"$f":"リスト!G141","v":0},{"$f":"リスト!H141","v":0},{"$f":"リスト!I141","v":0},{"$f":"リスト!J141","v":0},{"$f":"リスト!K141","v":0},{"$f":"リスト!L141","v":0},{"$f":"リスト!M141","v":0},{"$f":"リスト!N141","v":0}]
[{"$f":"リスト!A142","v":"　"},{"$f":"リスト!B142","v":0},{"$f":"リスト!C142","v":0},{"$f":"リスト!D142","v":0},{"$f":"リスト!E142","v":0},{"$f":"リスト!F142","v":0},{"$f":"リスト!G142","v":0},{"$f":"リスト!H142","v":0},{"$f":"リスト!I142","v":0},{"$f":"リスト!J142","v":0},{"$f":"リスト!K142","v":0},{"$f":"リスト!L142","v":0},{"$f":"リスト!M142","v":0},{"$f":"リスト!N142","v":0}]
[{"$f":"リスト!A143","v":"　"},{"$f":"リスト!B143","v":0},{"$f":"リスト!C143","v":0},{"$f":"リスト!D143","v":0},{"$f":"リスト!E143","v":0},{"$f":"リスト!F143","v":0},{"$f":"リスト!G143","v":0},{"$f":"リスト!H143","v":0},{"$f":"リスト!I143","v":0},{"$f":"リスト!J143","v":0},{"$f":"リスト!K143","v":0},{"$f":"リスト!L143","v":0},{"$f":"リスト!M143","v":0},{"$f":"リスト!N143","v":0}]
[{"$f":"リスト!A144","v":"　"},{"$f":"リスト!B144","v":0},{"$f":"リスト!C144","v":0},{"$f":"リスト!D144","v":0},{"$f":"リスト!E144","v":0},{"$f":"リスト!F144","v":0},{"$f":"リスト!G144","v":0},{"$f":"リスト!H144","v":0},{"$f":"リスト!I144","v":0},{"$f":"リスト!J144","v":0},{"$f":"リスト!K144","v":0},{"$f":"リスト!L144","v":0},{"$f":"リスト!M144","v":0},{"$f":"リスト!N144","v":0}]
[{"$f":"リスト!A145","v":"　"},{"$f":"リスト!B145","v":0},{"$f":"リスト!C145","v":0},{"$f":"リスト!D145","v":0},{"$f":"リスト!E145","v":0},{"$f":"リスト!F145","v":0},{"$f":"リスト!G145","v":0},{"$f":"リスト!H145","v":0},{"$f":"リスト!I145","v":0},{"$f":"リスト!J145","v":0},{"$f":"リスト!K145","v":0},{"$f":"リスト!L145","v":0},{"$f":"リスト!M145","v":0},{"$f":"リスト!N145","v":0}]
[{"$f":"リスト!A146","v":"　"},{"$f":"リスト!B146","v":0},{"$f":"リスト!C146","v":0},{"$f":"リスト!D146","v":0},{"$f":"リスト!E146","v":0},{"$f":"リスト!F146","v":0},{"$f":"リスト!G146","v":0},{"$f":"リスト!H146","v":0},{"$f":"リスト!I146","v":0},{"$f":"リスト!J146","v":0},{"$f":"リスト!K146","v":0},{"$f":"リスト!L146","v":0},{"$f":"リスト!M146","v":0},{"$f":"リスト!N146","v":0}]
[{"$f":"リスト!A147","v":"　"},{"$f":"リスト!B147","v":0},{"$f":"リスト!C147","v":0},{"$f":"リスト!D147","v":0},{"$f":"リスト!E147","v":0},{"$f":"リスト!F147","v":0},{"$f":"リスト!G147","v":0},{"$f":"リスト!H147","v":0},{"$f":"リスト!I147","v":0},{"$f":"リスト!J147","v":0},{"$f":"リスト!K147","v":0},{"$f":"リスト!L147","v":0},{"$f":"リスト!M147","v":0},{"$f":"リスト!N147","v":0}]
[{"$f":"リスト!A148","v":"　"},{"$f":"リスト!B148","v":0},{"$f":"リスト!C148","v":0},{"$f":"リスト!D148","v":0},{"$f":"リスト!E148","v":0},{"$f":"リスト!F148","v":0},{"$f":"リスト!G148","v":0},{"$f":"リスト!H148","v":0},{"$f":"リスト!I148","v":0},{"$f":"リスト!J148","v":0},{"$f":"リスト!K148","v":0},{"$f":"リスト!L148","v":0},{"$f":"リスト!M148","v":0},{"$f":"リスト!N148","v":0}]
[{"$f":"リスト!A149","v":"　"},{"$f":"リスト!B149","v":0},{"$f":"リスト!C149","v":0},{"$f":"リスト!D149","v":0},{"$f":"リスト!E149","v":0},{"$f":"リスト!F149","v":0},{"$f":"リスト!G149","v":0},{"$f":"リスト!H149","v":0},{"$f":"リスト!I149","v":0},{"$f":"リスト!J149","v":0},{"$f":"リスト!K149","v":0},{"$f":"リスト!L149","v":0},{"$f":"リスト!M149","v":0},{"$f":"リスト!N149","v":0}]
[{"$f":"リスト!A150","v":"　"},{"$f":"リスト!B150","v":0},{"$f":"リスト!C150","v":0},{"$f":"リスト!D150","v":0},{"$f":"リスト!E150","v":0},{"$f":"リスト!F150","v":0},{"$f":"リスト!G150","v":0},{"$f":"リスト!H150","v":0},{"$f":"リスト!I150","v":0},{"$f":"リスト!J150","v":0},{"$f":"リスト!K150","v":0},{"$f":"リスト!L150","v":0},{"$f":"リスト!M150","v":0},{"$f":"リスト!N150","v":0}]
[{"$f":"リスト!A151","v":"　"},{"$f":"リスト!B151","v":0},{"$f":"リスト!C151","v":0},{"$f":"リスト!D151","v":0},{"$f":"リスト!E151","v":0},{"$f":"リスト!F151","v":0},{"$f":"リスト!G151","v":0},{"$f":"リスト!H151","v":0},{"$f":"リスト!I151","v":0},{"$f":"リスト!J151","v":0},{"$f":"リスト!K151","v":0},{"$f":"リスト!L151","v":0},{"$f":"リスト!M151","v":0},{"$f":"リスト!N151","v":0}]
[{"$f":"リスト!A152","v":"　"},{"$f":"リスト!B152","v":0},{"$f":"リスト!C152","v":0},{"$f":"リスト!D152","v":0},{"$f":"リスト!E152","v":0},{"$f":"リスト!F152","v":0},{"$f":"リスト!G152","v":0},{"$f":"リスト!H152","v":0},{"$f":"リスト!I152","v":0},{"$f":"リスト!J152","v":0},{"$f":"リスト!K152","v":0},{"$f":"リスト!L152","v":0},{"$f":"リスト!M152","v":0},{"$f":"リスト!N152","v":0}]
[{"$f":"リスト!A153","v":"　"},{"$f":"リスト!B153","v":0},{"$f":"リスト!C153","v":0},{"$f":"リスト!D153","v":0},{"$f":"リスト!E153","v":0},{"$f":"リスト!F153","v":0},{"$f":"リスト!G153","v":0},{"$f":"リスト!H153","v":0},{"$f":"リスト!I153","v":0},{"$f":"リスト!J153","v":0},{"$f":"リスト!K153","v":0},{"$f":"リスト!L153","v":0},{"$f":"リスト!M153","v":0},{"$f":"リスト!N153","v":0}]
[{"$f":"リスト!A154","v":"　"},{"$f":"リスト!B154","v":0},{"$f":"リスト!C154","v":0},{"$f":"リスト!D154","v":0},{"$f":"リスト!E154","v":0},{"$f":"リスト!F154","v":0},{"$f":"リスト!G154","v":0},{"$f":"リスト!H154","v":0},{"$f":"リスト!I154","v":0},{"$f":"リスト!J154","v":0},{"$f":"リスト!K154","v":0},{"$f":"リスト!L154","v":0},{"$f":"リスト!M154","v":0},{"$f":"リスト!N154","v":0}]
[{"$f":"リスト!A155","v":"　"},{"$f":"リスト!B155","v":0},{"$f":"リスト!C155","v":0},{"$f":"リスト!D155","v":0},{"$f":"リスト!E155","v":0},{"$f":"リスト!F155","v":0},{"$f":"リスト!G155","v":0},{"$f":"リスト!H155","v":0},{"$f":"リスト!I155","v":0},{"$f":"リスト!J155","v":0},{"$f":"リスト!K155","v":0},{"$f":"リスト!L155","v":0},{"$f":"リスト!M155","v":0},{"$f":"リスト!N155","v":0}]
[{"$f":"リスト!A156","v":"　"},{"$f":"リスト!B156","v":0},{"$f":"リスト!C156","v":0},{"$f":"リスト!D156","v":0},{"$f":"リスト!E156","v":0},{"$f":"リスト!F156","v":0},{"$f":"リスト!G156","v":0},{"$f":"リスト!H156","v":0},{"$f":"リスト!I156","v":0},{"$f":"リスト!J156","v":0},{"$f":"リスト!K156","v":0},{"$f":"リスト!L156","v":0},{"$f":"リスト!M156","v":0},{"$f":"リスト!N156","v":0}]
[{"$f":"リスト!A157","v":"　"},{"$f":"リスト!B157","v":0},{"$f":"リスト!C157","v":0},{"$f":"リスト!D157","v":0},{"$f":"リスト!E157","v":0},{"$f":"リスト!F157","v":0},{"$f":"リスト!G157","v":0},{"$f":"リスト!H157","v":0},{"$f":"リスト!I157","v":0},{"$f":"リスト!J157","v":0},{"$f":"リスト!K157","v":0},{"$f":"リスト!L157","v":0},{"$f":"リスト!M157","v":0},{"$f":"リスト!N157","v":0}]
[{"$f":"リスト!A158","v":"　"},{"$f":"リスト!B158","v":0},{"$f":"リスト!C158","v":0},{"$f":"リスト!D158","v":0},{"$f":"リスト!E158","v":0},{"$f":"リスト!F158","v":0},{"$f":"リスト!G158","v":0},{"$f":"リスト!H158","v":0},{"$f":"リスト!I158","v":0},{"$f":"リスト!J158","v":0},{"$f":"リスト!K158","v":0},{"$f":"リスト!L158","v":0},{"$f":"リスト!M158","v":0},{"$f":"リスト!N158","v":0}]
[{"$f":"リスト!A159","v":"　"},{"$f":"リスト!B159","v":0},{"$f":"リスト!C159","v":0},{"$f":"リスト!D159","v":0},{"$f":"リスト!E159","v":0},{"$f":"リスト!F159","v":0},{"$f":"リスト!G159","v":0},{"$f":"リスト!H159","v":0},{"$f":"リスト!I159","v":0},{"$f":"リスト!J159","v":0},{"$f":"リスト!K159","v":0},{"$f":"リスト!L159","v":0},{"$f":"リスト!M159","v":0},{"$f":"リスト!N159","v":0}]
[{"$f":"リスト!A160","v":"　"},{"$f":"リスト!B160","v":0},{"$f":"リスト!C160","v":0},{"$f":"リスト!D160","v":0},{"$f":"リスト!E160","v":0},{"$f":"リスト!F160","v":0},{"$f":"リスト!G160","v":0},{"$f":"リスト!H160","v":0},{"$f":"リスト!I160","v":0},{"$f":"リスト!J160","v":0},{"$f":"リスト!K160","v":0},{"$f":"リスト!L160","v":0},{"$f":"リスト!M160","v":0},{"$f":"リスト!N160","v":0}]
[{"$f":"リスト!A161","v":"　"},{"$f":"リスト!B161","v":0},{"$f":"リスト!C161","v":0},{"$f":"リスト!D161","v":0},{"$f":"リスト!E161","v":0},{"$f":"リスト!F161","v":0},{"$f":"リスト!G161","v":0},{"$f":"リスト!H161","v":0},{"$f":"リスト!I161","v":0},{"$f":"リスト!J161","v":0},{"$f":"リスト!K161","v":0},{"$f":"リスト!L161","v":0},{"$f":"リスト!M161","v":0},{"$f":"リスト!N161","v":0}]
[{"$f":"リスト!A162","v":"　"},{"$f":"リスト!B162","v":0},{"$f":"リスト!C162","v":0},{"$f":"リスト!D162","v":0},{"$f":"リスト!E162","v":0},{"$f":"リスト!F162","v":0},{"$f":"リスト!G162","v":0},{"$f":"リスト!H162","v":0},{"$f":"リスト!I162","v":0},{"$f":"リスト!J162","v":0},{"$f":"リスト!K162","v":0},{"$f":"リスト!L162","v":0},{"$f":"リスト!M162","v":0},{"$f":"リスト!N162","v":0}]
[{"$f":"リスト!A163","v":"　"},{"$f":"リスト!B163","v":0},{"$f":"リスト!C163","v":0},{"$f":"リスト!D163","v":0},{"$f":"リスト!E163","v":0},{"$f":"リスト!F163","v":0},{"$f":"リスト!G163","v":0},{"$f":"リスト!H163","v":0},{"$f":"リスト!I163","v":0},{"$f":"リスト!J163","v":0},{"$f":"リスト!K163","v":0},{"$f":"リスト!L163","v":0},{"$f":"リスト!M163","v":0},{"$f":"リスト!N163","v":0}]
[{"$f":"リスト!A164","v":"　"},{"$f":"リスト!B164","v":0},{"$f":"リスト!C164","v":0},{"$f":"リスト!D164","v":0},{"$f":"リスト!E164","v":0},{"$f":"リスト!F164","v":0},{"$f":"リスト!G164","v":0},{"$f":"リスト!H164","v":0},{"$f":"リスト!I164","v":0},{"$f":"リスト!J164","v":0},{"$f":"リスト!K164","v":0},{"$f":"リスト!L164","v":0},{"$f":"リスト!M164","v":0},{"$f":"リスト!N164","v":0}]
[{"$f":"リスト!A165","v":"　"},{"$f":"リスト!B165","v":0},{"$f":"リスト!C165","v":0},{"$f":"リスト!D165","v":0},{"$f":"リスト!E165","v":0},{"$f":"リスト!F165","v":0},{"$f":"リスト!G165","v":0},{"$f":"リスト!H165","v":0},{"$f":"リスト!I165","v":0},{"$f":"リスト!J165","v":0},{"$f":"リスト!K165","v":0},{"$f":"リスト!L165","v":0},{"$f":"リスト!M165","v":0},{"$f":"リスト!N165","v":0}]
[{"$f":"リスト!A166","v":"　"},{"$f":"リスト!B166","v":0},{"$f":"リスト!C166","v":0},{"$f":"リスト!D166","v":0},{"$f":"リスト!E166","v":0},{"$f":"リスト!F166","v":0},{"$f":"リスト!G166","v":0},{"$f":"リスト!H166","v":0},{"$f":"リスト!I166","v":0},{"$f":"リスト!J166","v":0},{"$f":"リスト!K166","v":0},{"$f":"リスト!L166","v":0},{"$f":"リスト!M166","v":0},{"$f":"リスト!N166","v":0}]
[{"$f":"リスト!A167","v":"　"},{"$f":"リスト!B167","v":0},{"$f":"リスト!C167","v":0},{"$f":"リスト!D167","v":0},{"$f":"リスト!E167","v":0},{"$f":"リスト!F167","v":0},{"$f":"リスト!G167","v":0},{"$f":"リスト!H167","v":0},{"$f":"リスト!I167","v":0},{"$f":"リスト!J167","v":0},{"$f":"リスト!K167","v":0},{"$f":"リスト!L167","v":0},{"$f":"リスト!M167","v":0},{"$f":"リスト!N167","v":0}]
[{"$f":"リスト!A168","v":"　"},{"$f":"リスト!B168","v":0},{"$f":"リスト!C168","v":0},{"$f":"リスト!D168","v":0},{"$f":"リスト!E168","v":0},{"$f":"リスト!F168","v":0},{"$f":"リスト!G168","v":0},{"$f":"リスト!H168","v":0},{"$f":"リスト!I168","v":0},{"$f":"リスト!J168","v":0},{"$f":"リスト!K168","v":0},{"$f":"リスト!L168","v":0},{"$f":"リスト!M168","v":0},{"$f":"リスト!N168","v":0}]
[{"$f":"リスト!A169","v":"　"},{"$f":"リスト!B169","v":0},{"$f":"リスト!C169","v":0},{"$f":"リスト!D169","v":0},{"$f":"リスト!E169","v":0},{"$f":"リスト!F169","v":0},{"$f":"リスト!G169","v":0},{"$f":"リスト!H169","v":0},{"$f":"リスト!I169","v":0},{"$f":"リスト!J169","v":0},{"$f":"リスト!K169","v":0},{"$f":"リスト!L169","v":0},{"$f":"リスト!M169","v":0},{"$f":"リスト!N169","v":0}]
[{"$f":"リスト!A170","v":"　"},{"$f":"リスト!B170","v":0},{"$f":"リスト!C170","v":0},{"$f":"リスト!D170","v":0},{"$f":"リスト!E170","v":0},{"$f":"リスト!F170","v":0},{"$f":"リスト!G170","v":0},{"$f":"リスト!H170","v":0},{"$f":"リスト!I170","v":0},{"$f":"リスト!J170","v":0},{"$f":"リスト!K170","v":0},{"$f":"リスト!L170","v":0},{"$f":"リスト!M170","v":0},{"$f":"リスト!N170","v":0}]
[{"$f":"リスト!A171","v":"　"},{"$f":"リスト!B171","v":0},{"$f":"リスト!C171","v":0},{"$f":"リスト!D171","v":0},{"$f":"リスト!E171","v":0},{"$f":"リスト!F171","v":0},{"$f":"リスト!G171","v":0},{"$f":"リスト!H171","v":0},{"$f":"リスト!I171","v":0},{"$f":"リスト!J171","v":0},{"$f":"リスト!K171","v":0},{"$f":"リスト!L171","v":0},{"$f":"リスト!M171","v":0},{"$f":"リスト!N171","v":0}]
[{"$f":"リスト!A172","v":"　"},{"$f":"リスト!B172","v":0},{"$f":"リスト!C172","v":0},{"$f":"リスト!D172","v":0},{"$f":"リスト!E172","v":0},{"$f":"リスト!F172","v":0},{"$f":"リスト!G172","v":0},{"$f":"リスト!H172","v":0},{"$f":"リスト!I172","v":0},{"$f":"リスト!J172","v":0},{"$f":"リスト!K172","v":0},{"$f":"リスト!L172","v":0},{"$f":"リスト!M172","v":0},{"$f":"リスト!N172","v":0}]
[{"$f":"リスト!A173","v":"　"},{"$f":"リスト!B173","v":0},{"$f":"リスト!C173","v":0},{"$f":"リスト!D173","v":0},{"$f":"リスト!E173","v":0},{"$f":"リスト!F173","v":0},{"$f":"リスト!G173","v":0},{"$f":"リスト!H173","v":0},{"$f":"リスト!I173","v":0},{"$f":"リスト!J173","v":0},{"$f":"リスト!K173","v":0},{"$f":"リスト!L173","v":0},{"$f":"リスト!M173","v":0},{"$f":"リスト!N173","v":0}]
[{"$f":"リスト!A174","v":"　"},{"$f":"リスト!B174","v":0},{"$f":"リスト!C174","v":0},{"$f":"リスト!D174","v":0},{"$f":"リスト!E174","v":0},{"$f":"リスト!F174","v":0},{"$f":"リスト!G174","v":0},{"$f":"リスト!H174","v":0},{"$f":"リスト!I174","v":0},{"$f":"リスト!J174","v":0},{"$f":"リスト!K174","v":0},{"$f":"リスト!L174","v":0},{"$f":"リスト!M174","v":0},{"$f":"リスト!N174","v":0}]
[{"$f":"リスト!A175","v":"　"},{"$f":"リスト!B175","v":0},{"$f":"リスト!C175","v":0},{"$f":"リスト!D175","v":0},{"$f":"リスト!E175","v":0},{"$f":"リスト!F175","v":0},{"$f":"リスト!G175","v":0},{"$f":"リスト!H175","v":0},{"$f":"リスト!I175","v":0},{"$f":"リスト!J175","v":0},{"$f":"リスト!K175","v":0},{"$f":"リスト!L175","v":0},{"$f":"リスト!M175","v":0},{"$f":"リスト!N175","v":0}]
[{"$f":"リスト!A176","v":"　"},{"$f":"リスト!B176","v":0},{"$f":"リスト!C176","v":0},{"$f":"リスト!D176","v":0},{"$f":"リスト!E176","v":0},{"$f":"リスト!F176","v":0},{"$f":"リスト!G176","v":0},{"$f":"リスト!H176","v":0},{"$f":"リスト!I176","v":0},{"$f":"リスト!J176","v":0},{"$f":"リスト!K176","v":0},{"$f":"リスト!L176","v":0},{"$f":"リスト!M176","v":0},{"$f":"リスト!N176","v":0}]
[{"$f":"リスト!A177","v":"　"},{"$f":"リスト!B177","v":0},{"$f":"リスト!C177","v":0},{"$f":"リスト!D177","v":0},{"$f":"リスト!E177","v":0},{"$f":"リスト!F177","v":0},{"$f":"リスト!G177","v":0},{"$f":"リスト!H177","v":0},{"$f":"リスト!I177","v":0},{"$f":"リスト!J177","v":0},{"$f":"リスト!K177","v":0},{"$f":"リスト!L177","v":0},{"$f":"リスト!M177","v":0},{"$f":"リスト!N177","v":0}]
[{"$f":"リスト!A178","v":"　"},{"$f":"リスト!B178","v":0},{"$f":"リスト!C178","v":0},{"$f":"リスト!D178","v":0},{"$f":"リスト!E178","v":0},{"$f":"リスト!F178","v":0},{"$f":"リスト!G178","v":0},{"$f":"リスト!H178","v":0},{"$f":"リスト!I178","v":0},{"$f":"リスト!J178","v":0},{"$f":"リスト!K178","v":0},{"$f":"リスト!L178","v":0},{"$f":"リスト!M178","v":0},{"$f":"リスト!N178","v":0}]
[{"$f":"リスト!A179","v":"　"},{"$f":"リスト!B179","v":0},{"$f":"リスト!C179","v":0},{"$f":"リスト!D179","v":0},{"$f":"リスト!E179","v":0},{"$f":"リスト!F179","v":0},{"$f":"リスト!G179","v":0},{"$f":"リスト!H179","v":0},{"$f":"リスト!I179","v":0},{"$f":"リスト!J179","v":0},{"$f":"リスト!K179","v":0},{"$f":"リスト!L179","v":0},{"$f":"リスト!M179","v":0},{"$f":"リスト!N179","v":0}]
[{"$f":"リスト!A180","v":"　"},{"$f":"リスト!B180","v":0},{"$f":"リスト!C180","v":0},{"$f":"リスト!D180","v":0},{"$f":"リスト!E180","v":0},{"$f":"リスト!F180","v":0},{"$f":"リスト!G180","v":0},{"$f":"リスト!H180","v":0},{"$f":"リスト!I180","v":0},{"$f":"リスト!J180","v":0},{"$f":"リスト!K180","v":0},{"$f":"リスト!L180","v":0},{"$f":"リスト!M180","v":0},{"$f":"リスト!N180","v":0}]
[{"$f":"リスト!A181","v":"　"},{"$f":"リスト!B181","v":0},{"$f":"リスト!C181","v":0},{"$f":"リスト!D181","v":0},{"$f":"リスト!E181","v":0},{"$f":"リスト!F181","v":0},{"$f":"リスト!G181","v":0},{"$f":"リスト!H181","v":0},{"$f":"リスト!I181","v":0},{"$f":"リスト!J181","v":0},{"$f":"リスト!K181","v":0},{"$f":"リスト!L181","v":0},{"$f":"リスト!M181","v":0},{"$f":"リスト!N181","v":0}]
[{"$f":"リスト!A182","v":"　"},{"$f":"リスト!B182","v":0},{"$f":"リスト!C182","v":0},{"$f":"リスト!D182","v":0},{"$f":"リスト!E182","v":0},{"$f":"リスト!F182","v":0},{"$f":"リスト!G182","v":0},{"$f":"リスト!H182","v":0},{"$f":"リスト!I182","v":0},{"$f":"リスト!J182","v":0},{"$f":"リスト!K182","v":0},{"$f":"リスト!L182","v":0},{"$f":"リスト!M182","v":0},{"$f":"リスト!N182","v":0}]
[{"$f":"リスト!A183","v":"　"},{"$f":"リスト!B183","v":0},{"$f":"リスト!C183","v":0},{"$f":"リスト!D183","v":0},{"$f":"リスト!E183","v":0},{"$f":"リスト!F183","v":0},{"$f":"リスト!G183","v":0},{"$f":"リスト!H183","v":0},{"$f":"リスト!I183","v":0},{"$f":"リスト!J183","v":0},{"$f":"リスト!K183","v":0},{"$f":"リスト!L183","v":0},{"$f":"リスト!M183","v":0},{"$f":"リスト!N183","v":0}]
[{"$f":"リスト!A184","v":"　"},{"$f":"リスト!B184","v":0},{"$f":"リスト!C184","v":0},{"$f":"リスト!D184","v":0},{"$f":"リスト!E184","v":0},{"$f":"リスト!F184","v":0},{"$f":"リスト!G184","v":0},{"$f":"リスト!H184","v":0},{"$f":"リスト!I184","v":0},{"$f":"リスト!J184","v":0},{"$f":"リスト!K184","v":0},{"$f":"リスト!L184","v":0},{"$f":"リスト!M184","v":0},{"$f":"リスト!N184","v":0}]
[{"$f":"リスト!A185","v":"　"},{"$f":"リスト!B185","v":0},{"$f":"リスト!C185","v":0},{"$f":"リスト!D185","v":0},{"$f":"リスト!E185","v":0},{"$f":"リスト!F185","v":0},{"$f":"リスト!G185","v":0},{"$f":"リスト!H185","v":0},{"$f":"リスト!I185","v":0},{"$f":"リスト!J185","v":0},{"$f":"リスト!K185","v":0},{"$f":"リスト!L185","v":0},{"$f":"リスト!M185","v":0},{"$f":"リスト!N185","v":0}]
[{"$f":"リスト!A186","v":"　"},{"$f":"リスト!B186","v":0},{"$f":"リスト!C186","v":0},{"$f":"リスト!D186","v":0},{"$f":"リスト!E186","v":0},{"$f":"リスト!F186","v":0},{"$f":"リスト!G186","v":0},{"$f":"リスト!H186","v":0},{"$f":"リスト!I186","v":0},{"$f":"リスト!J186","v":0},{"$f":"リスト!K186","v":0},{"$f":"リスト!L186","v":0},{"$f":"リスト!M186","v":0},{"$f":"リスト!N186","v":0}]
[{"$f":"リスト!A187","v":"　"},{"$f":"リスト!B187","v":0},{"$f":"リスト!C187","v":0},{"$f":"リスト!D187","v":0},{"$f":"リスト!E187","v":0},{"$f":"リスト!F187","v":0},{"$f":"リスト!G187","v":0},{"$f":"リスト!H187","v":0},{"$f":"リスト!I187","v":0},{"$f":"リスト!J187","v":0},{"$f":"リスト!K187","v":0},{"$f":"リスト!L187","v":0},{"$f":"リスト!M187","v":0},{"$f":"リスト!N187","v":0}]
[{"$f":"リスト!A188","v":"　"},{"$f":"リスト!B188","v":0},{"$f":"リスト!C188","v":0},{"$f":"リスト!D188","v":0},{"$f":"リスト!E188","v":0},{"$f":"リスト!F188","v":0},{"$f":"リスト!G188","v":0},{"$f":"リスト!H188","v":0},{"$f":"リスト!I188","v":0},{"$f":"リスト!J188","v":0},{"$f":"リスト!K188","v":0},{"$f":"リスト!L188","v":0},{"$f":"リスト!M188","v":0},{"$f":"リスト!N188","v":0}]
[{"$f":"リスト!A189","v":"　"},{"$f":"リスト!B189","v":0},{"$f":"リスト!C189","v":0},{"$f":"リスト!D189","v":0},{"$f":"リスト!E189","v":0},{"$f":"リスト!F189","v":0},{"$f":"リスト!G189","v":0},{"$f":"リスト!H189","v":0},{"$f":"リスト!I189","v":0},{"$f":"リスト!J189","v":0},{"$f":"リスト!K189","v":0},{"$f":"リスト!L189","v":0},{"$f":"リスト!M189","v":0},{"$f":"リスト!N189","v":0}]
[{"$f":"リスト!A190","v":"　"},{"$f":"リスト!B190","v":0},{"$f":"リスト!C190","v":0},{"$f":"リスト!D190","v":0},{"$f":"リスト!E190","v":0},{"$f":"リスト!F190","v":0},{"$f":"リスト!G190","v":0},{"$f":"リスト!H190","v":0},{"$f":"リスト!I190","v":0},{"$f":"リスト!J190","v":0},{"$f":"リスト!K190","v":0},{"$f":"リスト!L190","v":0},{"$f":"リスト!M190","v":0},{"$f":"リスト!N190","v":0}]
[{"$f":"リスト!A191","v":"　"},{"$f":"リスト!B191","v":0},{"$f":"リスト!C191","v":0},{"$f":"リスト!D191","v":0},{"$f":"リスト!E191","v":0},{"$f":"リスト!F191","v":0},{"$f":"リスト!G191","v":0},{"$f":"リスト!H191","v":0},{"$f":"リスト!I191","v":0},{"$f":"リスト!J191","v":0},{"$f":"リスト!K191","v":0},{"$f":"リスト!L191","v":0},{"$f":"リスト!M191","v":0},{"$f":"リスト!N191","v":0}]
[{"$f":"リスト!A192","v":"　"},{"$f":"リスト!B192","v":0},{"$f":"リスト!C192","v":0},{"$f":"リスト!D192","v":0},{"$f":"リスト!E192","v":0},{"$f":"リスト!F192","v":0},{"$f":"リスト!G192","v":0},{"$f":"リスト!H192","v":0},{"$f":"リスト!I192","v":0},{"$f":"リスト!J192","v":0},{"$f":"リスト!K192","v":0},{"$f":"リスト!L192","v":0},{"$f":"リスト!M192","v":0},{"$f":"リスト!N192","v":0}]
[{"$f":"リスト!A193","v":"　"},{"$f":"リスト!B193","v":0},{"$f":"リスト!C193","v":0},{"$f":"リスト!D193","v":0},{"$f":"リスト!E193","v":0},{"$f":"リスト!F193","v":0},{"$f":"リスト!G193","v":0},{"$f":"リスト!H193","v":0},{"$f":"リスト!I193","v":0},{"$f":"リスト!J193","v":0},{"$f":"リスト!K193","v":0},{"$f":"リスト!L193","v":0},{"$f":"リスト!M193","v":0},{"$f":"リスト!N193","v":0}]
[{"$f":"リスト!A194","v":"　"},{"$f":"リスト!B194","v":0},{"$f":"リスト!C194","v":0},{"$f":"リスト!D194","v":0},{"$f":"リスト!E194","v":0},{"$f":"リスト!F194","v":0},{"$f":"リスト!G194","v":0},{"$f":"リスト!H194","v":0},{"$f":"リスト!I194","v":0},{"$f":"リスト!J194","v":0},{"$f":"リスト!K194","v":0},{"$f":"リスト!L194","v":0},{"$f":"リスト!M194","v":0},{"$f":"リスト!N194","v":0}]
[{"$f":"リスト!A195","v":"　"},{"$f":"リスト!B195","v":0},{"$f":"リスト!C195","v":0},{"$f":"リスト!D195","v":0},{"$f":"リスト!E195","v":0},{"$f":"リスト!F195","v":0},{"$f":"リスト!G195","v":0},{"$f":"リスト!H195","v":0},{"$f":"リスト!I195","v":0},{"$f":"リスト!J195","v":0},{"$f":"リスト!K195","v":0},{"$f":"リスト!L195","v":0},{"$f":"リスト!M195","v":0},{"$f":"リスト!N195","v":0}]
[{"$f":"リスト!A196","v":"　"},{"$f":"リスト!B196","v":0},{"$f":"リスト!C196","v":0},{"$f":"リスト!D196","v":0},{"$f":"リスト!E196","v":0},{"$f":"リスト!F196","v":0},{"$f":"リスト!G196","v":0},{"$f":"リスト!H196","v":0},{"$f":"リスト!I196","v":0},{"$f":"リスト!J196","v":0},{"$f":"リスト!K196","v":0},{"$f":"リスト!L196","v":0},{"$f":"リスト!M196","v":0},{"$f":"リスト!N196","v":0}]
[{"$f":"リスト!A197","v":"　"},{"$f":"リスト!B197","v":0},{"$f":"リスト!C197","v":0},{"$f":"リスト!D197","v":0},{"$f":"リスト!E197","v":0},{"$f":"リスト!F197","v":0},{"$f":"リスト!G197","v":0},{"$f":"リスト!H197","v":0},{"$f":"リスト!I197","v":0},{"$f":"リスト!J197","v":0},{"$f":"リスト!K197","v":0},{"$f":"リスト!L197","v":0},{"$f":"リスト!M197","v":0},{"$f":"リスト!N197","v":0}]
[{"$f":"リスト!A198","v":"　"},{"$f":"リスト!B198","v":0},{"$f":"リスト!C198","v":0},{"$f":"リスト!D198","v":0},{"$f":"リスト!E198","v":0},{"$f":"リスト!F198","v":0},{"$f":"リスト!G198","v":0},{"$f":"リスト!H198","v":0},{"$f":"リスト!I198","v":0},{"$f":"リスト!J198","v":0},{"$f":"リスト!K198","v":0},{"$f":"リスト!L198","v":0},{"$f":"リスト!M198","v":0},{"$f":"リスト!N198","v":0}]
[{"$f":"リスト!A199","v":"　"},{"$f":"リスト!B199","v":0},{"$f":"リスト!C199","v":0},{"$f":"リスト!D199","v":0},{"$f":"リスト!E199","v":0},{"$f":"リスト!F199","v":0},{"$f":"リスト!G199","v":0},{"$f":"リスト!H199","v":0},{"$f":"リスト!I199","v":0},{"$f":"リスト!J199","v":0},{"$f":"リスト!K199","v":0},{"$f":"リスト!L199","v":0},{"$f":"リスト!M199","v":0},{"$f":"リスト!N199","v":0}]
[{"$f":"リスト!A200","v":"　"},{"$f":"リスト!B200","v":0},{"$f":"リスト!C200","v":0},{"$f":"リスト!D200","v":0},{"$f":"リスト!E200","v":0},{"$f":"リスト!F200","v":0},{"$f":"リスト!G200","v":0},{"$f":"リスト!H200","v":0},{"$f":"リスト!I200","v":0},{"$f":"リスト!J200","v":0},{"$f":"リスト!K200","v":0},{"$f":"リスト!L200","v":0},{"$f":"リスト!M200","v":0},{"$f":"リスト!N200","v":0}]
[{"$f":"リスト!A201","v":"　"},{"$f":"リスト!B201","v":0},{"$f":"リスト!C201","v":0},{"$f":"リスト!D201","v":0},{"$f":"リスト!E201","v":0},{"$f":"リスト!F201","v":0},{"$f":"リスト!G201","v":0},{"$f":"リスト!H201","v":0},{"$f":"リスト!I201","v":0},{"$f":"リスト!J201","v":0},{"$f":"リスト!K201","v":0},{"$f":"リスト!L201","v":0},{"$f":"リスト!M201","v":0},{"$f":"リスト!N201","v":0}]

{"sheet":"全国（個人）","index":3,"n_rows":340,"n_cols":30,"rows_kept":340,"cut":false,"hidden":false,"merged":[[4,1,4,3],[4,4,4,7],[4,8,4,11],[4,12,4,15],[4,16,4,19],[7,3,7,9],[7,14,7,20],[0,1,0,21],[1,1,1,3],[1,4,1,19],[2,1,2,19],[3,1,3,3],[3,4,3,7],[3,8,3,11],[3,12,3,15],[3,16,3,19],[8,3,8,8],[8,14,8,19],[9,0,11,0],[9,1,59,1],[9,3,9,8],[9,11,11,11],[9,12,59,12],[9,14,9,19],[10,3,10,8],[10,14,10,19],[11,3,11,8],[11,14,11,19],[12,0,14,0],[12,3,12,8],[12,11,14,11],[12,14,12,19],[13,3,13,8],[13,14,13,19],[14,3,14,8],[14,14,14,19],[18,0,20,0],[18,3,18,8],[18,11,20,11],[18,14,18,19],[19,3,19,8],[19,14,19,19],[20,3,20,8],[20,14,20,19],[15,0,17,0],[15,3,15,8],[15,11,17,11],[15,14,15,19],[16,3,16,8],[16,14,16,19],[17,3,17,8],[17,14,17,19],[24,0,26,0],[24,3,24,8],[24,11,26,11],[24,14,24,19],[25,3,25,8],[25,14,25,19],[26,3,26,8],[26,14,26,19],[21,0,23,0],[21,3,21,8],[21,11,23,11],[21,14,21,19],[22,3,22,8],[22,14,22,19],[23,3,23,8],[23,14,23,19],[30,0,32,0],[30,3,30,8],[30,11,32,11],[30,14,30,19],[31,3,31,8],[31,14,31,19],[32,3,32,8],[32,14,32,19],[27,0,29,0],[27,3,27,8],[27,11,29,11],[27,14,27,19],[28,3,28,8],[28,14,28,19],[29,3,29,8],[29,14,29,19],[36,0,38,0],[36,3,36,8],[36,11,38,11],[36,14,36,19],[37,3,37,8],[37,14,37,19],[38,3,38,8],[38,14,38,19],[33,0,35,0],[33,3,33,8],[33,11,35,11],[33,14,33,19],[34,3,34,8],[34,14,34,19],[35,3,35,8],[35,14,35,19],[42,0,44,0],[42,3,42,8],[42,11,44,11],[42,14,42,19],[43,3,43,8],[43,14,43,19],[44,3,44,8],[44,14,44,19],[39,0,41,0],[39,3,39,8],[39,11,41,11],[39,14,39,19],[40,3,40,8],[40,14,40,19],[41,3,41,8],[41,14,41,19],[48,0,50,0],[48,3,48,8],[48,11,50,11],[48,14,48,19],[49,3,49,8],[49,14,49,19],[50,3,50,8],[50,14,50,19],[45,0,47,0],[45,3,45,8],[45,11,47,11],[45,14,45,19],[46,3,46,8],[46,14,46,19],[47,3,47,8],[47,14,47,19],[54,0,56,0],[54,3,54,8],[54,11,56,11],[54,14,54,19],[55,3,55,8],[55,14,55,19],[56,3,56,8],[56,14,56,19],[51,0,53,0],[51,3,51,8],[51,11,53,11],[51,14,51,19],[52,3,52,8],[52,14,52,19],[53,3,53,8],[53,14,53,19],[60,1,60,2],[60,3,60,8],[60,12,60,13],[60,14,60,19],[57,0,59,0],[57,3,57,8],[57,11,59,11],[57,14,57,19],[58,3,58,8],[58,14,58,19],[59,3,59,8],[59,14,59,19]]}
[null,"令和6年度茨城県高等学校総合体育大会兼全国高等学校弓道大会茨城県予選会兼茨城県民総合体育大\n会兼国民スポーツ大会茨城県大会（個人競技）申し込み\n\n",null,null,null,null,null,null,null,null,null,null,null,null,null,null,null,null,null,null,null,null,null,null,6,20,21,22,23,24]
[null,"学校名\n（正式名称）",null,null,null,null,null,null,null,null,null,null,null,null,null,null,null,null,null,null,null,null,null,null,{"$f":"IF(ISERROR(VLOOKUP($E$2,$A$66:$AD$138,Y1,FALSE)),\"\",VLOOKUP($E$2,$A$66:$AD$138,Y1,FALSE))","v":""},"","","","",""]
[null,"引率者"]
[null,"5月31日（金）\n男子",null,null,null,null,null,null,null,null,null,null,null,null,null,null,null,null,null,null,"昼食の数"]
[null,"6月1日（土）\n女子",null,null,null,null,null,null,null,null,null,null,null,null,null,null,null,null,null,null,"昼食の数"]
[]
[null,null,null,null,null,null,null,null,"※引率2人目以降はこちらに入力"]
[null,"男子",null,null,null,null,null,null,null,null,null,null,"女子"]
[null,null,"立順","選手名",null,null,null,null,null,"学年",null,null,null,"立順","選手名",null,null,null,null,null,"学年"]
["A","上級生を上に入力して下さい。同一学校・同一学年ごとに立順の順番でプログラムを構成します（学年別で競技が実施されるため）。",1,null,null,null,null,null,null,{"$f":"IF(LEN(D10)=0,\"\",VLOOKUP(D10,リスト!$A$3:$N$201,3,FALSE))","v":""},{"$f":"IF(LEN(D10)=0,\"\",VLOOKUP(D10,リスト!$A$3:$N$201,2,FALSE))","v":""},"A","上級生を上に入力して下さい。同一学校・同一学年ごとに立順の順番でプログラムを構成します（学年別で競技が実施されるため）。",1,null,null,null,null,null,null,{"$f":"IF(LEN(O10)=0,\"\",VLOOKUP(O10,リスト!$A$3:$N$201,3,FALSE))","v":""},{"$f":"IF(LEN(O10)=0,\"\",VLOOKUP(O10,リスト!$A$3:$N$201,2,FALSE))","v":""},null,null,{"$f":"COUNTA(D10:I12)","v":0},{"$f":"COUNTA(O10:T12)","v":0}]
[null,null,2,null,null,null,null,null,null,{"$f":"IF(LEN(D11)=0,\"\",VLOOKUP(D11,リスト!$A$3:$N$201,3,FALSE))","v":""},{"$f":"IF(LEN(D11)=0,\"\",VLOOKUP(D11,リスト!$A$3:$N$201,2,FALSE))","v":""},null,null,2,null,null,null,null,null,null,{"$f":"IF(LEN(O11)=0,\"\",VLOOKUP(O11,リスト!$A$3:$N$201,3,FALSE))","v":""},{"$f":"IF(LEN(O11)=0,\"\",VLOOKUP(O11,リスト!$A$3:$N$201,2,FALSE))","v":""},null,null,{"$f":"COUNTA(D10:I12)","v":0},{"$f":"COUNTA(O10:T12)","v":0}]
[null,null,3,null,null,null,null,null,null,{"$f":"IF(LEN(D12)=0,\"\",VLOOKUP(D12,リスト!$A$3:$N$201,3,FALSE))","v":""},{"$f":"IF(LEN(D12)=0,\"\",VLOOKUP(D12,リスト!$A$3:$N$201,2,FALSE))","v":""},null,null,3,null,null,null,null,null,null,{"$f":"IF(LEN(O12)=0,\"\",VLOOKUP(O12,リスト!$A$3:$N$201,3,FALSE))","v":""},{"$f":"IF(LEN(O12)=0,\"\",VLOOKUP(O12,リスト!$A$3:$N$201,2,FALSE))","v":""},null,null,{"$f":"COUNTA(D10:I12)","v":0},{"$f":"COUNTA(O10:T12)","v":0}]
["B",null,4,null,null,null,null,null,null,{"$f":"IF(LEN(D13)=0,\"\",VLOOKUP(D13,リスト!$A$3:$N$201,3,FALSE))","v":""},{"$f":"IF(LEN(D13)=0,\"\",VLOOKUP(D13,リスト!$A$3:$N$201,2,FALSE))","v":""},"B",null,4,null,null,null,null,null,null,{"$f":"IF(LEN(O13)=0,\"\",VLOOKUP(O13,リスト!$A$3:$N$201,3,FALSE))","v":""},{"$f":"IF(LEN(O13)=0,\"\",VLOOKUP(O13,リスト!$A$3:$N$201,2,FALSE))","v":""},null,null,{"$f":"COUNTA(D13:I15)","v":0},{"$f":"COUNTA(O13:T15)","v":0}]
[null,null,5,null,null,null,null,null,null,{"$f":"IF(LEN(D14)=0,\"\",VLOOKUP(D14,リスト!$A$3:$N$201,3,FALSE))","v":""},{"$f":"IF(LEN(D14)=0,\"\",VLOOKUP(D14,リスト!$A$3:$N$201,2,FALSE))","v":""},null,null,5,null,null,null,null,null,null,{"$f":"IF(LEN(O14)=0,\"\",VLOOKUP(O14,リスト!$A$3:$N$201,3,FALSE))","v":""},{"$f":"IF(LEN(O14)=0,\"\",VLOOKUP(O14,リスト!$A$3:$N$201,2,FALSE))","v":""},null,null,{"$f":"COUNTA(D13:I15)","v":0},{"$f":"COUNTA(O13:T15)","v":0}]
[null,null,6,null,null,null,null,null,null,{"$f":"IF(LEN(D15)=0,\"\",VLOOKUP(D15,リスト!$A$3:$N$201,3,FALSE))","v":""},{"$f":"IF(LEN(D15)=0,\"\",VLOOKUP(D15,リスト!$A$3:$N$201,2,FALSE))","v":""},null,null,6,null,null,null,null,null,null,{"$f":"IF(LEN(O15)=0,\"\",VLOOKUP(O15,リスト!$A$3:$N$201,3,FALSE))","v":""},{"$f":"IF(LEN(O15)=0,\"\",VLOOKUP(O15,リスト!$A$3:$N$201,2,FALSE))","v":""},null,null,{"$f":"COUNTA(D13:I15)","v":0},{"$f":"COUNTA(O13:T15)","v":0}]
["C",null,7,null,null,null,null,null,null,{"$f":"IF(LEN(D16)=0,\"\",VLOOKUP(D16,リスト!$A$3:$N$201,3,FALSE))","v":""},{"$f":"IF(LEN(D16)=0,\"\",VLOOKUP(D16,リスト!$A$3:$N$201,2,FALSE))","v":""},"C",null,7,null,null,null,null,null,null,{"$f":"IF(LEN(O16)=0,\"\",VLOOKUP(O16,リスト!$A$3:$N$201,3,FALSE))","v":""},{"$f":"IF(LEN(O16)=0,\"\",VLOOKUP(O16,リスト!$A$3:$N$201,2,FALSE))","v":""},null,null,{"$f":"COUNTA(D16:I18)","v":0},{"$f":"COUNTA(O16:T18)","v":0}]
[null,null,8,null,null,null,null,null,null,{"$f":"IF(LEN(D17)=0,\"\",VLOOKUP(D17,リスト!$A$3:$N$201,3,FALSE))","v":""},{"$f":"IF(LEN(D17)=0,\"\",VLOOKUP(D17,リスト!$A$3:$N$201,2,FALSE))","v":""},null,null,8,null,null,null,null,null,null,{"$f":"IF(LEN(O17)=0,\"\",VLOOKUP(O17,リスト!$A$3:$N$201,3,FALSE))","v":""},{"$f":"IF(LEN(O17)=0,\"\",VLOOKUP(O17,リスト!$A$3:$N$201,2,FALSE))","v":""},null,null,{"$f":"COUNTA(D16:I18)","v":0},{"$f":"COUNTA(O16:T18)","v":0}]
[null,null,9,null,null,null,null,null,null,{"$f":"IF(LEN(D18)=0,\"\",VLOOKUP(D18,リスト!$A$3:$N$201,3,FALSE))","v":""},{"$f":"IF(LEN(D18)=0,\"\",VLOOKUP(D18,リスト!$A$3:$N$201,2,FALSE))","v":""},null,null,9,null,null,null,null,null,null,{"$f":"IF(LEN(O18)=0,\"\",VLOOKUP(O18,リスト!$A$3:$N$201,3,FALSE))","v":""},{"$f":"IF(LEN(O18)=0,\"\",VLOOKUP(O18,リスト!$A$3:$N$201,2,FALSE))","v":""},null,null,{"$f":"COUNTA(D16:I18)","v":0},{"$f":"COUNTA(O16:T18)","v":0}]
["D",null,10,null,null,null,null,null,null,{"$f":"IF(LEN(D19)=0,\"\",VLOOKUP(D19,リスト!$A$3:$N$201,3,FALSE))","v":""},{"$f":"IF(LEN(D19)=0,\"\",VLOOKUP(D19,リスト!$A$3:$N$201,2,FALSE))","v":""},"D",null,10,null,null,null,null,null,null,{"$f":"IF(LEN(O19)=0,\"\",VLOOKUP(O19,リスト!$A$3:$N$201,3,FALSE))","v":""},{"$f":"IF(LEN(O19)=0,\"\",VLOOKUP(O19,リスト!$A$3:$N$201,2,FALSE))","v":""},null,null,{"$f":"COUNTA(D19:I21)","v":0},{"$f":"COUNTA(O19:T21)","v":0}]
[null,null,11,null,null,null,null,null,null,{"$f":"IF(LEN(D20)=0,\"\",VLOOKUP(D20,リスト!$A$3:$N$201,3,FALSE))","v":""},{"$f":"IF(LEN(D20)=0,\"\",VLOOKUP(D20,リスト!$A$3:$N$201,2,FALSE))","v":""},null,null,11,null,null,null,null,null,null,{"$f":"IF(LEN(O20)=0,\"\",VLOOKUP(O20,リスト!$A$3:$N$201,3,FALSE))","v":""},{"$f":"IF(LEN(O20)=0,\"\",VLOOKUP(O20,リスト!$A$3:$N$201,2,FALSE))","v":""},null,null,{"$f":"COUNTA(D19:I21)","v":0},{"$f":"COUNTA(O19:T21)","v":0}]
[null,null,12,null,null,null,null,null,null,{"$f":"IF(LEN(D21)=0,\"\",VLOOKUP(D21,リスト!$A$3:$N$201,3,FALSE))","v":""},{"$f":"IF(LEN(D21)=0,\"\",VLOOKUP(D21,リスト!$A$3:$N$201,2,FALSE))","v":""},null,null,12,null,null,null,null,null,null,{"$f":"IF(LEN(O21)=0,\"\",VLOOKUP(O21,リスト!$A$3:$N$201,3,FALSE))","v":""},{"$f":"IF(LEN(O21)=0,\"\",VLOOKUP(O21,リスト!$A$3:$N$201,2,FALSE))","v":""},null,null,{"$f":"COUNTA(D19:I21)","v":0},{"$f":"COUNTA(O19:T21)","v":0}]
["E",null,13,null,null,null,null,null,null,{"$f":"IF(LEN(D22)=0,\"\",VLOOKUP(D22,リスト!$A$3:$N$201,3,FALSE))","v":""},{"$f":"IF(LEN(D22)=0,\"\",VLOOKUP(D22,リスト!$A$3:$N$201,2,FALSE))","v":""},"E",null,13,null,null,null,null,null,null,{"$f":"IF(LEN(O22)=0,\"\",VLOOKUP(O22,リスト!$A$3:$N$201,3,FALSE))","v":""},{"$f":"IF(LEN(O22)=0,\"\",VLOOKUP(O22,リスト!$A$3:$N$201,2,FALSE))","v":""},null,null,{"$f":"COUNTA(D22:I24)","v":0},{"$f":"COUNTA(O22:T24)","v":0}]
[null,null,14,null,null,null,null,null,null,{"$f":"IF(LEN(D23)=0,\"\",VLOOKUP(D23,リスト!$A$3:$N$201,3,FALSE))","v":""},{"$f":"IF(LEN(D23)=0,\"\",VLOOKUP(D23,リスト!$A$3:$N$201,2,FALSE))","v":""},null,null,14,null,null,null,null,null,null,{"$f":"IF(LEN(O23)=0,\"\",VLOOKUP(O23,リスト!$A$3:$N$201,3,FALSE))","v":""},{"$f":"IF(LEN(O23)=0,\"\",VLOOKUP(O23,リスト!$A$3:$N$201,2,FALSE))","v":""},null,null,{"$f":"COUNTA(D22:I24)","v":0},{"$f":"COUNTA(O22:T24)","v":0}]
[null,null,15,null,null,null,null,null,null,{"$f":"IF(LEN(D24)=0,\"\",VLOOKUP(D24,リスト!$A$3:$N$201,3,FALSE))","v":""},{"$f":"IF(LEN(D24)=0,\"\",VLOOKUP(D24,リスト!$A$3:$N$201,2,FALSE))","v":""},null,null,15,null,null,null,null,null,null,{"$f":"IF(LEN(O24)=0,\"\",VLOOKUP(O24,リスト!$A$3:$N$201,3,FALSE))","v":""},{"$f":"IF(LEN(O24)=0,\"\",VLOOKUP(O24,リスト!$A$3:$N$201,2,FALSE))","v":""},null,null,{"$f":"COUNTA(D22:I24)","v":0},{"$f":"COUNTA(O22:T24)","v":0}]
["F",null,16,null,null,null,null,null,null,{"$f":"IF(LEN(D25)=0,\"\",VLOOKUP(D25,リスト!$A$3:$N$201,3,FALSE))","v":""},{"$f":"IF(LEN(D25)=0,\"\",VLOOKUP(D25,リスト!$A$3:$N$201,2,FALSE))","v":""},"F",null,16,null,null,null,null,null,null,{"$f":"IF(LEN(O25)=0,\"\",VLOOKUP(O25,リスト!$A$3:$N$201,3,FALSE))","v":""},{"$f":"IF(LEN(O25)=0,\"\",VLOOKUP(O25,リスト!$A$3:$N$201,2,FALSE))","v":""},null,null,{"$f":"COUNTA(D25:I27)","v":0},{"$f":"COUNTA(O25:T27)","v":0}]
[null,null,17,null,null,null,null,null,null,{"$f":"IF(LEN(D26)=0,\"\",VLOOKUP(D26,リスト!$A$3:$N$201,3,FALSE))","v":""},{"$f":"IF(LEN(D26)=0,\"\",VLOOKUP(D26,リスト!$A$3:$N$201,2,FALSE))","v":""},null,null,17,null,null,null,null,null,null,{"$f":"IF(LEN(O26)=0,\"\",VLOOKUP(O26,リスト!$A$3:$N$201,3,FALSE))","v":""},{"$f":"IF(LEN(O26)=0,\"\",VLOOKUP(O26,リスト!$A$3:$N$201,2,FALSE))","v":""},null,null,{"$f":"COUNTA(D25:I27)","v":0},{"$f":"COUNTA(O25:T27)","v":0}]
[null,null,18,null,null,null,null,null,null,{"$f":"IF(LEN(D27)=0,\"\",VLOOKUP(D27,リスト!$A$3:$N$201,3,FALSE))","v":""},{"$f":"IF(LEN(D27)=0,\"\",VLOOKUP(D27,リスト!$A$3:$N$201,2,FALSE))","v":""},null,null,18,null,null,null,null,null,null,{"$f":"IF(LEN(O27)=0,\"\",VLOOKUP(O27,リスト!$A$3:$N$201,3,FALSE))","v":""},{"$f":"IF(LEN(O27)=0,\"\",VLOOKUP(O27,リスト!$A$3:$N$201,2,FALSE))","v":""},null,null,{"$f":"COUNTA(D25:I27)","v":0},{"$f":"COUNTA(O25:T27)","v":0}]
["G",null,19,null,null,null,null,null,null,{"$f":"IF(LEN(D28)=0,\"\",VLOOKUP(D28,リスト!$A$3:$N$201,3,FALSE))","v":""},{"$f":"IF(LEN(D28)=0,\"\",VLOOKUP(D28,リスト!$A$3:$N$201,2,FALSE))","v":""},"G",null,19,null,null,null,null,null,null,{"$f":"IF(LEN(O28)=0,\"\",VLOOKUP(O28,リスト!$A$3:$N$201,3,FALSE))","v":""},{"$f":"IF(LEN(O28)=0,\"\",VLOOKUP(O28,リスト!$A$3:$N$201,2,FALSE))","v":""},null,null,{"$f":"COUNTA(D28:I30)","v":0},{"$f":"COUNTA(O28:T30)","v":0}]
[null,null,20,null,null,null,null,null,null,{"$f":"IF(LEN(D29)=0,\"\",VLOOKUP(D29,リスト!$A$3:$N$201,3,FALSE))","v":""},{"$f":"IF(LEN(D29)=0,\"\",VLOOKUP(D29,リスト!$A$3:$N$201,2,FALSE))","v":""},null,null,20,null,null,null,null,null,null,{"$f":"IF(LEN(O29)=0,\"\",VLOOKUP(O29,リスト!$A$3:$N$201,3,FALSE))","v":""},{"$f":"IF(LEN(O29)=0,\"\",VLOOKUP(O29,リスト!$A$3:$N$201,2,FALSE))","v":""},null,null,{"$f":"COUNTA(D28:I30)","v":0},{"$f":"COUNTA(O28:T30)","v":0}]
[null,null,21,null,null,null,null,null,null,{"$f":"IF(LEN(D30)=0,\"\",VLOOKUP(D30,リスト!$A$3:$N$201,3,FALSE))","v":""},{"$f":"IF(LEN(D30)=0,\"\",VLOOKUP(D30,リスト!$A$3:$N$201,2,FALSE))","v":""},null,null,21,null,null,null,null,null,null,{"$f":"IF(LEN(O30)=0,\"\",VLOOKUP(O30,リスト!$A$3:$N$201,3,FALSE))","v":""},{"$f":"IF(LEN(O30)=0,\"\",VLOOKUP(O30,リスト!$A$3:$N$201,2,FALSE))","v":""},null,null,{"$f":"COUNTA(D28:I30)","v":0},{"$f":"COUNTA(O28:T30)","v":0}]
["H",null,22,null,null,null,null,null,null,{"$f":"IF(LEN(D31)=0,\"\",VLOOKUP(D31,リスト!$A$3:$N$201,3,FALSE))","v":""},{"$f":"IF(LEN(D31)=0,\"\",VLOOKUP(D31,リスト!$A$3:$N$201,2,FALSE))","v":""},"H",null,22,null,null,null,null,null,null,{"$f":"IF(LEN(O31)=0,\"\",VLOOKUP(O31,リスト!$A$3:$N$201,3,FALSE))","v":""},{"$f":"IF(LEN(O31)=0,\"\",VLOOKUP(O31,リスト!$A$3:$N$201,2,FALSE))","v":""},null,null,{"$f":"COUNTA(D31:I33)","v":0},{"$f":"COUNTA(O31:T33)","v":0}]
[null,null,23,null,null,null,null,null,null,{"$f":"IF(LEN(D32)=0,\"\",VLOOKUP(D32,リスト!$A$3:$N$201,3,FALSE))","v":""},{"$f":"IF(LEN(D32)=0,\"\",VLOOKUP(D32,リスト!$A$3:$N$201,2,FALSE))","v":""},null,null,23,null,null,null,null,null,null,{"$f":"IF(LEN(O32)=0,\"\",VLOOKUP(O32,リスト!$A$3:$N$201,3,FALSE))","v":""},{"$f":"IF(LEN(O32)=0,\"\",VLOOKUP(O32,リスト!$A$3:$N$201,2,FALSE))","v":""},null,null,{"$f":"COUNTA(D31:I33)","v":0},{"$f":"COUNTA(O31:T33)","v":0}]
[null,null,24,null,null,null,null,null,null,{"$f":"IF(LEN(D33)=0,\"\",VLOOKUP(D33,リスト!$A$3:$N$201,3,FALSE))","v":""},{"$f":"IF(LEN(D33)=0,\"\",VLOOKUP(D33,リスト!$A$3:$N$201,2,FALSE))","v":""},null,null,24,null,null,null,null,null,null,{"$f":"IF(LEN(O33)=0,\"\",VLOOKUP(O33,リスト!$A$3:$N$201,3,FALSE))","v":""},{"$f":"IF(LEN(O33)=0,\"\",VLOOKUP(O33,リスト!$A$3:$N$201,2,FALSE))","v":""},null,null,{"$f":"COUNTA(D31:I33)","v":0},{"$f":"COUNTA(O31:T33)","v":0}]
["I",null,25,null,null,null,null,null,null,{"$f":"IF(LEN(D34)=0,\"\",VLOOKUP(D34,リスト!$A$3:$N$201,3,FALSE))","v":""},{"$f":"IF(LEN(D34)=0,\"\",VLOOKUP(D34,リスト!$A$3:$N$201,2,FALSE))","v":""},"I",null,25,null,null,null,null,null,null,{"$f":"IF(LEN(O34)=0,\"\",VLOOKUP(O34,リスト!$A$3:$N$201,3,FALSE))","v":""},{"$f":"IF(LEN(O34)=0,\"\",VLOOKUP(O34,リスト!$A$3:$N$201,2,FALSE))","v":""},null,null,{"$f":"COUNTA(D34:I36)","v":0},{"$f":"COUNTA(O34:T36)","v":0}]
[null,null,26,null,null,null,null,null,null,{"$f":"IF(LEN(D35)=0,\"\",VLOOKUP(D35,リスト!$A$3:$N$201,3,FALSE))","v":""},{"$f":"IF(LEN(D35)=0,\"\",VLOOKUP(D35,リスト!$A$3:$N$201,2,FALSE))","v":""},null,null,26,null,null,null,null,null,null,{"$f":"IF(LEN(O35)=0,\"\",VLOOKUP(O35,リスト!$A$3:$N$201,3,FALSE))","v":""},{"$f":"IF(LEN(O35)=0,\"\",VLOOKUP(O35,リスト!$A$3:$N$201,2,FALSE))","v":""},null,null,{"$f":"COUNTA(D34:I36)","v":0},{"$f":"COUNTA(O34:T36)","v":0}]
[null,null,27,null,null,null,null,null,null,{"$f":"IF(LEN(D36)=0,\"\",VLOOKUP(D36,リスト!$A$3:$N$201,3,FALSE))","v":""},{"$f":"IF(LEN(D36)=0,\"\",VLOOKUP(D36,リスト!$A$3:$N$201,2,FALSE))","v":""},null,null,27,null,null,null,null,null,null,{"$f":"IF(LEN(O36)=0,\"\",VLOOKUP(O36,リスト!$A$3:$N$201,3,FALSE))","v":""},{"$f":"IF(LEN(O36)=0,\"\",VLOOKUP(O36,リスト!$A$3:$N$201,2,FALSE))","v":""},null,null,{"$f":"COUNTA(D34:I36)","v":0},{"$f":"COUNTA(O34:T36)","v":0}]
["J",null,28,null,null,null,null,null,null,{"$f":"IF(LEN(D37)=0,\"\",VLOOKUP(D37,リスト!$A$3:$N$201,3,FALSE))","v":""},{"$f":"IF(LEN(D37)=0,\"\",VLOOKUP(D37,リスト!$A$3:$N$201,2,FALSE))","v":""},"J",null,28,null,null,null,null,null,null,{"$f":"IF(LEN(O37)=0,\"\",VLOOKUP(O37,リスト!$A$3:$N$201,3,FALSE))","v":""},{"$f":"IF(LEN(O37)=0,\"\",VLOOKUP(O37,リスト!$A$3:$N$201,2,FALSE))","v":""},null,null,{"$f":"COUNTA(D37:I39)","v":0},{"$f":"COUNTA(O37:T39)","v":0}]
[null,null,29,null,null,null,null,null,null,{"$f":"IF(LEN(D38)=0,\"\",VLOOKUP(D38,リスト!$A$3:$N$201,3,FALSE))","v":""},{"$f":"IF(LEN(D38)=0,\"\",VLOOKUP(D38,リスト!$A$3:$N$201,2,FALSE))","v":""},null,null,29,null,null,null,null,null,null,{"$f":"IF(LEN(O38)=0,\"\",VLOOKUP(O38,リスト!$A$3:$N$201,3,FALSE))","v":""},{"$f":"IF(LEN(O38)=0,\"\",VLOOKUP(O38,リスト!$A$3:$N$201,2,FALSE))","v":""},null,null,{"$f":"COUNTA(D37:I39)","v":0},{"$f":"COUNTA(O37:T39)","v":0}]
[null,null,30,null,null,null,null,null,null,{"$f":"IF(LEN(D39)=0,\"\",VLOOKUP(D39,リスト!$A$3:$N$201,3,FALSE))","v":""},{"$f":"IF(LEN(D39)=0,\"\",VLOOKUP(D39,リスト!$A$3:$N$201,2,FALSE))","v":""},null,null,30,null,null,null,null,null,null,{"$f":"IF(LEN(O39)=0,\"\",VLOOKUP(O39,リスト!$A$3:$N$201,3,FALSE))","v":""},{"$f":"IF(LEN(O39)=0,\"\",VLOOKUP(O39,リスト!$A$3:$N$201,2,FALSE))","v":""},null,null,{"$f":"COUNTA(D37:I39)","v":0},{"$f":"COUNTA(O37:T39)","v":0}]
["K",null,31,null,null,null,null,null,null,{"$f":"IF(LEN(D40)=0,\"\",VLOOKUP(D40,リスト!$A$3:$N$201,3,FALSE))","v":""},{"$f":"IF(LEN(D40)=0,\"\",VLOOKUP(D40,リスト!$A$3:$N$201,2,FALSE))","v":""},"K",null,31,null,null,null,null,null,null,{"$f":"IF(LEN(O40)=0,\"\",VLOOKUP(O40,リスト!$A$3:$N$201,3,FALSE))","v":""},{"$f":"IF(LEN(O40)=0,\"\",VLOOKUP(O40,リスト!$A$3:$N$201,2,FALSE))","v":""},null,null,{"$f":"COUNTA(D40:I42)","v":0},{"$f":"COUNTA(O40:T42)","v":0}]
[null,null,32,null,null,null,null,null,null,{"$f":"IF(LEN(D41)=0,\"\",VLOOKUP(D41,リスト!$A$3:$N$201,3,FALSE))","v":""},{"$f":"IF(LEN(D41)=0,\"\",VLOOKUP(D41,リスト!$A$3:$N$201,2,FALSE))","v":""},null,null,32,null,null,null,null,null,null,{"$f":"IF(LEN(O41)=0,\"\",VLOOKUP(O41,リスト!$A$3:$N$201,3,FALSE))","v":""},{"$f":"IF(LEN(O41)=0,\"\",VLOOKUP(O41,リスト!$A$3:$N$201,2,FALSE))","v":""},null,null,{"$f":"COUNTA(D40:I42)","v":0},{"$f":"COUNTA(O40:T42)","v":0}]
[null,null,33,null,null,null,null,null,null,{"$f":"IF(LEN(D42)=0,\"\",VLOOKUP(D42,リスト!$A$3:$N$201,3,FALSE))","v":""},{"$f":"IF(LEN(D42)=0,\"\",VLOOKUP(D42,リスト!$A$3:$N$201,2,FALSE))","v":""},null,null,33,null,null,null,null,null,null,{"$f":"IF(LEN(O42)=0,\"\",VLOOKUP(O42,リスト!$A$3:$N$201,3,FALSE))","v":""},{"$f":"IF(LEN(O42)=0,\"\",VLOOKUP(O42,リスト!$A$3:$N$201,2,FALSE))","v":""},null,null,{"$f":"COUNTA(D40:I42)","v":0},{"$f":"COUNTA(O40:T42)","v":0}]
["L",null,34,null,null,null,null,null,null,{"$f":"IF(LEN(D43)=0,\"\",VLOOKUP(D43,リスト!$A$3:$N$201,3,FALSE))","v":""},{"$f":"IF(LEN(D43)=0,\"\",VLOOKUP(D43,リスト!$A$3:$N$201,2,FALSE))","v":""},"L",null,34,null,null,null,null,null,null,{"$f":"IF(LEN(O43)=0,\"\",VLOOKUP(O43,リスト!$A$3:$N$201,3,FALSE))","v":""},{"$f":"IF(LEN(O43)=0,\"\",VLOOKUP(O43,リスト!$A$3:$N$201,2,FALSE))","v":""},null,null,{"$f":"COUNTA(D43:I45)","v":0},{"$f":"COUNTA(O43:T45)","v":0}]
[null,null,35,null,null,null,null,null,null,{"$f":"IF(LEN(D44)=0,\"\",VLOOKUP(D44,リスト!$A$3:$N$201,3,FALSE))","v":""},{"$f":"IF(LEN(D44)=0,\"\",VLOOKUP(D44,リスト!$A$3:$N$201,2,FALSE))","v":""},null,null,35,null,null,null,null,null,null,{"$f":"IF(LEN(O44)=0,\"\",VLOOKUP(O44,リスト!$A$3:$N$201,3,FALSE))","v":""},{"$f":"IF(LEN(O44)=0,\"\",VLOOKUP(O44,リスト!$A$3:$N$201,2,FALSE))","v":""},null,null,{"$f":"COUNTA(D43:I45)","v":0},{"$f":"COUNTA(O43:T45)","v":0}]
[null,null,36,null,null,null,null,null,null,{"$f":"IF(LEN(D45)=0,\"\",VLOOKUP(D45,リスト!$A$3:$N$201,3,FALSE))","v":""},{"$f":"IF(LEN(D45)=0,\"\",VLOOKUP(D45,リスト!$A$3:$N$201,2,FALSE))","v":""},null,null,36,null,null,null,null,null,null,{"$f":"IF(LEN(O45)=0,\"\",VLOOKUP(O45,リスト!$A$3:$N$201,3,FALSE))","v":""},{"$f":"IF(LEN(O45)=0,\"\",VLOOKUP(O45,リスト!$A$3:$N$201,2,FALSE))","v":""},null,null,{"$f":"COUNTA(D43:I45)","v":0},{"$f":"COUNTA(O43:T45)","v":0}]
["M",null,37,null,null,null,null,null,null,{"$f":"IF(LEN(D46)=0,\"\",VLOOKUP(D46,リスト!$A$3:$N$201,3,FALSE))","v":""},{"$f":"IF(LEN(D46)=0,\"\",VLOOKUP(D46,リスト!$A$3:$N$201,2,FALSE))","v":""},"M",null,37,null,null,null,null,null,null,{"$f":"IF(LEN(O46)=0,\"\",VLOOKUP(O46,リスト!$A$3:$N$201,3,FALSE))","v":""},{"$f":"IF(LEN(O46)=0,\"\",VLOOKUP(O46,リスト!$A$3:$N$201,2,FALSE))","v":""},null,null,{"$f":"COUNTA(D46:I48)","v":0},{"$f":"COUNTA(O46:T48)","v":0}]
[null,null,38,null,null,null,null,null,null,{"$f":"IF(LEN(D47)=0,\"\",VLOOKUP(D47,リスト!$A$3:$N$201,3,FALSE))","v":""},{"$f":"IF(LEN(D47)=0,\"\",VLOOKUP(D47,リスト!$A$3:$N$201,2,FALSE))","v":""},null,null,38,null,null,null,null,null,null,{"$f":"IF(LEN(O47)=0,\"\",VLOOKUP(O47,リスト!$A$3:$N$201,3,FALSE))","v":""},{"$f":"IF(LEN(O47)=0,\"\",VLOOKUP(O47,リスト!$A$3:$N$201,2,FALSE))","v":""},null,null,{"$f":"COUNTA(D46:I48)","v":0},{"$f":"COUNTA(O46:T48)","v":0}]
[null,null,39,null,null,null,null,null,null,{"$f":"IF(LEN(D48)=0,\"\",VLOOKUP(D48,リスト!$A$3:$N$201,3,FALSE))","v":""},{"$f":"IF(LEN(D48)=0,\"\",VLOOKUP(D48,リスト!$A$3:$N$201,2,FALSE))","v":""},null,null,39,null,null,null,null,null,null,{"$f":"IF(LEN(O48)=0,\"\",VLOOKUP(O48,リスト!$A$3:$N$201,3,FALSE))","v":""},{"$f":"IF(LEN(O48)=0,\"\",VLOOKUP(O48,リスト!$A$3:$N$201,2,FALSE))","v":""},null,null,{"$f":"COUNTA(D46:I48)","v":0},{"$f":"COUNTA(O46:T48)","v":0}]
["N",null,40,null,null,null,null,null,null,{"$f":"IF(LEN(D49)=0,\"\",VLOOKUP(D49,リスト!$A$3:$N$201,3,FALSE))","v":""},{"$f":"IF(LEN(D49)=0,\"\",VLOOKUP(D49,リスト!$A$3:$N$201,2,FALSE))","v":""},"N",null,40,null,null,null,null,null,null,{"$f":"IF(LEN(O49)=0,\"\",VLOOKUP(O49,リスト!$A$3:$N$201,3,FALSE))","v":""},{"$f":"IF(LEN(O49)=0,\"\",VLOOKUP(O49,リスト!$A$3:$N$201,2,FALSE))","v":""},null,null,{"$f":"COUNTA(D49:I51)","v":0},{"$f":"COUNTA(O49:T51)","v":0}]
[null,null,41,null,null,null,null,null,null,{"$f":"IF(LEN(D50)=0,\"\",VLOOKUP(D50,リスト!$A$3:$N$201,3,FALSE))","v":""},{"$f":"IF(LEN(D50)=0,\"\",VLOOKUP(D50,リスト!$A$3:$N$201,2,FALSE))","v":""},null,null,41,null,null,null,null,null,null,{"$f":"IF(LEN(O50)=0,\"\",VLOOKUP(O50,リスト!$A$3:$N$201,3,FALSE))","v":""},{"$f":"IF(LEN(O50)=0,\"\",VLOOKUP(O50,リスト!$A$3:$N$201,2,FALSE))","v":""},null,null,{"$f":"COUNTA(D49:I51)","v":0},{"$f":"COUNTA(O49:T51)","v":0}]
[null,null,42,null,null,null,null,null,null,{"$f":"IF(LEN(D51)=0,\"\",VLOOKUP(D51,リスト!$A$3:$N$201,3,FALSE))","v":""},{"$f":"IF(LEN(D51)=0,\"\",VLOOKUP(D51,リスト!$A$3:$N$201,2,FALSE))","v":""},null,null,42,null,null,null,null,null,null,{"$f":"IF(LEN(O51)=0,\"\",VLOOKUP(O51,リスト!$A$3:$N$201,3,FALSE))","v":""},{"$f":"IF(LEN(O51)=0,\"\",VLOOKUP(O51,リスト!$A$3:$N$201,2,FALSE))","v":""},null,null,{"$f":"COUNTA(D49:I51)","v":0},{"$f":"COUNTA(O49:T51)","v":0}]
["O",null,43,null,null,null,null,null,null,{"$f":"IF(LEN(D52)=0,\"\",VLOOKUP(D52,リスト!$A$3:$N$201,3,FALSE))","v":""},{"$f":"IF(LEN(D52)=0,\"\",VLOOKUP(D52,リスト!$A$3:$N$201,2,FALSE))","v":""},"O",null,43,null,null,null,null,null,null,{"$f":"IF(LEN(O52)=0,\"\",VLOOKUP(O52,リスト!$A$3:$N$201,3,FALSE))","v":""},{"$f":"IF(LEN(O52)=0,\"\",VLOOKUP(O52,リスト!$A$3:$N$201,2,FALSE))","v":""},null,null,{"$f":"COUNTA(D52:I54)","v":0},{"$f":"COUNTA(O52:T54)","v":0}]
[null,null,44,null,null,null,null,null,null,{"$f":"IF(LEN(D53)=0,\"\",VLOOKUP(D53,リスト!$A$3:$N$201,3,FALSE))","v":""},{"$f":"IF(LEN(D53)=0,\"\",VLOOKUP(D53,リスト!$A$3:$N$201,2,FALSE))","v":""},null,null,44,null,null,null,null,null,null,{"$f":"IF(LEN(O53)=0,\"\",VLOOKUP(O53,リスト!$A$3:$N$201,3,FALSE))","v":""},{"$f":"IF(LEN(O53)=0,\"\",VLOOKUP(O53,リスト!$A$3:$N$201,2,FALSE))","v":""},null,null,{"$f":"COUNTA(D52:I54)","v":0},{"$f":"COUNTA(O52:T54)","v":0}]
[null,null,45,null,null,null,null,null,null,{"$f":"IF(LEN(D54)=0,\"\",VLOOKUP(D54,リスト!$A$3:$N$201,3,FALSE))","v":""},{"$f":"IF(LEN(D54)=0,\"\",VLOOKUP(D54,リスト!$A$3:$N$201,2,FALSE))","v":""},null,null,45,null,null,null,null,null,null,{"$f":"IF(LEN(O54)=0,\"\",VLOOKUP(O54,リスト!$A$3:$N$201,3,FALSE))","v":""},{"$f":"IF(LEN(O54)=0,\"\",VLOOKUP(O54,リスト!$A$3:$N$201,2,FALSE))","v":""},null,null,{"$f":"COUNTA(D52:I54)","v":0},{"$f":"COUNTA(O52:T54)","v":0}]
["P",null,46,null,null,null,null,null,null,{"$f":"IF(LEN(D55)=0,\"\",VLOOKUP(D55,リスト!$A$3:$N$201,3,FALSE))","v":""},{"$f":"IF(LEN(D55)=0,\"\",VLOOKUP(D55,リスト!$A$3:$N$201,2,FALSE))","v":""},"P",null,46,null,null,null,null,null,null,{"$f":"IF(LEN(O55)=0,\"\",VLOOKUP(O55,リスト!$A$3:$N$201,3,FALSE))","v":""},{"$f":"IF(LEN(O55)=0,\"\",VLOOKUP(O55,リスト!$A$3:$N$201,2,FALSE))","v":""},null,null,{"$f":"COUNTA(D55:I57)","v":0},{"$f":"COUNTA(O55:T57)","v":0}]
[null,null,47,null,null,null,null,null,null,{"$f":"IF(LEN(D56)=0,\"\",VLOOKUP(D56,リスト!$A$3:$N$201,3,FALSE))","v":""},{"$f":"IF(LEN(D56)=0,\"\",VLOOKUP(D56,リスト!$A$3:$N$201,2,FALSE))","v":""},null,null,47,null,null,null,null,null,null,{"$f":"IF(LEN(O56)=0,\"\",VLOOKUP(O56,リスト!$A$3:$N$201,3,FALSE))","v":""},{"$f":"IF(LEN(O56)=0,\"\",VLOOKUP(O56,リスト!$A$3:$N$201,2,FALSE))","v":""},null,null,{"$f":"COUNTA(D55:I57)","v":0},{"$f":"COUNTA(O55:T57)","v":0}]
[null,null,48,null,null,null,null,null,null,{"$f":"IF(LEN(D57)=0,\"\",VLOOKUP(D57,リスト!$A$3:$N$201,3,FALSE))","v":""},{"$f":"IF(LEN(D57)=0,\"\",VLOOKUP(D57,リスト!$A$3:$N$201,2,FALSE))","v":""},null,null,48,null,null,null,null,null,null,{"$f":"IF(LEN(O57)=0,\"\",VLOOKUP(O57,リスト!$A$3:$N$201,3,FALSE))","v":""},{"$f":"IF(LEN(O57)=0,\"\",VLOOKUP(O57,リスト!$A$3:$N$201,2,FALSE))","v":""},null,null,{"$f":"COUNTA(D55:I57)","v":0},{"$f":"COUNTA(O55:T57)","v":0}]
["Q",null,49,null,null,null,null,null,null,{"$f":"IF(LEN(D58)=0,\"\",VLOOKUP(D58,リスト!$A$3:$N$201,3,FALSE))","v":""},{"$f":"IF(LEN(D58)=0,\"\",VLOOKUP(D58,リスト!$A$3:$N$201,2,FALSE))","v":""},"Q",null,49,null,null,null,null,null,null,{"$f":"IF(LEN(O58)=0,\"\",VLOOKUP(O58,リスト!$A$3:$N$201,3,FALSE))","v":""},{"$f":"IF(LEN(O58)=0,\"\",VLOOKUP(O58,リスト!$A$3:$N$201,2,FALSE))","v":""},null,null,{"$f":"COUNTA(D58:I60)","v":0},{"$f":"COUNTA(O58:T60)","v":0}]
[null,null,50,null,null,null,null,null,null,{"$f":"IF(LEN(D59)=0,\"\",VLOOKUP(D59,リスト!$A$3:$N$201,3,FALSE))","v":""},{"$f":"IF(LEN(D59)=0,\"\",VLOOKUP(D59,リスト!$A$3:$N$201,2,FALSE))","v":""},null,null,50,null,null,null,null,null,null,{"$f":"IF(LEN(O59)=0,\"\",VLOOKUP(O59,リスト!$A$3:$N$201,3,FALSE))","v":""},{"$f":"IF(LEN(O59)=0,\"\",VLOOKUP(O59,リスト!$A$3:$N$201,2,FALSE))","v":""},null,null,{"$f":"COUNTA(D58:I60)","v":0},{"$f":"COUNTA(O58:T60)","v":0}]
[null,null,51,null,null,null,null,null,null,{"$f":"IF(LEN(D60)=0,\"\",VLOOKUP(D60,リスト!$A$3:$N$201,3,FALSE))","v":""},{"$f":"IF(LEN(D60)=0,\"\",VLOOKUP(D60,リスト!$A$3:$N$201,2,FALSE))","v":""},null,null,51,null,null,null,null,null,null,{"$f":"IF(LEN(O60)=0,\"\",VLOOKUP(O60,リスト!$A$3:$N$201,3,FALSE))","v":""},{"$f":"IF(LEN(O60)=0,\"\",VLOOKUP(O60,リスト!$A$3:$N$201,2,FALSE))","v":""},null,null,{"$f":"COUNTA(D58:I60)","v":0},{"$f":"COUNTA(O58:T60)","v":0}]
[]
[]
[]
[]
[]
[{"$f":"I66","v":"日立第一高等学校"},1,1,1,"日一","日立一","県立",0,"日立第一高等学校","日立第一","ひたちだいいち","男","女","317-0063","日立市若葉町3-15-1","0294-22-6488","31700630294-22-64880294-21-4490","0294-21-4490","磯邉　裕一","志賀　達哉","安斎　正人","坂本　八穂","大場　久美子","　",null,{"$f":"COUNTA(O64:T66)","v":6}]
[{"$f":"I67","v":"日立第二高等学校"},1,2,2,"日二","日立二","県立",0,"日立第二高等学校","日立第二","ひたちだいに","","女","317-0071","日立市鹿島町3-2-1","0294-22-3254","31700710294-22-32540294-21-4583","0294-21-4583","蛭田　清孝","本田　由子","井手　悠賀","石川　翔子","　","　",null,{"$f":"COUNTA(N67:S69)","v":18}]
["日立商業高等学校",1,3,3,"日商","日立商","県立",0,"日立商業高等学校","日立商業","ひたちしょうぎょう","男","女","319-1222","日立市久慈町6-20-1","0294-52-4779","31912220294-52-47790294-53-8243","0294-53-8243","栗田　武志","真仲　泰成","岡見　伸行","青山　紀子","　","　",null,{"$f":"COUNTA(N67:S69)","v":18}]
["日立北高等学校",1,4,4,"日北","日立北","県立",0,"日立北高等学校","日立北","ひたちきた","男","女","319-1411","日立市川尻町6-11-1","0294-43-2101","31914110294-43-21010294-43-7967","0294-43-7967","清水　秀一","矢部　克美","小中　貴司","鈴木　利佳","　","　",null,{"$f":"COUNTA(N67:S69)","v":18}]
["磯原郷英高等学校",1,5,5,"磯郷","磯郷英","県立",0,"磯原郷英高等学校","磯原郷英","いそはらきょうえい","男","女","319-1541","北茨城市磯原町磯原912","0293-42-0260","31915410293-42-02600293-42-6545","0293-42-6545","長山　祐司","松浦　祥吾","鈴木　光雄","　","　","　"]
["太田第一高等学校",1,6,6,"太一","太田一","県立",0,"太田第一高等学校","太田第一","おおただいいち","男","女","313-0005","常陸太田市栄町58","0294-72-2115","31300050294-72-21150294-72-2119","0294-72-2119","谷津　勉","西野　志津子","重中　茜","　","　","　"]
["太田西山高等学校",1,7,7,"西山","太西山","県立",0,"太田西山高等学校","太田西山","おおたせいざん","男","女","313-0007","常陸太田市新宿町210","0294-72-2136","31300070294-72-21360294-72-2147","0294-72-2147","菊池　幸惠","黒川　誠","佐伯　祐","　","　","　"]
["小瀬高等学校",1,1,8,"小瀬","小瀬","県立",0,"小瀬高等学校","小　　瀬","おせ","男","女","319-2401","常陸大宮市上小瀬1881","0295-56-2204","31924010295-56-22040295-56-3804","0295-56-3804","山下　則雄","北嶋　大輔","野上　勇","　","　","　"]
["常陸大宮高等学校",2,2,9,"常大","常大宮","県立",0,"常陸大宮高等学校","常陸大宮","みとだいいち","男","","319-2255","常陸大宮市野中町3257-2","0295-52-2175","31922550295-52-21750295-53-6914","0295-53-6914","堀川　洋","西野　有希","倉持　太陽","　","　","　"]
["水戸第一高等学校",2,3,10,"水一","水戸一","県立",0,"水戸第一高等学校","水戸第一","みとだいに","男","女","310-0011","水戸市三の丸3-10-1","029-224-2254","3100011029-224-2254029-225-5694","029-225-5694","御厩　祐司","石井　孝典","金井　正人","　","　","　"]
["水戸第二高等学校",2,4,11,"水二","水戸二","県立",0,"水戸第二高等学校","水戸第二","みとだいさん","","女","310-0062","水戸市大町2-2-14","029-224-2543","3100062029-224-2543029-225-5049","029-225-5049","渡邉　剛","恩田　洋一","梶原　拓光","　","　","　"]
["水戸第三高等学校",2,5,12,"水三","水戸三","県立",0,"水戸第三高等学校","水戸第三","みどりおか","","女","310-0011","水戸市三の丸2-7-27","029-224-2044","3100011029-224-2044029-225-4524","029-225-4524","南雲　康司","深谷　拓","辺見　知子","　","　","　"]
["緑岡高等学校",2,6,13,"緑岡","緑岡","県立",0,"緑岡高等学校","緑　　岡","みとこうぎょう","男","女","310-0852","水戸市笠原町1284","029-241-0311","3100852029-241-0311029-241-7929","029-241-7929","今瀬　一博","田口　泰子","楠　正則","小塚　由紀子","野村　勝美","　"]
["水戸工業高等学校",2,7,14,"水工","水戸工","県立",0,"水戸工業高等学校","水戸工業","みとさくらのまき","男","女","310-0836","水戸市元吉田町1101","029-247-5711","3100836029-247-5711029-248-6399","029-248-6399","久松　政信","牧田　幸博","関口　仁","　","　","　"]
["水戸桜ノ牧高等学校",2,8,15,"桜牧","桜ノ牧","県立",0,"水戸桜ノ牧高等学校","水戸桜ノ牧","さわ","男","女","310-0914","水戸市小吹町2070","029-243-3644","3100914029-243-3644029-241-9642","029-241-9642","秋山　克巳","坂本　裕哉","梶山　潤","寺内　芳江","　","　"]
["佐和高等学校",2,9,16,"佐和","佐和","県立",0,"佐和高等学校","佐　　和","かさま","男","女","312-0061","ひたちなか市稲田636-1","029-285-1819","30916110296-72-11710296-72-2590","029-285-8401","鈴木　猛","辻元　誠之","清水　智子","　","　","　"]
["那珂湊高等学校",2,10,17,"那湊","那珂湊","県立",0,"那珂湊高等学校","那 珂 湊","かさま","男","女","311-1224","ひたちなか市山ノ上町4-6","029-262-2642","3111224029-262-2642029-263-3961","029-263-3961","鈴木　富美子","関口　昭","満生　香子","　","　","　"]
["笠間高等学校",2,11,18,"笠間","笠間","県立",0,"笠間高等学校","笠　　間","みとさくらのまきじょうほく","男","女","309-1611","笠間市笠間1668","0296-72-1171","30916110296-72-11710296-72-2590","0296-72-2590","渡邉　英一","人見　広章","　","　","　","　"]
["水戸桜ノ牧高等学校常北校",2,12,19,"常北","常北","県立",0,"水戸桜ノ牧高等学校常北校","水戸桜ノ牧常北","とうかい","男","","311-4306","東茨城郡城里町春園1634","029-288-2028","3114306029-288-2028029-288-4969","029-288-4969","秋山　克巳","大図　卓也","安蔵　恭吾","海老原　洋法","　","　"]
["東海高等学校",2,13,20,"東海","東海","県立",0,"東海高等学校","東　　海","いばらきひがし","男","女","319-1112","那珂郡東海村大字村松771-1","029-282-7501","3191112029-282-7501029-287-1328","029-287-1328","正木　昇","荒木　広大","小田　義雄","　","　","　"]
["茨城東高等学校",2,14,21,"茨東","茨城東","県立",0,"茨城東高等学校","茨 城 東","なか","男","女","311-3157","東茨城郡茨城町小幡2524","029-292-6245","3113157029-292-6245029-292-2405","029-292-2405","上田　英雄","菅野　学","飯田　延稔","　","　","　"]
["那珂高等学校",2,15,22,"那珂","那珂","県立",0,"那珂高等学校","那　　珂","いばらき","男","女","311-0111","那珂市後台1710-1","029-295-2710","3110111029-295-2710029-295-4640","029-295-4640","阿内　勉","大内　麻子","朝比奈　泰紀","　","　","　"]
["茨城高等学校",2,16,23,"茨城","茨城","","私立","茨城高等学校","茨　　城","すいじょう","男","女","310-0065","水戸市八幡町16-1","029-221-4936","3100065029-221-4936029-221-4923","029-221-4923","梶　克治","遠藤　康","作山　友孝","　","　","　"]
["水城高等学校",2,17,24,"水城","水城",0,"私立","水城高等学校","水　　城","いばらきこうぎょうこうとうせんもん","男","女","310-0804","水戸市白梅2-1-45","029-247-6509","3100804029-247-6509029-248-7252","029-248-7252","小田部　幹夫","中村　諒","武田　悠平","　","　","　"]
["茨城工業高等専門学校",2,18,25,"高専","茨高専","国立",0,"茨城工業高等専門学校","茨城工業高等専門学校","ほこただいいち","男","女","312-8508","ひたちなか市中根866","029-272-5201","3128508029-272-5201029-271-2813","029-271-2813","鈴木　秋弘","丸山　智章","平本　留理","大津　麻紀子","　","　"]
["鉾田第一高等学校",3,1,26,"鉾一","鉾田一","県立",0,"鉾田第一高等学校","鉾田第一","ほこただいに","男","女","311-1517","鉾田市鉾田1090-2","0291-33-2161","31115170291-33-21610291-33-6086","0291-33-6086","飯山　美都子","星　浩一","杉山　公実子","　","　","　"]
["鉾田第二高等学校",3,2,27,"鉾二","鉾田二","県立",0,"鉾田第二高等学校","鉾田第二","たまつくりこうぎょう","男","女","311-1517","鉾田市鉾田1158","0291-33-2171","31115170291-33-21710291-33-6093","0291-33-6093","海老澤　浩一","沼里　民子","廣原　嘉明","　","　","　"]
["玉造工業高等学校",3,3,28,"玉工","玉造工","県立",0,"玉造工業高等学校","玉造工業","あそう","男","女","311-3501","行方市芹沢1552","0299-55-0138","31135010299-55-01380299-55-3454","0299-55-3454","大塚　哲蔵","小畑　繁","　","　","　","　"]
["麻生高等学校",3,4,29,"麻生","麻生","県立",0,"麻生高等学校","麻　　生","いたこ","男","女","311-3832","行方市麻生1806","0299-72-0098","31138320299-72-00980299-72-2317","0299-72-2317","園部　晃嗣","齊藤　啓","森作　実玖也","　","　","　"]
["潮来高等学校",3,5,30,"潮来","潮来","県立",0,"潮来高等学校","潮　　来","かしま","男","女","311-2448","潮来市須賀3025","0299-66-2142","31124480299-66-21420299-66-2670","0299-66-2670","小澤　茂幸","萩原　卓","飯島　愛美","髙野　深愛","　","　"]
["鹿島高等学校",3,6,31,"鹿島","鹿島","県立",0,"鹿島高等学校","鹿　　島","はさき","男","女","314-0038","鹿嶋市城山2-2-19","0299-82-1903","31400380299-82-19030299-84-1547","0299-84-1547","小沼　浩幸","山口　薫","青塚　明香","甲　良美","谷田部　大地","　"]
["波崎高等学校",3,7,32,"波崎","波崎","県立",0,"波崎高等学校","波　　崎","せいしんがくえん","男","女","314-0343","神栖市土合本町2-9928-1","0479-48-0044","31403430479-48-00440479-48-4679","0479-48-4679","高橋　秀樹","山田　宏","　","　","　","　"]
["清真学園高等学校",3,8,33,"清真","清真学",0,"私立","清真学園高等学校","清真学園","つちうらだいいち","男","女","314-0031","鹿嶋市宮中伏見4448-5","0299-83-1811","31400310299-83-18110299-83-6414","0299-83-6414","飯山　克則","炭谷　崇人","佐久間　和彰","釜田　啓市","清野　千里","　"]
["土浦第一高等学校",4,1,34,"土一","土浦一","県立",0,"土浦第一高等学校","土浦第一","つちうらだいに","男","女","300-0051","土浦市真鍋4-4-2","029-822-0137","3000051029-822-0137029-826-3521","029-826-3521","プラニク　ヨゲンドラ","柴沼　陽","大野　岳志","　","　","　"]
["土浦第二高等学校",4,2,35,"土二","土浦二","県立",0,"土浦第二高等学校","土浦第二","つちうらだいさん","男","女","300-0041","土浦市立田町9-6","029-822-5027","3000041029-822-5027029-826-3522","029-826-3522","深谷　靖","塚本　晋太郎","土井　和恵","　","　","杉山　尚之"]
["土浦第三高等学校",4,3,36,"土三","土浦三","県立",0,"土浦第三高等学校","土浦第三","つちうらこうぎょう","男","女","300-0835","土浦市大岩田1599","029-821-1605","3000835029-821-1605029-826-3523","029-826-3523","渡邊　聡","松本　現","鎌田　千亜紀","石井　美香","　","　"]
["土浦工業高等学校",4,4,37,"土工","土浦工","県立",0,"土浦工業高等学校","土浦工業","いしおかだいいち","男","女","300-0051","土浦市真鍋6-11-20","029-821-1953","3000051029-821-1953029-822-6924","029-822-6924","後藤　光彦","千葉　一茂","福岡　聖美","蓼沼　正弘","　","　"]
["石岡第一高等学校",4,5,38,"石一","石岡一","県立",0,"石岡第一高等学校","石岡第一","いしおかだいに","男","女","315-0001","石岡市石岡1-9","0299-22-4135","31500010299-22-41350299-22-6289","0299-22-6289","櫻井　隆之","川村　理絵","土居　義邦","前野　和美","　","　"]
["石岡第二高等学校",4,6,39,"石二","石岡二","県立",0,"石岡第二高等学校","石岡第二","いしおかしょうぎょう","男","女","315-0013","石岡市府中5-14-14","0299-23-2101","31500130299-23-21010299-23-4895","0299-23-4895","鈴木　教生","門井　寿通","岡田　睦美","　","　","　"]
["石岡商業高等学校",4,7,40,"石商","石岡商","県立",0,"石岡商業高等学校","石岡商業","つちうらにほんだいがく","男","女","315-0033","石岡市東光台3-4-1","0299-26-4138","31500330299-26-41380299-26-1029","0299-26-1029","木戸　智子","青柳　優","森作　明美","　","　","　"]
["土浦日本大学高等学校",4,8,41,"土日","土日大",0,{"$error":"#REF!"},"土浦日本大学高等学校","土浦日本大学","じょうそうがくいん","男","女","300-0826","土浦市小松ケ丘町4-46","029-822-3382","3000826029-822-3382029-823-8743","029-823-8743","伊藤　哲也","中川　久倫","阿久井　琉菜","　","　","　"]
["常総学院高等学校",4,9,42,"常総","常総学",0,"私立","常総学院高等学校","常総学院","かすみがうら","男","女","300-0849","土浦市中村西根1010","029-842-8771","3000849029-842-8771029-841-1808","029-841-1808","壁谷　恵","宮本　和明","柴山　紗矢香","塚本　重毅","ステント　ブラッドリー","　"]
["霞ケ浦高等学校",4,10,43,"霞浦","霞ヶ浦",0,"私立","霞ケ浦高等学校","霞 ケ 浦","つちうらにほんだいがくちゅうとうきょういくがっこう","男","女","300-0301","稲敷郡阿見町青宿50","029-887-0013","3000301029-887-0013029-887-9380","029-887-9380","岡村　守","桜井　恭平","柳澤　雅世","　","　","　"]
["土浦日本大学中等教育学校",4,11,44,"土中","土中等",0,"私立","土浦日本大学中等教育学校","土浦日本大学中等教育学校",{"$error":"#REF!"},"男","女","300-0826","土浦市小松ケ丘町4-46","029-822-3386","3000826029-822-3386029-835-3538","029-835-3538","堀切　浩一","塩原　崇","佐藤　錬","　","　","　"]
["竜ケ崎第一高等学校",5,1,45,"竜一","竜崎一","県立",0,"竜ケ崎第一高等学校","竜ケ崎第一","りゅうがさきだいに","男","女","301-0844","龍ヶ崎市平畑248","0297-62-2146","30108440297-62-21460297-62-9836","0297-62-9836","太田垣　淳一","八重柏　由佳","石川　瑶子","前田　将貴","　","　"]
["竜ケ崎第二高等学校",5,2,46,"竜二","竜崎二","県立",0,"竜ケ崎第二高等学校","竜ケ崎第二","りゅうがさきみなみ","男","女","301-0834","龍ケ崎市3087","0297-62-3078","30108340297-62-30780297-62-9850","0297-62-9850","箕輪　文子","前田　彬貴","小吹　光","　","　","　"]
["竜ケ崎南高等学校",5,3,47,"竜南","竜崎南","県立",0,"竜ケ崎南高等学校","竜ケ崎南","えどさきそうごう","男","","301-0021","龍ケ崎市北方町120","0297-64-2167","30100210297-64-21670297-64-5241","0297-64-5241","須藤　一道","飛田　樹","杉浦　拓郎","　","　","　"]
["江戸崎総合高等学校",5,4,48,"江総","江総合","県立",0,"江戸崎総合高等学校","江戸崎総合","とりでだいいち","男","女","300-0504","稲敷市江戸崎甲476-2","029-892-2103","3000504029-892-2103029-892-3957","029-892-3957","川田　　利行","篠崎　美穂","河野　亮一","渡邉　怜奈","　","　"]
["取手第一高等学校",5,5,49,"取一","取手一","県立",0,"取手第一高等学校","取手第一","とりでだいに","男","女","302-0013","取手市台宿2-4-1","0297-72-1348","30200130297-72-13480297-73-7814","0297-73-7814","高野　健二","山中　範子","高木　渉","後藤　裕一","　","久保田　清"]
["取手第二高等学校",5,6,50,"取二","取手二","県立",0,"取手第二高等学校","取手第二","ふじしろ","","女","302-0005","取手市東2-5-1","0297-73-0049","30200050297-73-00490297-73-7821","0297-73-7821","池田　聡","寺田　和馬","　","　","　","　"]
["藤代高等学校",5,7,51,"藤代","藤代","県立",0,"藤代高等学校","藤　　代","うしく","男","女","300-1537","取手市毛有640","0297-82-6283","30015370297-82-62830297-82-6021","0297-82-6021","根本　雄一","深堀　いずみ","富岡　美和","木村　愛","　","　"]
["牛久高等学校",5,8,52,"牛久","牛久","県立",0,"牛久高等学校","牛    久","うしくえいしん","男","女","300-1204","牛久市岡見町2081-1","029-873-6220","3001204029-873-6220029-874-8580","029-874-8580","田﨑　泰昭","人見　正敏","塚本　貞行","　","　","　"]
["牛久栄進高等学校",5,9,53,"栄進","牛栄進","県立",0,"牛久栄進高等学校","牛久栄進","とうようだいうしく","男","女","300-1201","牛久市東猯穴町876","029-843-3110","3001201029-843-3110029-842-1891","029-842-1891","奈良　由紀子","坂井　昌平","宇野　香代子","門井　美奈子","　","　"]
["東洋大学付属牛久高等学校",5,10,54,"東牛","東牛久",0,"私立","東洋大学付属牛久高等学校","東洋大学附属牛久","あいこくがくえんだいがくふぞくりゅうがさき","男","女","300-1211","牛久市柏田町1360-2","029-872-0924","3001211029-872-0924029-874-1055","029-874-1055","金澤　利明","江橋　正安","大島　優子","　","　","　"]
["江戸川学園取手高等学校",5,11,55,"江学","江戸川",0,"私立","江戸川学園取手高等学校","江戸川学園取手","あいこくがくえんだいがくふぞくりゅうがさき","男","女","302-0025","取手市西1-37-1","0297-74-8771","30200250297-74-87710297-73-4851","0297-73-4851","山本　宏之","関　貴之","野田　泰誠","　","　","明間　勲"]
["愛国学園大学附属龍ケ崎高等学校",5,12,56,"愛国","愛国学",0,"私立","愛国学園大学附属龍ケ崎高等学校","愛国学園大学附属龍ケ崎","つくば","","女","301-0041","龍ケ崎市若柴町2747","0297-66-0757","30100410297-66-07570297-66-0526","0297-66-0526","倉持　正男","坂本　渉","柴崎　智宣","　","　","　"]
["筑波高等学校",6,1,57,"筑波","筑波","県立",0,"筑波高等学校","筑　　波","たけぞの","男","女","300-4231","つくば市北条4387","029-867-0041","3004231029-867-0041029-867-4688","029-867-4688","鈴木　恒一","山北　大志","門井　浩","菊池　郁治","吉田　浩昭","林田　國洋"]
["竹園高等学校",6,2,58,"竹園","竹園","県立",0,"竹園高等学校","竹　　園","つくばこうか","男","女","305-0032","つくば市竹園3-9-1","029-851-7515","3050032029-851-7515029-852-5533","029-852-5533","辻　武　晴","宮内　雅史","今　瀬　英一朗","上　本　達　也","　","　"]
["つくば工科高等学校",6,3,59,"工科","つ工科","県立",0,"つくば工科高等学校","つくば工科","いわせ","男","女","305-0861","つくば市谷田部1818","029-836-1441","3050861029-836-1441029-836-4700","029-836-4700","石塚　照美","信戸　修一","三浦　秀之","　","　","　"]
["岩瀬高等学校",6,4,60,"岩瀬","岩瀬","県立",0,"岩瀬高等学校","岩　　瀬","しもだてだいいち","男","女","309-1294","桜川市岩瀬1511-1","0296-75-2475","30912940296-75-24750296-75-4906","0296-75-4906","西條　礼子","堀　裕美","市村　瀬里","藤森　知恵子","　","　"]
["下館第一高等学校",6,5,61,"館一","下館一","県立",0,"下館第一高等学校","下館第一",{"$error":"#REF!"},"男","女","308-0825","筑西市下中山590","0296-24-6344","30808250296-24-63440296-25-4673","0296-25-4673","木村　功","星野　雅一","海老名　晶弓","中島　陽樹","　","岩田　隆"]
["下館第二高等学校",6,6,62,"館二","下館二","県立",0,"下館第二高等学校","下館第二","しもつまだいいち","男","女","308-0051","筑西市岡芹一丁目37","0296-22-5361",{"$error":"#REF!"},"0296-25-4683","池田　恭彦","柴　弥寿子","斉藤　由起子","　","　","　"]
["明野高等学校",6,7,63,"明野","明野","県立",0,"明野高等学校","明野","しもつまだいに","男","女","300-4515","筑西市倉持1176-1","0296-52-3121",{"$error":"#REF!"},"0296-52-5869","井上　剛","塚原　千秋","真家　大輔","望月　ありさ","　","　"]
["下妻第一高等学校",6,8,64,"妻一","下妻一","県立",0,"下妻第一高等学校","下妻第一",{"$error":"#REF!"},"男","女","304-0067","下妻市下妻乙226-1","0296-44-5158","30400670296-44-25490296-43-9173","0296-43-9172","生井　秀一","中泉　尚人","濵野　美智","坂入　純子","　","　"]
["下妻第二高等学校",6,9,65,"妻二","下妻二","県立",0,"下妻第二高等学校","下妻第二","みつかいどうだいいち","男","女","304-0067","下妻市下妻乙347-8","0296-44-2549","30400670296-44-25490296-43-9173","0296-43-9173","島根　千春","大垣　朋也","福永　弘","　","　","　"]
[{"$f":"I131","v":"水海道第一高等学校"},6,10,66,"海一","水海一","県立",0,"水海道第一高等学校","水海道第一","こがだいに","男","女","303-0025","常総市水海道亀岡町2543","0297-22-0029","30300250297-22-00290297-22-5479","0297-22-5479","福田　崇","緒方　響","髙藤　啓光","　","　","　"]
["八千代高等学校",6,11,67,"八千代","八千代","県立",0,"八千代高等学校","八 千 代","こがだいさん","男","女","300-3561","結城郡八千代町大字平塚4824-2","0296-48-1836","30600240280-32-04440280-31-6602","0296-48-3201","榊原　洋子","鈴木　千裕","藤白　祐佳","　","　","　"]
["古河第二高等学校",6,12,68,"古二","古河二","県立",0,"古河第二高等学校","古河第二","さんわ","男","女","306-0024","古河市幸町19-18","0280-32-0444","30600240280-32-04440280-31-6602","0280-31-6602","有瀧　由起子","海野　俊介","栗原　邦男","　","　","　"]
["古河第三高等学校",6,13,69,"古三","古河三","県立",0,"古河第三高等学校","古河第三","さかい","男","女","306-0054","古河市中田新田12-1","0280-48-2755","30601230280-76-49590280-76-4935","0280-48-5424","早川　尚人","秋葉　尚子","山中　英憲","立川　正信","　","　"]
["三和高等学校",6,14,70,"三和","三和","県立",0,"三和高等学校","三　　和","もりや","男","女","306-0123","古河市五部54-1","0280-76-4959","30601230280-76-49590280-76-4935","0280-76-4935","鈴木　厚子","小島　彩華","諏訪　主樹","　","　","　"]
["境高等学校",6,15,71,"境","境","県立",0,"境高等学校","境","つくばしゅうえい","男","女","306-0433","猿島郡境町175","0280-87-0123","30201070297-48-64090297-45-8479","0280-87-5688","新井　智子","齋藤　起輝","吉澤　靖","木村　亜紀子","　","　"]
["守谷高等学校",6,16,72,"守谷","守谷","県立",0,"守谷高等学校","守　　谷",0,"男","女","302-0107","守谷市大木70","0297-48-6409","30201070297-48-64090297-45-8479","0297-45-8479","髙野　美有紀","松﨑　稔昌","本田　敦","早乙女　舞","　","　"]
["つくば秀英高等学校",6,17,73,"秀英","秀英",0,"私立","つくば秀英高等学校","つくば秀英",0,"男","女","300-2655","つくば市島名151","029-847-1611","","029-847-3111","石川　英昭","谷端　弘孝","川喜多　麻里","寺井　誠","福田　恒昭","　"]
[]
[]
[]
[{"$f":"リスト!A3","v":"　"},{"$f":"リスト!B3","v":0},{"$f":"リスト!C3","v":0},{"$f":"リスト!D3","v":0},{"$f":"リスト!E3","v":0},{"$f":"リスト!F3","v":0},{"$f":"リスト!G3","v":0},{"$f":"リスト!H3","v":0},{"$f":"リスト!I3","v":0},{"$f":"リスト!J3","v":0},{"$f":"リスト!K3","v":0},{"$f":"リスト!L3","v":0},{"$f":"リスト!M3","v":0},{"$f":"リスト!N3","v":0}]
[{"$f":"リスト!A4","v":"　"},{"$f":"リスト!B4","v":0},{"$f":"リスト!C4","v":0},{"$f":"リスト!D4","v":0},{"$f":"リスト!E4","v":0},{"$f":"リスト!F4","v":0},{"$f":"リスト!G4","v":0},{"$f":"リスト!H4","v":0},{"$f":"リスト!I4","v":0},{"$f":"リスト!J4","v":0},{"$f":"リスト!K4","v":0},{"$f":"リスト!L4","v":0},{"$f":"リスト!M4","v":0},{"$f":"リスト!N4","v":0}]
[{"$f":"リスト!A5","v":"　"},{"$f":"リスト!B5","v":0},{"$f":"リスト!C5","v":0},{"$f":"リスト!D5","v":0},{"$f":"リスト!E5","v":0},{"$f":"リスト!F5","v":0},{"$f":"リスト!G5","v":0},{"$f":"リスト!H5","v":0},{"$f":"リスト!I5","v":0},{"$f":"リスト!J5","v":0},{"$f":"リスト!K5","v":0},{"$f":"リスト!L5","v":0},{"$f":"リスト!M5","v":0},{"$f":"リスト!N5","v":0}]
[{"$f":"リスト!A6","v":"　"},{"$f":"リスト!B6","v":0},{"$f":"リスト!C6","v":0},{"$f":"リスト!D6","v":0},{"$f":"リスト!E6","v":0},{"$f":"リスト!F6","v":0},{"$f":"リスト!G6","v":0},{"$f":"リスト!H6","v":0},{"$f":"リスト!I6","v":0},{"$f":"リスト!J6","v":0},{"$f":"リスト!K6","v":0},{"$f":"リスト!L6","v":0},{"$f":"リスト!M6","v":0},{"$f":"リスト!N6","v":0}]
[{"$f":"リスト!A7","v":"　"},{"$f":"リスト!B7","v":0},{"$f":"リスト!C7","v":0},{"$f":"リスト!D7","v":0},{"$f":"リスト!E7","v":0},{"$f":"リスト!F7","v":0},{"$f":"リスト!G7","v":0},{"$f":"リスト!H7","v":0},{"$f":"リスト!I7","v":0},{"$f":"リスト!J7","v":0},{"$f":"リスト!K7","v":0},{"$f":"リスト!L7","v":0},{"$f":"リスト!M7","v":0},{"$f":"リスト!N7","v":0}]
[{"$f":"リスト!A8","v":"　"},{"$f":"リスト!B8","v":0},{"$f":"リスト!C8","v":0},{"$f":"リスト!D8","v":0},{"$f":"リスト!E8","v":0},{"$f":"リスト!F8","v":0},{"$f":"リスト!G8","v":0},{"$f":"リスト!H8","v":0},{"$f":"リスト!I8","v":0},{"$f":"リスト!J8","v":0},{"$f":"リスト!K8","v":0},{"$f":"リスト!L8","v":0},{"$f":"リスト!M8","v":0},{"$f":"リスト!N8","v":0}]
[{"$f":"リスト!A9","v":"　"},{"$f":"リスト!B9","v":0},{"$f":"リスト!C9","v":0},{"$f":"リスト!D9","v":0},{"$f":"リスト!E9","v":0},{"$f":"リスト!F9","v":0},{"$f":"リスト!G9","v":0},{"$f":"リスト!H9","v":0},{"$f":"リスト!I9","v":0},{"$f":"リスト!J9","v":0},{"$f":"リスト!K9","v":0},{"$f":"リスト!L9","v":0},{"$f":"リスト!M9","v":0},{"$f":"リスト!N9","v":0}]
[{"$f":"リスト!A10","v":"　"},{"$f":"リスト!B10","v":0},{"$f":"リスト!C10","v":0},{"$f":"リスト!D10","v":0},{"$f":"リスト!E10","v":0},{"$f":"リスト!F10","v":0},{"$f":"リスト!G10","v":0},{"$f":"リスト!H10","v":0},{"$f":"リスト!I10","v":0},{"$f":"リスト!J10","v":0},{"$f":"リスト!K10","v":0},{"$f":"リスト!L10","v":0},{"$f":"リスト!M10","v":0},{"$f":"リスト!N10","v":0}]
[{"$f":"リスト!A11","v":"　"},{"$f":"リスト!B11","v":0},{"$f":"リスト!C11","v":0},{"$f":"リスト!D11","v":0},{"$f":"リスト!E11","v":0},{"$f":"リスト!F11","v":0},{"$f":"リスト!G11","v":0},{"$f":"リスト!H11","v":0},{"$f":"リスト!I11","v":0},{"$f":"リスト!J11","v":0},{"$f":"リスト!K11","v":0},{"$f":"リスト!L11","v":0},{"$f":"リスト!M11","v":0},{"$f":"リスト!N11","v":0}]
[{"$f":"リスト!A12","v":"　"},{"$f":"リスト!B12","v":0},{"$f":"リスト!C12","v":0},{"$f":"リスト!D12","v":0},{"$f":"リスト!E12","v":0},{"$f":"リスト!F12","v":0},{"$f":"リスト!G12","v":0},{"$f":"リスト!H12","v":0},{"$f":"リスト!I12","v":0},{"$f":"リスト!J12","v":0},{"$f":"リスト!K12","v":0},{"$f":"リスト!L12","v":0},{"$f":"リスト!M12","v":0},{"$f":"リスト!N12","v":0}]
[{"$f":"リスト!A13","v":"　"},{"$f":"リスト!B13","v":0},{"$f":"リスト!C13","v":0},{"$f":"リスト!D13","v":0},{"$f":"リスト!E13","v":0},{"$f":"リスト!F13","v":0},{"$f":"リスト!G13","v":0},{"$f":"リスト!H13","v":0},{"$f":"リスト!I13","v":0},{"$f":"リスト!J13","v":0},{"$f":"リスト!K13","v":0},{"$f":"リスト!L13","v":0},{"$f":"リスト!M13","v":0},{"$f":"リスト!N13","v":0}]
[{"$f":"リスト!A14","v":"　"},{"$f":"リスト!B14","v":0},{"$f":"リスト!C14","v":0},{"$f":"リスト!D14","v":0},{"$f":"リスト!E14","v":0},{"$f":"リスト!F14","v":0},{"$f":"リスト!G14","v":0},{"$f":"リスト!H14","v":0},{"$f":"リスト!I14","v":0},{"$f":"リスト!J14","v":0},{"$f":"リスト!K14","v":0},{"$f":"リスト!L14","v":0},{"$f":"リスト!M14","v":0},{"$f":"リスト!N14","v":0}]
[{"$f":"リスト!A15","v":"　"},{"$f":"リスト!B15","v":0},{"$f":"リスト!C15","v":0},{"$f":"リスト!D15","v":0},{"$f":"リスト!E15","v":0},{"$f":"リスト!F15","v":0},{"$f":"リスト!G15","v":0},{"$f":"リスト!H15","v":0},{"$f":"リスト!I15","v":0},{"$f":"リスト!J15","v":0},{"$f":"リスト!K15","v":0},{"$f":"リスト!L15","v":0},{"$f":"リスト!M15","v":0},{"$f":"リスト!N15","v":0}]
[{"$f":"リスト!A16","v":"　"},{"$f":"リスト!B16","v":0},{"$f":"リスト!C16","v":0},{"$f":"リスト!D16","v":0},{"$f":"リスト!E16","v":0},{"$f":"リスト!F16","v":0},{"$f":"リスト!G16","v":0},{"$f":"リスト!H16","v":0},{"$f":"リスト!I16","v":0},{"$f":"リスト!J16","v":0},{"$f":"リスト!K16","v":0},{"$f":"リスト!L16","v":0},{"$f":"リスト!M16","v":0},{"$f":"リスト!N16","v":0}]
[{"$f":"リスト!A17","v":"　"},{"$f":"リスト!B17","v":0},{"$f":"リスト!C17","v":0},{"$f":"リスト!D17","v":0},{"$f":"リスト!E17","v":0},{"$f":"リスト!F17","v":0},{"$f":"リスト!G17","v":0},{"$f":"リスト!H17","v":0},{"$f":"リスト!I17","v":0},{"$f":"リスト!J17","v":0},{"$f":"リスト!K17","v":0},{"$f":"リスト!L17","v":0},{"$f":"リスト!M17","v":0},{"$f":"リスト!N17","v":0}]
[{"$f":"リスト!A18","v":"　"},{"$f":"リスト!B18","v":0},{"$f":"リスト!C18","v":0},{"$f":"リスト!D18","v":0},{"$f":"リスト!E18","v":0},{"$f":"リスト!F18","v":0},{"$f":"リスト!G18","v":0},{"$f":"リスト!H18","v":0},{"$f":"リスト!I18","v":0},{"$f":"リスト!J18","v":0},{"$f":"リスト!K18","v":0},{"$f":"リスト!L18","v":0},{"$f":"リスト!M18","v":0},{"$f":"リスト!N18","v":0}]
[{"$f":"リスト!A19","v":"　"},{"$f":"リスト!B19","v":0},{"$f":"リスト!C19","v":0},{"$f":"リスト!D19","v":0},{"$f":"リスト!E19","v":0},{"$f":"リスト!F19","v":0},{"$f":"リスト!G19","v":0},{"$f":"リスト!H19","v":0},{"$f":"リスト!I19","v":0},{"$f":"リスト!J19","v":0},{"$f":"リスト!K19","v":0},{"$f":"リスト!L19","v":0},{"$f":"リスト!M19","v":0},{"$f":"リスト!N19","v":0}]
[{"$f":"リスト!A20","v":"　"},{"$f":"リスト!B20","v":0},{"$f":"リスト!C20","v":0},{"$f":"リスト!D20","v":0},{"$f":"リスト!E20","v":0},{"$f":"リスト!F20","v":0},{"$f":"リスト!G20","v":0},{"$f":"リスト!H20","v":0},{"$f":"リスト!I20","v":0},{"$f":"リスト!J20","v":0},{"$f":"リスト!K20","v":0},{"$f":"リスト!L20","v":0},{"$f":"リスト!M20","v":0},{"$f":"リスト!N20","v":0}]
[{"$f":"リスト!A21","v":"　"},{"$f":"リスト!B21","v":0},{"$f":"リスト!C21","v":0},{"$f":"リスト!D21","v":0},{"$f":"リスト!E21","v":0},{"$f":"リスト!F21","v":0},{"$f":"リスト!G21","v":0},{"$f":"リスト!H21","v":0},{"$f":"リスト!I21","v":0},{"$f":"リスト!J21","v":0},{"$f":"リスト!K21","v":0},{"$f":"リスト!L21","v":0},{"$f":"リスト!M21","v":0},{"$f":"リスト!N21","v":0}]
[{"$f":"リスト!A22","v":"　"},{"$f":"リスト!B22","v":0},{"$f":"リスト!C22","v":0},{"$f":"リスト!D22","v":0},{"$f":"リスト!E22","v":0},{"$f":"リスト!F22","v":0},{"$f":"リスト!G22","v":0},{"$f":"リスト!H22","v":0},{"$f":"リスト!I22","v":0},{"$f":"リスト!J22","v":0},{"$f":"リスト!K22","v":0},{"$f":"リスト!L22","v":0},{"$f":"リスト!M22","v":0},{"$f":"リスト!N22","v":0}]
[{"$f":"リスト!A23","v":"　"},{"$f":"リスト!B23","v":0},{"$f":"リスト!C23","v":0},{"$f":"リスト!D23","v":0},{"$f":"リスト!E23","v":0},{"$f":"リスト!F23","v":0},{"$f":"リスト!G23","v":0},{"$f":"リスト!H23","v":0},{"$f":"リスト!I23","v":0},{"$f":"リスト!J23","v":0},{"$f":"リスト!K23","v":0},{"$f":"リスト!L23","v":0},{"$f":"リスト!M23","v":0},{"$f":"リスト!N23","v":0}]
[{"$f":"リスト!A24","v":"　"},{"$f":"リスト!B24","v":0},{"$f":"リスト!C24","v":0},{"$f":"リスト!D24","v":0},{"$f":"リスト!E24","v":0},{"$f":"リスト!F24","v":0},{"$f":"リスト!G24","v":0},{"$f":"リスト!H24","v":0},{"$f":"リスト!I24","v":0},{"$f":"リスト!J24","v":0},{"$f":"リスト!K24","v":0},{"$f":"リスト!L24","v":0},{"$f":"リスト!M24","v":0},{"$f":"リスト!N24","v":0}]
[{"$f":"リスト!A25","v":"　"},{"$f":"リスト!B25","v":0},{"$f":"リスト!C25","v":0},{"$f":"リスト!D25","v":0},{"$f":"リスト!E25","v":0},{"$f":"リスト!F25","v":0},{"$f":"リスト!G25","v":0},{"$f":"リスト!H25","v":0},{"$f":"リスト!I25","v":0},{"$f":"リスト!J25","v":0},{"$f":"リスト!K25","v":0},{"$f":"リスト!L25","v":0},{"$f":"リスト!M25","v":0},{"$f":"リスト!N25","v":0}]
[{"$f":"リスト!A26","v":"　"},{"$f":"リスト!B26","v":0},{"$f":"リスト!C26","v":0},{"$f":"リスト!D26","v":0},{"$f":"リスト!E26","v":0},{"$f":"リスト!F26","v":0},{"$f":"リスト!G26","v":0},{"$f":"リスト!H26","v":0},{"$f":"リスト!I26","v":0},{"$f":"リスト!J26","v":0},{"$f":"リスト!K26","v":0},{"$f":"リスト!L26","v":0},{"$f":"リスト!M26","v":0},{"$f":"リスト!N26","v":0}]
[{"$f":"リスト!A27","v":"　"},{"$f":"リスト!B27","v":0},{"$f":"リスト!C27","v":0},{"$f":"リスト!D27","v":0},{"$f":"リスト!E27","v":0},{"$f":"リスト!F27","v":0},{"$f":"リスト!G27","v":0},{"$f":"リスト!H27","v":0},{"$f":"リスト!I27","v":0},{"$f":"リスト!J27","v":0},{"$f":"リスト!K27","v":0},{"$f":"リスト!L27","v":0},{"$f":"リスト!M27","v":0},{"$f":"リスト!N27","v":0}]
[{"$f":"リスト!A28","v":"　"},{"$f":"リスト!B28","v":0},{"$f":"リスト!C28","v":0},{"$f":"リスト!D28","v":0},{"$f":"リスト!E28","v":0},{"$f":"リスト!F28","v":0},{"$f":"リスト!G28","v":0},{"$f":"リスト!H28","v":0},{"$f":"リスト!I28","v":0},{"$f":"リスト!J28","v":0},{"$f":"リスト!K28","v":0},{"$f":"リスト!L28","v":0},{"$f":"リスト!M28","v":0},{"$f":"リスト!N28","v":0}]
[{"$f":"リスト!A29","v":"　"},{"$f":"リスト!B29","v":0},{"$f":"リスト!C29","v":0},{"$f":"リスト!D29","v":0},{"$f":"リスト!E29","v":0},{"$f":"リスト!F29","v":0},{"$f":"リスト!G29","v":0},{"$f":"リスト!H29","v":0},{"$f":"リスト!I29","v":0},{"$f":"リスト!J29","v":0},{"$f":"リスト!K29","v":0},{"$f":"リスト!L29","v":0},{"$f":"リスト!M29","v":0},{"$f":"リスト!N29","v":0}]
[{"$f":"リスト!A30","v":"　"},{"$f":"リスト!B30","v":0},{"$f":"リスト!C30","v":0},{"$f":"リスト!D30","v":0},{"$f":"リスト!E30","v":0},{"$f":"リスト!F30","v":0},{"$f":"リスト!G30","v":0},{"$f":"リスト!H30","v":0},{"$f":"リスト!I30","v":0},{"$f":"リスト!J30","v":0},{"$f":"リスト!K30","v":0},{"$f":"リスト!L30","v":0},{"$f":"リスト!M30","v":0},{"$f":"リスト!N30","v":0}]
[{"$f":"リスト!A31","v":"　"},{"$f":"リスト!B31","v":0},{"$f":"リスト!C31","v":0},{"$f":"リスト!D31","v":0},{"$f":"リスト!E31","v":0},{"$f":"リスト!F31","v":0},{"$f":"リスト!G31","v":0},{"$f":"リスト!H31","v":0},{"$f":"リスト!I31","v":0},{"$f":"リスト!J31","v":0},{"$f":"リスト!K31","v":0},{"$f":"リスト!L31","v":0},{"$f":"リスト!M31","v":0},{"$f":"リスト!N31","v":0}]
[{"$f":"リスト!A32","v":"　"},{"$f":"リスト!B32","v":0},{"$f":"リスト!C32","v":0},{"$f":"リスト!D32","v":0},{"$f":"リスト!E32","v":0},{"$f":"リスト!F32","v":0},{"$f":"リスト!G32","v":0},{"$f":"リスト!H32","v":0},{"$f":"リスト!I32","v":0},{"$f":"リスト!J32","v":0},{"$f":"リスト!K32","v":0},{"$f":"リスト!L32","v":0},{"$f":"リスト!M32","v":0},{"$f":"リスト!N32","v":0}]
[{"$f":"リスト!A33","v":"　"},{"$f":"リスト!B33","v":0},{"$f":"リスト!C33","v":0},{"$f":"リスト!D33","v":0},{"$f":"リスト!E33","v":0},{"$f":"リスト!F33","v":0},{"$f":"リスト!G33","v":0},{"$f":"リスト!H33","v":0},{"$f":"リスト!I33","v":0},{"$f":"リスト!J33","v":0},{"$f":"リスト!K33","v":0},{"$f":"リスト!L33","v":0},{"$f":"リスト!M33","v":0},{"$f":"リスト!N33","v":0}]
[{"$f":"リスト!A34","v":"　"},{"$f":"リスト!B34","v":0},{"$f":"リスト!C34","v":0},{"$f":"リスト!D34","v":0},{"$f":"リスト!E34","v":0},{"$f":"リスト!F34","v":0},{"$f":"リスト!G34","v":0},{"$f":"リスト!H34","v":0},{"$f":"リスト!I34","v":0},{"$f":"リスト!J34","v":0},{"$f":"リスト!K34","v":0},{"$f":"リスト!L34","v":0},{"$f":"リスト!M34","v":0},{"$f":"リスト!N34","v":0}]
[{"$f":"リスト!A35","v":"　"},{"$f":"リスト!B35","v":0},{"$f":"リスト!C35","v":0},{"$f":"リスト!D35","v":0},{"$f":"リスト!E35","v":0},{"$f":"リスト!F35","v":0},{"$f":"リスト!G35","v":0},{"$f":"リスト!H35","v":0},{"$f":"リスト!I35","v":0},{"$f":"リスト!J35","v":0},{"$f":"リスト!K35","v":0},{"$f":"リスト!L35","v":0},{"$f":"リスト!M35","v":0},{"$f":"リスト!N35","v":0}]
[{"$f":"リスト!A36","v":"　"},{"$f":"リスト!B36","v":0},{"$f":"リスト!C36","v":0},{"$f":"リスト!D36","v":0},{"$f":"リスト!E36","v":0},{"$f":"リスト!F36","v":0},{"$f":"リスト!G36","v":0},{"$f":"リスト!H36","v":0},{"$f":"リスト!I36","v":0},{"$f":"リスト!J36","v":0},{"$f":"リスト!K36","v":0},{"$f":"リスト!L36","v":0},{"$f":"リスト!M36","v":0},{"$f":"リスト!N36","v":0}]
[{"$f":"リスト!A37","v":"　"},{"$f":"リスト!B37","v":0},{"$f":"リスト!C37","v":0},{"$f":"リスト!D37","v":0},{"$f":"リスト!E37","v":0},{"$f":"リスト!F37","v":0},{"$f":"リスト!G37","v":0},{"$f":"リスト!H37","v":0},{"$f":"リスト!I37","v":0},{"$f":"リスト!J37","v":0},{"$f":"リスト!K37","v":0},{"$f":"リスト!L37","v":0},{"$f":"リスト!M37","v":0},{"$f":"リスト!N37","v":0}]
[{"$f":"リスト!A38","v":"　"},{"$f":"リスト!B38","v":0},{"$f":"リスト!C38","v":0},{"$f":"リスト!D38","v":0},{"$f":"リスト!E38","v":0},{"$f":"リスト!F38","v":0},{"$f":"リスト!G38","v":0},{"$f":"リスト!H38","v":0},{"$f":"リスト!I38","v":0},{"$f":"リスト!J38","v":0},{"$f":"リスト!K38","v":0},{"$f":"リスト!L38","v":0},{"$f":"リスト!M38","v":0},{"$f":"リスト!N38","v":0}]
[{"$f":"リスト!A39","v":"　"},{"$f":"リスト!B39","v":0},{"$f":"リスト!C39","v":0},{"$f":"リスト!D39","v":0},{"$f":"リスト!E39","v":0},{"$f":"リスト!F39","v":0},{"$f":"リスト!G39","v":0},{"$f":"リスト!H39","v":0},{"$f":"リスト!I39","v":0},{"$f":"リスト!J39","v":0},{"$f":"リスト!K39","v":0},{"$f":"リスト!L39","v":0},{"$f":"リスト!M39","v":0},{"$f":"リスト!N39","v":0}]
[{"$f":"リスト!A40","v":"　"},{"$f":"リスト!B40","v":0},{"$f":"リスト!C40","v":0},{"$f":"リスト!D40","v":0},{"$f":"リスト!E40","v":0},{"$f":"リスト!F40","v":0},{"$f":"リスト!G40","v":0},{"$f":"リスト!H40","v":0},{"$f":"リスト!I40","v":0},{"$f":"リスト!J40","v":0},{"$f":"リスト!K40","v":0},{"$f":"リスト!L40","v":0},{"$f":"リスト!M40","v":0},{"$f":"リスト!N40","v":0}]
[{"$f":"リスト!A41","v":"　"},{"$f":"リスト!B41","v":0},{"$f":"リスト!C41","v":0},{"$f":"リスト!D41","v":0},{"$f":"リスト!E41","v":0},{"$f":"リスト!F41","v":0},{"$f":"リスト!G41","v":0},{"$f":"リスト!H41","v":0},{"$f":"リスト!I41","v":0},{"$f":"リスト!J41","v":0},{"$f":"リスト!K41","v":0},{"$f":"リスト!L41","v":0},{"$f":"リスト!M41","v":0},{"$f":"リスト!N41","v":0}]
[{"$f":"リスト!A42","v":"　"},{"$f":"リスト!B42","v":0},{"$f":"リスト!C42","v":0},{"$f":"リスト!D42","v":0},{"$f":"リスト!E42","v":0},{"$f":"リスト!F42","v":0},{"$f":"リスト!G42","v":0},{"$f":"リスト!H42","v":0},{"$f":"リスト!I42","v":0},{"$f":"リスト!J42","v":0},{"$f":"リスト!K42","v":0},{"$f":"リスト!L42","v":0},{"$f":"リスト!M42","v":0},{"$f":"リスト!N42","v":0}]
[{"$f":"リスト!A43","v":"　"},{"$f":"リスト!B43","v":0},{"$f":"リスト!C43","v":0},{"$f":"リスト!D43","v":0},{"$f":"リスト!E43","v":0},{"$f":"リスト!F43","v":0},{"$f":"リスト!G43","v":0},{"$f":"リスト!H43","v":0},{"$f":"リスト!I43","v":0},{"$f":"リスト!J43","v":0},{"$f":"リスト!K43","v":0},{"$f":"リスト!L43","v":0},{"$f":"リスト!M43","v":0},{"$f":"リスト!N43","v":0}]
[{"$f":"リスト!A44","v":"　"},{"$f":"リスト!B44","v":0},{"$f":"リスト!C44","v":0},{"$f":"リスト!D44","v":0},{"$f":"リスト!E44","v":0},{"$f":"リスト!F44","v":0},{"$f":"リスト!G44","v":0},{"$f":"リスト!H44","v":0},{"$f":"リスト!I44","v":0},{"$f":"リスト!J44","v":0},{"$f":"リスト!K44","v":0},{"$f":"リスト!L44","v":0},{"$f":"リスト!M44","v":0},{"$f":"リスト!N44","v":0}]
[{"$f":"リスト!A45","v":"　"},{"$f":"リスト!B45","v":0},{"$f":"リスト!C45","v":0},{"$f":"リスト!D45","v":0},{"$f":"リスト!E45","v":0},{"$f":"リスト!F45","v":0},{"$f":"リスト!G45","v":0},{"$f":"リスト!H45","v":0},{"$f":"リスト!I45","v":0},{"$f":"リスト!J45","v":0},{"$f":"リスト!K45","v":0},{"$f":"リスト!L45","v":0},{"$f":"リスト!M45","v":0},{"$f":"リスト!N45","v":0}]
[{"$f":"リスト!A46","v":"　"},{"$f":"リスト!B46","v":0},{"$f":"リスト!C46","v":0},{"$f":"リスト!D46","v":0},{"$f":"リスト!E46","v":0},{"$f":"リスト!F46","v":0},{"$f":"リスト!G46","v":0},{"$f":"リスト!H46","v":0},{"$f":"リスト!I46","v":0},{"$f":"リスト!J46","v":0},{"$f":"リスト!K46","v":0},{"$f":"リスト!L46","v":0},{"$f":"リスト!M46","v":0},{"$f":"リスト!N46","v":0}]
[{"$f":"リスト!A47","v":"　"},{"$f":"リスト!B47","v":0},{"$f":"リスト!C47","v":0},{"$f":"リスト!D47","v":0},{"$f":"リスト!E47","v":0},{"$f":"リスト!F47","v":0},{"$f":"リスト!G47","v":0},{"$f":"リスト!H47","v":0},{"$f":"リスト!I47","v":0},{"$f":"リスト!J47","v":0},{"$f":"リスト!K47","v":0},{"$f":"リスト!L47","v":0},{"$f":"リスト!M47","v":0},{"$f":"リスト!N47","v":0}]
[{"$f":"リスト!A48","v":"　"},{"$f":"リスト!B48","v":0},{"$f":"リスト!C48","v":0},{"$f":"リスト!D48","v":0},{"$f":"リスト!E48","v":0},{"$f":"リスト!F48","v":0},{"$f":"リスト!G48","v":0},{"$f":"リスト!H48","v":0},{"$f":"リスト!I48","v":0},{"$f":"リスト!J48","v":0},{"$f":"リスト!K48","v":0},{"$f":"リスト!L48","v":0},{"$f":"リスト!M48","v":0},{"$f":"リスト!N48","v":0}]
[{"$f":"リスト!A49","v":"　"},{"$f":"リスト!B49","v":0},{"$f":"リスト!C49","v":0},{"$f":"リスト!D49","v":0},{"$f":"リスト!E49","v":0},{"$f":"リスト!F49","v":0},{"$f":"リスト!G49","v":0},{"$f":"リスト!H49","v":0},{"$f":"リスト!I49","v":0},{"$f":"リスト!J49","v":0},{"$f":"リスト!K49","v":0},{"$f":"リスト!L49","v":0},{"$f":"リスト!M49","v":0},{"$f":"リスト!N49","v":0}]
[{"$f":"リスト!A50","v":"　"},{"$f":"リスト!B50","v":0},{"$f":"リスト!C50","v":0},{"$f":"リスト!D50","v":0},{"$f":"リスト!E50","v":0},{"$f":"リスト!F50","v":0},{"$f":"リスト!G50","v":0},{"$f":"リスト!H50","v":0},{"$f":"リスト!I50","v":0},{"$f":"リスト!J50","v":0},{"$f":"リスト!K50","v":0},{"$f":"リスト!L50","v":0},{"$f":"リスト!M50","v":0},{"$f":"リスト!N50","v":0}]
[{"$f":"リスト!A51","v":"　"},{"$f":"リスト!B51","v":0},{"$f":"リスト!C51","v":0},{"$f":"リスト!D51","v":0},{"$f":"リスト!E51","v":0},{"$f":"リスト!F51","v":0},{"$f":"リスト!G51","v":0},{"$f":"リスト!H51","v":0},{"$f":"リスト!I51","v":0},{"$f":"リスト!J51","v":0},{"$f":"リスト!K51","v":0},{"$f":"リスト!L51","v":0},{"$f":"リスト!M51","v":0},{"$f":"リスト!N51","v":0}]
[{"$f":"リスト!A52","v":"　"},{"$f":"リスト!B52","v":0},{"$f":"リスト!C52","v":0},{"$f":"リスト!D52","v":0},{"$f":"リスト!E52","v":0},{"$f":"リスト!F52","v":0},{"$f":"リスト!G52","v":0},{"$f":"リスト!H52","v":0},{"$f":"リスト!I52","v":0},{"$f":"リスト!J52","v":0},{"$f":"リスト!K52","v":0},{"$f":"リスト!L52","v":0},{"$f":"リスト!M52","v":0},{"$f":"リスト!N52","v":0}]
[{"$f":"リスト!A53","v":"　"},{"$f":"リスト!B53","v":0},{"$f":"リスト!C53","v":0},{"$f":"リスト!D53","v":0},{"$f":"リスト!E53","v":0},{"$f":"リスト!F53","v":0},{"$f":"リスト!G53","v":0},{"$f":"リスト!H53","v":0},{"$f":"リスト!I53","v":0},{"$f":"リスト!J53","v":0},{"$f":"リスト!K53","v":0},{"$f":"リスト!L53","v":0},{"$f":"リスト!M53","v":0},{"$f":"リスト!N53","v":0}]
[{"$f":"リスト!A54","v":"　"},{"$f":"リスト!B54","v":0},{"$f":"リスト!C54","v":0},{"$f":"リスト!D54","v":0},{"$f":"リスト!E54","v":0},{"$f":"リスト!F54","v":0},{"$f":"リスト!G54","v":0},{"$f":"リスト!H54","v":0},{"$f":"リスト!I54","v":0},{"$f":"リスト!J54","v":0},{"$f":"リスト!K54","v":0},{"$f":"リスト!L54","v":0},{"$f":"リスト!M54","v":0},{"$f":"リスト!N54","v":0}]
[{"$f":"リスト!A55","v":"　"},{"$f":"リスト!B55","v":0},{"$f":"リスト!C55","v":0},{"$f":"リスト!D55","v":0},{"$f":"リスト!E55","v":0},{"$f":"リスト!F55","v":0},{"$f":"リスト!G55","v":0},{"$f":"リスト!H55","v":0},{"$f":"リスト!I55","v":0},{"$f":"リスト!J55","v":0},{"$f":"リスト!K55","v":0},{"$f":"リスト!L55","v":0},{"$f":"リスト!M55","v":0},{"$f":"リスト!N55","v":0}]
[{"$f":"リスト!A56","v":"　"},{"$f":"リスト!B56","v":0},{"$f":"リスト!C56","v":0},{"$f":"リスト!D56","v":0},{"$f":"リスト!E56","v":0},{"$f":"リスト!F56","v":0},{"$f":"リスト!G56","v":0},{"$f":"リスト!H56","v":0},{"$f":"リスト!I56","v":0},{"$f":"リスト!J56","v":0},{"$f":"リスト!K56","v":0},{"$f":"リスト!L56","v":0},{"$f":"リスト!M56","v":0},{"$f":"リスト!N56","v":0}]
[{"$f":"リスト!A57","v":"　"},{"$f":"リスト!B57","v":0},{"$f":"リスト!C57","v":0},{"$f":"リスト!D57","v":0},{"$f":"リスト!E57","v":0},{"$f":"リスト!F57","v":0},{"$f":"リスト!G57","v":0},{"$f":"リスト!H57","v":0},{"$f":"リスト!I57","v":0},{"$f":"リスト!J57","v":0},{"$f":"リスト!K57","v":0},{"$f":"リスト!L57","v":0},{"$f":"リスト!M57","v":0},{"$f":"リスト!N57","v":0}]
[{"$f":"リスト!A58","v":"　"},{"$f":"リスト!B58","v":0},{"$f":"リスト!C58","v":0},{"$f":"リスト!D58","v":0},{"$f":"リスト!E58","v":0},{"$f":"リスト!F58","v":0},{"$f":"リスト!G58","v":0},{"$f":"リスト!H58","v":0},{"$f":"リスト!I58","v":0},{"$f":"リスト!J58","v":0},{"$f":"リスト!K58","v":0},{"$f":"リスト!L58","v":0},{"$f":"リスト!M58","v":0},{"$f":"リスト!N58","v":0}]
[{"$f":"リスト!A59","v":"　"},{"$f":"リスト!B59","v":0},{"$f":"リスト!C59","v":0},{"$f":"リスト!D59","v":0},{"$f":"リスト!E59","v":0},{"$f":"リスト!F59","v":0},{"$f":"リスト!G59","v":0},{"$f":"リスト!H59","v":0},{"$f":"リスト!I59","v":0},{"$f":"リスト!J59","v":0},{"$f":"リスト!K59","v":0},{"$f":"リスト!L59","v":0},{"$f":"リスト!M59","v":0},{"$f":"リスト!N59","v":0}]
[{"$f":"リスト!A60","v":"　"},{"$f":"リスト!B60","v":0},{"$f":"リスト!C60","v":0},{"$f":"リスト!D60","v":0},{"$f":"リスト!E60","v":0},{"$f":"リスト!F60","v":0},{"$f":"リスト!G60","v":0},{"$f":"リスト!H60","v":0},{"$f":"リスト!I60","v":0},{"$f":"リスト!J60","v":0},{"$f":"リスト!K60","v":0},{"$f":"リスト!L60","v":0},{"$f":"リスト!M60","v":0},{"$f":"リスト!N60","v":0}]
[{"$f":"リスト!A61","v":"　"},{"$f":"リスト!B61","v":0},{"$f":"リスト!C61","v":0},{"$f":"リスト!D61","v":0},{"$f":"リスト!E61","v":0},{"$f":"リスト!F61","v":0},{"$f":"リスト!G61","v":0},{"$f":"リスト!H61","v":0},{"$f":"リスト!I61","v":0},{"$f":"リスト!J61","v":0},{"$f":"リスト!K61","v":0},{"$f":"リスト!L61","v":0},{"$f":"リスト!M61","v":0},{"$f":"リスト!N61","v":0}]
[{"$f":"リスト!A62","v":"　"},{"$f":"リスト!B62","v":0},{"$f":"リスト!C62","v":0},{"$f":"リスト!D62","v":0},{"$f":"リスト!E62","v":0},{"$f":"リスト!F62","v":0},{"$f":"リスト!G62","v":0},{"$f":"リスト!H62","v":0},{"$f":"リスト!I62","v":0},{"$f":"リスト!J62","v":0},{"$f":"リスト!K62","v":0},{"$f":"リスト!L62","v":0},{"$f":"リスト!M62","v":0},{"$f":"リスト!N62","v":0}]
[{"$f":"リスト!A63","v":"　"},{"$f":"リスト!B63","v":0},{"$f":"リスト!C63","v":0},{"$f":"リスト!D63","v":0},{"$f":"リスト!E63","v":0},{"$f":"リスト!F63","v":0},{"$f":"リスト!G63","v":0},{"$f":"リスト!H63","v":0},{"$f":"リスト!I63","v":0},{"$f":"リスト!J63","v":0},{"$f":"リスト!K63","v":0},{"$f":"リスト!L63","v":0},{"$f":"リスト!M63","v":0},{"$f":"リスト!N63","v":0}]
[{"$f":"リスト!A64","v":"　"},{"$f":"リスト!B64","v":0},{"$f":"リスト!C64","v":0},{"$f":"リスト!D64","v":0},{"$f":"リスト!E64","v":0},{"$f":"リスト!F64","v":0},{"$f":"リスト!G64","v":0},{"$f":"リスト!H64","v":0},{"$f":"リスト!I64","v":0},{"$f":"リスト!J64","v":0},{"$f":"リスト!K64","v":0},{"$f":"リスト!L64","v":0},{"$f":"リスト!M64","v":0},{"$f":"リスト!N64","v":0}]
[{"$f":"リスト!A65","v":"　"},{"$f":"リスト!B65","v":0},{"$f":"リスト!C65","v":0},{"$f":"リスト!D65","v":0},{"$f":"リスト!E65","v":0},{"$f":"リスト!F65","v":0},{"$f":"リスト!G65","v":0},{"$f":"リスト!H65","v":0},{"$f":"リスト!I65","v":0},{"$f":"リスト!J65","v":0},{"$f":"リスト!K65","v":0},{"$f":"リスト!L65","v":0},{"$f":"リスト!M65","v":0},{"$f":"リスト!N65","v":0}]
[{"$f":"リスト!A66","v":"　"},{"$f":"リスト!B66","v":0},{"$f":"リスト!C66","v":0},{"$f":"リスト!D66","v":0},{"$f":"リスト!E66","v":0},{"$f":"リスト!F66","v":0},{"$f":"リスト!G66","v":0},{"$f":"リスト!H66","v":0},{"$f":"リスト!I66","v":0},{"$f":"リスト!J66","v":0},{"$f":"リスト!K66","v":0},{"$f":"リスト!L66","v":0},{"$f":"リスト!M66","v":0},{"$f":"リスト!N66","v":0}]
[{"$f":"リスト!A67","v":"　"},{"$f":"リスト!B67","v":0},{"$f":"リスト!C67","v":0},{"$f":"リスト!D67","v":0},{"$f":"リスト!E67","v":0},{"$f":"リスト!F67","v":0},{"$f":"リスト!G67","v":0},{"$f":"リスト!H67","v":0},{"$f":"リスト!I67","v":0},{"$f":"リスト!J67","v":0},{"$f":"リスト!K67","v":0},{"$f":"リスト!L67","v":0},{"$f":"リスト!M67","v":0},{"$f":"リスト!N67","v":0}]
[{"$f":"リスト!A68","v":"　"},{"$f":"リスト!B68","v":0},{"$f":"リスト!C68","v":0},{"$f":"リスト!D68","v":0},{"$f":"リスト!E68","v":0},{"$f":"リスト!F68","v":0},{"$f":"リスト!G68","v":0},{"$f":"リスト!H68","v":0},{"$f":"リスト!I68","v":0},{"$f":"リスト!J68","v":0},{"$f":"リスト!K68","v":0},{"$f":"リスト!L68","v":0},{"$f":"リスト!M68","v":0},{"$f":"リスト!N68","v":0}]
[{"$f":"リスト!A69","v":"　"},{"$f":"リスト!B69","v":0},{"$f":"リスト!C69","v":0},{"$f":"リスト!D69","v":0},{"$f":"リスト!E69","v":0},{"$f":"リスト!F69","v":0},{"$f":"リスト!G69","v":0},{"$f":"リスト!H69","v":0},{"$f":"リスト!I69","v":0},{"$f":"リスト!J69","v":0},{"$f":"リスト!K69","v":0},{"$f":"リスト!L69","v":0},{"$f":"リスト!M69","v":0},{"$f":"リスト!N69","v":0}]
[{"$f":"リスト!A70","v":"　"},{"$f":"リスト!B70","v":0},{"$f":"リスト!C70","v":0},{"$f":"リスト!D70","v":0},{"$f":"リスト!E70","v":0},{"$f":"リスト!F70","v":0},{"$f":"リスト!G70","v":0},{"$f":"リスト!H70","v":0},{"$f":"リスト!I70","v":0},{"$f":"リスト!J70","v":0},{"$f":"リスト!K70","v":0},{"$f":"リスト!L70","v":0},{"$f":"リスト!M70","v":0},{"$f":"リスト!N70","v":0}]
[{"$f":"リスト!A71","v":"　"},{"$f":"リスト!B71","v":0},{"$f":"リスト!C71","v":0},{"$f":"リスト!D71","v":0},{"$f":"リスト!E71","v":0},{"$f":"リスト!F71","v":0},{"$f":"リスト!G71","v":0},{"$f":"リスト!H71","v":0},{"$f":"リスト!I71","v":0},{"$f":"リスト!J71","v":0},{"$f":"リスト!K71","v":0},{"$f":"リスト!L71","v":0},{"$f":"リスト!M71","v":0},{"$f":"リスト!N71","v":0}]
[{"$f":"リスト!A72","v":"　"},{"$f":"リスト!B72","v":0},{"$f":"リスト!C72","v":0},{"$f":"リスト!D72","v":0},{"$f":"リスト!E72","v":0},{"$f":"リスト!F72","v":0},{"$f":"リスト!G72","v":0},{"$f":"リスト!H72","v":0},{"$f":"リスト!I72","v":0},{"$f":"リスト!J72","v":0},{"$f":"リスト!K72","v":0},{"$f":"リスト!L72","v":0},{"$f":"リスト!M72","v":0},{"$f":"リスト!N72","v":0}]
[{"$f":"リスト!A73","v":"　"},{"$f":"リスト!B73","v":0},{"$f":"リスト!C73","v":0},{"$f":"リスト!D73","v":0},{"$f":"リスト!E73","v":0},{"$f":"リスト!F73","v":0},{"$f":"リスト!G73","v":0},{"$f":"リスト!H73","v":0},{"$f":"リスト!I73","v":0},{"$f":"リスト!J73","v":0},{"$f":"リスト!K73","v":0},{"$f":"リスト!L73","v":0},{"$f":"リスト!M73","v":0},{"$f":"リスト!N73","v":0}]
[{"$f":"リスト!A74","v":"　"},{"$f":"リスト!B74","v":0},{"$f":"リスト!C74","v":0},{"$f":"リスト!D74","v":0},{"$f":"リスト!E74","v":0},{"$f":"リスト!F74","v":0},{"$f":"リスト!G74","v":0},{"$f":"リスト!H74","v":0},{"$f":"リスト!I74","v":0},{"$f":"リスト!J74","v":0},{"$f":"リスト!K74","v":0},{"$f":"リスト!L74","v":0},{"$f":"リスト!M74","v":0},{"$f":"リスト!N74","v":0}]
[{"$f":"リスト!A75","v":"　"},{"$f":"リスト!B75","v":0},{"$f":"リスト!C75","v":0},{"$f":"リスト!D75","v":0},{"$f":"リスト!E75","v":0},{"$f":"リスト!F75","v":0},{"$f":"リスト!G75","v":0},{"$f":"リスト!H75","v":0},{"$f":"リスト!I75","v":0},{"$f":"リスト!J75","v":0},{"$f":"リスト!K75","v":0},{"$f":"リスト!L75","v":0},{"$f":"リスト!M75","v":0},{"$f":"リスト!N75","v":0}]
[{"$f":"リスト!A76","v":"　"},{"$f":"リスト!B76","v":0},{"$f":"リスト!C76","v":0},{"$f":"リスト!D76","v":0},{"$f":"リスト!E76","v":0},{"$f":"リスト!F76","v":0},{"$f":"リスト!G76","v":0},{"$f":"リスト!H76","v":0},{"$f":"リスト!I76","v":0},{"$f":"リスト!J76","v":0},{"$f":"リスト!K76","v":0},{"$f":"リスト!L76","v":0},{"$f":"リスト!M76","v":0},{"$f":"リスト!N76","v":0}]
[{"$f":"リスト!A77","v":"　"},{"$f":"リスト!B77","v":0},{"$f":"リスト!C77","v":0},{"$f":"リスト!D77","v":0},{"$f":"リスト!E77","v":0},{"$f":"リスト!F77","v":0},{"$f":"リスト!G77","v":0},{"$f":"リスト!H77","v":0},{"$f":"リスト!I77","v":0},{"$f":"リスト!J77","v":0},{"$f":"リスト!K77","v":0},{"$f":"リスト!L77","v":0},{"$f":"リスト!M77","v":0},{"$f":"リスト!N77","v":0}]
[{"$f":"リスト!A78","v":"　"},{"$f":"リスト!B78","v":0},{"$f":"リスト!C78","v":0},{"$f":"リスト!D78","v":0},{"$f":"リスト!E78","v":0},{"$f":"リスト!F78","v":0},{"$f":"リスト!G78","v":0},{"$f":"リスト!H78","v":0},{"$f":"リスト!I78","v":0},{"$f":"リスト!J78","v":0},{"$f":"リスト!K78","v":0},{"$f":"リスト!L78","v":0},{"$f":"リスト!M78","v":0},{"$f":"リスト!N78","v":0}]
[{"$f":"リスト!A79","v":"　"},{"$f":"リスト!B79","v":0},{"$f":"リスト!C79","v":0},{"$f":"リスト!D79","v":0},{"$f":"リスト!E79","v":0},{"$f":"リスト!F79","v":0},{"$f":"リスト!G79","v":0},{"$f":"リスト!H79","v":0},{"$f":"リスト!I79","v":0},{"$f":"リスト!J79","v":0},{"$f":"リスト!K79","v":0},{"$f":"リスト!L79","v":0},{"$f":"リスト!M79","v":0},{"$f":"リスト!N79","v":0}]
[{"$f":"リスト!A80","v":"　"},{"$f":"リスト!B80","v":0},{"$f":"リスト!C80","v":0},{"$f":"リスト!D80","v":0},{"$f":"リスト!E80","v":0},{"$f":"リスト!F80","v":0},{"$f":"リスト!G80","v":0},{"$f":"リスト!H80","v":0},{"$f":"リスト!I80","v":0},{"$f":"リスト!J80","v":0},{"$f":"リスト!K80","v":0},{"$f":"リスト!L80","v":0},{"$f":"リスト!M80","v":0},{"$f":"リスト!N80","v":0}]
[{"$f":"リスト!A81","v":"　"},{"$f":"リスト!B81","v":0},{"$f":"リスト!C81","v":0},{"$f":"リスト!D81","v":0},{"$f":"リスト!E81","v":0},{"$f":"リスト!F81","v":0},{"$f":"リスト!G81","v":0},{"$f":"リスト!H81","v":0},{"$f":"リスト!I81","v":0},{"$f":"リスト!J81","v":0},{"$f":"リスト!K81","v":0},{"$f":"リスト!L81","v":0},{"$f":"リスト!M81","v":0},{"$f":"リスト!N81","v":0}]
[{"$f":"リスト!A82","v":"　"},{"$f":"リスト!B82","v":0},{"$f":"リスト!C82","v":0},{"$f":"リスト!D82","v":0},{"$f":"リスト!E82","v":0},{"$f":"リスト!F82","v":0},{"$f":"リスト!G82","v":0},{"$f":"リスト!H82","v":0},{"$f":"リスト!I82","v":0},{"$f":"リスト!J82","v":0},{"$f":"リスト!K82","v":0},{"$f":"リスト!L82","v":0},{"$f":"リスト!M82","v":0},{"$f":"リスト!N82","v":0}]
[{"$f":"リスト!A83","v":"　"},{"$f":"リスト!B83","v":0},{"$f":"リスト!C83","v":0},{"$f":"リスト!D83","v":0},{"$f":"リスト!E83","v":0},{"$f":"リスト!F83","v":0},{"$f":"リスト!G83","v":0},{"$f":"リスト!H83","v":0},{"$f":"リスト!I83","v":0},{"$f":"リスト!J83","v":0},{"$f":"リスト!K83","v":0},{"$f":"リスト!L83","v":0},{"$f":"リスト!M83","v":0},{"$f":"リスト!N83","v":0}]
[{"$f":"リスト!A84","v":"　"},{"$f":"リスト!B84","v":0},{"$f":"リスト!C84","v":0},{"$f":"リスト!D84","v":0},{"$f":"リスト!E84","v":0},{"$f":"リスト!F84","v":0},{"$f":"リスト!G84","v":0},{"$f":"リスト!H84","v":0},{"$f":"リスト!I84","v":0},{"$f":"リスト!J84","v":0},{"$f":"リスト!K84","v":0},{"$f":"リスト!L84","v":0},{"$f":"リスト!M84","v":0},{"$f":"リスト!N84","v":0}]
[{"$f":"リスト!A85","v":"　"},{"$f":"リスト!B85","v":0},{"$f":"リスト!C85","v":0},{"$f":"リスト!D85","v":0},{"$f":"リスト!E85","v":0},{"$f":"リスト!F85","v":0},{"$f":"リスト!G85","v":0},{"$f":"リスト!H85","v":0},{"$f":"リスト!I85","v":0},{"$f":"リスト!J85","v":0},{"$f":"リスト!K85","v":0},{"$f":"リスト!L85","v":0},{"$f":"リスト!M85","v":0},{"$f":"リスト!N85","v":0}]
[{"$f":"リスト!A86","v":"　"},{"$f":"リスト!B86","v":0},{"$f":"リスト!C86","v":0},{"$f":"リスト!D86","v":0},{"$f":"リスト!E86","v":0},{"$f":"リスト!F86","v":0},{"$f":"リスト!G86","v":0},{"$f":"リスト!H86","v":0},{"$f":"リスト!I86","v":0},{"$f":"リスト!J86","v":0},{"$f":"リスト!K86","v":0},{"$f":"リスト!L86","v":0},{"$f":"リスト!M86","v":0},{"$f":"リスト!N86","v":0}]
[{"$f":"リスト!A87","v":"　"},{"$f":"リスト!B87","v":0},{"$f":"リスト!C87","v":0},{"$f":"リスト!D87","v":0},{"$f":"リスト!E87","v":0},{"$f":"リスト!F87","v":0},{"$f":"リスト!G87","v":0},{"$f":"リスト!H87","v":0},{"$f":"リスト!I87","v":0},{"$f":"リスト!J87","v":0},{"$f":"リスト!K87","v":0},{"$f":"リスト!L87","v":0},{"$f":"リスト!M87","v":0},{"$f":"リスト!N87","v":0}]
[{"$f":"リスト!A88","v":"　"},{"$f":"リスト!B88","v":0},{"$f":"リスト!C88","v":0},{"$f":"リスト!D88","v":0},{"$f":"リスト!E88","v":0},{"$f":"リスト!F88","v":0},{"$f":"リスト!G88","v":0},{"$f":"リスト!H88","v":0},{"$f":"リスト!I88","v":0},{"$f":"リスト!J88","v":0},{"$f":"リスト!K88","v":0},{"$f":"リスト!L88","v":0},{"$f":"リスト!M88","v":0},{"$f":"リスト!N88","v":0}]
[{"$f":"リスト!A89","v":"　"},{"$f":"リスト!B89","v":0},{"$f":"リスト!C89","v":0},{"$f":"リスト!D89","v":0},{"$f":"リスト!E89","v":0},{"$f":"リスト!F89","v":0},{"$f":"リスト!G89","v":0},{"$f":"リスト!H89","v":0},{"$f":"リスト!I89","v":0},{"$f":"リスト!J89","v":0},{"$f":"リスト!K89","v":0},{"$f":"リスト!L89","v":0},{"$f":"リスト!M89","v":0},{"$f":"リスト!N89","v":0}]
[{"$f":"リスト!A90","v":"　"},{"$f":"リスト!B90","v":0},{"$f":"リスト!C90","v":0},{"$f":"リスト!D90","v":0},{"$f":"リスト!E90","v":0},{"$f":"リスト!F90","v":0},{"$f":"リスト!G90","v":0},{"$f":"リスト!H90","v":0},{"$f":"リスト!I90","v":0},{"$f":"リスト!J90","v":0},{"$f":"リスト!K90","v":0},{"$f":"リスト!L90","v":0},{"$f":"リスト!M90","v":0},{"$f":"リスト!N90","v":0}]
[{"$f":"リスト!A91","v":"　"},{"$f":"リスト!B91","v":0},{"$f":"リスト!C91","v":0},{"$f":"リスト!D91","v":0},{"$f":"リスト!E91","v":0},{"$f":"リスト!F91","v":0},{"$f":"リスト!G91","v":0},{"$f":"リスト!H91","v":0},{"$f":"リスト!I91","v":0},{"$f":"リスト!J91","v":0},{"$f":"リスト!K91","v":0},{"$f":"リスト!L91","v":0},{"$f":"リスト!M91","v":0},{"$f":"リスト!N91","v":0}]
[{"$f":"リスト!A92","v":"　"},{"$f":"リスト!B92","v":0},{"$f":"リスト!C92","v":0},{"$f":"リスト!D92","v":0},{"$f":"リスト!E92","v":0},{"$f":"リスト!F92","v":0},{"$f":"リスト!G92","v":0},{"$f":"リスト!H92","v":0},{"$f":"リスト!I92","v":0},{"$f":"リスト!J92","v":0},{"$f":"リスト!K92","v":0},{"$f":"リスト!L92","v":0},{"$f":"リスト!M92","v":0},{"$f":"リスト!N92","v":0}]
[{"$f":"リスト!A93","v":"　"},{"$f":"リスト!B93","v":0},{"$f":"リスト!C93","v":0},{"$f":"リスト!D93","v":0},{"$f":"リスト!E93","v":0},{"$f":"リスト!F93","v":0},{"$f":"リスト!G93","v":0},{"$f":"リスト!H93","v":0},{"$f":"リスト!I93","v":0},{"$f":"リスト!J93","v":0},{"$f":"リスト!K93","v":0},{"$f":"リスト!L93","v":0},{"$f":"リスト!M93","v":0},{"$f":"リスト!N93","v":0}]
[{"$f":"リスト!A94","v":"　"},{"$f":"リスト!B94","v":0},{"$f":"リスト!C94","v":0},{"$f":"リスト!D94","v":0},{"$f":"リスト!E94","v":0},{"$f":"リスト!F94","v":0},{"$f":"リスト!G94","v":0},{"$f":"リスト!H94","v":0},{"$f":"リスト!I94","v":0},{"$f":"リスト!J94","v":0},{"$f":"リスト!K94","v":0},{"$f":"リスト!L94","v":0},{"$f":"リスト!M94","v":0},{"$f":"リスト!N94","v":0}]
[{"$f":"リスト!A95","v":"　"},{"$f":"リスト!B95","v":0},{"$f":"リスト!C95","v":0},{"$f":"リスト!D95","v":0},{"$f":"リスト!E95","v":0},{"$f":"リスト!F95","v":0},{"$f":"リスト!G95","v":0},{"$f":"リスト!H95","v":0},{"$f":"リスト!I95","v":0},{"$f":"リスト!J95","v":0},{"$f":"リスト!K95","v":0},{"$f":"リスト!L95","v":0},{"$f":"リスト!M95","v":0},{"$f":"リスト!N95","v":0}]
[{"$f":"リスト!A96","v":"　"},{"$f":"リスト!B96","v":0},{"$f":"リスト!C96","v":0},{"$f":"リスト!D96","v":0},{"$f":"リスト!E96","v":0},{"$f":"リスト!F96","v":0},{"$f":"リスト!G96","v":0},{"$f":"リスト!H96","v":0},{"$f":"リスト!I96","v":0},{"$f":"リスト!J96","v":0},{"$f":"リスト!K96","v":0},{"$f":"リスト!L96","v":0},{"$f":"リスト!M96","v":0},{"$f":"リスト!N96","v":0}]
[{"$f":"リスト!A97","v":"　"},{"$f":"リスト!B97","v":0},{"$f":"リスト!C97","v":0},{"$f":"リスト!D97","v":0},{"$f":"リスト!E97","v":0},{"$f":"リスト!F97","v":0},{"$f":"リスト!G97","v":0},{"$f":"リスト!H97","v":0},{"$f":"リスト!I97","v":0},{"$f":"リスト!J97","v":0},{"$f":"リスト!K97","v":0},{"$f":"リスト!L97","v":0},{"$f":"リスト!M97","v":0},{"$f":"リスト!N97","v":0}]
[{"$f":"リスト!A98","v":"　"},{"$f":"リスト!B98","v":0},{"$f":"リスト!C98","v":0},{"$f":"リスト!D98","v":0},{"$f":"リスト!E98","v":0},{"$f":"リスト!F98","v":0},{"$f":"リスト!G98","v":0},{"$f":"リスト!H98","v":0},{"$f":"リスト!I98","v":0},{"$f":"リスト!J98","v":0},{"$f":"リスト!K98","v":0},{"$f":"リスト!L98","v":0},{"$f":"リスト!M98","v":0},{"$f":"リスト!N98","v":0}]
[{"$f":"リスト!A99","v":"　"},{"$f":"リスト!B99","v":0},{"$f":"リスト!C99","v":0},{"$f":"リスト!D99","v":0},{"$f":"リスト!E99","v":0},{"$f":"リスト!F99","v":0},{"$f":"リスト!G99","v":0},{"$f":"リスト!H99","v":0},{"$f":"リスト!I99","v":0},{"$f":"リスト!J99","v":0},{"$f":"リスト!K99","v":0},{"$f":"リスト!L99","v":0},{"$f":"リスト!M99","v":0},{"$f":"リスト!N99","v":0}]
[{"$f":"リスト!A100","v":"　"},{"$f":"リスト!B100","v":0},{"$f":"リスト!C100","v":0},{"$f":"リスト!D100","v":0},{"$f":"リスト!E100","v":0},{"$f":"リスト!F100","v":0},{"$f":"リスト!G100","v":0},{"$f":"リスト!H100","v":0},{"$f":"リスト!I100","v":0},{"$f":"リスト!J100","v":0},{"$f":"リスト!K100","v":0},{"$f":"リスト!L100","v":0},{"$f":"リスト!M100","v":0},{"$f":"リスト!N100","v":0}]
[{"$f":"リスト!A101","v":"　"},{"$f":"リスト!B101","v":0},{"$f":"リスト!C101","v":0},{"$f":"リスト!D101","v":0},{"$f":"リスト!E101","v":0},{"$f":"リスト!F101","v":0},{"$f":"リスト!G101","v":0},{"$f":"リスト!H101","v":0},{"$f":"リスト!I101","v":0},{"$f":"リスト!J101","v":0},{"$f":"リスト!K101","v":0},{"$f":"リスト!L101","v":0},{"$f":"リスト!M101","v":0},{"$f":"リスト!N101","v":0}]
[{"$f":"リスト!A102","v":"　"},{"$f":"リスト!B102","v":0},{"$f":"リスト!C102","v":0},{"$f":"リスト!D102","v":0},{"$f":"リスト!E102","v":0},{"$f":"リスト!F102","v":0},{"$f":"リスト!G102","v":0},{"$f":"リスト!H102","v":0},{"$f":"リスト!I102","v":0},{"$f":"リスト!J102","v":0},{"$f":"リスト!K102","v":0},{"$f":"リスト!L102","v":0},{"$f":"リスト!M102","v":0},{"$f":"リスト!N102","v":0}]
[{"$f":"リスト!A103","v":"　"},{"$f":"リスト!B103","v":0},{"$f":"リスト!C103","v":0},{"$f":"リスト!D103","v":0},{"$f":"リスト!E103","v":0},{"$f":"リスト!F103","v":0},{"$f":"リスト!G103","v":0},{"$f":"リスト!H103","v":0},{"$f":"リスト!I103","v":0},{"$f":"リスト!J103","v":0},{"$f":"リスト!K103","v":0},{"$f":"リスト!L103","v":0},{"$f":"リスト!M103","v":0},{"$f":"リスト!N103","v":0}]
[{"$f":"リスト!A104","v":"　"},{"$f":"リスト!B104","v":0},{"$f":"リスト!C104","v":0},{"$f":"リスト!D104","v":0},{"$f":"リスト!E104","v":0},{"$f":"リスト!F104","v":0},{"$f":"リスト!G104","v":0},{"$f":"リスト!H104","v":0},{"$f":"リスト!I104","v":0},{"$f":"リスト!J104","v":0},{"$f":"リスト!K104","v":0},{"$f":"リスト!L104","v":0},{"$f":"リスト!M104","v":0},{"$f":"リスト!N104","v":0}]
[{"$f":"リスト!A105","v":"　"},{"$f":"リスト!B105","v":0},{"$f":"リスト!C105","v":0},{"$f":"リスト!D105","v":0},{"$f":"リスト!E105","v":0},{"$f":"リスト!F105","v":0},{"$f":"リスト!G105","v":0},{"$f":"リスト!H105","v":0},{"$f":"リスト!I105","v":0},{"$f":"リスト!J105","v":0},{"$f":"リスト!K105","v":0},{"$f":"リスト!L105","v":0},{"$f":"リスト!M105","v":0},{"$f":"リスト!N105","v":0}]
[{"$f":"リスト!A106","v":"　"},{"$f":"リスト!B106","v":0},{"$f":"リスト!C106","v":0},{"$f":"リスト!D106","v":0},{"$f":"リスト!E106","v":0},{"$f":"リスト!F106","v":0},{"$f":"リスト!G106","v":0},{"$f":"リスト!H106","v":0},{"$f":"リスト!I106","v":0},{"$f":"リスト!J106","v":0},{"$f":"リスト!K106","v":0},{"$f":"リスト!L106","v":0},{"$f":"リスト!M106","v":0},{"$f":"リスト!N106","v":0}]
[{"$f":"リスト!A107","v":"　"},{"$f":"リスト!B107","v":0},{"$f":"リスト!C107","v":0},{"$f":"リスト!D107","v":0},{"$f":"リスト!E107","v":0},{"$f":"リスト!F107","v":0},{"$f":"リスト!G107","v":0},{"$f":"リスト!H107","v":0},{"$f":"リスト!I107","v":0},{"$f":"リスト!J107","v":0},{"$f":"リスト!K107","v":0},{"$f":"リスト!L107","v":0},{"$f":"リスト!M107","v":0},{"$f":"リスト!N107","v":0}]
[{"$f":"リスト!A108","v":"　"},{"$f":"リスト!B108","v":0},{"$f":"リスト!C108","v":0},{"$f":"リスト!D108","v":0},{"$f":"リスト!E108","v":0},{"$f":"リスト!F108","v":0},{"$f":"リスト!G108","v":0},{"$f":"リスト!H108","v":0},{"$f":"リスト!I108","v":0},{"$f":"リスト!J108","v":0},{"$f":"リスト!K108","v":0},{"$f":"リスト!L108","v":0},{"$f":"リスト!M108","v":0},{"$f":"リスト!N108","v":0}]
[{"$f":"リスト!A109","v":"　"},{"$f":"リスト!B109","v":0},{"$f":"リスト!C109","v":0},{"$f":"リスト!D109","v":0},{"$f":"リスト!E109","v":0},{"$f":"リスト!F109","v":0},{"$f":"リスト!G109","v":0},{"$f":"リスト!H109","v":0},{"$f":"リスト!I109","v":0},{"$f":"リスト!J109","v":0},{"$f":"リスト!K109","v":0},{"$f":"リスト!L109","v":0},{"$f":"リスト!M109","v":0},{"$f":"リスト!N109","v":0}]
[{"$f":"リスト!A110","v":"　"},{"$f":"リスト!B110","v":0},{"$f":"リスト!C110","v":0},{"$f":"リスト!D110","v":0},{"$f":"リスト!E110","v":0},{"$f":"リスト!F110","v":0},{"$f":"リスト!G110","v":0},{"$f":"リスト!H110","v":0},{"$f":"リスト!I110","v":0},{"$f":"リスト!J110","v":0},{"$f":"リスト!K110","v":0},{"$f":"リスト!L110","v":0},{"$f":"リスト!M110","v":0},{"$f":"リスト!N110","v":0}]
[{"$f":"リスト!A111","v":"　"},{"$f":"リスト!B111","v":0},{"$f":"リスト!C111","v":0},{"$f":"リスト!D111","v":0},{"$f":"リスト!E111","v":0},{"$f":"リスト!F111","v":0},{"$f":"リスト!G111","v":0},{"$f":"リスト!H111","v":0},{"$f":"リスト!I111","v":0},{"$f":"リスト!J111","v":0},{"$f":"リスト!K111","v":0},{"$f":"リスト!L111","v":0},{"$f":"リスト!M111","v":0},{"$f":"リスト!N111","v":0}]
[{"$f":"リスト!A112","v":"　"},{"$f":"リスト!B112","v":0},{"$f":"リスト!C112","v":0},{"$f":"リスト!D112","v":0},{"$f":"リスト!E112","v":0},{"$f":"リスト!F112","v":0},{"$f":"リスト!G112","v":0},{"$f":"リスト!H112","v":0},{"$f":"リスト!I112","v":0},{"$f":"リスト!J112","v":0},{"$f":"リスト!K112","v":0},{"$f":"リスト!L112","v":0},{"$f":"リスト!M112","v":0},{"$f":"リスト!N112","v":0}]
[{"$f":"リスト!A113","v":"　"},{"$f":"リスト!B113","v":0},{"$f":"リスト!C113","v":0},{"$f":"リスト!D113","v":0},{"$f":"リスト!E113","v":0},{"$f":"リスト!F113","v":0},{"$f":"リスト!G113","v":0},{"$f":"リスト!H113","v":0},{"$f":"リスト!I113","v":0},{"$f":"リスト!J113","v":0},{"$f":"リスト!K113","v":0},{"$f":"リスト!L113","v":0},{"$f":"リスト!M113","v":0},{"$f":"リスト!N113","v":0}]
[{"$f":"リスト!A114","v":"　"},{"$f":"リスト!B114","v":0},{"$f":"リスト!C114","v":0},{"$f":"リスト!D114","v":0},{"$f":"リスト!E114","v":0},{"$f":"リスト!F114","v":0},{"$f":"リスト!G114","v":0},{"$f":"リスト!H114","v":0},{"$f":"リスト!I114","v":0},{"$f":"リスト!J114","v":0},{"$f":"リスト!K114","v":0},{"$f":"リスト!L114","v":0},{"$f":"リスト!M114","v":0},{"$f":"リスト!N114","v":0}]
[{"$f":"リスト!A115","v":"　"},{"$f":"リスト!B115","v":0},{"$f":"リスト!C115","v":0},{"$f":"リスト!D115","v":0},{"$f":"リスト!E115","v":0},{"$f":"リスト!F115","v":0},{"$f":"リスト!G115","v":0},{"$f":"リスト!H115","v":0},{"$f":"リスト!I115","v":0},{"$f":"リスト!J115","v":0},{"$f":"リスト!K115","v":0},{"$f":"リスト!L115","v":0},{"$f":"リスト!M115","v":0},{"$f":"リスト!N115","v":0}]
[{"$f":"リスト!A116","v":"　"},{"$f":"リスト!B116","v":0},{"$f":"リスト!C116","v":0},{"$f":"リスト!D116","v":0},{"$f":"リスト!E116","v":0},{"$f":"リスト!F116","v":0},{"$f":"リスト!G116","v":0},{"$f":"リスト!H116","v":0},{"$f":"リスト!I116","v":0},{"$f":"リスト!J116","v":0},{"$f":"リスト!K116","v":0},{"$f":"リスト!L116","v":0},{"$f":"リスト!M116","v":0},{"$f":"リスト!N116","v":0}]
[{"$f":"リスト!A117","v":"　"},{"$f":"リスト!B117","v":0},{"$f":"リスト!C117","v":0},{"$f":"リスト!D117","v":0},{"$f":"リスト!E117","v":0},{"$f":"リスト!F117","v":0},{"$f":"リスト!G117","v":0},{"$f":"リスト!H117","v":0},{"$f":"リスト!I117","v":0},{"$f":"リスト!J117","v":0},{"$f":"リスト!K117","v":0},{"$f":"リスト!L117","v":0},{"$f":"リスト!M117","v":0},{"$f":"リスト!N117","v":0}]
[{"$f":"リスト!A118","v":"　"},{"$f":"リスト!B118","v":0},{"$f":"リスト!C118","v":0},{"$f":"リスト!D118","v":0},{"$f":"リスト!E118","v":0},{"$f":"リスト!F118","v":0},{"$f":"リスト!G118","v":0},{"$f":"リスト!H118","v":0},{"$f":"リスト!I118","v":0},{"$f":"リスト!J118","v":0},{"$f":"リスト!K118","v":0},{"$f":"リスト!L118","v":0},{"$f":"リスト!M118","v":0},{"$f":"リスト!N118","v":0}]
[{"$f":"リスト!A119","v":"　"},{"$f":"リスト!B119","v":0},{"$f":"リスト!C119","v":0},{"$f":"リスト!D119","v":0},{"$f":"リスト!E119","v":0},{"$f":"リスト!F119","v":0},{"$f":"リスト!G119","v":0},{"$f":"リスト!H119","v":0},{"$f":"リスト!I119","v":0},{"$f":"リスト!J119","v":0},{"$f":"リスト!K119","v":0},{"$f":"リスト!L119","v":0},{"$f":"リスト!M119","v":0},{"$f":"リスト!N119","v":0}]
[{"$f":"リスト!A120","v":"　"},{"$f":"リスト!B120","v":0},{"$f":"リスト!C120","v":0},{"$f":"リスト!D120","v":0},{"$f":"リスト!E120","v":0},{"$f":"リスト!F120","v":0},{"$f":"リスト!G120","v":0},{"$f":"リスト!H120","v":0},{"$f":"リスト!I120","v":0},{"$f":"リスト!J120","v":0},{"$f":"リスト!K120","v":0},{"$f":"リスト!L120","v":0},{"$f":"リスト!M120","v":0},{"$f":"リスト!N120","v":0}]
[{"$f":"リスト!A121","v":"　"},{"$f":"リスト!B121","v":0},{"$f":"リスト!C121","v":0},{"$f":"リスト!D121","v":0},{"$f":"リスト!E121","v":0},{"$f":"リスト!F121","v":0},{"$f":"リスト!G121","v":0},{"$f":"リスト!H121","v":0},{"$f":"リスト!I121","v":0},{"$f":"リスト!J121","v":0},{"$f":"リスト!K121","v":0},{"$f":"リスト!L121","v":0},{"$f":"リスト!M121","v":0},{"$f":"リスト!N121","v":0}]
[{"$f":"リスト!A122","v":"　"},{"$f":"リスト!B122","v":0},{"$f":"リスト!C122","v":0},{"$f":"リスト!D122","v":0},{"$f":"リスト!E122","v":0},{"$f":"リスト!F122","v":0},{"$f":"リスト!G122","v":0},{"$f":"リスト!H122","v":0},{"$f":"リスト!I122","v":0},{"$f":"リスト!J122","v":0},{"$f":"リスト!K122","v":0},{"$f":"リスト!L122","v":0},{"$f":"リスト!M122","v":0},{"$f":"リスト!N122","v":0}]
[{"$f":"リスト!A123","v":"　"},{"$f":"リスト!B123","v":0},{"$f":"リスト!C123","v":0},{"$f":"リスト!D123","v":0},{"$f":"リスト!E123","v":0},{"$f":"リスト!F123","v":0},{"$f":"リスト!G123","v":0},{"$f":"リスト!H123","v":0},{"$f":"リスト!I123","v":0},{"$f":"リスト!J123","v":0},{"$f":"リスト!K123","v":0},{"$f":"リスト!L123","v":0},{"$f":"リスト!M123","v":0},{"$f":"リスト!N123","v":0}]
[{"$f":"リスト!A124","v":"　"},{"$f":"リスト!B124","v":0},{"$f":"リスト!C124","v":0},{"$f":"リスト!D124","v":0},{"$f":"リスト!E124","v":0},{"$f":"リスト!F124","v":0},{"$f":"リスト!G124","v":0},{"$f":"リスト!H124","v":0},{"$f":"リスト!I124","v":0},{"$f":"リスト!J124","v":0},{"$f":"リスト!K124","v":0},{"$f":"リスト!L124","v":0},{"$f":"リスト!M124","v":0},{"$f":"リスト!N124","v":0}]
[{"$f":"リスト!A125","v":"　"},{"$f":"リスト!B125","v":0},{"$f":"リスト!C125","v":0},{"$f":"リスト!D125","v":0},{"$f":"リスト!E125","v":0},{"$f":"リスト!F125","v":0},{"$f":"リスト!G125","v":0},{"$f":"リスト!H125","v":0},{"$f":"リスト!I125","v":0},{"$f":"リスト!J125","v":0},{"$f":"リスト!K125","v":0},{"$f":"リスト!L125","v":0},{"$f":"リスト!M125","v":0},{"$f":"リスト!N125","v":0}]
[{"$f":"リスト!A126","v":"　"},{"$f":"リスト!B126","v":0},{"$f":"リスト!C126","v":0},{"$f":"リスト!D126","v":0},{"$f":"リスト!E126","v":0},{"$f":"リスト!F126","v":0},{"$f":"リスト!G126","v":0},{"$f":"リスト!H126","v":0},{"$f":"リスト!I126","v":0},{"$f":"リスト!J126","v":0},{"$f":"リスト!K126","v":0},{"$f":"リスト!L126","v":0},{"$f":"リスト!M126","v":0},{"$f":"リスト!N126","v":0}]
[{"$f":"リスト!A127","v":"　"},{"$f":"リスト!B127","v":0},{"$f":"リスト!C127","v":0},{"$f":"リスト!D127","v":0},{"$f":"リスト!E127","v":0},{"$f":"リスト!F127","v":0},{"$f":"リスト!G127","v":0},{"$f":"リスト!H127","v":0},{"$f":"リスト!I127","v":0},{"$f":"リスト!J127","v":0},{"$f":"リスト!K127","v":0},{"$f":"リスト!L127","v":0},{"$f":"リスト!M127","v":0},{"$f":"リスト!N127","v":0}]
[{"$f":"リスト!A128","v":"　"},{"$f":"リスト!B128","v":0},{"$f":"リスト!C128","v":0},{"$f":"リスト!D128","v":0},{"$f":"リスト!E128","v":0},{"$f":"リスト!F128","v":0},{"$f":"リスト!G128","v":0},{"$f":"リスト!H128","v":0},{"$f":"リスト!I128","v":0},{"$f":"リスト!J128","v":0},{"$f":"リスト!K128","v":0},{"$f":"リスト!L128","v":0},{"$f":"リスト!M128","v":0},{"$f":"リスト!N128","v":0}]
[{"$f":"リスト!A129","v":"　"},{"$f":"リスト!B129","v":0},{"$f":"リスト!C129","v":0},{"$f":"リスト!D129","v":0},{"$f":"リスト!E129","v":0},{"$f":"リスト!F129","v":0},{"$f":"リスト!G129","v":0},{"$f":"リスト!H129","v":0},{"$f":"リスト!I129","v":0},{"$f":"リスト!J129","v":0},{"$f":"リスト!K129","v":0},{"$f":"リスト!L129","v":0},{"$f":"リスト!M129","v":0},{"$f":"リスト!N129","v":0}]
[{"$f":"リスト!A130","v":"　"},{"$f":"リスト!B130","v":0},{"$f":"リスト!C130","v":0},{"$f":"リスト!D130","v":0},{"$f":"リスト!E130","v":0},{"$f":"リスト!F130","v":0},{"$f":"リスト!G130","v":0},{"$f":"リスト!H130","v":0},{"$f":"リスト!I130","v":0},{"$f":"リスト!J130","v":0},{"$f":"リスト!K130","v":0},{"$f":"リスト!L130","v":0},{"$f":"リスト!M130","v":0},{"$f":"リスト!N130","v":0}]
[{"$f":"リスト!A131","v":"　"},{"$f":"リスト!B131","v":0},{"$f":"リスト!C131","v":0},{"$f":"リスト!D131","v":0},{"$f":"リスト!E131","v":0},{"$f":"リスト!F131","v":0},{"$f":"リスト!G131","v":0},{"$f":"リスト!H131","v":0},{"$f":"リスト!I131","v":0},{"$f":"リスト!J131","v":0},{"$f":"リスト!K131","v":0},{"$f":"リスト!L131","v":0},{"$f":"リスト!M131","v":0},{"$f":"リスト!N131","v":0}]
[{"$f":"リスト!A132","v":"　"},{"$f":"リスト!B132","v":0},{"$f":"リスト!C132","v":0},{"$f":"リスト!D132","v":0},{"$f":"リスト!E132","v":0},{"$f":"リスト!F132","v":0},{"$f":"リスト!G132","v":0},{"$f":"リスト!H132","v":0},{"$f":"リスト!I132","v":0},{"$f":"リスト!J132","v":0},{"$f":"リスト!K132","v":0},{"$f":"リスト!L132","v":0},{"$f":"リスト!M132","v":0},{"$f":"リスト!N132","v":0}]
[{"$f":"リスト!A133","v":"　"},{"$f":"リスト!B133","v":0},{"$f":"リスト!C133","v":0},{"$f":"リスト!D133","v":0},{"$f":"リスト!E133","v":0},{"$f":"リスト!F133","v":0},{"$f":"リスト!G133","v":0},{"$f":"リスト!H133","v":0},{"$f":"リスト!I133","v":0},{"$f":"リスト!J133","v":0},{"$f":"リスト!K133","v":0},{"$f":"リスト!L133","v":0},{"$f":"リスト!M133","v":0},{"$f":"リスト!N133","v":0}]
[{"$f":"リスト!A134","v":"　"},{"$f":"リスト!B134","v":0},{"$f":"リスト!C134","v":0},{"$f":"リスト!D134","v":0},{"$f":"リスト!E134","v":0},{"$f":"リスト!F134","v":0},{"$f":"リスト!G134","v":0},{"$f":"リスト!H134","v":0},{"$f":"リスト!I134","v":0},{"$f":"リスト!J134","v":0},{"$f":"リスト!K134","v":0},{"$f":"リスト!L134","v":0},{"$f":"リスト!M134","v":0},{"$f":"リスト!N134","v":0}]
[{"$f":"リスト!A135","v":"　"},{"$f":"リスト!B135","v":0},{"$f":"リスト!C135","v":0},{"$f":"リスト!D135","v":0},{"$f":"リスト!E135","v":0},{"$f":"リスト!F135","v":0},{"$f":"リスト!G135","v":0},{"$f":"リスト!H135","v":0},{"$f":"リスト!I135","v":0},{"$f":"リスト!J135","v":0},{"$f":"リスト!K135","v":0},{"$f":"リスト!L135","v":0},{"$f":"リスト!M135","v":0},{"$f":"リスト!N135","v":0}]
[{"$f":"リスト!A136","v":"　"},{"$f":"リスト!B136","v":0},{"$f":"リスト!C136","v":0},{"$f":"リスト!D136","v":0},{"$f":"リスト!E136","v":0},{"$f":"リスト!F136","v":0},{"$f":"リスト!G136","v":0},{"$f":"リスト!H136","v":0},{"$f":"リスト!I136","v":0},{"$f":"リスト!J136","v":0},{"$f":"リスト!K136","v":0},{"$f":"リスト!L136","v":0},{"$f":"リスト!M136","v":0},{"$f":"リスト!N136","v":0}]
[{"$f":"リスト!A137","v":"　"},{"$f":"リスト!B137","v":0},{"$f":"リスト!C137","v":0},{"$f":"リスト!D137","v":0},{"$f":"リスト!E137","v":0},{"$f":"リスト!F137","v":0},{"$f":"リスト!G137","v":0},{"$f":"リスト!H137","v":0},{"$f":"リスト!I137","v":0},{"$f":"リスト!J137","v":0},{"$f":"リスト!K137","v":0},{"$f":"リスト!L137","v":0},{"$f":"リスト!M137","v":0},{"$f":"リスト!N137","v":0}]
[{"$f":"リスト!A138","v":"　"},{"$f":"リスト!B138","v":0},{"$f":"リスト!C138","v":0},{"$f":"リスト!D138","v":0},{"$f":"リスト!E138","v":0},{"$f":"リスト!F138","v":0},{"$f":"リスト!G138","v":0},{"$f":"リスト!H138","v":0},{"$f":"リスト!I138","v":0},{"$f":"リスト!J138","v":0},{"$f":"リスト!K138","v":0},{"$f":"リスト!L138","v":0},{"$f":"リスト!M138","v":0},{"$f":"リスト!N138","v":0}]
[{"$f":"リスト!A139","v":"　"},{"$f":"リスト!B139","v":0},{"$f":"リスト!C139","v":0},{"$f":"リスト!D139","v":0},{"$f":"リスト!E139","v":0},{"$f":"リスト!F139","v":0},{"$f":"リスト!G139","v":0},{"$f":"リスト!H139","v":0},{"$f":"リスト!I139","v":0},{"$f":"リスト!J139","v":0},{"$f":"リスト!K139","v":0},{"$f":"リスト!L139","v":0},{"$f":"リスト!M139","v":0},{"$f":"リスト!N139","v":0}]
[{"$f":"リスト!A140","v":"　"},{"$f":"リスト!B140","v":0},{"$f":"リスト!C140","v":0},{"$f":"リスト!D140","v":0},{"$f":"リスト!E140","v":0},{"$f":"リスト!F140","v":0},{"$f":"リスト!G140","v":0},{"$f":"リスト!H140","v":0},{"$f":"リスト!I140","v":0},{"$f":"リスト!J140","v":0},{"$f":"リスト!K140","v":0},{"$f":"リスト!L140","v":0},{"$f":"リスト!M140","v":0},{"$f":"リスト!N140","v":0}]
[{"$f":"リスト!A141","v":"　"},{"$f":"リスト!B141","v":0},{"$f":"リスト!C141","v":0},{"$f":"リスト!D141","v":0},{"$f":"リスト!E141","v":0},{"$f":"リスト!F141","v":0},{"$f":"リスト!G141","v":0},{"$f":"リスト!H141","v":0},{"$f":"リスト!I141","v":0},{"$f":"リスト!J141","v":0},{"$f":"リスト!K141","v":0},{"$f":"リスト!L141","v":0},{"$f":"リスト!M141","v":0},{"$f":"リスト!N141","v":0}]
[{"$f":"リスト!A142","v":"　"},{"$f":"リスト!B142","v":0},{"$f":"リスト!C142","v":0},{"$f":"リスト!D142","v":0},{"$f":"リスト!E142","v":0},{"$f":"リスト!F142","v":0},{"$f":"リスト!G142","v":0},{"$f":"リスト!H142","v":0},{"$f":"リスト!I142","v":0},{"$f":"リスト!J142","v":0},{"$f":"リスト!K142","v":0},{"$f":"リスト!L142","v":0},{"$f":"リスト!M142","v":0},{"$f":"リスト!N142","v":0}]
[{"$f":"リスト!A143","v":"　"},{"$f":"リスト!B143","v":0},{"$f":"リスト!C143","v":0},{"$f":"リスト!D143","v":0},{"$f":"リスト!E143","v":0},{"$f":"リスト!F143","v":0},{"$f":"リスト!G143","v":0},{"$f":"リスト!H143","v":0},{"$f":"リスト!I143","v":0},{"$f":"リスト!J143","v":0},{"$f":"リスト!K143","v":0},{"$f":"リスト!L143","v":0},{"$f":"リスト!M143","v":0},{"$f":"リスト!N143","v":0}]
[{"$f":"リスト!A144","v":"　"},{"$f":"リスト!B144","v":0},{"$f":"リスト!C144","v":0},{"$f":"リスト!D144","v":0},{"$f":"リスト!E144","v":0},{"$f":"リスト!F144","v":0},{"$f":"リスト!G144","v":0},{"$f":"リスト!H144","v":0},{"$f":"リスト!I144","v":0},{"$f":"リスト!J144","v":0},{"$f":"リスト!K144","v":0},{"$f":"リスト!L144","v":0},{"$f":"リスト!M144","v":0},{"$f":"リスト!N144","v":0}]
[{"$f":"リスト!A145","v":"　"},{"$f":"リスト!B145","v":0},{"$f":"リスト!C145","v":0},{"$f":"リスト!D145","v":0},{"$f":"リスト!E145","v":0},{"$f":"リスト!F145","v":0},{"$f":"リスト!G145","v":0},{"$f":"リスト!H145","v":0},{"$f":"リスト!I145","v":0},{"$f":"リスト!J145","v":0},{"$f":"リスト!K145","v":0},{"$f":"リスト!L145","v":0},{"$f":"リスト!M145","v":0},{"$f":"リスト!N145","v":0}]
[{"$f":"リスト!A146","v":"　"},{"$f":"リスト!B146","v":0},{"$f":"リスト!C146","v":0},{"$f":"リスト!D146","v":0},{"$f":"リスト!E146","v":0},{"$f":"リスト!F146","v":0},{"$f":"リスト!G146","v":0},{"$f":"リスト!H146","v":0},{"$f":"リスト!I146","v":0},{"$f":"リスト!J146","v":0},{"$f":"リスト!K146","v":0},{"$f":"リスト!L146","v":0},{"$f":"リスト!M146","v":0},{"$f":"リスト!N146","v":0}]
[{"$f":"リスト!A147","v":"　"},{"$f":"リスト!B147","v":0},{"$f":"リスト!C147","v":0},{"$f":"リスト!D147","v":0},{"$f":"リスト!E147","v":0},{"$f":"リスト!F147","v":0},{"$f":"リスト!G147","v":0},{"$f":"リスト!H147","v":0},{"$f":"リスト!I147","v":0},{"$f":"リスト!J147","v":0},{"$f":"リスト!K147","v":0},{"$f":"リスト!L147","v":0},{"$f":"リスト!M147","v":0},{"$f":"リスト!N147","v":0}]
[{"$f":"リスト!A148","v":"　"},{"$f":"リスト!B148","v":0},{"$f":"リスト!C148","v":0},{"$f":"リスト!D148","v":0},{"$f":"リスト!E148","v":0},{"$f":"リスト!F148","v":0},{"$f":"リスト!G148","v":0},{"$f":"リスト!H148","v":0},{"$f":"リスト!I148","v":0},{"$f":"リスト!J148","v":0},{"$f":"リスト!K148","v":0},{"$f":"リスト!L148","v":0},{"$f":"リスト!M148","v":0},{"$f":"リスト!N148","v":0}]
[{"$f":"リスト!A149","v":"　"},{"$f":"リスト!B149","v":0},{"$f":"リスト!C149","v":0},{"$f":"リスト!D149","v":0},{"$f":"リスト!E149","v":0},{"$f":"リスト!F149","v":0},{"$f":"リスト!G149","v":0},{"$f":"リスト!H149","v":0},{"$f":"リスト!I149","v":0},{"$f":"リスト!J149","v":0},{"$f":"リスト!K149","v":0},{"$f":"リスト!L149","v":0},{"$f":"リスト!M149","v":0},{"$f":"リスト!N149","v":0}]
[{"$f":"リスト!A150","v":"　"},{"$f":"リスト!B150","v":0},{"$f":"リスト!C150","v":0},{"$f":"リスト!D150","v":0},{"$f":"リスト!E150","v":0},{"$f":"リスト!F150","v":0},{"$f":"リスト!G150","v":0},{"$f":"リスト!H150","v":0},{"$f":"リスト!I150","v":0},{"$f":"リスト!J150","v":0},{"$f":"リスト!K150","v":0},{"$f":"リスト!L150","v":0},{"$f":"リスト!M150","v":0},{"$f":"リスト!N150","v":0}]
[{"$f":"リスト!A151","v":"　"},{"$f":"リスト!B151","v":0},{"$f":"リスト!C151","v":0},{"$f":"リスト!D151","v":0},{"$f":"リスト!E151","v":0},{"$f":"リスト!F151","v":0},{"$f":"リスト!G151","v":0},{"$f":"リスト!H151","v":0},{"$f":"リスト!I151","v":0},{"$f":"リスト!J151","v":0},{"$f":"リスト!K151","v":0},{"$f":"リスト!L151","v":0},{"$f":"リスト!M151","v":0},{"$f":"リスト!N151","v":0}]
[{"$f":"リスト!A152","v":"　"},{"$f":"リスト!B152","v":0},{"$f":"リスト!C152","v":0},{"$f":"リスト!D152","v":0},{"$f":"リスト!E152","v":0},{"$f":"リスト!F152","v":0},{"$f":"リスト!G152","v":0},{"$f":"リスト!H152","v":0},{"$f":"リスト!I152","v":0},{"$f":"リスト!J152","v":0},{"$f":"リスト!K152","v":0},{"$f":"リスト!L152","v":0},{"$f":"リスト!M152","v":0},{"$f":"リスト!N152","v":0}]
[{"$f":"リスト!A153","v":"　"},{"$f":"リスト!B153","v":0},{"$f":"リスト!C153","v":0},{"$f":"リスト!D153","v":0},{"$f":"リスト!E153","v":0},{"$f":"リスト!F153","v":0},{"$f":"リスト!G153","v":0},{"$f":"リスト!H153","v":0},{"$f":"リスト!I153","v":0},{"$f":"リスト!J153","v":0},{"$f":"リスト!K153","v":0},{"$f":"リスト!L153","v":0},{"$f":"リスト!M153","v":0},{"$f":"リスト!N153","v":0}]
[{"$f":"リスト!A154","v":"　"},{"$f":"リスト!B154","v":0},{"$f":"リスト!C154","v":0},{"$f":"リスト!D154","v":0},{"$f":"リスト!E154","v":0},{"$f":"リスト!F154","v":0},{"$f":"リスト!G154","v":0},{"$f":"リスト!H154","v":0},{"$f":"リスト!I154","v":0},{"$f":"リスト!J154","v":0},{"$f":"リスト!K154","v":0},{"$f":"リスト!L154","v":0},{"$f":"リスト!M154","v":0},{"$f":"リスト!N154","v":0}]
[{"$f":"リスト!A155","v":"　"},{"$f":"リスト!B155","v":0},{"$f":"リスト!C155","v":0},{"$f":"リスト!D155","v":0},{"$f":"リスト!E155","v":0},{"$f":"リスト!F155","v":0},{"$f":"リスト!G155","v":0},{"$f":"リスト!H155","v":0},{"$f":"リスト!I155","v":0},{"$f":"リスト!J155","v":0},{"$f":"リスト!K155","v":0},{"$f":"リスト!L155","v":0},{"$f":"リスト!M155","v":0},{"$f":"リスト!N155","v":0}]
[{"$f":"リスト!A156","v":"　"},{"$f":"リスト!B156","v":0},{"$f":"リスト!C156","v":0},{"$f":"リスト!D156","v":0},{"$f":"リスト!E156","v":0},{"$f":"リスト!F156","v":0},{"$f":"リスト!G156","v":0},{"$f":"リスト!H156","v":0},{"$f":"リスト!I156","v":0},{"$f":"リスト!J156","v":0},{"$f":"リスト!K156","v":0},{"$f":"リスト!L156","v":0},{"$f":"リスト!M156","v":0},{"$f":"リスト!N156","v":0}]
[{"$f":"リスト!A157","v":"　"},{"$f":"リスト!B157","v":0},{"$f":"リスト!C157","v":0},{"$f":"リスト!D157","v":0},{"$f":"リスト!E157","v":0},{"$f":"リスト!F157","v":0},{"$f":"リスト!G157","v":0},{"$f":"リスト!H157","v":0},{"$f":"リスト!I157","v":0},{"$f":"リスト!J157","v":0},{"$f":"リスト!K157","v":0},{"$f":"リスト!L157","v":0},{"$f":"リスト!M157","v":0},{"$f":"リスト!N157","v":0}]
[{"$f":"リスト!A158","v":"　"},{"$f":"リスト!B158","v":0},{"$f":"リスト!C158","v":0},{"$f":"リスト!D158","v":0},{"$f":"リスト!E158","v":0},{"$f":"リスト!F158","v":0},{"$f":"リスト!G158","v":0},{"$f":"リスト!H158","v":0},{"$f":"リスト!I158","v":0},{"$f":"リスト!J158","v":0},{"$f":"リスト!K158","v":0},{"$f":"リスト!L158","v":0},{"$f":"リスト!M158","v":0},{"$f":"リスト!N158","v":0}]
[{"$f":"リスト!A159","v":"　"},{"$f":"リスト!B159","v":0},{"$f":"リスト!C159","v":0},{"$f":"リスト!D159","v":0},{"$f":"リスト!E159","v":0},{"$f":"リスト!F159","v":0},{"$f":"リスト!G159","v":0},{"$f":"リスト!H159","v":0},{"$f":"リスト!I159","v":0},{"$f":"リスト!J159","v":0},{"$f":"リスト!K159","v":0},{"$f":"リスト!L159","v":0},{"$f":"リスト!M159","v":0},{"$f":"リスト!N159","v":0}]
[{"$f":"リスト!A160","v":"　"},{"$f":"リスト!B160","v":0},{"$f":"リスト!C160","v":0},{"$f":"リスト!D160","v":0},{"$f":"リスト!E160","v":0},{"$f":"リスト!F160","v":0},{"$f":"リスト!G160","v":0},{"$f":"リスト!H160","v":0},{"$f":"リスト!I160","v":0},{"$f":"リスト!J160","v":0},{"$f":"リスト!K160","v":0},{"$f":"リスト!L160","v":0},{"$f":"リスト!M160","v":0},{"$f":"リスト!N160","v":0}]
[{"$f":"リスト!A161","v":"　"},{"$f":"リスト!B161","v":0},{"$f":"リスト!C161","v":0},{"$f":"リスト!D161","v":0},{"$f":"リスト!E161","v":0},{"$f":"リスト!F161","v":0},{"$f":"リスト!G161","v":0},{"$f":"リスト!H161","v":0},{"$f":"リスト!I161","v":0},{"$f":"リスト!J161","v":0},{"$f":"リスト!K161","v":0},{"$f":"リスト!L161","v":0},{"$f":"リスト!M161","v":0},{"$f":"リスト!N161","v":0}]
[{"$f":"リスト!A162","v":"　"},{"$f":"リスト!B162","v":0},{"$f":"リスト!C162","v":0},{"$f":"リスト!D162","v":0},{"$f":"リスト!E162","v":0},{"$f":"リスト!F162","v":0},{"$f":"リスト!G162","v":0},{"$f":"リスト!H162","v":0},{"$f":"リスト!I162","v":0},{"$f":"リスト!J162","v":0},{"$f":"リスト!K162","v":0},{"$f":"リスト!L162","v":0},{"$f":"リスト!M162","v":0},{"$f":"リスト!N162","v":0}]
[{"$f":"リスト!A163","v":"　"},{"$f":"リスト!B163","v":0},{"$f":"リスト!C163","v":0},{"$f":"リスト!D163","v":0},{"$f":"リスト!E163","v":0},{"$f":"リスト!F163","v":0},{"$f":"リスト!G163","v":0},{"$f":"リスト!H163","v":0},{"$f":"リスト!I163","v":0},{"$f":"リスト!J163","v":0},{"$f":"リスト!K163","v":0},{"$f":"リスト!L163","v":0},{"$f":"リスト!M163","v":0},{"$f":"リスト!N163","v":0}]
[{"$f":"リスト!A164","v":"　"},{"$f":"リスト!B164","v":0},{"$f":"リスト!C164","v":0},{"$f":"リスト!D164","v":0},{"$f":"リスト!E164","v":0},{"$f":"リスト!F164","v":0},{"$f":"リスト!G164","v":0},{"$f":"リスト!H164","v":0},{"$f":"リスト!I164","v":0},{"$f":"リスト!J164","v":0},{"$f":"リスト!K164","v":0},{"$f":"リスト!L164","v":0},{"$f":"リスト!M164","v":0},{"$f":"リスト!N164","v":0}]
[{"$f":"リスト!A165","v":"　"},{"$f":"リスト!B165","v":0},{"$f":"リスト!C165","v":0},{"$f":"リスト!D165","v":0},{"$f":"リスト!E165","v":0},{"$f":"リスト!F165","v":0},{"$f":"リスト!G165","v":0},{"$f":"リスト!H165","v":0},{"$f":"リスト!I165","v":0},{"$f":"リスト!J165","v":0},{"$f":"リスト!K165","v":0},{"$f":"リスト!L165","v":0},{"$f":"リスト!M165","v":0},{"$f":"リスト!N165","v":0}]
[{"$f":"リスト!A166","v":"　"},{"$f":"リスト!B166","v":0},{"$f":"リスト!C166","v":0},{"$f":"リスト!D166","v":0},{"$f":"リスト!E166","v":0},{"$f":"リスト!F166","v":0},{"$f":"リスト!G166","v":0},{"$f":"リスト!H166","v":0},{"$f":"リスト!I166","v":0},{"$f":"リスト!J166","v":0},{"$f":"リスト!K166","v":0},{"$f":"リスト!L166","v":0},{"$f":"リスト!M166","v":0},{"$f":"リスト!N166","v":0}]
[{"$f":"リスト!A167","v":"　"},{"$f":"リスト!B167","v":0},{"$f":"リスト!C167","v":0},{"$f":"リスト!D167","v":0},{"$f":"リスト!E167","v":0},{"$f":"リスト!F167","v":0},{"$f":"リスト!G167","v":0},{"$f":"リスト!H167","v":0},{"$f":"リスト!I167","v":0},{"$f":"リスト!J167","v":0},{"$f":"リスト!K167","v":0},{"$f":"リスト!L167","v":0},{"$f":"リスト!M167","v":0},{"$f":"リスト!N167","v":0}]
[{"$f":"リスト!A168","v":"　"},{"$f":"リスト!B168","v":0},{"$f":"リスト!C168","v":0},{"$f":"リスト!D168","v":0},{"$f":"リスト!E168","v":0},{"$f":"リスト!F168","v":0},{"$f":"リスト!G168","v":0},{"$f":"リスト!H168","v":0},{"$f":"リスト!I168","v":0},{"$f":"リスト!J168","v":0},{"$f":"リスト!K168","v":0},{"$f":"リスト!L168","v":0},{"$f":"リスト!M168","v":0},{"$f":"リスト!N168","v":0}]
[{"$f":"リスト!A169","v":"　"},{"$f":"リスト!B169","v":0},{"$f":"リスト!C169","v":0},{"$f":"リスト!D169","v":0},{"$f":"リスト!E169","v":0},{"$f":"リスト!F169","v":0},{"$f":"リスト!G169","v":0},{"$f":"リスト!H169","v":0},{"$f":"リスト!I169","v":0},{"$f":"リスト!J169","v":0},{"$f":"リスト!K169","v":0},{"$f":"リスト!L169","v":0},{"$f":"リスト!M169","v":0},{"$f":"リスト!N169","v":0}]
[{"$f":"リスト!A170","v":"　"},{"$f":"リスト!B170","v":0},{"$f":"リスト!C170","v":0},{"$f":"リスト!D170","v":0},{"$f":"リスト!E170","v":0},{"$f":"リスト!F170","v":0},{"$f":"リスト!G170","v":0},{"$f":"リスト!H170","v":0},{"$f":"リスト!I170","v":0},{"$f":"リスト!J170","v":0},{"$f":"リスト!K170","v":0},{"$f":"リスト!L170","v":0},{"$f":"リスト!M170","v":0},{"$f":"リスト!N170","v":0}]
[{"$f":"リスト!A171","v":"　"},{"$f":"リスト!B171","v":0},{"$f":"リスト!C171","v":0},{"$f":"リスト!D171","v":0},{"$f":"リスト!E171","v":0},{"$f":"リスト!F171","v":0},{"$f":"リスト!G171","v":0},{"$f":"リスト!H171","v":0},{"$f":"リスト!I171","v":0},{"$f":"リスト!J171","v":0},{"$f":"リスト!K171","v":0},{"$f":"リスト!L171","v":0},{"$f":"リスト!M171","v":0},{"$f":"リスト!N171","v":0}]
[{"$f":"リスト!A172","v":"　"},{"$f":"リスト!B172","v":0},{"$f":"リスト!C172","v":0},{"$f":"リスト!D172","v":0},{"$f":"リスト!E172","v":0},{"$f":"リスト!F172","v":0},{"$f":"リスト!G172","v":0},{"$f":"リスト!H172","v":0},{"$f":"リスト!I172","v":0},{"$f":"リスト!J172","v":0},{"$f":"リスト!K172","v":0},{"$f":"リスト!L172","v":0},{"$f":"リスト!M172","v":0},{"$f":"リスト!N172","v":0}]
[{"$f":"リスト!A173","v":"　"},{"$f":"リスト!B173","v":0},{"$f":"リスト!C173","v":0},{"$f":"リスト!D173","v":0},{"$f":"リスト!E173","v":0},{"$f":"リスト!F173","v":0},{"$f":"リスト!G173","v":0},{"$f":"リスト!H173","v":0},{"$f":"リスト!I173","v":0},{"$f":"リスト!J173","v":0},{"$f":"リスト!K173","v":0},{"$f":"リスト!L173","v":0},{"$f":"リスト!M173","v":0},{"$f":"リスト!N173","v":0}]
[{"$f":"リスト!A174","v":"　"},{"$f":"リスト!B174","v":0},{"$f":"リスト!C174","v":0},{"$f":"リスト!D174","v":0},{"$f":"リスト!E174","v":0},{"$f":"リスト!F174","v":0},{"$f":"リスト!G174","v":0},{"$f":"リスト!H174","v":0},{"$f":"リスト!I174","v":0},{"$f":"リスト!J174","v":0},{"$f":"リスト!K174","v":0},{"$f":"リスト!L174","v":0},{"$f":"リスト!M174","v":0},{"$f":"リスト!N174","v":0}]
[{"$f":"リスト!A175","v":"　"},{"$f":"リスト!B175","v":0},{"$f":"リスト!C175","v":0},{"$f":"リスト!D175","v":0},{"$f":"リスト!E175","v":0},{"$f":"リスト!F175","v":0},{"$f":"リスト!G175","v":0},{"$f":"リスト!H175","v":0},{"$f":"リスト!I175","v":0},{"$f":"リスト!J175","v":0},{"$f":"リスト!K175","v":0},{"$f":"リスト!L175","v":0},{"$f":"リスト!M175","v":0},{"$f":"リスト!N175","v":0}]
[{"$f":"リスト!A176","v":"　"},{"$f":"リスト!B176","v":0},{"$f":"リスト!C176","v":0},{"$f":"リスト!D176","v":0},{"$f":"リスト!E176","v":0},{"$f":"リスト!F176","v":0},{"$f":"リスト!G176","v":0},{"$f":"リスト!H176","v":0},{"$f":"リスト!I176","v":0},{"$f":"リスト!J176","v":0},{"$f":"リスト!K176","v":0},{"$f":"リスト!L176","v":0},{"$f":"リスト!M176","v":0},{"$f":"リスト!N176","v":0}]
[{"$f":"リスト!A177","v":"　"},{"$f":"リスト!B177","v":0},{"$f":"リスト!C177","v":0},{"$f":"リスト!D177","v":0},{"$f":"リスト!E177","v":0},{"$f":"リスト!F177","v":0},{"$f":"リスト!G177","v":0},{"$f":"リスト!H177","v":0},{"$f":"リスト!I177","v":0},{"$f":"リスト!J177","v":0},{"$f":"リスト!K177","v":0},{"$f":"リスト!L177","v":0},{"$f":"リスト!M177","v":0},{"$f":"リスト!N177","v":0}]
[{"$f":"リスト!A178","v":"　"},{"$f":"リスト!B178","v":0},{"$f":"リスト!C178","v":0},{"$f":"リスト!D178","v":0},{"$f":"リスト!E178","v":0},{"$f":"リスト!F178","v":0},{"$f":"リスト!G178","v":0},{"$f":"リスト!H178","v":0},{"$f":"リスト!I178","v":0},{"$f":"リスト!J178","v":0},{"$f":"リスト!K178","v":0},{"$f":"リスト!L178","v":0},{"$f":"リスト!M178","v":0},{"$f":"リスト!N178","v":0}]
[{"$f":"リスト!A179","v":"　"},{"$f":"リスト!B179","v":0},{"$f":"リスト!C179","v":0},{"$f":"リスト!D179","v":0},{"$f":"リスト!E179","v":0},{"$f":"リスト!F179","v":0},{"$f":"リスト!G179","v":0},{"$f":"リスト!H179","v":0},{"$f":"リスト!I179","v":0},{"$f":"リスト!J179","v":0},{"$f":"リスト!K179","v":0},{"$f":"リスト!L179","v":0},{"$f":"リスト!M179","v":0},{"$f":"リスト!N179","v":0}]
[{"$f":"リスト!A180","v":"　"},{"$f":"リスト!B180","v":0},{"$f":"リスト!C180","v":0},{"$f":"リスト!D180","v":0},{"$f":"リスト!E180","v":0},{"$f":"リスト!F180","v":0},{"$f":"リスト!G180","v":0},{"$f":"リスト!H180","v":0},{"$f":"リスト!I180","v":0},{"$f":"リスト!J180","v":0},{"$f":"リスト!K180","v":0},{"$f":"リスト!L180","v":0},{"$f":"リスト!M180","v":0},{"$f":"リスト!N180","v":0}]
[{"$f":"リスト!A181","v":"　"},{"$f":"リスト!B181","v":0},{"$f":"リスト!C181","v":0},{"$f":"リスト!D181","v":0},{"$f":"リスト!E181","v":0},{"$f":"リスト!F181","v":0},{"$f":"リスト!G181","v":0},{"$f":"リスト!H181","v":0},{"$f":"リスト!I181","v":0},{"$f":"リスト!J181","v":0},{"$f":"リスト!K181","v":0},{"$f":"リスト!L181","v":0},{"$f":"リスト!M181","v":0},{"$f":"リスト!N181","v":0}]
[{"$f":"リスト!A182","v":"　"},{"$f":"リスト!B182","v":0},{"$f":"リスト!C182","v":0},{"$f":"リスト!D182","v":0},{"$f":"リスト!E182","v":0},{"$f":"リスト!F182","v":0},{"$f":"リスト!G182","v":0},{"$f":"リスト!H182","v":0},{"$f":"リスト!I182","v":0},{"$f":"リスト!J182","v":0},{"$f":"リスト!K182","v":0},{"$f":"リスト!L182","v":0},{"$f":"リスト!M182","v":0},{"$f":"リスト!N182","v":0}]
[{"$f":"リスト!A183","v":"　"},{"$f":"リスト!B183","v":0},{"$f":"リスト!C183","v":0},{"$f":"リスト!D183","v":0},{"$f":"リスト!E183","v":0},{"$f":"リスト!F183","v":0},{"$f":"リスト!G183","v":0},{"$f":"リスト!H183","v":0},{"$f":"リスト!I183","v":0},{"$f":"リスト!J183","v":0},{"$f":"リスト!K183","v":0},{"$f":"リスト!L183","v":0},{"$f":"リスト!M183","v":0},{"$f":"リスト!N183","v":0}]
[{"$f":"リスト!A184","v":"　"},{"$f":"リスト!B184","v":0},{"$f":"リスト!C184","v":0},{"$f":"リスト!D184","v":0},{"$f":"リスト!E184","v":0},{"$f":"リスト!F184","v":0},{"$f":"リスト!G184","v":0},{"$f":"リスト!H184","v":0},{"$f":"リスト!I184","v":0},{"$f":"リスト!J184","v":0},{"$f":"リスト!K184","v":0},{"$f":"リスト!L184","v":0},{"$f":"リスト!M184","v":0},{"$f":"リスト!N184","v":0}]
[{"$f":"リスト!A185","v":"　"},{"$f":"リスト!B185","v":0},{"$f":"リスト!C185","v":0},{"$f":"リスト!D185","v":0},{"$f":"リスト!E185","v":0},{"$f":"リスト!F185","v":0},{"$f":"リスト!G185","v":0},{"$f":"リスト!H185","v":0},{"$f":"リスト!I185","v":0},{"$f":"リスト!J185","v":0},{"$f":"リスト!K185","v":0},{"$f":"リスト!L185","v":0},{"$f":"リスト!M185","v":0},{"$f":"リスト!N185","v":0}]
[{"$f":"リスト!A186","v":"　"},{"$f":"リスト!B186","v":0},{"$f":"リスト!C186","v":0},{"$f":"リスト!D186","v":0},{"$f":"リスト!E186","v":0},{"$f":"リスト!F186","v":0},{"$f":"リスト!G186","v":0},{"$f":"リスト!H186","v":0},{"$f":"リスト!I186","v":0},{"$f":"リスト!J186","v":0},{"$f":"リスト!K186","v":0},{"$f":"リスト!L186","v":0},{"$f":"リスト!M186","v":0},{"$f":"リスト!N186","v":0}]
[{"$f":"リスト!A187","v":"　"},{"$f":"リスト!B187","v":0},{"$f":"リスト!C187","v":0},{"$f":"リスト!D187","v":0},{"$f":"リスト!E187","v":0},{"$f":"リスト!F187","v":0},{"$f":"リスト!G187","v":0},{"$f":"リスト!H187","v":0},{"$f":"リスト!I187","v":0},{"$f":"リスト!J187","v":0},{"$f":"リスト!K187","v":0},{"$f":"リスト!L187","v":0},{"$f":"リスト!M187","v":0},{"$f":"リスト!N187","v":0}]
[{"$f":"リスト!A188","v":"　"},{"$f":"リスト!B188","v":0},{"$f":"リスト!C188","v":0},{"$f":"リスト!D188","v":0},{"$f":"リスト!E188","v":0},{"$f":"リスト!F188","v":0},{"$f":"リスト!G188","v":0},{"$f":"リスト!H188","v":0},{"$f":"リスト!I188","v":0},{"$f":"リスト!J188","v":0},{"$f":"リスト!K188","v":0},{"$f":"リスト!L188","v":0},{"$f":"リスト!M188","v":0},{"$f":"リスト!N188","v":0}]
[{"$f":"リスト!A189","v":"　"},{"$f":"リスト!B189","v":0},{"$f":"リスト!C189","v":0},{"$f":"リスト!D189","v":0},{"$f":"リスト!E189","v":0},{"$f":"リスト!F189","v":0},{"$f":"リスト!G189","v":0},{"$f":"リスト!H189","v":0},{"$f":"リスト!I189","v":0},{"$f":"リスト!J189","v":0},{"$f":"リスト!K189","v":0},{"$f":"リスト!L189","v":0},{"$f":"リスト!M189","v":0},{"$f":"リスト!N189","v":0}]
[{"$f":"リスト!A190","v":"　"},{"$f":"リスト!B190","v":0},{"$f":"リスト!C190","v":0},{"$f":"リスト!D190","v":0},{"$f":"リスト!E190","v":0},{"$f":"リスト!F190","v":0},{"$f":"リスト!G190","v":0},{"$f":"リスト!H190","v":0},{"$f":"リスト!I190","v":0},{"$f":"リスト!J190","v":0},{"$f":"リスト!K190","v":0},{"$f":"リスト!L190","v":0},{"$f":"リスト!M190","v":0},{"$f":"リスト!N190","v":0}]
[{"$f":"リスト!A191","v":"　"},{"$f":"リスト!B191","v":0},{"$f":"リスト!C191","v":0},{"$f":"リスト!D191","v":0},{"$f":"リスト!E191","v":0},{"$f":"リスト!F191","v":0},{"$f":"リスト!G191","v":0},{"$f":"リスト!H191","v":0},{"$f":"リスト!I191","v":0},{"$f":"リスト!J191","v":0},{"$f":"リスト!K191","v":0},{"$f":"リスト!L191","v":0},{"$f":"リスト!M191","v":0},{"$f":"リスト!N191","v":0}]
[{"$f":"リスト!A192","v":"　"},{"$f":"リスト!B192","v":0},{"$f":"リスト!C192","v":0},{"$f":"リスト!D192","v":0},{"$f":"リスト!E192","v":0},{"$f":"リスト!F192","v":0},{"$f":"リスト!G192","v":0},{"$f":"リスト!H192","v":0},{"$f":"リスト!I192","v":0},{"$f":"リスト!J192","v":0},{"$f":"リスト!K192","v":0},{"$f":"リスト!L192","v":0},{"$f":"リスト!M192","v":0},{"$f":"リスト!N192","v":0}]
[{"$f":"リスト!A193","v":"　"},{"$f":"リスト!B193","v":0},{"$f":"リスト!C193","v":0},{"$f":"リスト!D193","v":0},{"$f":"リスト!E193","v":0},{"$f":"リスト!F193","v":0},{"$f":"リスト!G193","v":0},{"$f":"リスト!H193","v":0},{"$f":"リスト!I193","v":0},{"$f":"リスト!J193","v":0},{"$f":"リスト!K193","v":0},{"$f":"リスト!L193","v":0},{"$f":"リスト!M193","v":0},{"$f":"リスト!N193","v":0}]
[{"$f":"リスト!A194","v":"　"},{"$f":"リスト!B194","v":0},{"$f":"リスト!C194","v":0},{"$f":"リスト!D194","v":0},{"$f":"リスト!E194","v":0},{"$f":"リスト!F194","v":0},{"$f":"リスト!G194","v":0},{"$f":"リスト!H194","v":0},{"$f":"リスト!I194","v":0},{"$f":"リスト!J194","v":0},{"$f":"リスト!K194","v":0},{"$f":"リスト!L194","v":0},{"$f":"リスト!M194","v":0},{"$f":"リスト!N194","v":0}]
[{"$f":"リスト!A195","v":"　"},{"$f":"リスト!B195","v":0},{"$f":"リスト!C195","v":0},{"$f":"リスト!D195","v":0},{"$f":"リスト!E195","v":0},{"$f":"リスト!F195","v":0},{"$f":"リスト!G195","v":0},{"$f":"リスト!H195","v":0},{"$f":"リスト!I195","v":0},{"$f":"リスト!J195","v":0},{"$f":"リスト!K195","v":0},{"$f":"リスト!L195","v":0},{"$f":"リスト!M195","v":0},{"$f":"リスト!N195","v":0}]
[{"$f":"リスト!A196","v":"　"},{"$f":"リスト!B196","v":0},{"$f":"リスト!C196","v":0},{"$f":"リスト!D196","v":0},{"$f":"リスト!E196","v":0},{"$f":"リスト!F196","v":0},{"$f":"リスト!G196","v":0},{"$f":"リスト!H196","v":0},{"$f":"リスト!I196","v":0},{"$f":"リスト!J196","v":0},{"$f":"リスト!K196","v":0},{"$f":"リスト!L196","v":0},{"$f":"リスト!M196","v":0},{"$f":"リスト!N196","v":0}]
[{"$f":"リスト!A197","v":"　"},{"$f":"リスト!B197","v":0},{"$f":"リスト!C197","v":0},{"$f":"リスト!D197","v":0},{"$f":"リスト!E197","v":0},{"$f":"リスト!F197","v":0},{"$f":"リスト!G197","v":0},{"$f":"リスト!H197","v":0},{"$f":"リスト!I197","v":0},{"$f":"リスト!J197","v":0},{"$f":"リスト!K197","v":0},{"$f":"リスト!L197","v":0},{"$f":"リスト!M197","v":0},{"$f":"リスト!N197","v":0}]
[{"$f":"リスト!A198","v":"　"},{"$f":"リスト!B198","v":0},{"$f":"リスト!C198","v":0},{"$f":"リスト!D198","v":0},{"$f":"リスト!E198","v":0},{"$f":"リスト!F198","v":0},{"$f":"リスト!G198","v":0},{"$f":"リスト!H198","v":0},{"$f":"リスト!I198","v":0},{"$f":"リスト!J198","v":0},{"$f":"リスト!K198","v":0},{"$f":"リスト!L198","v":0},{"$f":"リスト!M198","v":0},{"$f":"リスト!N198","v":0}]
[{"$f":"リスト!A199","v":"　"},{"$f":"リスト!B199","v":0},{"$f":"リスト!C199","v":0},{"$f":"リスト!D199","v":0},{"$f":"リスト!E199","v":0},{"$f":"リスト!F199","v":0},{"$f":"リスト!G199","v":0},{"$f":"リスト!H199","v":0},{"$f":"リスト!I199","v":0},{"$f":"リスト!J199","v":0},{"$f":"リスト!K199","v":0},{"$f":"リスト!L199","v":0},{"$f":"リスト!M199","v":0},{"$f":"リスト!N199","v":0}]
[{"$f":"リスト!A200","v":"　"},{"$f":"リスト!B200","v":0},{"$f":"リスト!C200","v":0},{"$f":"リスト!D200","v":0},{"$f":"リスト!E200","v":0},{"$f":"リスト!F200","v":0},{"$f":"リスト!G200","v":0},{"$f":"リスト!H200","v":0},{"$f":"リスト!I200","v":0},{"$f":"リスト!J200","v":0},{"$f":"リスト!K200","v":0},{"$f":"リスト!L200","v":0},{"$f":"リスト!M200","v":0},{"$f":"リスト!N200","v":0}]
[{"$f":"リスト!A201","v":"　"},{"$f":"リスト!B201","v":0},{"$f":"リスト!C201","v":0},{"$f":"リスト!D201","v":0},{"$f":"リスト!E201","v":0},{"$f":"リスト!F201","v":0},{"$f":"リスト!G201","v":0},{"$f":"リスト!H201","v":0},{"$f":"リスト!I201","v":0},{"$f":"リスト!J201","v":0},{"$f":"リスト!K201","v":0},{"$f":"リスト!L201","v":0},{"$f":"リスト!M201","v":0},{"$f":"リスト!N201","v":0}]

{"sheet":"関東個人","index":4,"n_rows":340,"n_cols":30,"rows_kept":340,"cut":false,"hidden":false,"merged":[[4,1,4,3],[4,4,4,7],[4,12,4,15],[4,16,4,19],[7,3,7,9],[7,14,7,20],[1,1,1,3],[1,4,1,19],[2,1,2,19],[3,1,3,3],[3,4,3,7],[3,12,3,15],[3,16,3,19],[5,12,5,15],[5,16,5,19],[0,1,0,21],[12,0,14,0],[12,3,12,8],[8,3,8,8],[8,14,8,19],[9,0,11,0],[9,3,9,8],[9,14,9,19],[12,14,12,19],[13,3,13,8],[13,14,13,19],[14,3,14,8],[14,14,14,19],[10,3,10,8],[10,14,10,19],[11,3,11,8],[11,14,11,19],[3,8,3,11],[4,8,4,11],[9,11,11,11],[12,11,14,11],[5,1,5,3],[5,4,5,7],[5,8,5,11],[15,14,15,19],[16,3,16,8],[16,14,16,19],[17,3,17,8],[17,14,17,19],[15,0,17,0],[15,3,15,8],[18,14,18,19],[19,3,19,8],[19,14,19,19],[15,11,17,11],[20,3,20,8],[20,14,20,19],[18,0,20,0],[18,3,18,8],[21,14,21,19],[22,3,22,8],[22,14,22,19],[23,3,23,8],[23,14,23,19],[21,0,23,0],[21,3,21,8],[18,11,20,11],[21,11,23,11],[24,14,24,19],[25,3,25,8],[25,14,25,19],[26,3,26,8],[26,14,26,19],[24,0,26,0],[24,3,24,8],[27,14,27,19],[28,3,28,8],[28,14,28,19],[24,11,26,11],[29,3,29,8],[29,14,29,19],[27,0,29,0],[27,3,27,8],[30,14,30,19],[31,3,31,8],[31,14,31,19],[32,3,32,8],[32,14,32,19],[30,0,32,0],[30,3,30,8],[27,11,29,11],[30,11,32,11],[33,14,33,19],[34,3,34,8],[34,14,34,19],[35,3,35,8],[35,14,35,19],[33,0,35,0],[33,3,33,8],[41,3,41,8],[41,14,41,19],[39,0,41,0],[39,3,39,8],[36,14,36,19],[37,3,37,8],[37,14,37,19],[38,3,38,8],[38,14,38,19],[36,0,38,0],[36,3,36,8],[33,11,35,11],[36,11,38,11],[39,11,41,11],[45,0,47,0],[45,3,45,8],[42,14,42,19],[43,3,43,8],[43,14,43,19],[44,3,44,8],[44,14,44,19],[42,0,44,0],[42,3,42,8],[42,11,44,11],[45,11,47,11],[51,0,53,0],[51,3,51,8],[48,14,48,19],[49,3,49,8],[49,14,49,19],[50,3,50,8],[50,14,50,19],[48,0,50,0],[48,3,48,8],[48,11,50,11],[51,11,53,11],[57,0,59,0],[57,3,57,8],[54,14,54,19],[55,3,55,8],[55,14,55,19],[56,3,56,8],[56,14,56,19],[54,0,56,0],[54,3,54,8],[54,11,56,11],[57,11,59,11],[60,1,60,2],[60,3,60,8],[60,12,60,13],[60,14,60,19],[9,1,59,1],[9,12,59,12],[57,14,57,19],[58,3,58,8],[58,14,58,19],[59,3,59,8],[59,14,59,19],[51,14,51,19],[52,3,52,8],[52,14,52,19],[53,3,53,8],[53,14,53,19],[45,14,45,19],[46,3,46,8],[46,14,46,19],[47,3,47,8],[47,14,47,19],[39,14,39,19],[40,3,40,8],[40,14,40,19]]}
[null,"令和6年度茨城県高等学校弓道個人選手権大会兼関東高等学校弓道個人選手権大会茨城県予選会　申し込み\n",null,null,null,null,null,null,null,null,null,null,null,null,null,null,null,null,null,null,null,null,null,null,6,20,21,22,23,24]
[null,"学校名\n（正式名称）",null,null,null,null,null,null,null,null,null,null,null,null,null,null,null,null,null,null,null,null,null,null,{"$f":"IF(ISERROR(VLOOKUP($E$2,$A$66:$AD$138,Y1,FALSE)),\"\",VLOOKUP($E$2,$A$66:$AD$138,Y1,FALSE))","v":""},"","","","",""]
[null,"引率者"]
[null,"8月9日（金）\n男子",null,null,null,null,null,null,null,null,null,null,null,null,null,null,null,null,null,null,"昼食の数"]
[null,"8月10日（土）\n女子",null,null,null,null,null,null,null,null,null,null,null,null,null,null,null,null,null,null,"昼食の数"]
[null,"8月11日（日）\n決勝",null,null,null,null,null,null,null,null,null,null,null,null,null,null,null,null,null,null,"昼食の数"]
[null,null,null,null,null,null,null,null,"※引率2人目以降はこちらに入力"]
[null,"男子",null,null,null,null,null,null,null,null,null,null,"女子"]
[null,null,"立順","選手名",null,null,null,null,null,"学年",null,null,null,"立順","選手名",null,null,null,null,null,"学年"]
["A","上級生を上に入力して下さい。同一学校・同一学年ごとに立順の順番でプログラムを構成します（学年別で競技が実施されるため）。",1,null,null,null,null,null,null,{"$f":"IF(LEN(D10)=0,\"\",VLOOKUP(D10,リスト!$A$3:$N$201,3,FALSE))","v":""},{"$f":"IF(LEN(D10)=0,\"\",VLOOKUP(D10,リスト!$A$3:$N$201,2,FALSE))","v":""},"A","上級生を上に入力して下さい。同一学校・同一学年ごとに立順の順番でプログラムを構成します（学年別で競技が実施されるため）。",1,null,null,null,null,null,null,{"$f":"IF(LEN(O10)=0,\"\",VLOOKUP(O10,リスト!$A$3:$N$201,3,FALSE))","v":""},{"$f":"IF(LEN(O10)=0,\"\",VLOOKUP(O10,リスト!$A$3:$N$201,2,FALSE))","v":""},null,null,{"$f":"COUNTA(D10:I12)","v":0},{"$f":"COUNTA(O10:T12)","v":0}]
[null,null,2,null,null,null,null,null,null,{"$f":"IF(LEN(D11)=0,\"\",VLOOKUP(D11,リスト!$A$3:$N$201,3,FALSE))","v":""},{"$f":"IF(LEN(D11)=0,\"\",VLOOKUP(D11,リスト!$A$3:$N$201,2,FALSE))","v":""},null,null,2,null,null,null,null,null,null,{"$f":"IF(LEN(O11)=0,\"\",VLOOKUP(O11,リスト!$A$3:$N$201,3,FALSE))","v":""},{"$f":"IF(LEN(O11)=0,\"\",VLOOKUP(O11,リスト!$A$3:$N$201,2,FALSE))","v":""},null,null,{"$f":"COUNTA(D10:I12)","v":0},{"$f":"COUNTA(O10:T12)","v":0}]
[null,null,3,null,null,null,null,null,null,{"$f":"IF(LEN(D12)=0,\"\",VLOOKUP(D12,リスト!$A$3:$N$201,3,FALSE))","v":""},{"$f":"IF(LEN(D12)=0,\"\",VLOOKUP(D12,リスト!$A$3:$N$201,2,FALSE))","v":""},null,null,3,null,null,null,null,null,null,{"$f":"IF(LEN(O12)=0,\"\",VLOOKUP(O12,リスト!$A$3:$N$201,3,FALSE))","v":""},{"$f":"IF(LEN(O12)=0,\"\",VLOOKUP(O12,リスト!$A$3:$N$201,2,FALSE))","v":""},null,null,{"$f":"COUNTA(D10:I12)","v":0},{"$f":"COUNTA(O10:T12)","v":0}]
["B",null,4,null,null,null,null,null,null,{"$f":"IF(LEN(D13)=0,\"\",VLOOKUP(D13,リスト!$A$3:$N$201,3,FALSE))","v":""},{"$f":"IF(LEN(D13)=0,\"\",VLOOKUP(D13,リスト!$A$3:$N$201,2,FALSE))","v":""},"B",null,4,null,null,null,null,null,null,{"$f":"IF(LEN(O13)=0,\"\",VLOOKUP(O13,リスト!$A$3:$N$201,3,FALSE))","v":""},{"$f":"IF(LEN(O13)=0,\"\",VLOOKUP(O13,リスト!$A$3:$N$201,2,FALSE))","v":""},null,null,{"$f":"COUNTA(D13:I15)","v":0},{"$f":"COUNTA(O13:T15)","v":0}]
[null,null,5,null,null,null,null,null,null,{"$f":"IF(LEN(D14)=0,\"\",VLOOKUP(D14,リスト!$A$3:$N$201,3,FALSE))","v":""},{"$f":"IF(LEN(D14)=0,\"\",VLOOKUP(D14,リスト!$A$3:$N$201,2,FALSE))","v":""},null,null,5,null,null,null,null,null,null,{"$f":"IF(LEN(O14)=0,\"\",VLOOKUP(O14,リスト!$A$3:$N$201,3,FALSE))","v":""},{"$f":"IF(LEN(O14)=0,\"\",VLOOKUP(O14,リスト!$A$3:$N$201,2,FALSE))","v":""},null,null,{"$f":"COUNTA(D13:I15)","v":0},{"$f":"COUNTA(O13:T15)","v":0}]
[null,null,6,null,null,null,null,null,null,{"$f":"IF(LEN(D15)=0,\"\",VLOOKUP(D15,リスト!$A$3:$N$201,3,FALSE))","v":""},{"$f":"IF(LEN(D15)=0,\"\",VLOOKUP(D15,リスト!$A$3:$N$201,2,FALSE))","v":""},null,null,6,null,null,null,null,null,null,{"$f":"IF(LEN(O15)=0,\"\",VLOOKUP(O15,リスト!$A$3:$N$201,3,FALSE))","v":""},{"$f":"IF(LEN(O15)=0,\"\",VLOOKUP(O15,リスト!$A$3:$N$201,2,FALSE))","v":""},null,null,{"$f":"COUNTA(D13:I15)","v":0},{"$f":"COUNTA(O13:T15)","v":0}]
["C",null,7,null,null,null,null,null,null,{"$f":"IF(LEN(D16)=0,\"\",VLOOKUP(D16,リスト!$A$3:$N$201,3,FALSE))","v":""},{"$f":"IF(LEN(D16)=0,\"\",VLOOKUP(D16,リスト!$A$3:$N$201,2,FALSE))","v":""},"C",null,7,null,null,null,null,null,null,{"$f":"IF(LEN(O16)=0,\"\",VLOOKUP(O16,リスト!$A$3:$N$201,3,FALSE))","v":""},{"$f":"IF(LEN(O16)=0,\"\",VLOOKUP(O16,リスト!$A$3:$N$201,2,FALSE))","v":""},null,null,{"$f":"COUNTA(D16:I18)","v":0},{"$f":"COUNTA(O16:T18)","v":0}]
[null,null,8,null,null,null,null,null,null,{"$f":"IF(LEN(D17)=0,\"\",VLOOKUP(D17,リスト!$A$3:$N$201,3,FALSE))","v":""},{"$f":"IF(LEN(D17)=0,\"\",VLOOKUP(D17,リスト!$A$3:$N$201,2,FALSE))","v":""},null,null,8,null,null,null,null,null,null,{"$f":"IF(LEN(O17)=0,\"\",VLOOKUP(O17,リスト!$A$3:$N$201,3,FALSE))","v":""},{"$f":"IF(LEN(O17)=0,\"\",VLOOKUP(O17,リスト!$A$3:$N$201,2,FALSE))","v":""},null,null,{"$f":"COUNTA(D16:I18)","v":0},{"$f":"COUNTA(O16:T18)","v":0}]
[null,null,9,null,null,null,null,null,null,{"$f":"IF(LEN(D18)=0,\"\",VLOOKUP(D18,リスト!$A$3:$N$201,3,FALSE))","v":""},{"$f":"IF(LEN(D18)=0,\"\",VLOOKUP(D18,リスト!$A$3:$N$201,2,FALSE))","v":""},null,null,9,null,null,null,null,null,null,{"$f":"IF(LEN(O18)=0,\"\",VLOOKUP(O18,リスト!$A$3:$N$201,3,FALSE))","v":""},{"$f":"IF(LEN(O18)=0,\"\",VLOOKUP(O18,リスト!$A$3:$N$201,2,FALSE))","v":""},null,null,{"$f":"COUNTA(D16:I18)","v":0},{"$f":"COUNTA(O16:T18)","v":0}]
["D",null,10,null,null,null,null,null,null,{"$f":"IF(LEN(D19)=0,\"\",VLOOKUP(D19,リスト!$A$3:$N$201,3,FALSE))","v":""},{"$f":"IF(LEN(D19)=0,\"\",VLOOKUP(D19,リスト!$A$3:$N$201,2,FALSE))","v":""},"D",null,10,null,null,null,null,null,null,{"$f":"IF(LEN(O19)=0,\"\",VLOOKUP(O19,リスト!$A$3:$N$201,3,FALSE))","v":""},{"$f":"IF(LEN(O19)=0,\"\",VLOOKUP(O19,リスト!$A$3:$N$201,2,FALSE))","v":""},null,null,{"$f":"COUNTA(D19:I21)","v":0},{"$f":"COUNTA(O19:T21)","v":0}]
[null,null,11,null,null,null,null,null,null,{"$f":"IF(LEN(D20)=0,\"\",VLOOKUP(D20,リスト!$A$3:$N$201,3,FALSE))","v":""},{"$f":"IF(LEN(D20)=0,\"\",VLOOKUP(D20,リスト!$A$3:$N$201,2,FALSE))","v":""},null,null,11,null,null,null,null,null,null,{"$f":"IF(LEN(O20)=0,\"\",VLOOKUP(O20,リスト!$A$3:$N$201,3,FALSE))","v":""},{"$f":"IF(LEN(O20)=0,\"\",VLOOKUP(O20,リスト!$A$3:$N$201,2,FALSE))","v":""},null,null,{"$f":"COUNTA(D19:I21)","v":0},{"$f":"COUNTA(O19:T21)","v":0}]
[null,null,12,null,null,null,null,null,null,{"$f":"IF(LEN(D21)=0,\"\",VLOOKUP(D21,リスト!$A$3:$N$201,3,FALSE))","v":""},{"$f":"IF(LEN(D21)=0,\"\",VLOOKUP(D21,リスト!$A$3:$N$201,2,FALSE))","v":""},null,null,12,null,null,null,null,null,null,{"$f":"IF(LEN(O21)=0,\"\",VLOOKUP(O21,リスト!$A$3:$N$201,3,FALSE))","v":""},{"$f":"IF(LEN(O21)=0,\"\",VLOOKUP(O21,リスト!$A$3:$N$201,2,FALSE))","v":""},null,null,{"$f":"COUNTA(D19:I21)","v":0},{"$f":"COUNTA(O19:T21)","v":0}]
["E",null,13,null,null,null,null,null,null,{"$f":"IF(LEN(D22)=0,\"\",VLOOKUP(D22,リスト!$A$3:$N$201,3,FALSE))","v":""},{"$f":"IF(LEN(D22)=0,\"\",VLOOKUP(D22,リスト!$A$3:$N$201,2,FALSE))","v":""},"E",null,13,null,null,null,null,null,null,{"$f":"IF(LEN(O22)=0,\"\",VLOOKUP(O22,リスト!$A$3:$N$201,3,FALSE))","v":""},{"$f":"IF(LEN(O22)=0,\"\",VLOOKUP(O22,リスト!$A$3:$N$201,2,FALSE))","v":""},null,null,{"$f":"COUNTA(D22:I24)","v":0},{"$f":"COUNTA(O22:T24)","v":0}]
[null,null,14,null,null,null,null,null,null,{"$f":"IF(LEN(D23)=0,\"\",VLOOKUP(D23,リスト!$A$3:$N$201,3,FALSE))","v":""},{"$f":"IF(LEN(D23)=0,\"\",VLOOKUP(D23,リスト!$A$3:$N$201,2,FALSE))","v":""},null,null,14,null,null,null,null,null,null,{"$f":"IF(LEN(O23)=0,\"\",VLOOKUP(O23,リスト!$A$3:$N$201,3,FALSE))","v":""},{"$f":"IF(LEN(O23)=0,\"\",VLOOKUP(O23,リスト!$A$3:$N$201,2,FALSE))","v":""},null,null,{"$f":"COUNTA(D22:I24)","v":0},{"$f":"COUNTA(O22:T24)","v":0}]
[null,null,15,null,null,null,null,null,null,{"$f":"IF(LEN(D24)=0,\"\",VLOOKUP(D24,リスト!$A$3:$N$201,3,FALSE))","v":""},{"$f":"IF(LEN(D24)=0,\"\",VLOOKUP(D24,リスト!$A$3:$N$201,2,FALSE))","v":""},null,null,15,null,null,null,null,null,null,{"$f":"IF(LEN(O24)=0,\"\",VLOOKUP(O24,リスト!$A$3:$N$201,3,FALSE))","v":""},{"$f":"IF(LEN(O24)=0,\"\",VLOOKUP(O24,リスト!$A$3:$N$201,2,FALSE))","v":""},null,null,{"$f":"COUNTA(D22:I24)","v":0},{"$f":"COUNTA(O22:T24)","v":0}]
["F",null,16,null,null,null,null,null,null,{"$f":"IF(LEN(D25)=0,\"\",VLOOKUP(D25,リスト!$A$3:$N$201,3,FALSE))","v":""},{"$f":"IF(LEN(D25)=0,\"\",VLOOKUP(D25,リスト!$A$3:$N$201,2,FALSE))","v":""},"F",null,16,null,null,null,null,null,null,{"$f":"IF(LEN(O25)=0,\"\",VLOOKUP(O25,リスト!$A$3:$N$201,3,FALSE))","v":""},{"$f":"IF(LEN(O25)=0,\"\",VLOOKUP(O25,リスト!$A$3:$N$201,2,FALSE))","v":""},null,null,{"$f":"COUNTA(D25:I27)","v":0},{"$f":"COUNTA(O25:T27)","v":0}]
[null,null,17,null,null,null,null,null,null,{"$f":"IF(LEN(D26)=0,\"\",VLOOKUP(D26,リスト!$A$3:$N$201,3,FALSE))","v":""},{"$f":"IF(LEN(D26)=0,\"\",VLOOKUP(D26,リスト!$A$3:$N$201,2,FALSE))","v":""},null,null,17,null,null,null,null,null,null,{"$f":"IF(LEN(O26)=0,\"\",VLOOKUP(O26,リスト!$A$3:$N$201,3,FALSE))","v":""},{"$f":"IF(LEN(O26)=0,\"\",VLOOKUP(O26,リスト!$A$3:$N$201,2,FALSE))","v":""},null,null,{"$f":"COUNTA(D25:I27)","v":0},{"$f":"COUNTA(O25:T27)","v":0}]
[null,null,18,null,null,null,null,null,null,{"$f":"IF(LEN(D27)=0,\"\",VLOOKUP(D27,リスト!$A$3:$N$201,3,FALSE))","v":""},{"$f":"IF(LEN(D27)=0,\"\",VLOOKUP(D27,リスト!$A$3:$N$201,2,FALSE))","v":""},null,null,18,null,null,null,null,null,null,{"$f":"IF(LEN(O27)=0,\"\",VLOOKUP(O27,リスト!$A$3:$N$201,3,FALSE))","v":""},{"$f":"IF(LEN(O27)=0,\"\",VLOOKUP(O27,リスト!$A$3:$N$201,2,FALSE))","v":""},null,null,{"$f":"COUNTA(D25:I27)","v":0},{"$f":"COUNTA(O25:T27)","v":0}]
["G",null,19,null,null,null,null,null,null,{"$f":"IF(LEN(D28)=0,\"\",VLOOKUP(D28,リスト!$A$3:$N$201,3,FALSE))","v":""},{"$f":"IF(LEN(D28)=0,\"\",VLOOKUP(D28,リスト!$A$3:$N$201,2,FALSE))","v":""},"G",null,19,null,null,null,null,null,null,{"$f":"IF(LEN(O28)=0,\"\",VLOOKUP(O28,リスト!$A$3:$N$201,3,FALSE))","v":""},{"$f":"IF(LEN(O28)=0,\"\",VLOOKUP(O28,リスト!$A$3:$N$201,2,FALSE))","v":""},null,null,{"$f":"COUNTA(D28:I30)","v":0},{"$f":"COUNTA(O28:T30)","v":0}]
[null,null,20,null,null,null,null,null,null,{"$f":"IF(LEN(D29)=0,\"\",VLOOKUP(D29,リスト!$A$3:$N$201,3,FALSE))","v":""},{"$f":"IF(LEN(D29)=0,\"\",VLOOKUP(D29,リスト!$A$3:$N$201,2,FALSE))","v":""},null,null,20,null,null,null,null,null,null,{"$f":"IF(LEN(O29)=0,\"\",VLOOKUP(O29,リスト!$A$3:$N$201,3,FALSE))","v":""},{"$f":"IF(LEN(O29)=0,\"\",VLOOKUP(O29,リスト!$A$3:$N$201,2,FALSE))","v":""},null,null,{"$f":"COUNTA(D28:I30)","v":0},{"$f":"COUNTA(O28:T30)","v":0}]
[null,null,21,null,null,null,null,null,null,{"$f":"IF(LEN(D30)=0,\"\",VLOOKUP(D30,リスト!$A$3:$N$201,3,FALSE))","v":""},{"$f":"IF(LEN(D30)=0,\"\",VLOOKUP(D30,リスト!$A$3:$N$201,2,FALSE))","v":""},null,null,21,null,null,null,null,null,null,{"$f":"IF(LEN(O30)=0,\"\",VLOOKUP(O30,リスト!$A$3:$N$201,3,FALSE))","v":""},{"$f":"IF(LEN(O30)=0,\"\",VLOOKUP(O30,リスト!$A$3:$N$201,2,FALSE))","v":""},null,null,{"$f":"COUNTA(D28:I30)","v":0},{"$f":"COUNTA(O28:T30)","v":0}]
["H",null,22,null,null,null,null,null,null,{"$f":"IF(LEN(D31)=0,\"\",VLOOKUP(D31,リスト!$A$3:$N$201,3,FALSE))","v":""},{"$f":"IF(LEN(D31)=0,\"\",VLOOKUP(D31,リスト!$A$3:$N$201,2,FALSE))","v":""},"H",null,22,null,null,null,null,null,null,{"$f":"IF(LEN(O31)=0,\"\",VLOOKUP(O31,リスト!$A$3:$N$201,3,FALSE))","v":""},{"$f":"IF(LEN(O31)=0,\"\",VLOOKUP(O31,リスト!$A$3:$N$201,2,FALSE))","v":""},null,null,{"$f":"COUNTA(D31:I33)","v":0},{"$f":"COUNTA(O31:T33)","v":0}]
[null,null,23,null,null,null,null,null,null,{"$f":"IF(LEN(D32)=0,\"\",VLOOKUP(D32,リスト!$A$3:$N$201,3,FALSE))","v":""},{"$f":"IF(LEN(D32)=0,\"\",VLOOKUP(D32,リスト!$A$3:$N$201,2,FALSE))","v":""},null,null,23,null,null,null,null,null,null,{"$f":"IF(LEN(O32)=0,\"\",VLOOKUP(O32,リスト!$A$3:$N$201,3,FALSE))","v":""},{"$f":"IF(LEN(O32)=0,\"\",VLOOKUP(O32,リスト!$A$3:$N$201,2,FALSE))","v":""},null,null,{"$f":"COUNTA(D31:I33)","v":0},{"$f":"COUNTA(O31:T33)","v":0}]
[null,null,24,null,null,null,null,null,null,{"$f":"IF(LEN(D33)=0,\"\",VLOOKUP(D33,リスト!$A$3:$N$201,3,FALSE))","v":""},{"$f":"IF(LEN(D33)=0,\"\",VLOOKUP(D33,リスト!$A$3:$N$201,2,FALSE))","v":""},null,null,24,null,null,null,null,null,null,{"$f":"IF(LEN(O33)=0,\"\",VLOOKUP(O33,リスト!$A$3:$N$201,3,FALSE))","v":""},{"$f":"IF(LEN(O33)=0,\"\",VLOOKUP(O33,リスト!$A$3:$N$201,2,FALSE))","v":""},null,null,{"$f":"COUNTA(D31:I33)","v":0},{"$f":"COUNTA(O31:T33)","v":0}]
["I",null,25,null,null,null,null,null,null,{"$f":"IF(LEN(D34)=0,\"\",VLOOKUP(D34,リスト!$A$3:$N$201,3,FALSE))","v":""},{"$f":"IF(LEN(D34)=0,\"\",VLOOKUP(D34,リスト!$A$3:$N$201,2,FALSE))","v":""},"I",null,25,null,null,null,null,null,null,{"$f":"IF(LEN(O34)=0,\"\",VLOOKUP(O34,リスト!$A$3:$N$201,3,FALSE))","v":""},{"$f":"IF(LEN(O34)=0,\"\",VLOOKUP(O34,リスト!$A$3:$N$201,2,FALSE))","v":""},null,null,{"$f":"COUNTA(D34:I36)","v":0},{"$f":"COUNTA(O34:T36)","v":0}]
[null,null,26,null,null,null,null,null,null,{"$f":"IF(LEN(D35)=0,\"\",VLOOKUP(D35,リスト!$A$3:$N$201,3,FALSE))","v":""},{"$f":"IF(LEN(D35)=0,\"\",VLOOKUP(D35,リスト!$A$3:$N$201,2,FALSE))","v":""},null,null,26,null,null,null,null,null,null,{"$f":"IF(LEN(O35)=0,\"\",VLOOKUP(O35,リスト!$A$3:$N$201,3,FALSE))","v":""},{"$f":"IF(LEN(O35)=0,\"\",VLOOKUP(O35,リスト!$A$3:$N$201,2,FALSE))","v":""},null,null,{"$f":"COUNTA(D34:I36)","v":0},{"$f":"COUNTA(O34:T36)","v":0}]
[null,null,27,null,null,null,null,null,null,{"$f":"IF(LEN(D36)=0,\"\",VLOOKUP(D36,リスト!$A$3:$N$201,3,FALSE))","v":""},{"$f":"IF(LEN(D36)=0,\"\",VLOOKUP(D36,リスト!$A$3:$N$201,2,FALSE))","v":""},null,null,27,null,null,null,null,null,null,{"$f":"IF(LEN(O36)=0,\"\",VLOOKUP(O36,リスト!$A$3:$N$201,3,FALSE))","v":""},{"$f":"IF(LEN(O36)=0,\"\",VLOOKUP(O36,リスト!$A$3:$N$201,2,FALSE))","v":""},null,null,{"$f":"COUNTA(D34:I36)","v":0},{"$f":"COUNTA(O34:T36)","v":0}]
["J",null,28,null,null,null,null,null,null,{"$f":"IF(LEN(D37)=0,\"\",VLOOKUP(D37,リスト!$A$3:$N$201,3,FALSE))","v":""},{"$f":"IF(LEN(D37)=0,\"\",VLOOKUP(D37,リスト!$A$3:$N$201,2,FALSE))","v":""},"J",null,28,null,null,null,null,null,null,{"$f":"IF(LEN(O37)=0,\"\",VLOOKUP(O37,リスト!$A$3:$N$201,3,FALSE))","v":""},{"$f":"IF(LEN(O37)=0,\"\",VLOOKUP(O37,リスト!$A$3:$N$201,2,FALSE))","v":""},null,null,{"$f":"COUNTA(D37:I39)","v":0},{"$f":"COUNTA(O37:T39)","v":0}]
[null,null,29,null,null,null,null,null,null,{"$f":"IF(LEN(D38)=0,\"\",VLOOKUP(D38,リスト!$A$3:$N$201,3,FALSE))","v":""},{"$f":"IF(LEN(D38)=0,\"\",VLOOKUP(D38,リスト!$A$3:$N$201,2,FALSE))","v":""},null,null,29,null,null,null,null,null,null,{"$f":"IF(LEN(O38)=0,\"\",VLOOKUP(O38,リスト!$A$3:$N$201,3,FALSE))","v":""},{"$f":"IF(LEN(O38)=0,\"\",VLOOKUP(O38,リスト!$A$3:$N$201,2,FALSE))","v":""},null,null,{"$f":"COUNTA(D37:I39)","v":0},{"$f":"COUNTA(O37:T39)","v":0}]
[null,null,30,null,null,null,null,null,null,{"$f":"IF(LEN(D39)=0,\"\",VLOOKUP(D39,リスト!$A$3:$N$201,3,FALSE))","v":""},{"$f":"IF(LEN(D39)=0,\"\",VLOOKUP(D39,リスト!$A$3:$N$201,2,FALSE))","v":""},null,null,30,null,null,null,null,null,null,{"$f":"IF(LEN(O39)=0,\"\",VLOOKUP(O39,リスト!$A$3:$N$201,3,FALSE))","v":""},{"$f":"IF(LEN(O39)=0,\"\",VLOOKUP(O39,リスト!$A$3:$N$201,2,FALSE))","v":""},null,null,{"$f":"COUNTA(D37:I39)","v":0},{"$f":"COUNTA(O37:T39)","v":0}]
["K",null,31,null,null,null,null,null,null,{"$f":"IF(LEN(D40)=0,\"\",VLOOKUP(D40,リスト!$A$3:$N$201,3,FALSE))","v":""},{"$f":"IF(LEN(D40)=0,\"\",VLOOKUP(D40,リスト!$A$3:$N$201,2,FALSE))","v":""},"K",null,31,null,null,null,null,null,null,{"$f":"IF(LEN(O40)=0,\"\",VLOOKUP(O40,リスト!$A$3:$N$201,3,FALSE))","v":""},{"$f":"IF(LEN(O40)=0,\"\",VLOOKUP(O40,リスト!$A$3:$N$201,2,FALSE))","v":""},null,null,{"$f":"COUNTA(D40:I42)","v":0},{"$f":"COUNTA(O40:T42)","v":0}]
[null,null,32,null,null,null,null,null,null,{"$f":"IF(LEN(D41)=0,\"\",VLOOKUP(D41,リスト!$A$3:$N$201,3,FALSE))","v":""},{"$f":"IF(LEN(D41)=0,\"\",VLOOKUP(D41,リスト!$A$3:$N$201,2,FALSE))","v":""},null,null,32,null,null,null,null,null,null,{"$f":"IF(LEN(O41)=0,\"\",VLOOKUP(O41,リスト!$A$3:$N$201,3,FALSE))","v":""},{"$f":"IF(LEN(O41)=0,\"\",VLOOKUP(O41,リスト!$A$3:$N$201,2,FALSE))","v":""},null,null,{"$f":"COUNTA(D40:I42)","v":0},{"$f":"COUNTA(O40:T42)","v":0}]
[null,null,33,null,null,null,null,null,null,{"$f":"IF(LEN(D42)=0,\"\",VLOOKUP(D42,リスト!$A$3:$N$201,3,FALSE))","v":""},{"$f":"IF(LEN(D42)=0,\"\",VLOOKUP(D42,リスト!$A$3:$N$201,2,FALSE))","v":""},null,null,33,null,null,null,null,null,null,{"$f":"IF(LEN(O42)=0,\"\",VLOOKUP(O42,リスト!$A$3:$N$201,3,FALSE))","v":""},{"$f":"IF(LEN(O42)=0,\"\",VLOOKUP(O42,リスト!$A$3:$N$201,2,FALSE))","v":""},null,null,{"$f":"COUNTA(D40:I42)","v":0},{"$f":"COUNTA(O40:T42)","v":0}]
["L",null,34,null,null,null,null,null,null,{"$f":"IF(LEN(D43)=0,\"\",VLOOKUP(D43,リスト!$A$3:$N$201,3,FALSE))","v":""},{"$f":"IF(LEN(D43)=0,\"\",VLOOKUP(D43,リスト!$A$3:$N$201,2,FALSE))","v":""},"L",null,34,null,null,null,null,null,null,{"$f":"IF(LEN(O43)=0,\"\",VLOOKUP(O43,リスト!$A$3:$N$201,3,FALSE))","v":""},{"$f":"IF(LEN(O43)=0,\"\",VLOOKUP(O43,リスト!$A$3:$N$201,2,FALSE))","v":""},null,null,{"$f":"COUNTA(D43:I45)","v":0},{"$f":"COUNTA(O43:T45)","v":0}]
[null,null,35,null,null,null,null,null,null,{"$f":"IF(LEN(D44)=0,\"\",VLOOKUP(D44,リスト!$A$3:$N$201,3,FALSE))","v":""},{"$f":"IF(LEN(D44)=0,\"\",VLOOKUP(D44,リスト!$A$3:$N$201,2,FALSE))","v":""},null,null,35,null,null,null,null,null,null,{"$f":"IF(LEN(O44)=0,\"\",VLOOKUP(O44,リスト!$A$3:$N$201,3,FALSE))","v":""},{"$f":"IF(LEN(O44)=0,\"\",VLOOKUP(O44,リスト!$A$3:$N$201,2,FALSE))","v":""},null,null,{"$f":"COUNTA(D43:I45)","v":0},{"$f":"COUNTA(O43:T45)","v":0}]
[null,null,36,null,null,null,null,null,null,{"$f":"IF(LEN(D45)=0,\"\",VLOOKUP(D45,リスト!$A$3:$N$201,3,FALSE))","v":""},{"$f":"IF(LEN(D45)=0,\"\",VLOOKUP(D45,リスト!$A$3:$N$201,2,FALSE))","v":""},null,null,36,null,null,null,null,null,null,{"$f":"IF(LEN(O45)=0,\"\",VLOOKUP(O45,リスト!$A$3:$N$201,3,FALSE))","v":""},{"$f":"IF(LEN(O45)=0,\"\",VLOOKUP(O45,リスト!$A$3:$N$201,2,FALSE))","v":""},null,null,{"$f":"COUNTA(D43:I45)","v":0},{"$f":"COUNTA(O43:T45)","v":0}]
["M",null,37,null,null,null,null,null,null,{"$f":"IF(LEN(D46)=0,\"\",VLOOKUP(D46,リスト!$A$3:$N$201,3,FALSE))","v":""},{"$f":"IF(LEN(D46)=0,\"\",VLOOKUP(D46,リスト!$A$3:$N$201,2,FALSE))","v":""},"M",null,37,null,null,null,null,null,null,{"$f":"IF(LEN(O46)=0,\"\",VLOOKUP(O46,リスト!$A$3:$N$201,3,FALSE))","v":""},{"$f":"IF(LEN(O46)=0,\"\",VLOOKUP(O46,リスト!$A$3:$N$201,2,FALSE))","v":""},null,null,{"$f":"COUNTA(D46:I48)","v":0},{"$f":"COUNTA(O46:T48)","v":0}]
[null,null,38,null,null,null,null,null,null,{"$f":"IF(LEN(D47)=0,\"\",VLOOKUP(D47,リスト!$A$3:$N$201,3,FALSE))","v":""},{"$f":"IF(LEN(D47)=0,\"\",VLOOKUP(D47,リスト!$A$3:$N$201,2,FALSE))","v":""},null,null,38,null,null,null,null,null,null,{"$f":"IF(LEN(O47)=0,\"\",VLOOKUP(O47,リスト!$A$3:$N$201,3,FALSE))","v":""},{"$f":"IF(LEN(O47)=0,\"\",VLOOKUP(O47,リスト!$A$3:$N$201,2,FALSE))","v":""},null,null,{"$f":"COUNTA(D46:I48)","v":0},{"$f":"COUNTA(O46:T48)","v":0}]
[null,null,39,null,null,null,null,null,null,{"$f":"IF(LEN(D48)=0,\"\",VLOOKUP(D48,リスト!$A$3:$N$201,3,FALSE))","v":""},{"$f":"IF(LEN(D48)=0,\"\",VLOOKUP(D48,リスト!$A$3:$N$201,2,FALSE))","v":""},null,null,39,null,null,null,null,null,null,{"$f":"IF(LEN(O48)=0,\"\",VLOOKUP(O48,リスト!$A$3:$N$201,3,FALSE))","v":""},{"$f":"IF(LEN(O48)=0,\"\",VLOOKUP(O48,リスト!$A$3:$N$201,2,FALSE))","v":""},null,null,{"$f":"COUNTA(D46:I48)","v":0},{"$f":"COUNTA(O46:T48)","v":0}]
["N",null,40,null,null,null,null,null,null,{"$f":"IF(LEN(D49)=0,\"\",VLOOKUP(D49,リスト!$A$3:$N$201,3,FALSE))","v":""},{"$f":"IF(LEN(D49)=0,\"\",VLOOKUP(D49,リスト!$A$3:$N$201,2,FALSE))","v":""},"N",null,40,null,null,null,null,null,null,{"$f":"IF(LEN(O49)=0,\"\",VLOOKUP(O49,リスト!$A$3:$N$201,3,FALSE))","v":""},{"$f":"IF(LEN(O49)=0,\"\",VLOOKUP(O49,リスト!$A$3:$N$201,2,FALSE))","v":""},null,null,{"$f":"COUNTA(D49:I51)","v":0},{"$f":"COUNTA(O49:T51)","v":0}]
[null,null,41,null,null,null,null,null,null,{"$f":"IF(LEN(D50)=0,\"\",VLOOKUP(D50,リスト!$A$3:$N$201,3,FALSE))","v":""},{"$f":"IF(LEN(D50)=0,\"\",VLOOKUP(D50,リスト!$A$3:$N$201,2,FALSE))","v":""},null,null,41,null,null,null,null,null,null,{"$f":"IF(LEN(O50)=0,\"\",VLOOKUP(O50,リスト!$A$3:$N$201,3,FALSE))","v":""},{"$f":"IF(LEN(O50)=0,\"\",VLOOKUP(O50,リスト!$A$3:$N$201,2,FALSE))","v":""},null,null,{"$f":"COUNTA(D49:I51)","v":0},{"$f":"COUNTA(O49:T51)","v":0}]
[null,null,42,null,null,null,null,null,null,{"$f":"IF(LEN(D51)=0,\"\",VLOOKUP(D51,リスト!$A$3:$N$201,3,FALSE))","v":""},{"$f":"IF(LEN(D51)=0,\"\",VLOOKUP(D51,リスト!$A$3:$N$201,2,FALSE))","v":""},null,null,42,null,null,null,null,null,null,{"$f":"IF(LEN(O51)=0,\"\",VLOOKUP(O51,リスト!$A$3:$N$201,3,FALSE))","v":""},{"$f":"IF(LEN(O51)=0,\"\",VLOOKUP(O51,リスト!$A$3:$N$201,2,FALSE))","v":""},null,null,{"$f":"COUNTA(D49:I51)","v":0},{"$f":"COUNTA(O49:T51)","v":0}]
["O",null,43,null,null,null,null,null,null,{"$f":"IF(LEN(D52)=0,\"\",VLOOKUP(D52,リスト!$A$3:$N$201,3,FALSE))","v":""},{"$f":"IF(LEN(D52)=0,\"\",VLOOKUP(D52,リスト!$A$3:$N$201,2,FALSE))","v":""},"O",null,43,null,null,null,null,null,null,{"$f":"IF(LEN(O52)=0,\"\",VLOOKUP(O52,リスト!$A$3:$N$201,3,FALSE))","v":""},{"$f":"IF(LEN(O52)=0,\"\",VLOOKUP(O52,リスト!$A$3:$N$201,2,FALSE))","v":""},null,null,{"$f":"COUNTA(D52:I54)","v":0},{"$f":"COUNTA(O52:T54)","v":0}]
[null,null,44,null,null,null,null,null,null,{"$f":"IF(LEN(D53)=0,\"\",VLOOKUP(D53,リスト!$A$3:$N$201,3,FALSE))","v":""},{"$f":"IF(LEN(D53)=0,\"\",VLOOKUP(D53,リスト!$A$3:$N$201,2,FALSE))","v":""},null,null,44,null,null,null,null,null,null,{"$f":"IF(LEN(O53)=0,\"\",VLOOKUP(O53,リスト!$A$3:$N$201,3,FALSE))","v":""},{"$f":"IF(LEN(O53)=0,\"\",VLOOKUP(O53,リスト!$A$3:$N$201,2,FALSE))","v":""},null,null,{"$f":"COUNTA(D52:I54)","v":0},{"$f":"COUNTA(O52:T54)","v":0}]
[null,null,45,null,null,null,null,null,null,{"$f":"IF(LEN(D54)=0,\"\",VLOOKUP(D54,リスト!$A$3:$N$201,3,FALSE))","v":""},{"$f":"IF(LEN(D54)=0,\"\",VLOOKUP(D54,リスト!$A$3:$N$201,2,FALSE))","v":""},null,null,45,null,null,null,null,null,null,{"$f":"IF(LEN(O54)=0,\"\",VLOOKUP(O54,リスト!$A$3:$N$201,3,FALSE))","v":""},{"$f":"IF(LEN(O54)=0,\"\",VLOOKUP(O54,リスト!$A$3:$N$201,2,FALSE))","v":""},null,null,{"$f":"COUNTA(D52:I54)","v":0},{"$f":"COUNTA(O52:T54)","v":0}]
["P",null,46,null,null,null,null,null,null,{"$f":"IF(LEN(D55)=0,\"\",VLOOKUP(D55,リスト!$A$3:$N$201,3,FALSE))","v":""},{"$f":"IF(LEN(D55)=0,\"\",VLOOKUP(D55,リスト!$A$3:$N$201,2,FALSE))","v":""},"P",null,46,null,null,null,null,null,null,{"$f":"IF(LEN(O55)=0,\"\",VLOOKUP(O55,リスト!$A$3:$N$201,3,FALSE))","v":""},{"$f":"IF(LEN(O55)=0,\"\",VLOOKUP(O55,リスト!$A$3:$N$201,2,FALSE))","v":""},null,null,{"$f":"COUNTA(D55:I57)","v":0},{"$f":"COUNTA(O55:T57)","v":0}]
[null,null,47,null,null,null,null,null,null,{"$f":"IF(LEN(D56)=0,\"\",VLOOKUP(D56,リスト!$A$3:$N$201,3,FALSE))","v":""},{"$f":"IF(LEN(D56)=0,\"\",VLOOKUP(D56,リスト!$A$3:$N$201,2,FALSE))","v":""},null,null,47,null,null,null,null,null,null,{"$f":"IF(LEN(O56)=0,\"\",VLOOKUP(O56,リスト!$A$3:$N$201,3,FALSE))","v":""},{"$f":"IF(LEN(O56)=0,\"\",VLOOKUP(O56,リスト!$A$3:$N$201,2,FALSE))","v":""},null,null,{"$f":"COUNTA(D55:I57)","v":0},{"$f":"COUNTA(O55:T57)","v":0}]
[null,null,48,null,null,null,null,null,null,{"$f":"IF(LEN(D57)=0,\"\",VLOOKUP(D57,リスト!$A$3:$N$201,3,FALSE))","v":""},{"$f":"IF(LEN(D57)=0,\"\",VLOOKUP(D57,リスト!$A$3:$N$201,2,FALSE))","v":""},null,null,48,null,null,null,null,null,null,{"$f":"IF(LEN(O57)=0,\"\",VLOOKUP(O57,リスト!$A$3:$N$201,3,FALSE))","v":""},{"$f":"IF(LEN(O57)=0,\"\",VLOOKUP(O57,リスト!$A$3:$N$201,2,FALSE))","v":""},null,null,{"$f":"COUNTA(D55:I57)","v":0},{"$f":"COUNTA(O55:T57)","v":0}]
["Q",null,49,null,null,null,null,null,null,{"$f":"IF(LEN(D58)=0,\"\",VLOOKUP(D58,リスト!$A$3:$N$201,3,FALSE))","v":""},{"$f":"IF(LEN(D58)=0,\"\",VLOOKUP(D58,リスト!$A$3:$N$201,2,FALSE))","v":""},"Q",null,49,null,null,null,null,null,null,{"$f":"IF(LEN(O58)=0,\"\",VLOOKUP(O58,リスト!$A$3:$N$201,3,FALSE))","v":""},{"$f":"IF(LEN(O58)=0,\"\",VLOOKUP(O58,リスト!$A$3:$N$201,2,FALSE))","v":""},null,null,{"$f":"COUNTA(D58:I60)","v":0},{"$f":"COUNTA(O58:T60)","v":0}]
[null,null,50,null,null,null,null,null,null,{"$f":"IF(LEN(D59)=0,\"\",VLOOKUP(D59,リスト!$A$3:$N$201,3,FALSE))","v":""},{"$f":"IF(LEN(D59)=0,\"\",VLOOKUP(D59,リスト!$A$3:$N$201,2,FALSE))","v":""},null,null,50,null,null,null,null,null,null,{"$f":"IF(LEN(O59)=0,\"\",VLOOKUP(O59,リスト!$A$3:$N$201,3,FALSE))","v":""},{"$f":"IF(LEN(O59)=0,\"\",VLOOKUP(O59,リスト!$A$3:$N$201,2,FALSE))","v":""},null,null,{"$f":"COUNTA(D58:I60)","v":0},{"$f":"COUNTA(O58:T60)","v":0}]
[null,null,51,null,null,null,null,null,null,{"$f":"IF(LEN(D60)=0,\"\",VLOOKUP(D60,リスト!$A$3:$N$201,3,FALSE))","v":""},{"$f":"IF(LEN(D60)=0,\"\",VLOOKUP(D60,リスト!$A$3:$N$201,2,FALSE))","v":""},null,null,51,null,null,null,null,null,null,{"$f":"IF(LEN(O60)=0,\"\",VLOOKUP(O60,リスト!$A$3:$N$201,3,FALSE))","v":""},{"$f":"IF(LEN(O60)=0,\"\",VLOOKUP(O60,リスト!$A$3:$N$201,2,FALSE))","v":""},null,null,{"$f":"COUNTA(D58:I60)","v":0},{"$f":"COUNTA(O58:T60)","v":0}]
[]
[]
[]
[]
[]
[{"$f":"I66","v":"日立第一高等学校"},1,1,1,"日一","日立一","県立",0,"日立第一高等学校","日立第一","ひたちだいいち","男","女","317-0063","日立市若葉町3-15-1","0294-22-6488","31700630294-22-64880294-21-4490","0294-21-4490","磯邉　裕一","志賀　達哉","安斎　正人","坂本　八穂","大場　久美子","　",null,{"$f":"COUNTA(O64:T66)","v":6}]
[{"$f":"I67","v":"日立第二高等学校"},1,2,2,"日二","日立二","県立",0,"日立第二高等学校","日立第二","ひたちだいに","","女","317-0071","日立市鹿島町3-2-1","0294-22-3254","31700710294-22-32540294-21-4583","0294-21-4583","蛭田　清孝","本田　由子","井手　悠賀","石川　翔子","　","　",null,{"$f":"COUNTA(N67:S69)","v":18}]
["日立商業高等学校",1,3,3,"日商","日立商","県立",0,"日立商業高等学校","日立商業","ひたちしょうぎょう","男","女","319-1222","日立市久慈町6-20-1","0294-52-4779","31912220294-52-47790294-53-8243","0294-53-8243","栗田　武志","真仲　泰成","岡見　伸行","青山　紀子","　","　",null,{"$f":"COUNTA(N67:S69)","v":18}]
["日立北高等学校",1,4,4,"日北","日立北","県立",0,"日立北高等学校","日立北","ひたちきた","男","女","319-1411","日立市川尻町6-11-1","0294-43-2101","31914110294-43-21010294-43-7967","0294-43-7967","清水　秀一","矢部　克美","小中　貴司","鈴木　利佳","　","　",null,{"$f":"COUNTA(N67:S69)","v":18}]
["磯原郷英高等学校",1,5,5,"磯郷","磯郷英","県立",0,"磯原郷英高等学校","磯原郷英","いそはらきょうえい","男","女","319-1541","北茨城市磯原町磯原912","0293-42-0260","31915410293-42-02600293-42-6545","0293-42-6545","長山　祐司","松浦　祥吾","鈴木　光雄","　","　","　"]
["太田第一高等学校",1,6,6,"太一","太田一","県立",0,"太田第一高等学校","太田第一","おおただいいち","男","女","313-0005","常陸太田市栄町58","0294-72-2115","31300050294-72-21150294-72-2119","0294-72-2119","谷津　勉","西野　志津子","重中　茜","　","　","　"]
["太田西山高等学校",1,7,7,"西山","太西山","県立",0,"太田西山高等学校","太田西山","おおたせいざん","男","女","313-0007","常陸太田市新宿町210","0294-72-2136","31300070294-72-21360294-72-2147","0294-72-2147","菊池　幸惠","黒川　誠","佐伯　祐","　","　","　"]
["小瀬高等学校",1,1,8,"小瀬","小瀬","県立",0,"小瀬高等学校","小　　瀬","おせ","男","女","319-2401","常陸大宮市上小瀬1881","0295-56-2204","31924010295-56-22040295-56-3804","0295-56-3804","山下　則雄","北嶋　大輔","野上　勇","　","　","　"]
["常陸大宮高等学校",2,2,9,"常大","常大宮","県立",0,"常陸大宮高等学校","常陸大宮","みとだいいち","男","","319-2255","常陸大宮市野中町3257-2","0295-52-2175","31922550295-52-21750295-53-6914","0295-53-6914","堀川　洋","西野　有希","倉持　太陽","　","　","　"]
["水戸第一高等学校",2,3,10,"水一","水戸一","県立",0,"水戸第一高等学校","水戸第一","みとだいに","男","女","310-0011","水戸市三の丸3-10-1","029-224-2254","3100011029-224-2254029-225-5694","029-225-5694","御厩　祐司","石井　孝典","金井　正人","　","　","　"]
["水戸第二高等学校",2,4,11,"水二","水戸二","県立",0,"水戸第二高等学校","水戸第二","みとだいさん","","女","310-0062","水戸市大町2-2-14","029-224-2543","3100062029-224-2543029-225-5049","029-225-5049","渡邉　剛","恩田　洋一","梶原　拓光","　","　","　"]
["水戸第三高等学校",2,5,12,"水三","水戸三","県立",0,"水戸第三高等学校","水戸第三","みどりおか","","女","310-0011","水戸市三の丸2-7-27","029-224-2044","3100011029-224-2044029-225-4524","029-225-4524","南雲　康司","深谷　拓","辺見　知子","　","　","　"]
["緑岡高等学校",2,6,13,"緑岡","緑岡","県立",0,"緑岡高等学校","緑　　岡","みとこうぎょう","男","女","310-0852","水戸市笠原町1284","029-241-0311","3100852029-241-0311029-241-7929","029-241-7929","今瀬　一博","田口　泰子","楠　正則","小塚　由紀子","野村　勝美","　"]
["水戸工業高等学校",2,7,14,"水工","水戸工","県立",0,"水戸工業高等学校","水戸工業","みとさくらのまき","男","女","310-0836","水戸市元吉田町1101","029-247-5711","3100836029-247-5711029-248-6399","029-248-6399","久松　政信","牧田　幸博","関口　仁","　","　","　"]
["水戸桜ノ牧高等学校",2,8,15,"桜牧","桜ノ牧","県立",0,"水戸桜ノ牧高等学校","水戸桜ノ牧","さわ","男","女","310-0914","水戸市小吹町2070","029-243-3644","3100914029-243-3644029-241-9642","029-241-9642","秋山　克巳","坂本　裕哉","梶山　潤","寺内　芳江","　","　"]
["佐和高等学校",2,9,16,"佐和","佐和","県立",0,"佐和高等学校","佐　　和","かさま","男","女","312-0061","ひたちなか市稲田636-1","029-285-1819","30916110296-72-11710296-72-2590","029-285-8401","鈴木　猛","辻元　誠之","清水　智子","　","　","　"]
["那珂湊高等学校",2,10,17,"那湊","那珂湊","県立",0,"那珂湊高等学校","那 珂 湊","かさま","男","女","311-1224","ひたちなか市山ノ上町4-6","029-262-2642","3111224029-262-2642029-263-3961","029-263-3961","鈴木　富美子","関口　昭","満生　香子","　","　","　"]
["笠間高等学校",2,11,18,"笠間","笠間","県立",0,"笠間高等学校","笠　　間","みとさくらのまきじょうほく","男","女","309-1611","笠間市笠間1668","0296-72-1171","30916110296-72-11710296-72-2590","0296-72-2590","渡邉　英一","人見　広章","　","　","　","　"]
["水戸桜ノ牧高等学校常北校",2,12,19,"常北","常北","県立",0,"水戸桜ノ牧高等学校常北校","水戸桜ノ牧常北","とうかい","男","","311-4306","東茨城郡城里町春園1634","029-288-2028","3114306029-288-2028029-288-4969","029-288-4969","秋山　克巳","大図　卓也","安蔵　恭吾","海老原　洋法","　","　"]
["東海高等学校",2,13,20,"東海","東海","県立",0,"東海高等学校","東　　海","いばらきひがし","男","女","319-1112","那珂郡東海村大字村松771-1","029-282-7501","3191112029-282-7501029-287-1328","029-287-1328","正木　昇","荒木　広大","小田　義雄","　","　","　"]
["茨城東高等学校",2,14,21,"茨東","茨城東","県立",0,"茨城東高等学校","茨 城 東","なか","男","女","311-3157","東茨城郡茨城町小幡2524","029-292-6245","3113157029-292-6245029-292-2405","029-292-2405","上田　英雄","菅野　学","飯田　延稔","　","　","　"]
["那珂高等学校",2,15,22,"那珂","那珂","県立",0,"那珂高等学校","那　　珂","いばらき","男","女","311-0111","那珂市後台1710-1","029-295-2710","3110111029-295-2710029-295-4640","029-295-4640","阿内　勉","大内　麻子","朝比奈　泰紀","　","　","　"]
["茨城高等学校",2,16,23,"茨城","茨城","","私立","茨城高等学校","茨　　城","すいじょう","男","女","310-0065","水戸市八幡町16-1","029-221-4936","3100065029-221-4936029-221-4923","029-221-4923","梶　克治","遠藤　康","作山　友孝","　","　","　"]
["水城高等学校",2,17,24,"水城","水城",0,"私立","水城高等学校","水　　城","いばらきこうぎょうこうとうせんもん","男","女","310-0804","水戸市白梅2-1-45","029-247-6509","3100804029-247-6509029-248-7252","029-248-7252","小田部　幹夫","中村　諒","武田　悠平","　","　","　"]
["茨城工業高等専門学校",2,18,25,"高専","茨高専","国立",0,"茨城工業高等専門学校","茨城工業高等専門学校","ほこただいいち","男","女","312-8508","ひたちなか市中根866","029-272-5201","3128508029-272-5201029-271-2813","029-271-2813","鈴木　秋弘","丸山　智章","平本　留理","大津　麻紀子","　","　"]
["鉾田第一高等学校",3,1,26,"鉾一","鉾田一","県立",0,"鉾田第一高等学校","鉾田第一","ほこただいに","男","女","311-1517","鉾田市鉾田1090-2","0291-33-2161","31115170291-33-21610291-33-6086","0291-33-6086","飯山　美都子","星　浩一","杉山　公実子","　","　","　"]
["鉾田第二高等学校",3,2,27,"鉾二","鉾田二","県立",0,"鉾田第二高等学校","鉾田第二","たまつくりこうぎょう","男","女","311-1517","鉾田市鉾田1158","0291-33-2171","31115170291-33-21710291-33-6093","0291-33-6093","海老澤　浩一","沼里　民子","廣原　嘉明","　","　","　"]
["玉造工業高等学校",3,3,28,"玉工","玉造工","県立",0,"玉造工業高等学校","玉造工業","あそう","男","女","311-3501","行方市芹沢1552","0299-55-0138","31135010299-55-01380299-55-3454","0299-55-3454","大塚　哲蔵","小畑　繁","　","　","　","　"]
["麻生高等学校",3,4,29,"麻生","麻生","県立",0,"麻生高等学校","麻　　生","いたこ","男","女","311-3832","行方市麻生1806","0299-72-0098","31138320299-72-00980299-72-2317","0299-72-2317","園部　晃嗣","齊藤　啓","森作　実玖也","　","　","　"]
["潮来高等学校",3,5,30,"潮来","潮来","県立",0,"潮来高等学校","潮　　来","かしま","男","女","311-2448","潮来市須賀3025","0299-66-2142","31124480299-66-21420299-66-2670","0299-66-2670","小澤　茂幸","萩原　卓","飯島　愛美","髙野　深愛","　","　"]
["鹿島高等学校",3,6,31,"鹿島","鹿島","県立",0,"鹿島高等学校","鹿　　島","はさき","男","女","314-0038","鹿嶋市城山2-2-19","0299-82-1903","31400380299-82-19030299-84-1547","0299-84-1547","小沼　浩幸","山口　薫","青塚　明香","甲　良美","谷田部　大地","　"]
["波崎高等学校",3,7,32,"波崎","波崎","県立",0,"波崎高等学校","波　　崎","せいしんがくえん","男","女","314-0343","神栖市土合本町2-9928-1","0479-48-0044","31403430479-48-00440479-48-4679","0479-48-4679","高橋　秀樹","山田　宏","　","　","　","　"]
["清真学園高等学校",3,8,33,"清真","清真学",0,"私立","清真学園高等学校","清真学園","つちうらだいいち","男","女","314-0031","鹿嶋市宮中伏見4448-5","0299-83-1811","31400310299-83-18110299-83-6414","0299-83-6414","飯山　克則","炭谷　崇人","佐久間　和彰","釜田　啓市","清野　千里","　"]
["土浦第一高等学校",4,1,34,"土一","土浦一","県立",0,"土浦第一高等学校","土浦第一","つちうらだいに","男","女","300-0051","土浦市真鍋4-4-2","029-822-0137","3000051029-822-0137029-826-3521","029-826-3521","プラニク　ヨゲンドラ","柴沼　陽","大野　岳志","　","　","　"]
["土浦第二高等学校",4,2,35,"土二","土浦二","県立",0,"土浦第二高等学校","土浦第二","つちうらだいさん","男","女","300-0041","土浦市立田町9-6","029-822-5027","3000041029-822-5027029-826-3522","029-826-3522","深谷　靖","塚本　晋太郎","土井　和恵","　","　","杉山　尚之"]
["土浦第三高等学校",4,3,36,"土三","土浦三","県立",0,"土浦第三高等学校","土浦第三","つちうらこうぎょう","男","女","300-0835","土浦市大岩田1599","029-821-1605","3000835029-821-1605029-826-3523","029-826-3523","渡邊　聡","松本　現","鎌田　千亜紀","石井　美香","　","　"]
["土浦工業高等学校",4,4,37,"土工","土浦工","県立",0,"土浦工業高等学校","土浦工業","いしおかだいいち","男","女","300-0051","土浦市真鍋6-11-20","029-821-1953","3000051029-821-1953029-822-6924","029-822-6924","後藤　光彦","千葉　一茂","福岡　聖美","蓼沼　正弘","　","　"]
["石岡第一高等学校",4,5,38,"石一","石岡一","県立",0,"石岡第一高等学校","石岡第一","いしおかだいに","男","女","315-0001","石岡市石岡1-9","0299-22-4135","31500010299-22-41350299-22-6289","0299-22-6289","櫻井　隆之","川村　理絵","土居　義邦","前野　和美","　","　"]
["石岡第二高等学校",4,6,39,"石二","石岡二","県立",0,"石岡第二高等学校","石岡第二","いしおかしょうぎょう","男","女","315-0013","石岡市府中5-14-14","0299-23-2101","31500130299-23-21010299-23-4895","0299-23-4895","鈴木　教生","門井　寿通","岡田　睦美","　","　","　"]
["石岡商業高等学校",4,7,40,"石商","石岡商","県立",0,"石岡商業高等学校","石岡商業","つちうらにほんだいがく","男","女","315-0033","石岡市東光台3-4-1","0299-26-4138","31500330299-26-41380299-26-1029","0299-26-1029","木戸　智子","青柳　優","森作　明美","　","　","　"]
["土浦日本大学高等学校",4,8,41,"土日","土日大",0,{"$error":"#REF!"},"土浦日本大学高等学校","土浦日本大学","じょうそうがくいん","男","女","300-0826","土浦市小松ケ丘町4-46","029-822-3382","3000826029-822-3382029-823-8743","029-823-8743","伊藤　哲也","中川　久倫","阿久井　琉菜","　","　","　"]
["常総学院高等学校",4,9,42,"常総","常総学",0,"私立","常総学院高等学校","常総学院","かすみがうら","男","女","300-0849","土浦市中村西根1010","029-842-8771","3000849029-842-8771029-841-1808","029-841-1808","壁谷　恵","宮本　和明","柴山　紗矢香","塚本　重毅","ステント　ブラッドリー","　"]
["霞ケ浦高等学校",4,10,43,"霞浦","霞ヶ浦",0,"私立","霞ケ浦高等学校","霞 ケ 浦","つちうらにほんだいがくちゅうとうきょういくがっこう","男","女","300-0301","稲敷郡阿見町青宿50","029-887-0013","3000301029-887-0013029-887-9380","029-887-9380","岡村　守","桜井　恭平","柳澤　雅世","　","　","　"]
["土浦日本大学中等教育学校",4,11,44,"土中","土中等",0,"私立","土浦日本大学中等教育学校","土浦日本大学中等教育学校",{"$error":"#REF!"},"男","女","300-0826","土浦市小松ケ丘町4-46","029-822-3386","3000826029-822-3386029-835-3538","029-835-3538","堀切　浩一","塩原　崇","佐藤　錬","　","　","　"]
["竜ケ崎第一高等学校",5,1,45,"竜一","竜崎一","県立",0,"竜ケ崎第一高等学校","竜ケ崎第一","りゅうがさきだいに","男","女","301-0844","龍ヶ崎市平畑248","0297-62-2146","30108440297-62-21460297-62-9836","0297-62-9836","太田垣　淳一","八重柏　由佳","石川　瑶子","前田　将貴","　","　"]
["竜ケ崎第二高等学校",5,2,46,"竜二","竜崎二","県立",0,"竜ケ崎第二高等学校","竜ケ崎第二","りゅうがさきみなみ","男","女","301-0834","龍ケ崎市3087","0297-62-3078","30108340297-62-30780297-62-9850","0297-62-9850","箕輪　文子","前田　彬貴","小吹　光","　","　","　"]
["竜ケ崎南高等学校",5,3,47,"竜南","竜崎南","県立",0,"竜ケ崎南高等学校","竜ケ崎南","えどさきそうごう","男","","301-0021","龍ケ崎市北方町120","0297-64-2167","30100210297-64-21670297-64-5241","0297-64-5241","須藤　一道","飛田　樹","杉浦　拓郎","　","　","　"]
["江戸崎総合高等学校",5,4,48,"江総","江総合","県立",0,"江戸崎総合高等学校","江戸崎総合","とりでだいいち","男","女","300-0504","稲敷市江戸崎甲476-2","029-892-2103","3000504029-892-2103029-892-3957","029-892-3957","川田　　利行","篠崎　美穂","河野　亮一","渡邉　怜奈","　","　"]
["取手第一高等学校",5,5,49,"取一","取手一","県立",0,"取手第一高等学校","取手第一","とりでだいに","男","女","302-0013","取手市台宿2-4-1","0297-72-1348","30200130297-72-13480297-73-7814","0297-73-7814","高野　健二","山中　範子","高木　渉","後藤　裕一","　","久保田　清"]
["取手第二高等学校",5,6,50,"取二","取手二","県立",0,"取手第二高等学校","取手第二","ふじしろ","","女","302-0005","取手市東2-5-1","0297-73-0049","30200050297-73-00490297-73-7821","0297-73-7821","池田　聡","寺田　和馬","　","　","　","　"]
["藤代高等学校",5,7,51,"藤代","藤代","県立",0,"藤代高等学校","藤　　代","うしく","男","女","300-1537","取手市毛有640","0297-82-6283","30015370297-82-62830297-82-6021","0297-82-6021","根本　雄一","深堀　いずみ","富岡　美和","木村　愛","　","　"]
["牛久高等学校",5,8,52,"牛久","牛久","県立",0,"牛久高等学校","牛    久","うしくえいしん","男","女","300-1204","牛久市岡見町2081-1","029-873-6220","3001204029-873-6220029-874-8580","029-874-8580","田﨑　泰昭","人見　正敏","塚本　貞行","　","　","　"]
["牛久栄進高等学校",5,9,53,"栄進","牛栄進","県立",0,"牛久栄進高等学校","牛久栄進","とうようだいうしく","男","女","300-1201","牛久市東猯穴町876","029-843-3110","3001201029-843-3110029-842-1891","029-842-1891","奈良　由紀子","坂井　昌平","宇野　香代子","門井　美奈子","　","　"]
["東洋大学付属牛久高等学校",5,10,54,"東牛","東牛久",0,"私立","東洋大学付属牛久高等学校","東洋大学附属牛久","あいこくがくえんだいがくふぞくりゅうがさき","男","女","300-1211","牛久市柏田町1360-2","029-872-0924","3001211029-872-0924029-874-1055","029-874-1055","金澤　利明","江橋　正安","大島　優子","　","　","　"]
["江戸川学園取手高等学校",5,11,55,"江学","江戸川",0,"私立","江戸川学園取手高等学校","江戸川学園取手","あいこくがくえんだいがくふぞくりゅうがさき","男","女","302-0025","取手市西1-37-1","0297-74-8771","30200250297-74-87710297-73-4851","0297-73-4851","山本　宏之","関　貴之","野田　泰誠","　","　","明間　勲"]
["愛国学園大学附属龍ケ崎高等学校",5,12,56,"愛国","愛国学",0,"私立","愛国学園大学附属龍ケ崎高等学校","愛国学園大学附属龍ケ崎","つくば","","女","301-0041","龍ケ崎市若柴町2747","0297-66-0757","30100410297-66-07570297-66-0526","0297-66-0526","倉持　正男","坂本　渉","柴崎　智宣","　","　","　"]
["筑波高等学校",6,1,57,"筑波","筑波","県立",0,"筑波高等学校","筑　　波","たけぞの","男","女","300-4231","つくば市北条4387","029-867-0041","3004231029-867-0041029-867-4688","029-867-4688","鈴木　恒一","山北　大志","門井　浩","菊池　郁治","吉田　浩昭","林田　國洋"]
["竹園高等学校",6,2,58,"竹園","竹園","県立",0,"竹園高等学校","竹　　園","つくばこうか","男","女","305-0032","つくば市竹園3-9-1","029-851-7515","3050032029-851-7515029-852-5533","029-852-5533","辻　武　晴","宮内　雅史","今　瀬　英一朗","上　本　達　也","　","　"]
["つくば工科高等学校",6,3,59,"工科","つ工科","県立",0,"つくば工科高等学校","つくば工科","いわせ","男","女","305-0861","つくば市谷田部1818","029-836-1441","3050861029-836-1441029-836-4700","029-836-4700","石塚　照美","信戸　修一","三浦　秀之","　","　","　"]
["岩瀬高等学校",6,4,60,"岩瀬","岩瀬","県立",0,"岩瀬高等学校","岩　　瀬","しもだてだいいち","男","女","309-1294","桜川市岩瀬1511-1","0296-75-2475","30912940296-75-24750296-75-4906","0296-75-4906","西條　礼子","堀　裕美","市村　瀬里","藤森　知恵子","　","　"]
["下館第一高等学校",6,5,61,"館一","下館一","県立",0,"下館第一高等学校","下館第一",{"$error":"#REF!"},"男","女","308-0825","筑西市下中山590","0296-24-6344","30808250296-24-63440296-25-4673","0296-25-4673","木村　功","星野　雅一","海老名　晶弓","中島　陽樹","　","岩田　隆"]
["下館第二高等学校",6,6,62,"館二","下館二","県立",0,"下館第二高等学校","下館第二","しもつまだいいち","男","女","308-0051","筑西市岡芹一丁目37","0296-22-5361",{"$error":"#REF!"},"0296-25-4683","池田　恭彦","柴　弥寿子","斉藤　由起子","　","　","　"]
["明野高等学校",6,7,63,"明野","明野","県立",0,"明野高等学校","明野","しもつまだいに","男","女","300-4515","筑西市倉持1176-1","0296-52-3121",{"$error":"#REF!"},"0296-52-5869","井上　剛","塚原　千秋","真家　大輔","望月　ありさ","　","　"]
["下妻第一高等学校",6,8,64,"妻一","下妻一","県立",0,"下妻第一高等学校","下妻第一",{"$error":"#REF!"},"男","女","304-0067","下妻市下妻乙226-1","0296-44-5158","30400670296-44-25490296-43-9173","0296-43-9172","生井　秀一","中泉　尚人","濵野　美智","坂入　純子","　","　"]
["下妻第二高等学校",6,9,65,"妻二","下妻二","県立",0,"下妻第二高等学校","下妻第二","みつかいどうだいいち","男","女","304-0067","下妻市下妻乙347-8","0296-44-2549","30400670296-44-25490296-43-9173","0296-43-9173","島根　千春","大垣　朋也","福永　弘","　","　","　"]
[{"$f":"I131","v":"水海道第一高等学校"},6,10,66,"海一","水海一","県立",0,"水海道第一高等学校","水海道第一","こがだいに","男","女","303-0025","常総市水海道亀岡町2543","0297-22-0029","30300250297-22-00290297-22-5479","0297-22-5479","福田　崇","緒方　響","髙藤　啓光","　","　","　"]
["八千代高等学校",6,11,67,"八千代","八千代","県立",0,"八千代高等学校","八 千 代","こがだいさん","男","女","300-3561","結城郡八千代町大字平塚4824-2","0296-48-1836","30600240280-32-04440280-31-6602","0296-48-3201","榊原　洋子","鈴木　千裕","藤白　祐佳","　","　","　"]
["古河第二高等学校",6,12,68,"古二","古河二","県立",0,"古河第二高等学校","古河第二","さんわ","男","女","306-0024","古河市幸町19-18","0280-32-0444","30600240280-32-04440280-31-6602","0280-31-6602","有瀧　由起子","海野　俊介","栗原　邦男","　","　","　"]
["古河第三高等学校",6,13,69,"古三","古河三","県立",0,"古河第三高等学校","古河第三","さかい","男","女","306-0054","古河市中田新田12-1","0280-48-2755","30601230280-76-49590280-76-4935","0280-48-5424","早川　尚人","秋葉　尚子","山中　英憲","立川　正信","　","　"]
["三和高等学校",6,14,70,"三和","三和","県立",0,"三和高等学校","三　　和","もりや","男","女","306-0123","古河市五部54-1","0280-76-4959","30601230280-76-49590280-76-4935","0280-76-4935","鈴木　厚子","小島　彩華","諏訪　主樹","　","　","　"]
["境高等学校",6,15,71,"境","境","県立",0,"境高等学校","境","つくばしゅうえい","男","女","306-0433","猿島郡境町175","0280-87-0123","30201070297-48-64090297-45-8479","0280-87-5688","新井　智子","齋藤　起輝","吉澤　靖","木村　亜紀子","　","　"]
["守谷高等学校",6,16,72,"守谷","守谷","県立",0,"守谷高等学校","守　　谷",0,"男","女","302-0107","守谷市大木70","0297-48-6409","30201070297-48-64090297-45-8479","0297-45-8479","髙野　美有紀","松﨑　稔昌","本田　敦","早乙女　舞","　","　"]
["つくば秀英高等学校",6,17,73,"秀英","秀英",0,"私立","つくば秀英高等学校","つくば秀英",0,"男","女","300-2655","つくば市島名151","029-847-1611","","029-847-3111","石川　英昭","谷端　弘孝","川喜多　麻里","寺井　誠","福田　恒昭","　"]
[]
[]
[]
[{"$f":"リスト!A3","v":"　"},{"$f":"リスト!B3","v":0},{"$f":"リスト!C3","v":0},{"$f":"リスト!D3","v":0},{"$f":"リスト!E3","v":0},{"$f":"リスト!F3","v":0},{"$f":"リスト!G3","v":0},{"$f":"リスト!H3","v":0},{"$f":"リスト!I3","v":0},{"$f":"リスト!J3","v":0},{"$f":"リスト!K3","v":0},{"$f":"リスト!L3","v":0},{"$f":"リスト!M3","v":0},{"$f":"リスト!N3","v":0}]
[{"$f":"リスト!A4","v":"　"},{"$f":"リスト!B4","v":0},{"$f":"リスト!C4","v":0},{"$f":"リスト!D4","v":0},{"$f":"リスト!E4","v":0},{"$f":"リスト!F4","v":0},{"$f":"リスト!G4","v":0},{"$f":"リスト!H4","v":0},{"$f":"リスト!I4","v":0},{"$f":"リスト!J4","v":0},{"$f":"リスト!K4","v":0},{"$f":"リスト!L4","v":0},{"$f":"リスト!M4","v":0},{"$f":"リスト!N4","v":0}]
[{"$f":"リスト!A5","v":"　"},{"$f":"リスト!B5","v":0},{"$f":"リスト!C5","v":0},{"$f":"リスト!D5","v":0},{"$f":"リスト!E5","v":0},{"$f":"リスト!F5","v":0},{"$f":"リスト!G5","v":0},{"$f":"リスト!H5","v":0},{"$f":"リスト!I5","v":0},{"$f":"リスト!J5","v":0},{"$f":"リスト!K5","v":0},{"$f":"リスト!L5","v":0},{"$f":"リスト!M5","v":0},{"$f":"リスト!N5","v":0}]
[{"$f":"リスト!A6","v":"　"},{"$f":"リスト!B6","v":0},{"$f":"リスト!C6","v":0},{"$f":"リスト!D6","v":0},{"$f":"リスト!E6","v":0},{"$f":"リスト!F6","v":0},{"$f":"リスト!G6","v":0},{"$f":"リスト!H6","v":0},{"$f":"リスト!I6","v":0},{"$f":"リスト!J6","v":0},{"$f":"リスト!K6","v":0},{"$f":"リスト!L6","v":0},{"$f":"リスト!M6","v":0},{"$f":"リスト!N6","v":0}]
[{"$f":"リスト!A7","v":"　"},{"$f":"リスト!B7","v":0},{"$f":"リスト!C7","v":0},{"$f":"リスト!D7","v":0},{"$f":"リスト!E7","v":0},{"$f":"リスト!F7","v":0},{"$f":"リスト!G7","v":0},{"$f":"リスト!H7","v":0},{"$f":"リスト!I7","v":0},{"$f":"リスト!J7","v":0},{"$f":"リスト!K7","v":0},{"$f":"リスト!L7","v":0},{"$f":"リスト!M7","v":0},{"$f":"リスト!N7","v":0}]
[{"$f":"リスト!A8","v":"　"},{"$f":"リスト!B8","v":0},{"$f":"リスト!C8","v":0},{"$f":"リスト!D8","v":0},{"$f":"リスト!E8","v":0},{"$f":"リスト!F8","v":0},{"$f":"リスト!G8","v":0},{"$f":"リスト!H8","v":0},{"$f":"リスト!I8","v":0},{"$f":"リスト!J8","v":0},{"$f":"リスト!K8","v":0},{"$f":"リスト!L8","v":0},{"$f":"リスト!M8","v":0},{"$f":"リスト!N8","v":0}]
[{"$f":"リスト!A9","v":"　"},{"$f":"リスト!B9","v":0},{"$f":"リスト!C9","v":0},{"$f":"リスト!D9","v":0},{"$f":"リスト!E9","v":0},{"$f":"リスト!F9","v":0},{"$f":"リスト!G9","v":0},{"$f":"リスト!H9","v":0},{"$f":"リスト!I9","v":0},{"$f":"リスト!J9","v":0},{"$f":"リスト!K9","v":0},{"$f":"リスト!L9","v":0},{"$f":"リスト!M9","v":0},{"$f":"リスト!N9","v":0}]
[{"$f":"リスト!A10","v":"　"},{"$f":"リスト!B10","v":0},{"$f":"リスト!C10","v":0},{"$f":"リスト!D10","v":0},{"$f":"リスト!E10","v":0},{"$f":"リスト!F10","v":0},{"$f":"リスト!G10","v":0},{"$f":"リスト!H10","v":0},{"$f":"リスト!I10","v":0},{"$f":"リスト!J10","v":0},{"$f":"リスト!K10","v":0},{"$f":"リスト!L10","v":0},{"$f":"リスト!M10","v":0},{"$f":"リスト!N10","v":0}]
[{"$f":"リスト!A11","v":"　"},{"$f":"リスト!B11","v":0},{"$f":"リスト!C11","v":0},{"$f":"リスト!D11","v":0},{"$f":"リスト!E11","v":0},{"$f":"リスト!F11","v":0},{"$f":"リスト!G11","v":0},{"$f":"リスト!H11","v":0},{"$f":"リスト!I11","v":0},{"$f":"リスト!J11","v":0},{"$f":"リスト!K11","v":0},{"$f":"リスト!L11","v":0},{"$f":"リスト!M11","v":0},{"$f":"リスト!N11","v":0}]
[{"$f":"リスト!A12","v":"　"},{"$f":"リスト!B12","v":0},{"$f":"リスト!C12","v":0},{"$f":"リスト!D12","v":0},{"$f":"リスト!E12","v":0},{"$f":"リスト!F12","v":0},{"$f":"リスト!G12","v":0},{"$f":"リスト!H12","v":0},{"$f":"リスト!I12","v":0},{"$f":"リスト!J12","v":0},{"$f":"リスト!K12","v":0},{"$f":"リスト!L12","v":0},{"$f":"リスト!M12","v":0},{"$f":"リスト!N12","v":0}]
[{"$f":"リスト!A13","v":"　"},{"$f":"リスト!B13","v":0},{"$f":"リスト!C13","v":0},{"$f":"リスト!D13","v":0},{"$f":"リスト!E13","v":0},{"$f":"リスト!F13","v":0},{"$f":"リスト!G13","v":0},{"$f":"リスト!H13","v":0},{"$f":"リスト!I13","v":0},{"$f":"リスト!J13","v":0},{"$f":"リスト!K13","v":0},{"$f":"リスト!L13","v":0},{"$f":"リスト!M13","v":0},{"$f":"リスト!N13","v":0}]
[{"$f":"リスト!A14","v":"　"},{"$f":"リスト!B14","v":0},{"$f":"リスト!C14","v":0},{"$f":"リスト!D14","v":0},{"$f":"リスト!E14","v":0},{"$f":"リスト!F14","v":0},{"$f":"リスト!G14","v":0},{"$f":"リスト!H14","v":0},{"$f":"リスト!I14","v":0},{"$f":"リスト!J14","v":0},{"$f":"リスト!K14","v":0},{"$f":"リスト!L14","v":0},{"$f":"リスト!M14","v":0},{"$f":"リスト!N14","v":0}]
[{"$f":"リスト!A15","v":"　"},{"$f":"リスト!B15","v":0},{"$f":"リスト!C15","v":0},{"$f":"リスト!D15","v":0},{"$f":"リスト!E15","v":0},{"$f":"リスト!F15","v":0},{"$f":"リスト!G15","v":0},{"$f":"リスト!H15","v":0},{"$f":"リスト!I15","v":0},{"$f":"リスト!J15","v":0},{"$f":"リスト!K15","v":0},{"$f":"リスト!L15","v":0},{"$f":"リスト!M15","v":0},{"$f":"リスト!N15","v":0}]
[{"$f":"リスト!A16","v":"　"},{"$f":"リスト!B16","v":0},{"$f":"リスト!C16","v":0},{"$f":"リスト!D16","v":0},{"$f":"リスト!E16","v":0},{"$f":"リスト!F16","v":0},{"$f":"リスト!G16","v":0},{"$f":"リスト!H16","v":0},{"$f":"リスト!I16","v":0},{"$f":"リスト!J16","v":0},{"$f":"リスト!K16","v":0},{"$f":"リスト!L16","v":0},{"$f":"リスト!M16","v":0},{"$f":"リスト!N16","v":0}]
[{"$f":"リスト!A17","v":"　"},{"$f":"リスト!B17","v":0},{"$f":"リスト!C17","v":0},{"$f":"リスト!D17","v":0},{"$f":"リスト!E17","v":0},{"$f":"リスト!F17","v":0},{"$f":"リスト!G17","v":0},{"$f":"リスト!H17","v":0},{"$f":"リスト!I17","v":0},{"$f":"リスト!J17","v":0},{"$f":"リスト!K17","v":0},{"$f":"リスト!L17","v":0},{"$f":"リスト!M17","v":0},{"$f":"リスト!N17","v":0}]
[{"$f":"リスト!A18","v":"　"},{"$f":"リスト!B18","v":0},{"$f":"リスト!C18","v":0},{"$f":"リスト!D18","v":0},{"$f":"リスト!E18","v":0},{"$f":"リスト!F18","v":0},{"$f":"リスト!G18","v":0},{"$f":"リスト!H18","v":0},{"$f":"リスト!I18","v":0},{"$f":"リスト!J18","v":0},{"$f":"リスト!K18","v":0},{"$f":"リスト!L18","v":0},{"$f":"リスト!M18","v":0},{"$f":"リスト!N18","v":0}]
[{"$f":"リスト!A19","v":"　"},{"$f":"リスト!B19","v":0},{"$f":"リスト!C19","v":0},{"$f":"リスト!D19","v":0},{"$f":"リスト!E19","v":0},{"$f":"リスト!F19","v":0},{"$f":"リスト!G19","v":0},{"$f":"リスト!H19","v":0},{"$f":"リスト!I19","v":0},{"$f":"リスト!J19","v":0},{"$f":"リスト!K19","v":0},{"$f":"リスト!L19","v":0},{"$f":"リスト!M19","v":0},{"$f":"リスト!N19","v":0}]
[{"$f":"リスト!A20","v":"　"},{"$f":"リスト!B20","v":0},{"$f":"リスト!C20","v":0},{"$f":"リスト!D20","v":0},{"$f":"リスト!E20","v":0},{"$f":"リスト!F20","v":0},{"$f":"リスト!G20","v":0},{"$f":"リスト!H20","v":0},{"$f":"リスト!I20","v":0},{"$f":"リスト!J20","v":0},{"$f":"リスト!K20","v":0},{"$f":"リスト!L20","v":0},{"$f":"リスト!M20","v":0},{"$f":"リスト!N20","v":0}]
[{"$f":"リスト!A21","v":"　"},{"$f":"リスト!B21","v":0},{"$f":"リスト!C21","v":0},{"$f":"リスト!D21","v":0},{"$f":"リスト!E21","v":0},{"$f":"リスト!F21","v":0},{"$f":"リスト!G21","v":0},{"$f":"リスト!H21","v":0},{"$f":"リスト!I21","v":0},{"$f":"リスト!J21","v":0},{"$f":"リスト!K21","v":0},{"$f":"リスト!L21","v":0},{"$f":"リスト!M21","v":0},{"$f":"リスト!N21","v":0}]
[{"$f":"リスト!A22","v":"　"},{"$f":"リスト!B22","v":0},{"$f":"リスト!C22","v":0},{"$f":"リスト!D22","v":0},{"$f":"リスト!E22","v":0},{"$f":"リスト!F22","v":0},{"$f":"リスト!G22","v":0},{"$f":"リスト!H22","v":0},{"$f":"リスト!I22","v":0},{"$f":"リスト!J22","v":0},{"$f":"リスト!K22","v":0},{"$f":"リスト!L22","v":0},{"$f":"リスト!M22","v":0},{"$f":"リスト!N22","v":0}]
[{"$f":"リスト!A23","v":"　"},{"$f":"リスト!B23","v":0},{"$f":"リスト!C23","v":0},{"$f":"リスト!D23","v":0},{"$f":"リスト!E23","v":0},{"$f":"リスト!F23","v":0},{"$f":"リスト!G23","v":0},{"$f":"リスト!H23","v":0},{"$f":"リスト!I23","v":0},{"$f":"リスト!J23","v":0},{"$f":"リスト!K23","v":0},{"$f":"リスト!L23","v":0},{"$f":"リスト!M23","v":0},{"$f":"リスト!N23","v":0}]
[{"$f":"リスト!A24","v":"　"},{"$f":"リスト!B24","v":0},{"$f":"リスト!C24","v":0},{"$f":"リスト!D24","v":0},{"$f":"リスト!E24","v":0},{"$f":"リスト!F24","v":0},{"$f":"リスト!G24","v":0},{"$f":"リスト!H24","v":0},{"$f":"リスト!I24","v":0},{"$f":"リスト!J24","v":0},{"$f":"リスト!K24","v":0},{"$f":"リスト!L24","v":0},{"$f":"リスト!M24","v":0},{"$f":"リスト!N24","v":0}]
[{"$f":"リスト!A25","v":"　"},{"$f":"リスト!B25","v":0},{"$f":"リスト!C25","v":0},{"$f":"リスト!D25","v":0},{"$f":"リスト!E25","v":0},{"$f":"リスト!F25","v":0},{"$f":"リスト!G25","v":0},{"$f":"リスト!H25","v":0},{"$f":"リスト!I25","v":0},{"$f":"リスト!J25","v":0},{"$f":"リスト!K25","v":0},{"$f":"リスト!L25","v":0},{"$f":"リスト!M25","v":0},{"$f":"リスト!N25","v":0}]
[{"$f":"リスト!A26","v":"　"},{"$f":"リスト!B26","v":0},{"$f":"リスト!C26","v":0},{"$f":"リスト!D26","v":0},{"$f":"リスト!E26","v":0},{"$f":"リスト!F26","v":0},{"$f":"リスト!G26","v":0},{"$f":"リスト!H26","v":0},{"$f":"リスト!I26","v":0},{"$f":"リスト!J26","v":0},{"$f":"リスト!K26","v":0},{"$f":"リスト!L26","v":0},{"$f":"リスト!M26","v":0},{"$f":"リスト!N26","v":0}]
[{"$f":"リスト!A27","v":"　"},{"$f":"リスト!B27","v":0},{"$f":"リスト!C27","v":0},{"$f":"リスト!D27","v":0},{"$f":"リスト!E27","v":0},{"$f":"リスト!F27","v":0},{"$f":"リスト!G27","v":0},{"$f":"リスト!H27","v":0},{"$f":"リスト!I27","v":0},{"$f":"リスト!J27","v":0},{"$f":"リスト!K27","v":0},{"$f":"リスト!L27","v":0},{"$f":"リスト!M27","v":0},{"$f":"リスト!N27","v":0}]
[{"$f":"リスト!A28","v":"　"},{"$f":"リスト!B28","v":0},{"$f":"リスト!C28","v":0},{"$f":"リスト!D28","v":0},{"$f":"リスト!E28","v":0},{"$f":"リスト!F28","v":0},{"$f":"リスト!G28","v":0},{"$f":"リスト!H28","v":0},{"$f":"リスト!I28","v":0},{"$f":"リスト!J28","v":0},{"$f":"リスト!K28","v":0},{"$f":"リスト!L28","v":0},{"$f":"リスト!M28","v":0},{"$f":"リスト!N28","v":0}]
[{"$f":"リスト!A29","v":"　"},{"$f":"リスト!B29","v":0},{"$f":"リスト!C29","v":0},{"$f":"リスト!D29","v":0},{"$f":"リスト!E29","v":0},{"$f":"リスト!F29","v":0},{"$f":"リスト!G29","v":0},{"$f":"リスト!H29","v":0},{"$f":"リスト!I29","v":0},{"$f":"リスト!J29","v":0},{"$f":"リスト!K29","v":0},{"$f":"リスト!L29","v":0},{"$f":"リスト!M29","v":0},{"$f":"リスト!N29","v":0}]
[{"$f":"リスト!A30","v":"　"},{"$f":"リスト!B30","v":0},{"$f":"リスト!C30","v":0},{"$f":"リスト!D30","v":0},{"$f":"リスト!E30","v":0},{"$f":"リスト!F30","v":0},{"$f":"リスト!G30","v":0},{"$f":"リスト!H30","v":0},{"$f":"リスト!I30","v":0},{"$f":"リスト!J30","v":0},{"$f":"リスト!K30","v":0},{"$f":"リスト!L30","v":0},{"$f":"リスト!M30","v":0},{"$f":"リスト!N30","v":0}]
[{"$f":"リスト!A31","v":"　"},{"$f":"リスト!B31","v":0},{"$f":"リスト!C31","v":0},{"$f":"リスト!D31","v":0},{"$f":"リスト!E31","v":0},{"$f":"リスト!F31","v":0},{"$f":"リスト!G31","v":0},{"$f":"リスト!H31","v":0},{"$f":"リスト!I31","v":0},{"$f":"リスト!J31","v":0},{"$f":"リスト!K31","v":0},{"$f":"リスト!L31","v":0},{"$f":"リスト!M31","v":0},{"$f":"リスト!N31","v":0}]
[{"$f":"リスト!A32","v":"　"},{"$f":"リスト!B32","v":0},{"$f":"リスト!C32","v":0},{"$f":"リスト!D32","v":0},{"$f":"リスト!E32","v":0},{"$f":"リスト!F32","v":0},{"$f":"リスト!G32","v":0},{"$f":"リスト!H32","v":0},{"$f":"リスト!I32","v":0},{"$f":"リスト!J32","v":0},{"$f":"リスト!K32","v":0},{"$f":"リスト!L32","v":0},{"$f":"リスト!M32","v":0},{"$f":"リスト!N32","v":0}]
[{"$f":"リスト!A33","v":"　"},{"$f":"リスト!B33","v":0},{"$f":"リスト!C33","v":0},{"$f":"リスト!D33","v":0},{"$f":"リスト!E33","v":0},{"$f":"リスト!F33","v":0},{"$f":"リスト!G33","v":0},{"$f":"リスト!H33","v":0},{"$f":"リスト!I33","v":0},{"$f":"リスト!J33","v":0},{"$f":"リスト!K33","v":0},{"$f":"リスト!L33","v":0},{"$f":"リスト!M33","v":0},{"$f":"リスト!N33","v":0}]
[{"$f":"リスト!A34","v":"　"},{"$f":"リスト!B34","v":0},{"$f":"リスト!C34","v":0},{"$f":"リスト!D34","v":0},{"$f":"リスト!E34","v":0},{"$f":"リスト!F34","v":0},{"$f":"リスト!G34","v":0},{"$f":"リスト!H34","v":0},{"$f":"リスト!I34","v":0},{"$f":"リスト!J34","v":0},{"$f":"リスト!K34","v":0},{"$f":"リスト!L34","v":0},{"$f":"リスト!M34","v":0},{"$f":"リスト!N34","v":0}]
[{"$f":"リスト!A35","v":"　"},{"$f":"リスト!B35","v":0},{"$f":"リスト!C35","v":0},{"$f":"リスト!D35","v":0},{"$f":"リスト!E35","v":0},{"$f":"リスト!F35","v":0},{"$f":"リスト!G35","v":0},{"$f":"リスト!H35","v":0},{"$f":"リスト!I35","v":0},{"$f":"リスト!J35","v":0},{"$f":"リスト!K35","v":0},{"$f":"リスト!L35","v":0},{"$f":"リスト!M35","v":0},{"$f":"リスト!N35","v":0}]
[{"$f":"リスト!A36","v":"　"},{"$f":"リスト!B36","v":0},{"$f":"リスト!C36","v":0},{"$f":"リスト!D36","v":0},{"$f":"リスト!E36","v":0},{"$f":"リスト!F36","v":0},{"$f":"リスト!G36","v":0},{"$f":"リスト!H36","v":0},{"$f":"リスト!I36","v":0},{"$f":"リスト!J36","v":0},{"$f":"リスト!K36","v":0},{"$f":"リスト!L36","v":0},{"$f":"リスト!M36","v":0},{"$f":"リスト!N36","v":0}]
[{"$f":"リスト!A37","v":"　"},{"$f":"リスト!B37","v":0},{"$f":"リスト!C37","v":0},{"$f":"リスト!D37","v":0},{"$f":"リスト!E37","v":0},{"$f":"リスト!F37","v":0},{"$f":"リスト!G37","v":0},{"$f":"リスト!H37","v":0},{"$f":"リスト!I37","v":0},{"$f":"リスト!J37","v":0},{"$f":"リスト!K37","v":0},{"$f":"リスト!L37","v":0},{"$f":"リスト!M37","v":0},{"$f":"リスト!N37","v":0}]
[{"$f":"リスト!A38","v":"　"},{"$f":"リスト!B38","v":0},{"$f":"リスト!C38","v":0},{"$f":"リスト!D38","v":0},{"$f":"リスト!E38","v":0},{"$f":"リスト!F38","v":0},{"$f":"リスト!G38","v":0},{"$f":"リスト!H38","v":0},{"$f":"リスト!I38","v":0},{"$f":"リスト!J38","v":0},{"$f":"リスト!K38","v":0},{"$f":"リスト!L38","v":0},{"$f":"リスト!M38","v":0},{"$f":"リスト!N38","v":0}]
[{"$f":"リスト!A39","v":"　"},{"$f":"リスト!B39","v":0},{"$f":"リスト!C39","v":0},{"$f":"リスト!D39","v":0},{"$f":"リスト!E39","v":0},{"$f":"リスト!F39","v":0},{"$f":"リスト!G39","v":0},{"$f":"リスト!H39","v":0},{"$f":"リスト!I39","v":0},{"$f":"リスト!J39","v":0},{"$f":"リスト!K39","v":0},{"$f":"リスト!L39","v":0},{"$f":"リスト!M39","v":0},{"$f":"リスト!N39","v":0}]
[{"$f":"リスト!A40","v":"　"},{"$f":"リスト!B40","v":0},{"$f":"リスト!C40","v":0},{"$f":"リスト!D40","v":0},{"$f":"リスト!E40","v":0},{"$f":"リスト!F40","v":0},{"$f":"リスト!G40","v":0},{"$f":"リスト!H40","v":0},{"$f":"リスト!I40","v":0},{"$f":"リスト!J40","v":0},{"$f":"リスト!K40","v":0},{"$f":"リスト!L40","v":0},{"$f":"リスト!M40","v":0},{"$f":"リスト!N40","v":0}]
[{"$f":"リスト!A41","v":"　"},{"$f":"リスト!B41","v":0},{"$f":"リスト!C41","v":0},{"$f":"リスト!D41","v":0},{"$f":"リスト!E41","v":0},{"$f":"リスト!F41","v":0},{"$f":"リスト!G41","v":0},{"$f":"リスト!H41","v":0},{"$f":"リスト!I41","v":0},{"$f":"リスト!J41","v":0},{"$f":"リスト!K41","v":0},{"$f":"リスト!L41","v":0},{"$f":"リスト!M41","v":0},{"$f":"リスト!N41","v":0}]
[{"$f":"リスト!A42","v":"　"},{"$f":"リスト!B42","v":0},{"$f":"リスト!C42","v":0},{"$f":"リスト!D42","v":0},{"$f":"リスト!E42","v":0},{"$f":"リスト!F42","v":0},{"$f":"リスト!G42","v":0},{"$f":"リスト!H42","v":0},{"$f":"リスト!I42","v":0},{"$f":"リスト!J42","v":0},{"$f":"リスト!K42","v":0},{"$f":"リスト!L42","v":0},{"$f":"リスト!M42","v":0},{"$f":"リスト!N42","v":0}]
[{"$f":"リスト!A43","v":"　"},{"$f":"リスト!B43","v":0},{"$f":"リスト!C43","v":0},{"$f":"リスト!D43","v":0},{"$f":"リスト!E43","v":0},{"$f":"リスト!F43","v":0},{"$f":"リスト!G43","v":0},{"$f":"リスト!H43","v":0},{"$f":"リスト!I43","v":0},{"$f":"リスト!J43","v":0},{"$f":"リスト!K43","v":0},{"$f":"リスト!L43","v":0},{"$f":"リスト!M43","v":0},{"$f":"リスト!N43","v":0}]
[{"$f":"リスト!A44","v":"　"},{"$f":"リスト!B44","v":0},{"$f":"リスト!C44","v":0},{"$f":"リスト!D44","v":0},{"$f":"リスト!E44","v":0},{"$f":"リスト!F44","v":0},{"$f":"リスト!G44","v":0},{"$f":"リスト!H44","v":0},{"$f":"リスト!I44","v":0},{"$f":"リスト!J44","v":0},{"$f":"リスト!K44","v":0},{"$f":"リスト!L44","v":0},{"$f":"リスト!M44","v":0},{"$f":"リスト!N44","v":0}]
[{"$f":"リスト!A45","v":"　"},{"$f":"リスト!B45","v":0},{"$f":"リスト!C45","v":0},{"$f":"リスト!D45","v":0},{"$f":"リスト!E45","v":0},{"$f":"リスト!F45","v":0},{"$f":"リスト!G45","v":0},{"$f":"リスト!H45","v":0},{"$f":"リスト!I45","v":0},{"$f":"リスト!J45","v":0},{"$f":"リスト!K45","v":0},{"$f":"リスト!L45","v":0},{"$f":"リスト!M45","v":0},{"$f":"リスト!N45","v":0}]
[{"$f":"リスト!A46","v":"　"},{"$f":"リスト!B46","v":0},{"$f":"リスト!C46","v":0},{"$f":"リスト!D46","v":0},{"$f":"リスト!E46","v":0},{"$f":"リスト!F46","v":0},{"$f":"リスト!G46","v":0},{"$f":"リスト!H46","v":0},{"$f":"リスト!I46","v":0},{"$f":"リスト!J46","v":0},{"$f":"リスト!K46","v":0},{"$f":"リスト!L46","v":0},{"$f":"リスト!M46","v":0},{"$f":"リスト!N46","v":0}]
[{"$f":"リスト!A47","v":"　"},{"$f":"リスト!B47","v":0},{"$f":"リスト!C47","v":0},{"$f":"リスト!D47","v":0},{"$f":"リスト!E47","v":0},{"$f":"リスト!F47","v":0},{"$f":"リスト!G47","v":0},{"$f":"リスト!H47","v":0},{"$f":"リスト!I47","v":0},{"$f":"リスト!J47","v":0},{"$f":"リスト!K47","v":0},{"$f":"リスト!L47","v":0},{"$f":"リスト!M47","v":0},{"$f":"リスト!N47","v":0}]
[{"$f":"リスト!A48","v":"　"},{"$f":"リスト!B48","v":0},{"$f":"リスト!C48","v":0},{"$f":"リスト!D48","v":0},{"$f":"リスト!E48","v":0},{"$f":"リスト!F48","v":0},{"$f":"リスト!G48","v":0},{"$f":"リスト!H48","v":0},{"$f":"リスト!I48","v":0},{"$f":"リスト!J48","v":0},{"$f":"リスト!K48","v":0},{"$f":"リスト!L48","v":0},{"$f":"リスト!M48","v":0},{"$f":"リスト!N48","v":0}]
[{"$f":"リスト!A49","v":"　"},{"$f":"リスト!B49","v":0},{"$f":"リスト!C49","v":0},{"$f":"リスト!D49","v":0},{"$f":"リスト!E49","v":0},{"$f":"リスト!F49","v":0},{"$f":"リスト!G49","v":0},{"$f":"リスト!H49","v":0},{"$f":"リスト!I49","v":0},{"$f":"リスト!J49","v":0},{"$f":"リスト!K49","v":0},{"$f":"リスト!L49","v":0},{"$f":"リスト!M49","v":0},{"$f":"リスト!N49","v":0}]
[{"$f":"リスト!A50","v":"　"},{"$f":"リスト!B50","v":0},{"$f":"リスト!C50","v":0},{"$f":"リスト!D50","v":0},{"$f":"リスト!E50","v":0},{"$f":"リスト!F50","v":0},{"$f":"リスト!G50","v":0},{"$f":"リスト!H50","v":0},{"$f":"リスト!I50","v":0},{"$f":"リスト!J50","v":0},{"$f":"リスト!K50","v":0},{"$f":"リスト!L50","v":0},{"$f":"リスト!M50","v":0},{"$f":"リスト!N50","v":0}]
[{"$f":"リスト!A51","v":"　"},{"$f":"リスト!B51","v":0},{"$f":"リスト!C51","v":0},{"$f":"リスト!D51","v":0},{"$f":"リスト!E51","v":0},{"$f":"リスト!F51","v":0},{"$f":"リスト!G51","v":0},{"$f":"リスト!H51","v":0},{"$f":"リスト!I51","v":0},{"$f":"リスト!J51","v":0},{"$f":"リスト!K51","v":0},{"$f":"リスト!L51","v":0},{"$f":"リスト!M51","v":0},{"$f":"リスト!N51","v":0}]
[{"$f":"リスト!A52","v":"　"},{"$f":"リスト!B52","v":0},{"$f":"リスト!C52","v":0},{"$f":"リスト!D52","v":0},{"$f":"リスト!E52","v":0},{"$f":"リスト!F52","v":0},{"$f":"リスト!G52","v":0},{"$f":"リスト!H52","v":0},{"$f":"リスト!I52","v":0},{"$f":"リスト!J52","v":0},{"$f":"リスト!K52","v":0},{"$f":"リスト!L52","v":0},{"$f":"リスト!M52","v":0},{"$f":"リスト!N52","v":0}]
[{"$f":"リスト!A53","v":"　"},{"$f":"リスト!B53","v":0},{"$f":"リスト!C53","v":0},{"$f":"リスト!D53","v":0},{"$f":"リスト!E53","v":0},{"$f":"リスト!F53","v":0},{"$f":"リスト!G53","v":0},{"$f":"リスト!H53","v":0},{"$f":"リスト!I53","v":0},{"$f":"リスト!J53","v":0},{"$f":"リスト!K53","v":0},{"$f":"リスト!L53","v":0},{"$f":"リスト!M53","v":0},{"$f":"リスト!N53","v":0}]
[{"$f":"リスト!A54","v":"　"},{"$f":"リスト!B54","v":0},{"$f":"リスト!C54","v":0},{"$f":"リスト!D54","v":0},{"$f":"リスト!E54","v":0},{"$f":"リスト!F54","v":0},{"$f":"リスト!G54","v":0},{"$f":"リスト!H54","v":0},{"$f":"リスト!I54","v":0},{"$f":"リスト!J54","v":0},{"$f":"リスト!K54","v":0},{"$f":"リスト!L54","v":0},{"$f":"リスト!M54","v":0},{"$f":"リスト!N54","v":0}]
[{"$f":"リスト!A55","v":"　"},{"$f":"リスト!B55","v":0},{"$f":"リスト!C55","v":0},{"$f":"リスト!D55","v":0},{"$f":"リスト!E55","v":0},{"$f":"リスト!F55","v":0},{"$f":"リスト!G55","v":0},{"$f":"リスト!H55","v":0},{"$f":"リスト!I55","v":0},{"$f":"リスト!J55","v":0},{"$f":"リスト!K55","v":0},{"$f":"リスト!L55","v":0},{"$f":"リスト!M55","v":0},{"$f":"リスト!N55","v":0}]
[{"$f":"リスト!A56","v":"　"},{"$f":"リスト!B56","v":0},{"$f":"リスト!C56","v":0},{"$f":"リスト!D56","v":0},{"$f":"リスト!E56","v":0},{"$f":"リスト!F56","v":0},{"$f":"リスト!G56","v":0},{"$f":"リスト!H56","v":0},{"$f":"リスト!I56","v":0},{"$f":"リスト!J56","v":0},{"$f":"リスト!K56","v":0},{"$f":"リスト!L56","v":0},{"$f":"リスト!M56","v":0},{"$f":"リスト!N56","v":0}]
[{"$f":"リスト!A57","v":"　"},{"$f":"リスト!B57","v":0},{"$f":"リスト!C57","v":0},{"$f":"リスト!D57","v":0},{"$f":"リスト!E57","v":0},{"$f":"リスト!F57","v":0},{"$f":"リスト!G57","v":0},{"$f":"リスト!H57","v":0},{"$f":"リスト!I57","v":0},{"$f":"リスト!J57","v":0},{"$f":"リスト!K57","v":0},{"$f":"リスト!L57","v":0},{"$f":"リスト!M57","v":0},{"$f":"リスト!N57","v":0}]
[{"$f":"リスト!A58","v":"　"},{"$f":"リスト!B58","v":0},{"$f":"リスト!C58","v":0},{"$f":"リスト!D58","v":0},{"$f":"リスト!E58","v":0},{"$f":"リスト!F58","v":0},{"$f":"リスト!G58","v":0},{"$f":"リスト!H58","v":0},{"$f":"リスト!I58","v":0},{"$f":"リスト!J58","v":0},{"$f":"リスト!K58","v":0},{"$f":"リスト!L58","v":0},{"$f":"リスト!M58","v":0},{"$f":"リスト!N58","v":0}]
[{"$f":"リスト!A59","v":"　"},{"$f":"リスト!B59","v":0},{"$f":"リスト!C59","v":0},{"$f":"リスト!D59","v":0},{"$f":"リスト!E59","v":0},{"$f":"リスト!F59","v":0},{"$f":"リスト!G59","v":0},{"$f":"リスト!H59","v":0},{"$f":"リスト!I59","v":0},{"$f":"リスト!J59","v":0},{"$f":"リスト!K59","v":0},{"$f":"リスト!L59","v":0},{"$f":"リスト!M59","v":0},{"$f":"リスト!N59","v":0}]
[{"$f":"リスト!A60","v":"　"},{"$f":"リスト!B60","v":0},{"$f":"リスト!C60","v":0},{"$f":"リスト!D60","v":0},{"$f":"リスト!E60","v":0},{"$f":"リスト!F60","v":0},{"$f":"リスト!G60","v":0},{"$f":"リスト!H60","v":0},{"$f":"リスト!I60","v":0},{"$f":"リスト!J60","v":0},{"$f":"リスト!K60","v":0},{"$f":"リスト!L60","v":0},{"$f":"リスト!M60","v":0},{"$f":"リスト!N60","v":0}]
[{"$f":"リスト!A61","v":"　"},{"$f":"リスト!B61","v":0},{"$f":"リスト!C61","v":0},{"$f":"リスト!D61","v":0},{"$f":"リスト!E61","v":0},{"$f":"リスト!F61","v":0},{"$f":"リスト!G61","v":0},{"$f":"リスト!H61","v":0},{"$f":"リスト!I61","v":0},{"$f":"リスト!J61","v":0},{"$f":"リスト!K61","v":0},{"$f":"リスト!L61","v":0},{"$f":"リスト!M61","v":0},{"$f":"リスト!N61","v":0}]
[{"$f":"リスト!A62","v":"　"},{"$f":"リスト!B62","v":0},{"$f":"リスト!C62","v":0},{"$f":"リスト!D62","v":0},{"$f":"リスト!E62","v":0},{"$f":"リスト!F62","v":0},{"$f":"リスト!G62","v":0},{"$f":"リスト!H62","v":0},{"$f":"リスト!I62","v":0},{"$f":"リスト!J62","v":0},{"$f":"リスト!K62","v":0},{"$f":"リスト!L62","v":0},{"$f":"リスト!M62","v":0},{"$f":"リスト!N62","v":0}]
[{"$f":"リスト!A63","v":"　"},{"$f":"リスト!B63","v":0},{"$f":"リスト!C63","v":0},{"$f":"リスト!D63","v":0},{"$f":"リスト!E63","v":0},{"$f":"リスト!F63","v":0},{"$f":"リスト!G63","v":0},{"$f":"リスト!H63","v":0},{"$f":"リスト!I63","v":0},{"$f":"リスト!J63","v":0},{"$f":"リスト!K63","v":0},{"$f":"リスト!L63","v":0},{"$f":"リスト!M63","v":0},{"$f":"リスト!N63","v":0}]
[{"$f":"リスト!A64","v":"　"},{"$f":"リスト!B64","v":0},{"$f":"リスト!C64","v":0},{"$f":"リスト!D64","v":0},{"$f":"リスト!E64","v":0},{"$f":"リスト!F64","v":0},{"$f":"リスト!G64","v":0},{"$f":"リスト!H64","v":0},{"$f":"リスト!I64","v":0},{"$f":"リスト!J64","v":0},{"$f":"リスト!K64","v":0},{"$f":"リスト!L64","v":0},{"$f":"リスト!M64","v":0},{"$f":"リスト!N64","v":0}]
[{"$f":"リスト!A65","v":"　"},{"$f":"リスト!B65","v":0},{"$f":"リスト!C65","v":0},{"$f":"リスト!D65","v":0},{"$f":"リスト!E65","v":0},{"$f":"リスト!F65","v":0},{"$f":"リスト!G65","v":0},{"$f":"リスト!H65","v":0},{"$f":"リスト!I65","v":0},{"$f":"リスト!J65","v":0},{"$f":"リスト!K65","v":0},{"$f":"リスト!L65","v":0},{"$f":"リスト!M65","v":0},{"$f":"リスト!N65","v":0}]
[{"$f":"リスト!A66","v":"　"},{"$f":"リスト!B66","v":0},{"$f":"リスト!C66","v":0},{"$f":"リスト!D66","v":0},{"$f":"リスト!E66","v":0},{"$f":"リスト!F66","v":0},{"$f":"リスト!G66","v":0},{"$f":"リスト!H66","v":0},{"$f":"リスト!I66","v":0},{"$f":"リスト!J66","v":0},{"$f":"リスト!K66","v":0},{"$f":"リスト!L66","v":0},{"$f":"リスト!M66","v":0},{"$f":"リスト!N66","v":0}]
[{"$f":"リスト!A67","v":"　"},{"$f":"リスト!B67","v":0},{"$f":"リスト!C67","v":0},{"$f":"リスト!D67","v":0},{"$f":"リスト!E67","v":0},{"$f":"リスト!F67","v":0},{"$f":"リスト!G67","v":0},{"$f":"リスト!H67","v":0},{"$f":"リスト!I67","v":0},{"$f":"リスト!J67","v":0},{"$f":"リスト!K67","v":0},{"$f":"リスト!L67","v":0},{"$f":"リスト!M67","v":0},{"$f":"リスト!N67","v":0}]
[{"$f":"リスト!A68","v":"　"},{"$f":"リスト!B68","v":0},{"$f":"リスト!C68","v":0},{"$f":"リスト!D68","v":0},{"$f":"リスト!E68","v":0},{"$f":"リスト!F68","v":0},{"$f":"リスト!G68","v":0},{"$f":"リスト!H68","v":0},{"$f":"リスト!I68","v":0},{"$f":"リスト!J68","v":0},{"$f":"リスト!K68","v":0},{"$f":"リスト!L68","v":0},{"$f":"リスト!M68","v":0},{"$f":"リスト!N68","v":0}]
[{"$f":"リスト!A69","v":"　"},{"$f":"リスト!B69","v":0},{"$f":"リスト!C69","v":0},{"$f":"リスト!D69","v":0},{"$f":"リスト!E69","v":0},{"$f":"リスト!F69","v":0},{"$f":"リスト!G69","v":0},{"$f":"リスト!H69","v":0},{"$f":"リスト!I69","v":0},{"$f":"リスト!J69","v":0},{"$f":"リスト!K69","v":0},{"$f":"リスト!L69","v":0},{"$f":"リスト!M69","v":0},{"$f":"リスト!N69","v":0}]
[{"$f":"リスト!A70","v":"　"},{"$f":"リスト!B70","v":0},{"$f":"リスト!C70","v":0},{"$f":"リスト!D70","v":0},{"$f":"リスト!E70","v":0},{"$f":"リスト!F70","v":0},{"$f":"リスト!G70","v":0},{"$f":"リスト!H70","v":0},{"$f":"リスト!I70","v":0},{"$f":"リスト!J70","v":0},{"$f":"リスト!K70","v":0},{"$f":"リスト!L70","v":0},{"$f":"リスト!M70","v":0},{"$f":"リスト!N70","v":0}]
[{"$f":"リスト!A71","v":"　"},{"$f":"リスト!B71","v":0},{"$f":"リスト!C71","v":0},{"$f":"リスト!D71","v":0},{"$f":"リスト!E71","v":0},{"$f":"リスト!F71","v":0},{"$f":"リスト!G71","v":0},{"$f":"リスト!H71","v":0},{"$f":"リスト!I71","v":0},{"$f":"リスト!J71","v":0},{"$f":"リスト!K71","v":0},{"$f":"リスト!L71","v":0},{"$f":"リスト!M71","v":0},{"$f":"リスト!N71","v":0}]
[{"$f":"リスト!A72","v":"　"},{"$f":"リスト!B72","v":0},{"$f":"リスト!C72","v":0},{"$f":"リスト!D72","v":0},{"$f":"リスト!E72","v":0},{"$f":"リスト!F72","v":0},{"$f":"リスト!G72","v":0},{"$f":"リスト!H72","v":0},{"$f":"リスト!I72","v":0},{"$f":"リスト!J72","v":0},{"$f":"リスト!K72","v":0},{"$f":"リスト!L72","v":0},{"$f":"リスト!M72","v":0},{"$f":"リスト!N72","v":0}]
[{"$f":"リスト!A73","v":"　"},{"$f":"リスト!B73","v":0},{"$f":"リスト!C73","v":0},{"$f":"リスト!D73","v":0},{"$f":"リスト!E73","v":0},{"$f":"リスト!F73","v":0},{"$f":"リスト!G73","v":0},{"$f":"リスト!H73","v":0},{"$f":"リスト!I73","v":0},{"$f":"リスト!J73","v":0},{"$f":"リスト!K73","v":0},{"$f":"リスト!L73","v":0},{"$f":"リスト!M73","v":0},{"$f":"リスト!N73","v":0}]
[{"$f":"リスト!A74","v":"　"},{"$f":"リスト!B74","v":0},{"$f":"リスト!C74","v":0},{"$f":"リスト!D74","v":0},{"$f":"リスト!E74","v":0},{"$f":"リスト!F74","v":0},{"$f":"リスト!G74","v":0},{"$f":"リスト!H74","v":0},{"$f":"リスト!I74","v":0},{"$f":"リスト!J74","v":0},{"$f":"リスト!K74","v":0},{"$f":"リスト!L74","v":0},{"$f":"リスト!M74","v":0},{"$f":"リスト!N74","v":0}]
[{"$f":"リスト!A75","v":"　"},{"$f":"リスト!B75","v":0},{"$f":"リスト!C75","v":0},{"$f":"リスト!D75","v":0},{"$f":"リスト!E75","v":0},{"$f":"リスト!F75","v":0},{"$f":"リスト!G75","v":0},{"$f":"リスト!H75","v":0},{"$f":"リスト!I75","v":0},{"$f":"リスト!J75","v":0},{"$f":"リスト!K75","v":0},{"$f":"リスト!L75","v":0},{"$f":"リスト!M75","v":0},{"$f":"リスト!N75","v":0}]
[{"$f":"リスト!A76","v":"　"},{"$f":"リスト!B76","v":0},{"$f":"リスト!C76","v":0},{"$f":"リスト!D76","v":0},{"$f":"リスト!E76","v":0},{"$f":"リスト!F76","v":0},{"$f":"リスト!G76","v":0},{"$f":"リスト!H76","v":0},{"$f":"リスト!I76","v":0},{"$f":"リスト!J76","v":0},{"$f":"リスト!K76","v":0},{"$f":"リスト!L76","v":0},{"$f":"リスト!M76","v":0},{"$f":"リスト!N76","v":0}]
[{"$f":"リスト!A77","v":"　"},{"$f":"リスト!B77","v":0},{"$f":"リスト!C77","v":0},{"$f":"リスト!D77","v":0},{"$f":"リスト!E77","v":0},{"$f":"リスト!F77","v":0},{"$f":"リスト!G77","v":0},{"$f":"リスト!H77","v":0},{"$f":"リスト!I77","v":0},{"$f":"リスト!J77","v":0},{"$f":"リスト!K77","v":0},{"$f":"リスト!L77","v":0},{"$f":"リスト!M77","v":0},{"$f":"リスト!N77","v":0}]
[{"$f":"リスト!A78","v":"　"},{"$f":"リスト!B78","v":0},{"$f":"リスト!C78","v":0},{"$f":"リスト!D78","v":0},{"$f":"リスト!E78","v":0},{"$f":"リスト!F78","v":0},{"$f":"リスト!G78","v":0},{"$f":"リスト!H78","v":0},{"$f":"リスト!I78","v":0},{"$f":"リスト!J78","v":0},{"$f":"リスト!K78","v":0},{"$f":"リスト!L78","v":0},{"$f":"リスト!M78","v":0},{"$f":"リスト!N78","v":0}]
[{"$f":"リスト!A79","v":"　"},{"$f":"リスト!B79","v":0},{"$f":"リスト!C79","v":0},{"$f":"リスト!D79","v":0},{"$f":"リスト!E79","v":0},{"$f":"リスト!F79","v":0},{"$f":"リスト!G79","v":0},{"$f":"リスト!H79","v":0},{"$f":"リスト!I79","v":0},{"$f":"リスト!J79","v":0},{"$f":"リスト!K79","v":0},{"$f":"リスト!L79","v":0},{"$f":"リスト!M79","v":0},{"$f":"リスト!N79","v":0}]
[{"$f":"リスト!A80","v":"　"},{"$f":"リスト!B80","v":0},{"$f":"リスト!C80","v":0},{"$f":"リスト!D80","v":0},{"$f":"リスト!E80","v":0},{"$f":"リスト!F80","v":0},{"$f":"リスト!G80","v":0},{"$f":"リスト!H80","v":0},{"$f":"リスト!I80","v":0},{"$f":"リスト!J80","v":0},{"$f":"リスト!K80","v":0},{"$f":"リスト!L80","v":0},{"$f":"リスト!M80","v":0},{"$f":"リスト!N80","v":0}]
[{"$f":"リスト!A81","v":"　"},{"$f":"リスト!B81","v":0},{"$f":"リスト!C81","v":0},{"$f":"リスト!D81","v":0},{"$f":"リスト!E81","v":0},{"$f":"リスト!F81","v":0},{"$f":"リスト!G81","v":0},{"$f":"リスト!H81","v":0},{"$f":"リスト!I81","v":0},{"$f":"リスト!J81","v":0},{"$f":"リスト!K81","v":0},{"$f":"リスト!L81","v":0},{"$f":"リスト!M81","v":0},{"$f":"リスト!N81","v":0}]
[{"$f":"リスト!A82","v":"　"},{"$f":"リスト!B82","v":0},{"$f":"リスト!C82","v":0},{"$f":"リスト!D82","v":0},{"$f":"リスト!E82","v":0},{"$f":"リスト!F82","v":0},{"$f":"リスト!G82","v":0},{"$f":"リスト!H82","v":0},{"$f":"リスト!I82","v":0},{"$f":"リスト!J82","v":0},{"$f":"リスト!K82","v":0},{"$f":"リスト!L82","v":0},{"$f":"リスト!M82","v":0},{"$f":"リスト!N82","v":0}]
[{"$f":"リスト!A83","v":"　"},{"$f":"リスト!B83","v":0},{"$f":"リスト!C83","v":0},{"$f":"リスト!D83","v":0},{"$f":"リスト!E83","v":0},{"$f":"リスト!F83","v":0},{"$f":"リスト!G83","v":0},{"$f":"リスト!H83","v":0},{"$f":"リスト!I83","v":0},{"$f":"リスト!J83","v":0},{"$f":"リスト!K83","v":0},{"$f":"リスト!L83","v":0},{"$f":"リスト!M83","v":0},{"$f":"リスト!N83","v":0}]
[{"$f":"リスト!A84","v":"　"},{"$f":"リスト!B84","v":0},{"$f":"リスト!C84","v":0},{"$f":"リスト!D84","v":0},{"$f":"リスト!E84","v":0},{"$f":"リスト!F84","v":0},{"$f":"リスト!G84","v":0},{"$f":"リスト!H84","v":0},{"$f":"リスト!I84","v":0},{"$f":"リスト!J84","v":0},{"$f":"リスト!K84","v":0},{"$f":"リスト!L84","v":0},{"$f":"リスト!M84","v":0},{"$f":"リスト!N84","v":0}]
[{"$f":"リスト!A85","v":"　"},{"$f":"リスト!B85","v":0},{"$f":"リスト!C85","v":0},{"$f":"リスト!D85","v":0},{"$f":"リスト!E85","v":0},{"$f":"リスト!F85","v":0},{"$f":"リスト!G85","v":0},{"$f":"リスト!H85","v":0},{"$f":"リスト!I85","v":0},{"$f":"リスト!J85","v":0},{"$f":"リスト!K85","v":0},{"$f":"リスト!L85","v":0},{"$f":"リスト!M85","v":0},{"$f":"リスト!N85","v":0}]
[{"$f":"リスト!A86","v":"　"},{"$f":"リスト!B86","v":0},{"$f":"リスト!C86","v":0},{"$f":"リスト!D86","v":0},{"$f":"リスト!E86","v":0},{"$f":"リスト!F86","v":0},{"$f":"リスト!G86","v":0},{"$f":"リスト!H86","v":0},{"$f":"リスト!I86","v":0},{"$f":"リスト!J86","v":0},{"$f":"リスト!K86","v":0},{"$f":"リスト!L86","v":0},{"$f":"リスト!M86","v":0},{"$f":"リスト!N86","v":0}]
[{"$f":"リスト!A87","v":"　"},{"$f":"リスト!B87","v":0},{"$f":"リスト!C87","v":0},{"$f":"リスト!D87","v":0},{"$f":"リスト!E87","v":0},{"$f":"リスト!F87","v":0},{"$f":"リスト!G87","v":0},{"$f":"リスト!H87","v":0},{"$f":"リスト!I87","v":0},{"$f":"リスト!J87","v":0},{"$f":"リスト!K87","v":0},{"$f":"リスト!L87","v":0},{"$f":"リスト!M87","v":0},{"$f":"リスト!N87","v":0}]
[{"$f":"リスト!A88","v":"　"},{"$f":"リスト!B88","v":0},{"$f":"リスト!C88","v":0},{"$f":"リスト!D88","v":0},{"$f":"リスト!E88","v":0},{"$f":"リスト!F88","v":0},{"$f":"リスト!G88","v":0},{"$f":"リスト!H88","v":0},{"$f":"リスト!I88","v":0},{"$f":"リスト!J88","v":0},{"$f":"リスト!K88","v":0},{"$f":"リスト!L88","v":0},{"$f":"リスト!M88","v":0},{"$f":"リスト!N88","v":0}]
[{"$f":"リスト!A89","v":"　"},{"$f":"リスト!B89","v":0},{"$f":"リスト!C89","v":0},{"$f":"リスト!D89","v":0},{"$f":"リスト!E89","v":0},{"$f":"リスト!F89","v":0},{"$f":"リスト!G89","v":0},{"$f":"リスト!H89","v":0},{"$f":"リスト!I89","v":0},{"$f":"リスト!J89","v":0},{"$f":"リスト!K89","v":0},{"$f":"リスト!L89","v":0},{"$f":"リスト!M89","v":0},{"$f":"リスト!N89","v":0}]
[{"$f":"リスト!A90","v":"　"},{"$f":"リスト!B90","v":0},{"$f":"リスト!C90","v":0},{"$f":"リスト!D90","v":0},{"$f":"リスト!E90","v":0},{"$f":"リスト!F90","v":0},{"$f":"リスト!G90","v":0},{"$f":"リスト!H90","v":0},{"$f":"リスト!I90","v":0},{"$f":"リスト!J90","v":0},{"$f":"リスト!K90","v":0},{"$f":"リスト!L90","v":0},{"$f":"リスト!M90","v":0},{"$f":"リスト!N90","v":0}]
[{"$f":"リスト!A91","v":"　"},{"$f":"リスト!B91","v":0},{"$f":"リスト!C91","v":0},{"$f":"リスト!D91","v":0},{"$f":"リスト!E91","v":0},{"$f":"リスト!F91","v":0},{"$f":"リスト!G91","v":0},{"$f":"リスト!H91","v":0},{"$f":"リスト!I91","v":0},{"$f":"リスト!J91","v":0},{"$f":"リスト!K91","v":0},{"$f":"リスト!L91","v":0},{"$f":"リスト!M91","v":0},{"$f":"リスト!N91","v":0}]
[{"$f":"リスト!A92","v":"　"},{"$f":"リスト!B92","v":0},{"$f":"リスト!C92","v":0},{"$f":"リスト!D92","v":0},{"$f":"リスト!E92","v":0},{"$f":"リスト!F92","v":0},{"$f":"リスト!G92","v":0},{"$f":"リスト!H92","v":0},{"$f":"リスト!I92","v":0},{"$f":"リスト!J92","v":0},{"$f":"リスト!K92","v":0},{"$f":"リスト!L92","v":0},{"$f":"リスト!M92","v":0},{"$f":"リスト!N92","v":0}]
[{"$f":"リスト!A93","v":"　"},{"$f":"リスト!B93","v":0},{"$f":"リスト!C93","v":0},{"$f":"リスト!D93","v":0},{"$f":"リスト!E93","v":0},{"$f":"リスト!F93","v":0},{"$f":"リスト!G93","v":0},{"$f":"リスト!H93","v":0},{"$f":"リスト!I93","v":0},{"$f":"リスト!J93","v":0},{"$f":"リスト!K93","v":0},{"$f":"リスト!L93","v":0},{"$f":"リスト!M93","v":0},{"$f":"リスト!N93","v":0}]
[{"$f":"リスト!A94","v":"　"},{"$f":"リスト!B94","v":0},{"$f":"リスト!C94","v":0},{"$f":"リスト!D94","v":0},{"$f":"リスト!E94","v":0},{"$f":"リスト!F94","v":0},{"$f":"リスト!G94","v":0},{"$f":"リスト!H94","v":0},{"$f":"リスト!I94","v":0},{"$f":"リスト!J94","v":0},{"$f":"リスト!K94","v":0},{"$f":"リスト!L94","v":0},{"$f":"リスト!M94","v":0},{"$f":"リスト!N94","v":0}]
[{"$f":"リスト!A95","v":"　"},{"$f":"リスト!B95","v":0},{"$f":"リスト!C95","v":0},{"$f":"リスト!D95","v":0},{"$f":"リスト!E95","v":0},{"$f":"リスト!F95","v":0},{"$f":"リスト!G95","v":0},{"$f":"リスト!H95","v":0},{"$f":"リスト!I95","v":0},{"$f":"リスト!J95","v":0},{"$f":"リスト!K95","v":0},{"$f":"リスト!L95","v":0},{"$f":"リスト!M95","v":0},{"$f":"リスト!N95","v":0}]
[{"$f":"リスト!A96","v":"　"},{"$f":"リスト!B96","v":0},{"$f":"リスト!C96","v":0},{"$f":"リスト!D96","v":0},{"$f":"リスト!E96","v":0},{"$f":"リスト!F96","v":0},{"$f":"リスト!G96","v":0},{"$f":"リスト!H96","v":0},{"$f":"リスト!I96","v":0},{"$f":"リスト!J96","v":0},{"$f":"リスト!K96","v":0},{"$f":"リスト!L96","v":0},{"$f":"リスト!M96","v":0},{"$f":"リスト!N96","v":0}]
[{"$f":"リスト!A97","v":"　"},{"$f":"リスト!B97","v":0},{"$f":"リスト!C97","v":0},{"$f":"リスト!D97","v":0},{"$f":"リスト!E97","v":0},{"$f":"リスト!F97","v":0},{"$f":"リスト!G97","v":0},{"$f":"リスト!H97","v":0},{"$f":"リスト!I97","v":0},{"$f":"リスト!J97","v":0},{"$f":"リスト!K97","v":0},{"$f":"リスト!L97","v":0},{"$f":"リスト!M97","v":0},{"$f":"リスト!N97","v":0}]
[{"$f":"リスト!A98","v":"　"},{"$f":"リスト!B98","v":0},{"$f":"リスト!C98","v":0},{"$f":"リスト!D98","v":0},{"$f":"リスト!E98","v":0},{"$f":"リスト!F98","v":0},{"$f":"リスト!G98","v":0},{"$f":"リスト!H98","v":0},{"$f":"リスト!I98","v":0},{"$f":"リスト!J98","v":0},{"$f":"リスト!K98","v":0},{"$f":"リスト!L98","v":0},{"$f":"リスト!M98","v":0},{"$f":"リスト!N98","v":0}]
[{"$f":"リスト!A99","v":"　"},{"$f":"リスト!B99","v":0},{"$f":"リスト!C99","v":0},{"$f":"リスト!D99","v":0},{"$f":"リスト!E99","v":0},{"$f":"リスト!F99","v":0},{"$f":"リスト!G99","v":0},{"$f":"リスト!H99","v":0},{"$f":"リスト!I99","v":0},{"$f":"リスト!J99","v":0},{"$f":"リスト!K99","v":0},{"$f":"リスト!L99","v":0},{"$f":"リスト!M99","v":0},{"$f":"リスト!N99","v":0}]
[{"$f":"リスト!A100","v":"　"},{"$f":"リスト!B100","v":0},{"$f":"リスト!C100","v":0},{"$f":"リスト!D100","v":0},{"$f":"リスト!E100","v":0},{"$f":"リスト!F100","v":0},{"$f":"リスト!G100","v":0},{"$f":"リスト!H100","v":0},{"$f":"リスト!I100","v":0},{"$f":"リスト!J100","v":0},{"$f":"リスト!K100","v":0},{"$f":"リスト!L100","v":0},{"$f":"リスト!M100","v":0},{"$f":"リスト!N100","v":0}]
[{"$f":"リスト!A101","v":"　"},{"$f":"リスト!B101","v":0},{"$f":"リスト!C101","v":0},{"$f":"リスト!D101","v":0},{"$f":"リスト!E101","v":0},{"$f":"リスト!F101","v":0},{"$f":"リスト!G101","v":0},{"$f":"リスト!H101","v":0},{"$f":"リスト!I101","v":0},{"$f":"リスト!J101","v":0},{"$f":"リスト!K101","v":0},{"$f":"リスト!L101","v":0},{"$f":"リスト!M101","v":0},{"$f":"リスト!N101","v":0}]
[{"$f":"リスト!A102","v":"　"},{"$f":"リスト!B102","v":0},{"$f":"リスト!C102","v":0},{"$f":"リスト!D102","v":0},{"$f":"リスト!E102","v":0},{"$f":"リスト!F102","v":0},{"$f":"リスト!G102","v":0},{"$f":"リスト!H102","v":0},{"$f":"リスト!I102","v":0},{"$f":"リスト!J102","v":0},{"$f":"リスト!K102","v":0},{"$f":"リスト!L102","v":0},{"$f":"リスト!M102","v":0},{"$f":"リスト!N102","v":0}]
[{"$f":"リスト!A103","v":"　"},{"$f":"リスト!B103","v":0},{"$f":"リスト!C103","v":0},{"$f":"リスト!D103","v":0},{"$f":"リスト!E103","v":0},{"$f":"リスト!F103","v":0},{"$f":"リスト!G103","v":0},{"$f":"リスト!H103","v":0},{"$f":"リスト!I103","v":0},{"$f":"リスト!J103","v":0},{"$f":"リスト!K103","v":0},{"$f":"リスト!L103","v":0},{"$f":"リスト!M103","v":0},{"$f":"リスト!N103","v":0}]
[{"$f":"リスト!A104","v":"　"},{"$f":"リスト!B104","v":0},{"$f":"リスト!C104","v":0},{"$f":"リスト!D104","v":0},{"$f":"リスト!E104","v":0},{"$f":"リスト!F104","v":0},{"$f":"リスト!G104","v":0},{"$f":"リスト!H104","v":0},{"$f":"リスト!I104","v":0},{"$f":"リスト!J104","v":0},{"$f":"リスト!K104","v":0},{"$f":"リスト!L104","v":0},{"$f":"リスト!M104","v":0},{"$f":"リスト!N104","v":0}]
[{"$f":"リスト!A105","v":"　"},{"$f":"リスト!B105","v":0},{"$f":"リスト!C105","v":0},{"$f":"リスト!D105","v":0},{"$f":"リスト!E105","v":0},{"$f":"リスト!F105","v":0},{"$f":"リスト!G105","v":0},{"$f":"リスト!H105","v":0},{"$f":"リスト!I105","v":0},{"$f":"リスト!J105","v":0},{"$f":"リスト!K105","v":0},{"$f":"リスト!L105","v":0},{"$f":"リスト!M105","v":0},{"$f":"リスト!N105","v":0}]
[{"$f":"リスト!A106","v":"　"},{"$f":"リスト!B106","v":0},{"$f":"リスト!C106","v":0},{"$f":"リスト!D106","v":0},{"$f":"リスト!E106","v":0},{"$f":"リスト!F106","v":0},{"$f":"リスト!G106","v":0},{"$f":"リスト!H106","v":0},{"$f":"リスト!I106","v":0},{"$f":"リスト!J106","v":0},{"$f":"リスト!K106","v":0},{"$f":"リスト!L106","v":0},{"$f":"リスト!M106","v":0},{"$f":"リスト!N106","v":0}]
[{"$f":"リスト!A107","v":"　"},{"$f":"リスト!B107","v":0},{"$f":"リスト!C107","v":0},{"$f":"リスト!D107","v":0},{"$f":"リスト!E107","v":0},{"$f":"リスト!F107","v":0},{"$f":"リスト!G107","v":0},{"$f":"リスト!H107","v":0},{"$f":"リスト!I107","v":0},{"$f":"リスト!J107","v":0},{"$f":"リスト!K107","v":0},{"$f":"リスト!L107","v":0},{"$f":"リスト!M107","v":0},{"$f":"リスト!N107","v":0}]
[{"$f":"リスト!A108","v":"　"},{"$f":"リスト!B108","v":0},{"$f":"リスト!C108","v":0},{"$f":"リスト!D108","v":0},{"$f":"リスト!E108","v":0},{"$f":"リスト!F108","v":0},{"$f":"リスト!G108","v":0},{"$f":"リスト!H108","v":0},{"$f":"リスト!I108","v":0},{"$f":"リスト!J108","v":0},{"$f":"リスト!K108","v":0},{"$f":"リスト!L108","v":0},{"$f":"リスト!M108","v":0},{"$f":"リスト!N108","v":0}]
[{"$f":"リスト!A109","v":"　"},{"$f":"リスト!B109","v":0},{"$f":"リスト!C109","v":0},{"$f":"リスト!D109","v":0},{"$f":"リスト!E109","v":0},{"$f":"リスト!F109","v":0},{"$f":"リスト!G109","v":0},{"$f":"リスト!H109","v":0},{"$f":"リスト!I109","v":0},{"$f":"リスト!J109","v":0},{"$f":"リスト!K109","v":0},{"$f":"リスト!L109","v":0},{"$f":"リスト!M109","v":0},{"$f":"リスト!N109","v":0}]
[{"$f":"リスト!A110","v":"　"},{"$f":"リスト!B110","v":0},{"$f":"リスト!C110","v":0},{"$f":"リスト!D110","v":0},{"$f":"リスト!E110","v":0},{"$f":"リスト!F110","v":0},{"$f":"リスト!G110","v":0},{"$f":"リスト!H110","v":0},{"$f":"リスト!I110","v":0},{"$f":"リスト!J110","v":0},{"$f":"リスト!K110","v":0},{"$f":"リスト!L110","v":0},{"$f":"リスト!M110","v":0},{"$f":"リスト!N110","v":0}]
[{"$f":"リスト!A111","v":"　"},{"$f":"リスト!B111","v":0},{"$f":"リスト!C111","v":0},{"$f":"リスト!D111","v":0},{"$f":"リスト!E111","v":0},{"$f":"リスト!F111","v":0},{"$f":"リスト!G111","v":0},{"$f":"リスト!H111","v":0},{"$f":"リスト!I111","v":0},{"$f":"リスト!J111","v":0},{"$f":"リスト!K111","v":0},{"$f":"リスト!L111","v":0},{"$f":"リスト!M111","v":0},{"$f":"リスト!N111","v":0}]
[{"$f":"リスト!A112","v":"　"},{"$f":"リスト!B112","v":0},{"$f":"リスト!C112","v":0},{"$f":"リスト!D112","v":0},{"$f":"リスト!E112","v":0},{"$f":"リスト!F112","v":0},{"$f":"リスト!G112","v":0},{"$f":"リスト!H112","v":0},{"$f":"リスト!I112","v":0},{"$f":"リスト!J112","v":0},{"$f":"リスト!K112","v":0},{"$f":"リスト!L112","v":0},{"$f":"リスト!M112","v":0},{"$f":"リスト!N112","v":0}]
[{"$f":"リスト!A113","v":"　"},{"$f":"リスト!B113","v":0},{"$f":"リスト!C113","v":0},{"$f":"リスト!D113","v":0},{"$f":"リスト!E113","v":0},{"$f":"リスト!F113","v":0},{"$f":"リスト!G113","v":0},{"$f":"リスト!H113","v":0},{"$f":"リスト!I113","v":0},{"$f":"リスト!J113","v":0},{"$f":"リスト!K113","v":0},{"$f":"リスト!L113","v":0},{"$f":"リスト!M113","v":0},{"$f":"リスト!N113","v":0}]
[{"$f":"リスト!A114","v":"　"},{"$f":"リスト!B114","v":0},{"$f":"リスト!C114","v":0},{"$f":"リスト!D114","v":0},{"$f":"リスト!E114","v":0},{"$f":"リスト!F114","v":0},{"$f":"リスト!G114","v":0},{"$f":"リスト!H114","v":0},{"$f":"リスト!I114","v":0},{"$f":"リスト!J114","v":0},{"$f":"リスト!K114","v":0},{"$f":"リスト!L114","v":0},{"$f":"リスト!M114","v":0},{"$f":"リスト!N114","v":0}]
[{"$f":"リスト!A115","v":"　"},{"$f":"リスト!B115","v":0},{"$f":"リスト!C115","v":0},{"$f":"リスト!D115","v":0},{"$f":"リスト!E115","v":0},{"$f":"リスト!F115","v":0},{"$f":"リスト!G115","v":0},{"$f":"リスト!H115","v":0},{"$f":"リスト!I115","v":0},{"$f":"リスト!J115","v":0},{"$f":"リスト!K115","v":0},{"$f":"リスト!L115","v":0},{"$f":"リスト!M115","v":0},{"$f":"リスト!N115","v":0}]
[{"$f":"リスト!A116","v":"　"},{"$f":"リスト!B116","v":0},{"$f":"リスト!C116","v":0},{"$f":"リスト!D116","v":0},{"$f":"リスト!E116","v":0},{"$f":"リスト!F116","v":0},{"$f":"リスト!G116","v":0},{"$f":"リスト!H116","v":0},{"$f":"リスト!I116","v":0},{"$f":"リスト!J116","v":0},{"$f":"リスト!K116","v":0},{"$f":"リスト!L116","v":0},{"$f":"リスト!M116","v":0},{"$f":"リスト!N116","v":0}]
[{"$f":"リスト!A117","v":"　"},{"$f":"リスト!B117","v":0},{"$f":"リスト!C117","v":0},{"$f":"リスト!D117","v":0},{"$f":"リスト!E117","v":0},{"$f":"リスト!F117","v":0},{"$f":"リスト!G117","v":0},{"$f":"リスト!H117","v":0},{"$f":"リスト!I117","v":0},{"$f":"リスト!J117","v":0},{"$f":"リスト!K117","v":0},{"$f":"リスト!L117","v":0},{"$f":"リスト!M117","v":0},{"$f":"リスト!N117","v":0}]
[{"$f":"リスト!A118","v":"　"},{"$f":"リスト!B118","v":0},{"$f":"リスト!C118","v":0},{"$f":"リスト!D118","v":0},{"$f":"リスト!E118","v":0},{"$f":"リスト!F118","v":0},{"$f":"リスト!G118","v":0},{"$f":"リスト!H118","v":0},{"$f":"リスト!I118","v":0},{"$f":"リスト!J118","v":0},{"$f":"リスト!K118","v":0},{"$f":"リスト!L118","v":0},{"$f":"リスト!M118","v":0},{"$f":"リスト!N118","v":0}]
[{"$f":"リスト!A119","v":"　"},{"$f":"リスト!B119","v":0},{"$f":"リスト!C119","v":0},{"$f":"リスト!D119","v":0},{"$f":"リスト!E119","v":0},{"$f":"リスト!F119","v":0},{"$f":"リスト!G119","v":0},{"$f":"リスト!H119","v":0},{"$f":"リスト!I119","v":0},{"$f":"リスト!J119","v":0},{"$f":"リスト!K119","v":0},{"$f":"リスト!L119","v":0},{"$f":"リスト!M119","v":0},{"$f":"リスト!N119","v":0}]
[{"$f":"リスト!A120","v":"　"},{"$f":"リスト!B120","v":0},{"$f":"リスト!C120","v":0},{"$f":"リスト!D120","v":0},{"$f":"リスト!E120","v":0},{"$f":"リスト!F120","v":0},{"$f":"リスト!G120","v":0},{"$f":"リスト!H120","v":0},{"$f":"リスト!I120","v":0},{"$f":"リスト!J120","v":0},{"$f":"リスト!K120","v":0},{"$f":"リスト!L120","v":0},{"$f":"リスト!M120","v":0},{"$f":"リスト!N120","v":0}]
[{"$f":"リスト!A121","v":"　"},{"$f":"リスト!B121","v":0},{"$f":"リスト!C121","v":0},{"$f":"リスト!D121","v":0},{"$f":"リスト!E121","v":0},{"$f":"リスト!F121","v":0},{"$f":"リスト!G121","v":0},{"$f":"リスト!H121","v":0},{"$f":"リスト!I121","v":0},{"$f":"リスト!J121","v":0},{"$f":"リスト!K121","v":0},{"$f":"リスト!L121","v":0},{"$f":"リスト!M121","v":0},{"$f":"リスト!N121","v":0}]
[{"$f":"リスト!A122","v":"　"},{"$f":"リスト!B122","v":0},{"$f":"リスト!C122","v":0},{"$f":"リスト!D122","v":0},{"$f":"リスト!E122","v":0},{"$f":"リスト!F122","v":0},{"$f":"リスト!G122","v":0},{"$f":"リスト!H122","v":0},{"$f":"リスト!I122","v":0},{"$f":"リスト!J122","v":0},{"$f":"リスト!K122","v":0},{"$f":"リスト!L122","v":0},{"$f":"リスト!M122","v":0},{"$f":"リスト!N122","v":0}]
[{"$f":"リスト!A123","v":"　"},{"$f":"リスト!B123","v":0},{"$f":"リスト!C123","v":0},{"$f":"リスト!D123","v":0},{"$f":"リスト!E123","v":0},{"$f":"リスト!F123","v":0},{"$f":"リスト!G123","v":0},{"$f":"リスト!H123","v":0},{"$f":"リスト!I123","v":0},{"$f":"リスト!J123","v":0},{"$f":"リスト!K123","v":0},{"$f":"リスト!L123","v":0},{"$f":"リスト!M123","v":0},{"$f":"リスト!N123","v":0}]
[{"$f":"リスト!A124","v":"　"},{"$f":"リスト!B124","v":0},{"$f":"リスト!C124","v":0},{"$f":"リスト!D124","v":0},{"$f":"リスト!E124","v":0},{"$f":"リスト!F124","v":0},{"$f":"リスト!G124","v":0},{"$f":"リスト!H124","v":0},{"$f":"リスト!I124","v":0},{"$f":"リスト!J124","v":0},{"$f":"リスト!K124","v":0},{"$f":"リスト!L124","v":0},{"$f":"リスト!M124","v":0},{"$f":"リスト!N124","v":0}]
[{"$f":"リスト!A125","v":"　"},{"$f":"リスト!B125","v":0},{"$f":"リスト!C125","v":0},{"$f":"リスト!D125","v":0},{"$f":"リスト!E125","v":0},{"$f":"リスト!F125","v":0},{"$f":"リスト!G125","v":0},{"$f":"リスト!H125","v":0},{"$f":"リスト!I125","v":0},{"$f":"リスト!J125","v":0},{"$f":"リスト!K125","v":0},{"$f":"リスト!L125","v":0},{"$f":"リスト!M125","v":0},{"$f":"リスト!N125","v":0}]
[{"$f":"リスト!A126","v":"　"},{"$f":"リスト!B126","v":0},{"$f":"リスト!C126","v":0},{"$f":"リスト!D126","v":0},{"$f":"リスト!E126","v":0},{"$f":"リスト!F126","v":0},{"$f":"リスト!G126","v":0},{"$f":"リスト!H126","v":0},{"$f":"リスト!I126","v":0},{"$f":"リスト!J126","v":0},{"$f":"リスト!K126","v":0},{"$f":"リスト!L126","v":0},{"$f":"リスト!M126","v":0},{"$f":"リスト!N126","v":0}]
[{"$f":"リスト!A127","v":"　"},{"$f":"リスト!B127","v":0},{"$f":"リスト!C127","v":0},{"$f":"リスト!D127","v":0},{"$f":"リスト!E127","v":0},{"$f":"リスト!F127","v":0},{"$f":"リスト!G127","v":0},{"$f":"リスト!H127","v":0},{"$f":"リスト!I127","v":0},{"$f":"リスト!J127","v":0},{"$f":"リスト!K127","v":0},{"$f":"リスト!L127","v":0},{"$f":"リスト!M127","v":0},{"$f":"リスト!N127","v":0}]
[{"$f":"リスト!A128","v":"　"},{"$f":"リスト!B128","v":0},{"$f":"リスト!C128","v":0},{"$f":"リスト!D128","v":0},{"$f":"リスト!E128","v":0},{"$f":"リスト!F128","v":0},{"$f":"リスト!G128","v":0},{"$f":"リスト!H128","v":0},{"$f":"リスト!I128","v":0},{"$f":"リスト!J128","v":0},{"$f":"リスト!K128","v":0},{"$f":"リスト!L128","v":0},{"$f":"リスト!M128","v":0},{"$f":"リスト!N128","v":0}]
[{"$f":"リスト!A129","v":"　"},{"$f":"リスト!B129","v":0},{"$f":"リスト!C129","v":0},{"$f":"リスト!D129","v":0},{"$f":"リスト!E129","v":0},{"$f":"リスト!F129","v":0},{"$f":"リスト!G129","v":0},{"$f":"リスト!H129","v":0},{"$f":"リスト!I129","v":0},{"$f":"リスト!J129","v":0},{"$f":"リスト!K129","v":0},{"$f":"リスト!L129","v":0},{"$f":"リスト!M129","v":0},{"$f":"リスト!N129","v":0}]
[{"$f":"リスト!A130","v":"　"},{"$f":"リスト!B130","v":0},{"$f":"リスト!C130","v":0},{"$f":"リスト!D130","v":0},{"$f":"リスト!E130","v":0},{"$f":"リスト!F130","v":0},{"$f":"リスト!G130","v":0},{"$f":"リスト!H130","v":0},{"$f":"リスト!I130","v":0},{"$f":"リスト!J130","v":0},{"$f":"リスト!K130","v":0},{"$f":"リスト!L130","v":0},{"$f":"リスト!M130","v":0},{"$f":"リスト!N130","v":0}]
[{"$f":"リスト!A131","v":"　"},{"$f":"リスト!B131","v":0},{"$f":"リスト!C131","v":0},{"$f":"リスト!D131","v":0},{"$f":"リスト!E131","v":0},{"$f":"リスト!F131","v":0},{"$f":"リスト!G131","v":0},{"$f":"リスト!H131","v":0},{"$f":"リスト!I131","v":0},{"$f":"リスト!J131","v":0},{"$f":"リスト!K131","v":0},{"$f":"リスト!L131","v":0},{"$f":"リスト!M131","v":0},{"$f":"リスト!N131","v":0}]
[{"$f":"リスト!A132","v":"　"},{"$f":"リスト!B132","v":0},{"$f":"リスト!C132","v":0},{"$f":"リスト!D132","v":0},{"$f":"リスト!E132","v":0},{"$f":"リスト!F132","v":0},{"$f":"リスト!G132","v":0},{"$f":"リスト!H132","v":0},{"$f":"リスト!I132","v":0},{"$f":"リスト!J132","v":0},{"$f":"リスト!K132","v":0},{"$f":"リスト!L132","v":0},{"$f":"リスト!M132","v":0},{"$f":"リスト!N132","v":0}]
[{"$f":"リスト!A133","v":"　"},{"$f":"リスト!B133","v":0},{"$f":"リスト!C133","v":0},{"$f":"リスト!D133","v":0},{"$f":"リスト!E133","v":0},{"$f":"リスト!F133","v":0},{"$f":"リスト!G133","v":0},{"$f":"リスト!H133","v":0},{"$f":"リスト!I133","v":0},{"$f":"リスト!J133","v":0},{"$f":"リスト!K133","v":0},{"$f":"リスト!L133","v":0},{"$f":"リスト!M133","v":0},{"$f":"リスト!N133","v":0}]
[{"$f":"リスト!A134","v":"　"},{"$f":"リスト!B134","v":0},{"$f":"リスト!C134","v":0},{"$f":"リスト!D134","v":0},{"$f":"リスト!E134","v":0},{"$f":"リスト!F134","v":0},{"$f":"リスト!G134","v":0},{"$f":"リスト!H134","v":0},{"$f":"リスト!I134","v":0},{"$f":"リスト!J134","v":0},{"$f":"リスト!K134","v":0},{"$f":"リスト!L134","v":0},{"$f":"リスト!M134","v":0},{"$f":"リスト!N134","v":0}]
[{"$f":"リスト!A135","v":"　"},{"$f":"リスト!B135","v":0},{"$f":"リスト!C135","v":0},{"$f":"リスト!D135","v":0},{"$f":"リスト!E135","v":0},{"$f":"リスト!F135","v":0},{"$f":"リスト!G135","v":0},{"$f":"リスト!H135","v":0},{"$f":"リスト!I135","v":0},{"$f":"リスト!J135","v":0},{"$f":"リスト!K135","v":0},{"$f":"リスト!L135","v":0},{"$f":"リスト!M135","v":0},{"$f":"リスト!N135","v":0}]
[{"$f":"リスト!A136","v":"　"},{"$f":"リスト!B136","v":0},{"$f":"リスト!C136","v":0},{"$f":"リスト!D136","v":0},{"$f":"リスト!E136","v":0},{"$f":"リスト!F136","v":0},{"$f":"リスト!G136","v":0},{"$f":"リスト!H136","v":0},{"$f":"リスト!I136","v":0},{"$f":"リスト!J136","v":0},{"$f":"リスト!K136","v":0},{"$f":"リスト!L136","v":0},{"$f":"リスト!M136","v":0},{"$f":"リスト!N136","v":0}]
[{"$f":"リスト!A137","v":"　"},{"$f":"リスト!B137","v":0},{"$f":"リスト!C137","v":0},{"$f":"リスト!D137","v":0},{"$f":"リスト!E137","v":0},{"$f":"リスト!F137","v":0},{"$f":"リスト!G137","v":0},{"$f":"リスト!H137","v":0},{"$f":"リスト!I137","v":0},{"$f":"リスト!J137","v":0},{"$f":"リスト!K137","v":0},{"$f":"リスト!L137","v":0},{"$f":"リスト!M137","v":0},{"$f":"リスト!N137","v":0}]
[{"$f":"リスト!A138","v":"　"},{"$f":"リスト!B138","v":0},{"$f":"リスト!C138","v":0},{"$f":"リスト!D138","v":0},{"$f":"リスト!E138","v":0},{"$f":"リスト!F138","v":0},{"$f":"リスト!G138","v":0},{"$f":"リスト!H138","v":0},{"$f":"リスト!I138","v":0},{"$f":"リスト!J138","v":0},{"$f":"リスト!K138","v":0},{"$f":"リスト!L138","v":0},{"$f":"リスト!M138","v":0},{"$f":"リスト!N138","v":0}]
[{"$f":"リスト!A139","v":"　"},{"$f":"リスト!B139","v":0},{"$f":"リスト!C139","v":0},{"$f":"リスト!D139","v":0},{"$f":"リスト!E139","v":0},{"$f":"リスト!F139","v":0},{"$f":"リスト!G139","v":0},{"$f":"リスト!H139","v":0},{"$f":"リスト!I139","v":0},{"$f":"リスト!J139","v":0},{"$f":"リスト!K139","v":0},{"$f":"リスト!L139","v":0},{"$f":"リスト!M139","v":0},{"$f":"リスト!N139","v":0}]
[{"$f":"リスト!A140","v":"　"},{"$f":"リスト!B140","v":0},{"$f":"リスト!C140","v":0},{"$f":"リスト!D140","v":0},{"$f":"リスト!E140","v":0},{"$f":"リスト!F140","v":0},{"$f":"リスト!G140","v":0},{"$f":"リスト!H140","v":0},{"$f":"リスト!I140","v":0},{"$f":"リスト!J140","v":0},{"$f":"リスト!K140","v":0},{"$f":"リスト!L140","v":0},{"$f":"リスト!M140","v":0},{"$f":"リスト!N140","v":0}]
[{"$f":"リスト!A141","v":"　"},{"$f":"リスト!B141","v":0},{"$f":"リスト!C141","v":0},{"$f":"リスト!D141","v":0},{"$f":"リスト!E141","v":0},{"$f":"リスト!F141","v":0},{"$f":"リスト!G141","v":0},{"$f":"リスト!H141","v":0},{"$f":"リスト!I141","v":0},{"$f":"リスト!J141","v":0},{"$f":"リスト!K141","v":0},{"$f":"リスト!L141","v":0},{"$f":"リスト!M141","v":0},{"$f":"リスト!N141","v":0}]
[{"$f":"リスト!A142","v":"　"},{"$f":"リスト!B142","v":0},{"$f":"リスト!C142","v":0},{"$f":"リスト!D142","v":0},{"$f":"リスト!E142","v":0},{"$f":"リスト!F142","v":0},{"$f":"リスト!G142","v":0},{"$f":"リスト!H142","v":0},{"$f":"リスト!I142","v":0},{"$f":"リスト!J142","v":0},{"$f":"リスト!K142","v":0},{"$f":"リスト!L142","v":0},{"$f":"リスト!M142","v":0},{"$f":"リスト!N142","v":0}]
[{"$f":"リスト!A143","v":"　"},{"$f":"リスト!B143","v":0},{"$f":"リスト!C143","v":0},{"$f":"リスト!D143","v":0},{"$f":"リスト!E143","v":0},{"$f":"リスト!F143","v":0},{"$f":"リスト!G143","v":0},{"$f":"リスト!H143","v":0},{"$f":"リスト!I143","v":0},{"$f":"リスト!J143","v":0},{"$f":"リスト!K143","v":0},{"$f":"リスト!L143","v":0},{"$f":"リスト!M143","v":0},{"$f":"リスト!N143","v":0}]
[{"$f":"リスト!A144","v":"　"},{"$f":"リスト!B144","v":0},{"$f":"リスト!C144","v":0},{"$f":"リスト!D144","v":0},{"$f":"リスト!E144","v":0},{"$f":"リスト!F144","v":0},{"$f":"リスト!G144","v":0},{"$f":"リスト!H144","v":0},{"$f":"リスト!I144","v":0},{"$f":"リスト!J144","v":0},{"$f":"リスト!K144","v":0},{"$f":"リスト!L144","v":0},{"$f":"リスト!M144","v":0},{"$f":"リスト!N144","v":0}]
[{"$f":"リスト!A145","v":"　"},{"$f":"リスト!B145","v":0},{"$f":"リスト!C145","v":0},{"$f":"リスト!D145","v":0},{"$f":"リスト!E145","v":0},{"$f":"リスト!F145","v":0},{"$f":"リスト!G145","v":0},{"$f":"リスト!H145","v":0},{"$f":"リスト!I145","v":0},{"$f":"リスト!J145","v":0},{"$f":"リスト!K145","v":0},{"$f":"リスト!L145","v":0},{"$f":"リスト!M145","v":0},{"$f":"リスト!N145","v":0}]
[{"$f":"リスト!A146","v":"　"},{"$f":"リスト!B146","v":0},{"$f":"リスト!C146","v":0},{"$f":"リスト!D146","v":0},{"$f":"リスト!E146","v":0},{"$f":"リスト!F146","v":0},{"$f":"リスト!G146","v":0},{"$f":"リスト!H146","v":0},{"$f":"リスト!I146","v":0},{"$f":"リスト!J146","v":0},{"$f":"リスト!K146","v":0},{"$f":"リスト!L146","v":0},{"$f":"リスト!M146","v":0},{"$f":"リスト!N146","v":0}]
[{"$f":"リスト!A147","v":"　"},{"$f":"リスト!B147","v":0},{"$f":"リスト!C147","v":0},{"$f":"リスト!D147","v":0},{"$f":"リスト!E147","v":0},{"$f":"リスト!F147","v":0},{"$f":"リスト!G147","v":0},{"$f":"リスト!H147","v":0},{"$f":"リスト!I147","v":0},{"$f":"リスト!J147","v":0},{"$f":"リスト!K147","v":0},{"$f":"リスト!L147","v":0},{"$f":"リスト!M147","v":0},{"$f":"リスト!N147","v":0}]
[{"$f":"リスト!A148","v":"　"},{"$f":"リスト!B148","v":0},{"$f":"リスト!C148","v":0},{"$f":"リスト!D148","v":0},{"$f":"リスト!E148","v":0},{"$f":"リスト!F148","v":0},{"$f":"リスト!G148","v":0},{"$f":"リスト!H148","v":0},{"$f":"リスト!I148","v":0},{"$f":"リスト!J148","v":0},{"$f":"リスト!K148","v":0},{"$f":"リスト!L148","v":0},{"$f":"リスト!M148","v":0},{"$f":"リスト!N148","v":0}]
[{"$f":"リスト!A149","v":"　"},{"$f":"リスト!B149","v":0},{"$f":"リスト!C149","v":0},{"$f":"リスト!D149","v":0},{"$f":"リスト!E149","v":0},{"$f":"リスト!F149","v":0},{"$f":"リスト!G149","v":0},{"$f":"リスト!H149","v":0},{"$f":"リスト!I149","v":0},{"$f":"リスト!J149","v":0},{"$f":"リスト!K149","v":0},{"$f":"リスト!L149","v":0},{"$f":"リスト!M149","v":0},{"$f":"リスト!N149","v":0}]
[{"$f":"リスト!A150","v":"　"},{"$f":"リスト!B150","v":0},{"$f":"リスト!C150","v":0},{"$f":"リスト!D150","v":0},{"$f":"リスト!E150","v":0},{"$f":"リスト!F150","v":0},{"$f":"リスト!G150","v":0},{"$f":"リスト!H150","v":0},{"$f":"リスト!I150","v":0},{"$f":"リスト!J150","v":0},{"$f":"リスト!K150","v":0},{"$f":"リスト!L150","v":0},{"$f":"リスト!M150","v":0},{"$f":"リスト!N150","v":0}]
[{"$f":"リスト!A151","v":"　"},{"$f":"リスト!B151","v":0},{"$f":"リスト!C151","v":0},{"$f":"リスト!D151","v":0},{"$f":"リスト!E151","v":0},{"$f":"リスト!F151","v":0},{"$f":"リスト!G151","v":0},{"$f":"リスト!H151","v":0},{"$f":"リスト!I151","v":0},{"$f":"リスト!J151","v":0},{"$f":"リスト!K151","v":0},{"$f":"リスト!L151","v":0},{"$f":"リスト!M151","v":0},{"$f":"リスト!N151","v":0}]
[{"$f":"リスト!A152","v":"　"},{"$f":"リスト!B152","v":0},{"$f":"リスト!C152","v":0},{"$f":"リスト!D152","v":0},{"$f":"リスト!E152","v":0},{"$f":"リスト!F152","v":0},{"$f":"リスト!G152","v":0},{"$f":"リスト!H152","v":0},{"$f":"リスト!I152","v":0},{"$f":"リスト!J152","v":0},{"$f":"リスト!K152","v":0},{"$f":"リスト!L152","v":0},{"$f":"リスト!M152","v":0},{"$f":"リスト!N152","v":0}]
[{"$f":"リスト!A153","v":"　"},{"$f":"リスト!B153","v":0},{"$f":"リスト!C153","v":0},{"$f":"リスト!D153","v":0},{"$f":"リスト!E153","v":0},{"$f":"リスト!F153","v":0},{"$f":"リスト!G153","v":0},{"$f":"リスト!H153","v":0},{"$f":"リスト!I153","v":0},{"$f":"リスト!J153","v":0},{"$f":"リスト!K153","v":0},{"$f":"リスト!L153","v":0},{"$f":"リスト!M153","v":0},{"$f":"リスト!N153","v":0}]
[{"$f":"リスト!A154","v":"　"},{"$f":"リスト!B154","v":0},{"$f":"リスト!C154","v":0},{"$f":"リスト!D154","v":0},{"$f":"リスト!E154","v":0},{"$f":"リスト!F154","v":0},{"$f":"リスト!G154","v":0},{"$f":"リスト!H154","v":0},{"$f":"リスト!I154","v":0},{"$f":"リスト!J154","v":0},{"$f":"リスト!K154","v":0},{"$f":"リスト!L154","v":0},{"$f":"リスト!M154","v":0},{"$f":"リスト!N154","v":0}]
[{"$f":"リスト!A155","v":"　"},{"$f":"リスト!B155","v":0},{"$f":"リスト!C155","v":0},{"$f":"リスト!D155","v":0},{"$f":"リスト!E155","v":0},{"$f":"リスト!F155","v":0},{"$f":"リスト!G155","v":0},{"$f":"リスト!H155","v":0},{"$f":"リスト!I155","v":0},{"$f":"リスト!J155","v":0},{"$f":"リスト!K155","v":0},{"$f":"リスト!L155","v":0},{"$f":"リスト!M155","v":0},{"$f":"リスト!N155","v":0}]
[{"$f":"リスト!A156","v":"　"},{"$f":"リスト!B156","v":0},{"$f":"リスト!C156","v":0},{"$f":"リスト!D156","v":0},{"$f":"リスト!E156","v":0},{"$f":"リスト!F156","v":0},{"$f":"リスト!G156","v":0},{"$f":"リスト!H156","v":0},{"$f":"リスト!I156","v":0},{"$f":"リスト!J156","v":0},{"$f":"リスト!K156","v":0},{"$f":"リスト!L156","v":0},{"$f":"リスト!M156","v":0},{"$f":"リスト!N156","v":0}]
[{"$f":"リスト!A157","v":"　"},{"$f":"リスト!B157","v":0},{"$f":"リスト!C157","v":0},{"$f":"リスト!D157","v":0},{"$f":"リスト!E157","v":0},{"$f":"リスト!F157","v":0},{"$f":"リスト!G157","v":0},{"$f":"リスト!H157","v":0},{"$f":"リスト!I157","v":0},{"$f":"リスト!J157","v":0},{"$f":"リスト!K157","v":0},{"$f":"リスト!L157","v":0},{"$f":"リスト!M157","v":0},{"$f":"リスト!N157","v":0}]
[{"$f":"リスト!A158","v":"　"},{"$f":"リスト!B158","v":0},{"$f":"リスト!C158","v":0},{"$f":"リスト!D158","v":0},{"$f":"リスト!E158","v":0},{"$f":"リスト!F158","v":0},{"$f":"リスト!G158","v":0},{"$f":"リスト!H158","v":0},{"$f":"リスト!I158","v":0},{"$f":"リスト!J158","v":0},{"$f":"リスト!K158","v":0},{"$f":"リスト!L158","v":0},{"$f":"リスト!M158","v":0},{"$f":"リスト!N158","v":0}]
[{"$f":"リスト!A159","v":"　"},{"$f":"リスト!B159","v":0},{"$f":"リスト!C159","v":0},{"$f":"リスト!D159","v":0},{"$f":"リスト!E159","v":0},{"$f":"リスト!F159","v":0},{"$f":"リスト!G159","v":0},{"$f":"リスト!H159","v":0},{"$f":"リスト!I159","v":0},{"$f":"リスト!J159","v":0},{"$f":"リスト!K159","v":0},{"$f":"リスト!L159","v":0},{"$f":"リスト!M159","v":0},{"$f":"リスト!N159","v":0}]
[{"$f":"リスト!A160","v":"　"},{"$f":"リスト!B160","v":0},{"$f":"リスト!C160","v":0},{"$f":"リスト!D160","v":0},{"$f":"リスト!E160","v":0},{"$f":"リスト!F160","v":0},{"$f":"リスト!G160","v":0},{"$f":"リスト!H160","v":0},{"$f":"リスト!I160","v":0},{"$f":"リスト!J160","v":0},{"$f":"リスト!K160","v":0},{"$f":"リスト!L160","v":0},{"$f":"リスト!M160","v":0},{"$f":"リスト!N160","v":0}]
[{"$f":"リスト!A161","v":"　"},{"$f":"リスト!B161","v":0},{"$f":"リスト!C161","v":0},{"$f":"リスト!D161","v":0},{"$f":"リスト!E161","v":0},{"$f":"リスト!F161","v":0},{"$f":"リスト!G161","v":0},{"$f":"リスト!H161","v":0},{"$f":"リスト!I161","v":0},{"$f":"リスト!J161","v":0},{"$f":"リスト!K161","v":0},{"$f":"リスト!L161","v":0},{"$f":"リスト!M161","v":0},{"$f":"リスト!N161","v":0}]
[{"$f":"リスト!A162","v":"　"},{"$f":"リスト!B162","v":0},{"$f":"リスト!C162","v":0},{"$f":"リスト!D162","v":0},{"$f":"リスト!E162","v":0},{"$f":"リスト!F162","v":0},{"$f":"リスト!G162","v":0},{"$f":"リスト!H162","v":0},{"$f":"リスト!I162","v":0},{"$f":"リスト!J162","v":0},{"$f":"リスト!K162","v":0},{"$f":"リスト!L162","v":0},{"$f":"リスト!M162","v":0},{"$f":"リスト!N162","v":0}]
[{"$f":"リスト!A163","v":"　"},{"$f":"リスト!B163","v":0},{"$f":"リスト!C163","v":0},{"$f":"リスト!D163","v":0},{"$f":"リスト!E163","v":0},{"$f":"リスト!F163","v":0},{"$f":"リスト!G163","v":0},{"$f":"リスト!H163","v":0},{"$f":"リスト!I163","v":0},{"$f":"リスト!J163","v":0},{"$f":"リスト!K163","v":0},{"$f":"リスト!L163","v":0},{"$f":"リスト!M163","v":0},{"$f":"リスト!N163","v":0}]
[{"$f":"リスト!A164","v":"　"},{"$f":"リスト!B164","v":0},{"$f":"リスト!C164","v":0},{"$f":"リスト!D164","v":0},{"$f":"リスト!E164","v":0},{"$f":"リスト!F164","v":0},{"$f":"リスト!G164","v":0},{"$f":"リスト!H164","v":0},{"$f":"リスト!I164","v":0},{"$f":"リスト!J164","v":0},{"$f":"リスト!K164","v":0},{"$f":"リスト!L164","v":0},{"$f":"リスト!M164","v":0},{"$f":"リスト!N164","v":0}]
[{"$f":"リスト!A165","v":"　"},{"$f":"リスト!B165","v":0},{"$f":"リスト!C165","v":0},{"$f":"リスト!D165","v":0},{"$f":"リスト!E165","v":0},{"$f":"リスト!F165","v":0},{"$f":"リスト!G165","v":0},{"$f":"リスト!H165","v":0},{"$f":"リスト!I165","v":0},{"$f":"リスト!J165","v":0},{"$f":"リスト!K165","v":0},{"$f":"リスト!L165","v":0},{"$f":"リスト!M165","v":0},{"$f":"リスト!N165","v":0}]
[{"$f":"リスト!A166","v":"　"},{"$f":"リスト!B166","v":0},{"$f":"リスト!C166","v":0},{"$f":"リスト!D166","v":0},{"$f":"リスト!E166","v":0},{"$f":"リスト!F166","v":0},{"$f":"リスト!G166","v":0},{"$f":"リスト!H166","v":0},{"$f":"リスト!I166","v":0},{"$f":"リスト!J166","v":0},{"$f":"リスト!K166","v":0},{"$f":"リスト!L166","v":0},{"$f":"リスト!M166","v":0},{"$f":"リスト!N166","v":0}]
[{"$f":"リスト!A167","v":"　"},{"$f":"リスト!B167","v":0},{"$f":"リスト!C167","v":0},{"$f":"リスト!D167","v":0},{"$f":"リスト!E167","v":0},{"$f":"リスト!F167","v":0},{"$f":"リスト!G167","v":0},{"$f":"リスト!H167","v":0},{"$f":"リスト!I167","v":0},{"$f":"リスト!J167","v":0},{"$f":"リスト!K167","v":0},{"$f":"リスト!L167","v":0},{"$f":"リスト!M167","v":0},{"$f":"リスト!N167","v":0}]
[{"$f":"リスト!A168","v":"　"},{"$f":"リスト!B168","v":0},{"$f":"リスト!C168","v":0},{"$f":"リスト!D168","v":0},{"$f":"リスト!E168","v":0},{"$f":"リスト!F168","v":0},{"$f":"リスト!G168","v":0},{"$f":"リスト!H168","v":0},{"$f":"リスト!I168","v":0},{"$f":"リスト!J168","v":0},{"$f":"リスト!K168","v":0},{"$f":"リスト!L168","v":0},{"$f":"リスト!M168","v":0},{"$f":"リスト!N168","v":0}]
[{"$f":"リスト!A169","v":"　"},{"$f":"リスト!B169","v":0},{"$f":"リスト!C169","v":0},{"$f":"リスト!D169","v":0},{"$f":"リスト!E169","v":0},{"$f":"リスト!F169","v":0},{"$f":"リスト!G169","v":0},{"$f":"リスト!H169","v":0},{"$f":"リスト!I169","v":0},{"$f":"リスト!J169","v":0},{"$f":"リスト!K169","v":0},{"$f":"リスト!L169","v":0},{"$f":"リスト!M169","v":0},{"$f":"リスト!N169","v":0}]
[{"$f":"リスト!A170","v":"　"},{"$f":"リスト!B170","v":0},{"$f":"リスト!C170","v":0},{"$f":"リスト!D170","v":0},{"$f":"リスト!E170","v":0},{"$f":"リスト!F170","v":0},{"$f":"リスト!G170","v":0},{"$f":"リスト!H170","v":0},{"$f":"リスト!I170","v":0},{"$f":"リスト!J170","v":0},{"$f":"リスト!K170","v":0},{"$f":"リスト!L170","v":0},{"$f":"リスト!M170","v":0},{"$f":"リスト!N170","v":0}]
[{"$f":"リスト!A171","v":"　"},{"$f":"リスト!B171","v":0},{"$f":"リスト!C171","v":0},{"$f":"リスト!D171","v":0},{"$f":"リスト!E171","v":0},{"$f":"リスト!F171","v":0},{"$f":"リスト!G171","v":0},{"$f":"リスト!H171","v":0},{"$f":"リスト!I171","v":0},{"$f":"リスト!J171","v":0},{"$f":"リスト!K171","v":0},{"$f":"リスト!L171","v":0},{"$f":"リスト!M171","v":0},{"$f":"リスト!N171","v":0}]
[{"$f":"リスト!A172","v":"　"},{"$f":"リスト!B172","v":0},{"$f":"リスト!C172","v":0},{"$f":"リスト!D172","v":0},{"$f":"リスト!E172","v":0},{"$f":"リスト!F172","v":0},{"$f":"リスト!G172","v":0},{"$f":"リスト!H172","v":0},{"$f":"リスト!I172","v":0},{"$f":"リスト!J172","v":0},{"$f":"リスト!K172","v":0},{"$f":"リスト!L172","v":0},{"$f":"リスト!M172","v":0},{"$f":"リスト!N172","v":0}]
[{"$f":"リスト!A173","v":"　"},{"$f":"リスト!B173","v":0},{"$f":"リスト!C173","v":0},{"$f":"リスト!D173","v":0},{"$f":"リスト!E173","v":0},{"$f":"リスト!F173","v":0},{"$f":"リスト!G173","v":0},{"$f":"リスト!H173","v":0},{"$f":"リスト!I173","v":0},{"$f":"リスト!J173","v":0},{"$f":"リスト!K173","v":0},{"$f":"リスト!L173","v":0},{"$f":"リスト!M173","v":0},{"$f":"リスト!N173","v":0}]
[{"$f":"リスト!A174","v":"　"},{"$f":"リスト!B174","v":0},{"$f":"リスト!C174","v":0},{"$f":"リスト!D174","v":0},{"$f":"リスト!E174","v":0},{"$f":"リスト!F174","v":0},{"$f":"リスト!G174","v":0},{"$f":"リスト!H174","v":0},{"$f":"リスト!I174","v":0},{"$f":"リスト!J174","v":0},{"$f":"リスト!K174","v":0},{"$f":"リスト!L174","v":0},{"$f":"リスト!M174","v":0},{"$f":"リスト!N174","v":0}]
[{"$f":"リスト!A175","v":"　"},{"$f":"リスト!B175","v":0},{"$f":"リスト!C175","v":0},{"$f":"リスト!D175","v":0},{"$f":"リスト!E175","v":0},{"$f":"リスト!F175","v":0},{"$f":"リスト!G175","v":0},{"$f":"リスト!H175","v":0},{"$f":"リスト!I175","v":0},{"$f":"リスト!J175","v":0},{"$f":"リスト!K175","v":0},{"$f":"リスト!L175","v":0},{"$f":"リスト!M175","v":0},{"$f":"リスト!N175","v":0}]
[{"$f":"リスト!A176","v":"　"},{"$f":"リスト!B176","v":0},{"$f":"リスト!C176","v":0},{"$f":"リスト!D176","v":0},{"$f":"リスト!E176","v":0},{"$f":"リスト!F176","v":0},{"$f":"リスト!G176","v":0},{"$f":"リスト!H176","v":0},{"$f":"リスト!I176","v":0},{"$f":"リスト!J176","v":0},{"$f":"リスト!K176","v":0},{"$f":"リスト!L176","v":0},{"$f":"リスト!M176","v":0},{"$f":"リスト!N176","v":0}]
[{"$f":"リスト!A177","v":"　"},{"$f":"リスト!B177","v":0},{"$f":"リスト!C177","v":0},{"$f":"リスト!D177","v":0},{"$f":"リスト!E177","v":0},{"$f":"リスト!F177","v":0},{"$f":"リスト!G177","v":0},{"$f":"リスト!H177","v":0},{"$f":"リスト!I177","v":0},{"$f":"リスト!J177","v":0},{"$f":"リスト!K177","v":0},{"$f":"リスト!L177","v":0},{"$f":"リスト!M177","v":0},{"$f":"リスト!N177","v":0}]
[{"$f":"リスト!A178","v":"　"},{"$f":"リスト!B178","v":0},{"$f":"リスト!C178","v":0},{"$f":"リスト!D178","v":0},{"$f":"リスト!E178","v":0},{"$f":"リスト!F178","v":0},{"$f":"リスト!G178","v":0},{"$f":"リスト!H178","v":0},{"$f":"リスト!I178","v":0},{"$f":"リスト!J178","v":0},{"$f":"リスト!K178","v":0},{"$f":"リスト!L178","v":0},{"$f":"リスト!M178","v":0},{"$f":"リスト!N178","v":0}]
[{"$f":"リスト!A179","v":"　"},{"$f":"リスト!B179","v":0},{"$f":"リスト!C179","v":0},{"$f":"リスト!D179","v":0},{"$f":"リスト!E179","v":0},{"$f":"リスト!F179","v":0},{"$f":"リスト!G179","v":0},{"$f":"リスト!H179","v":0},{"$f":"リスト!I179","v":0},{"$f":"リスト!J179","v":0},{"$f":"リスト!K179","v":0},{"$f":"リスト!L179","v":0},{"$f":"リスト!M179","v":0},{"$f":"リスト!N179","v":0}]
[{"$f":"リスト!A180","v":"　"},{"$f":"リスト!B180","v":0},{"$f":"リスト!C180","v":0},{"$f":"リスト!D180","v":0},{"$f":"リスト!E180","v":0},{"$f":"リスト!F180","v":0},{"$f":"リスト!G180","v":0},{"$f":"リスト!H180","v":0},{"$f":"リスト!I180","v":0},{"$f":"リスト!J180","v":0},{"$f":"リスト!K180","v":0},{"$f":"リスト!L180","v":0},{"$f":"リスト!M180","v":0},{"$f":"リスト!N180","v":0}]
[{"$f":"リスト!A181","v":"　"},{"$f":"リスト!B181","v":0},{"$f":"リスト!C181","v":0},{"$f":"リスト!D181","v":0},{"$f":"リスト!E181","v":0},{"$f":"リスト!F181","v":0},{"$f":"リスト!G181","v":0},{"$f":"リスト!H181","v":0},{"$f":"リスト!I181","v":0},{"$f":"リスト!J181","v":0},{"$f":"リスト!K181","v":0},{"$f":"リスト!L181","v":0},{"$f":"リスト!M181","v":0},{"$f":"リスト!N181","v":0}]
[{"$f":"リスト!A182","v":"　"},{"$f":"リスト!B182","v":0},{"$f":"リスト!C182","v":0},{"$f":"リスト!D182","v":0},{"$f":"リスト!E182","v":0},{"$f":"リスト!F182","v":0},{"$f":"リスト!G182","v":0},{"$f":"リスト!H182","v":0},{"$f":"リスト!I182","v":0},{"$f":"リスト!J182","v":0},{"$f":"リスト!K182","v":0},{"$f":"リスト!L182","v":0},{"$f":"リスト!M182","v":0},{"$f":"リスト!N182","v":0}]
[{"$f":"リスト!A183","v":"　"},{"$f":"リスト!B183","v":0},{"$f":"リスト!C183","v":0},{"$f":"リスト!D183","v":0},{"$f":"リスト!E183","v":0},{"$f":"リスト!F183","v":0},{"$f":"リスト!G183","v":0},{"$f":"リスト!H183","v":0},{"$f":"リスト!I183","v":0},{"$f":"リスト!J183","v":0},{"$f":"リスト!K183","v":0},{"$f":"リスト!L183","v":0},{"$f":"リスト!M183","v":0},{"$f":"リスト!N183","v":0}]
[{"$f":"リスト!A184","v":"　"},{"$f":"リスト!B184","v":0},{"$f":"リスト!C184","v":0},{"$f":"リスト!D184","v":0},{"$f":"リスト!E184","v":0},{"$f":"リスト!F184","v":0},{"$f":"リスト!G184","v":0},{"$f":"リスト!H184","v":0},{"$f":"リスト!I184","v":0},{"$f":"リスト!J184","v":0},{"$f":"リスト!K184","v":0},{"$f":"リスト!L184","v":0},{"$f":"リスト!M184","v":0},{"$f":"リスト!N184","v":0}]
[{"$f":"リスト!A185","v":"　"},{"$f":"リスト!B185","v":0},{"$f":"リスト!C185","v":0},{"$f":"リスト!D185","v":0},{"$f":"リスト!E185","v":0},{"$f":"リスト!F185","v":0},{"$f":"リスト!G185","v":0},{"$f":"リスト!H185","v":0},{"$f":"リスト!I185","v":0},{"$f":"リスト!J185","v":0},{"$f":"リスト!K185","v":0},{"$f":"リスト!L185","v":0},{"$f":"リスト!M185","v":0},{"$f":"リスト!N185","v":0}]
[{"$f":"リスト!A186","v":"　"},{"$f":"リスト!B186","v":0},{"$f":"リスト!C186","v":0},{"$f":"リスト!D186","v":0},{"$f":"リスト!E186","v":0},{"$f":"リスト!F186","v":0},{"$f":"リスト!G186","v":0},{"$f":"リスト!H186","v":0},{"$f":"リスト!I186","v":0},{"$f":"リスト!J186","v":0},{"$f":"リスト!K186","v":0},{"$f":"リスト!L186","v":0},{"$f":"リスト!M186","v":0},{"$f":"リスト!N186","v":0}]
[{"$f":"リスト!A187","v":"　"},{"$f":"リスト!B187","v":0},{"$f":"リスト!C187","v":0},{"$f":"リスト!D187","v":0},{"$f":"リスト!E187","v":0},{"$f":"リスト!F187","v":0},{"$f":"リスト!G187","v":0},{"$f":"リスト!H187","v":0},{"$f":"リスト!I187","v":0},{"$f":"リスト!J187","v":0},{"$f":"リスト!K187","v":0},{"$f":"リスト!L187","v":0},{"$f":"リスト!M187","v":0},{"$f":"リスト!N187","v":0}]
[{"$f":"リスト!A188","v":"　"},{"$f":"リスト!B188","v":0},{"$f":"リスト!C188","v":0},{"$f":"リスト!D188","v":0},{"$f":"リスト!E188","v":0},{"$f":"リスト!F188","v":0},{"$f":"リスト!G188","v":0},{"$f":"リスト!H188","v":0},{"$f":"リスト!I188","v":0},{"$f":"リスト!J188","v":0},{"$f":"リスト!K188","v":0},{"$f":"リスト!L188","v":0},{"$f":"リスト!M188","v":0},{"$f":"リスト!N188","v":0}]
[{"$f":"リスト!A189","v":"　"},{"$f":"リスト!B189","v":0},{"$f":"リスト!C189","v":0},{"$f":"リスト!D189","v":0},{"$f":"リスト!E189","v":0},{"$f":"リスト!F189","v":0},{"$f":"リスト!G189","v":0},{"$f":"リスト!H189","v":0},{"$f":"リスト!I189","v":0},{"$f":"リスト!J189","v":0},{"$f":"リスト!K189","v":0},{"$f":"リスト!L189","v":0},{"$f":"リスト!M189","v":0},{"$f":"リスト!N189","v":0}]
[{"$f":"リスト!A190","v":"　"},{"$f":"リスト!B190","v":0},{"$f":"リスト!C190","v":0},{"$f":"リスト!D190","v":0},{"$f":"リスト!E190","v":0},{"$f":"リスト!F190","v":0},{"$f":"リスト!G190","v":0},{"$f":"リスト!H190","v":0},{"$f":"リスト!I190","v":0},{"$f":"リスト!J190","v":0},{"$f":"リスト!K190","v":0},{"$f":"リスト!L190","v":0},{"$f":"リスト!M190","v":0},{"$f":"リスト!N190","v":0}]
[{"$f":"リスト!A191","v":"　"},{"$f":"リスト!B191","v":0},{"$f":"リスト!C191","v":0},{"$f":"リスト!D191","v":0},{"$f":"リスト!E191","v":0},{"$f":"リスト!F191","v":0},{"$f":"リスト!G191","v":0},{"$f":"リスト!H191","v":0},{"$f":"リスト!I191","v":0},{"$f":"リスト!J191","v":0},{"$f":"リスト!K191","v":0},{"$f":"リスト!L191","v":0},{"$f":"リスト!M191","v":0},{"$f":"リスト!N191","v":0}]
[{"$f":"リスト!A192","v":"　"},{"$f":"リスト!B192","v":0},{"$f":"リスト!C192","v":0},{"$f":"リスト!D192","v":0},{"$f":"リスト!E192","v":0},{"$f":"リスト!F192","v":0},{"$f":"リスト!G192","v":0},{"$f":"リスト!H192","v":0},{"$f":"リスト!I192","v":0},{"$f":"リスト!J192","v":0},{"$f":"リスト!K192","v":0},{"$f":"リスト!L192","v":0},{"$f":"リスト!M192","v":0},{"$f":"リスト!N192","v":0}]
[{"$f":"リスト!A193","v":"　"},{"$f":"リスト!B193","v":0},{"$f":"リスト!C193","v":0},{"$f":"リスト!D193","v":0},{"$f":"リスト!E193","v":0},{"$f":"リスト!F193","v":0},{"$f":"リスト!G193","v":0},{"$f":"リスト!H193","v":0},{"$f":"リスト!I193","v":0},{"$f":"リスト!J193","v":0},{"$f":"リスト!K193","v":0},{"$f":"リスト!L193","v":0},{"$f":"リスト!M193","v":0},{"$f":"リスト!N193","v":0}]
[{"$f":"リスト!A194","v":"　"},{"$f":"リスト!B194","v":0},{"$f":"リスト!C194","v":0},{"$f":"リスト!D194","v":0},{"$f":"リスト!E194","v":0},{"$f":"リスト!F194","v":0},{"$f":"リスト!G194","v":0},{"$f":"リスト!H194","v":0},{"$f":"リスト!I194","v":0},{"$f":"リスト!J194","v":0},{"$f":"リスト!K194","v":0},{"$f":"リスト!L194","v":0},{"$f":"リスト!M194","v":0},{"$f":"リスト!N194","v":0}]
[{"$f":"リスト!A195","v":"　"},{"$f":"リスト!B195","v":0},{"$f":"リスト!C195","v":0},{"$f":"リスト!D195","v":0},{"$f":"リスト!E195","v":0},{"$f":"リスト!F195","v":0},{"$f":"リスト!G195","v":0},{"$f":"リスト!H195","v":0},{"$f":"リスト!I195","v":0},{"$f":"リスト!J195","v":0},{"$f":"リスト!K195","v":0},{"$f":"リスト!L195","v":0},{"$f":"リスト!M195","v":0},{"$f":"リスト!N195","v":0}]
[{"$f":"リスト!A196","v":"　"},{"$f":"リスト!B196","v":0},{"$f":"リスト!C196","v":0},{"$f":"リスト!D196","v":0},{"$f":"リスト!E196","v":0},{"$f":"リスト!F196","v":0},{"$f":"リスト!G196","v":0},{"$f":"リスト!H196","v":0},{"$f":"リスト!I196","v":0},{"$f":"リスト!J196","v":0},{"$f":"リスト!K196","v":0},{"$f":"リスト!L196","v":0},{"$f":"リスト!M196","v":0},{"$f":"リスト!N196","v":0}]
[{"$f":"リスト!A197","v":"　"},{"$f":"リスト!B197","v":0},{"$f":"リスト!C197","v":0},{"$f":"リスト!D197","v":0},{"$f":"リスト!E197","v":0},{"$f":"リスト!F197","v":0},{"$f":"リスト!G197","v":0},{"$f":"リスト!H197","v":0},{"$f":"リスト!I197","v":0},{"$f":"リスト!J197","v":0},{"$f":"リスト!K197","v":0},{"$f":"リスト!L197","v":0},{"$f":"リスト!M197","v":0},{"$f":"リスト!N197","v":0}]
[{"$f":"リスト!A198","v":"　"},{"$f":"リスト!B198","v":0},{"$f":"リスト!C198","v":0},{"$f":"リスト!D198","v":0},{"$f":"リスト!E198","v":0},{"$f":"リスト!F198","v":0},{"$f":"リスト!G198","v":0},{"$f":"リスト!H198","v":0},{"$f":"リスト!I198","v":0},{"$f":"リスト!J198","v":0},{"$f":"リスト!K198","v":0},{"$f":"リスト!L198","v":0},{"$f":"リスト!M198","v":0},{"$f":"リスト!N198","v":0}]
[{"$f":"リスト!A199","v":"　"},{"$f":"リスト!B199","v":0},{"$f":"リスト!C199","v":0},{"$f":"リスト!D199","v":0},{"$f":"リスト!E199","v":0},{"$f":"リスト!F199","v":0},{"$f":"リスト!G199","v":0},{"$f":"リスト!H199","v":0},{"$f":"リスト!I199","v":0},{"$f":"リスト!J199","v":0},{"$f":"リスト!K199","v":0},{"$f":"リスト!L199","v":0},{"$f":"リスト!M199","v":0},{"$f":"リスト!N199","v":0}]
[{"$f":"リスト!A200","v":"　"},{"$f":"リスト!B200","v":0},{"$f":"リスト!C200","v":0},{"$f":"リスト!D200","v":0},{"$f":"リスト!E200","v":0},{"$f":"リスト!F200","v":0},{"$f":"リスト!G200","v":0},{"$f":"リスト!H200","v":0},{"$f":"リスト!I200","v":0},{"$f":"リスト!J200","v":0},{"$f":"リスト!K200","v":0},{"$f":"リスト!L200","v":0},{"$f":"リスト!M200","v":0},{"$f":"リスト!N200","v":0}]
[{"$f":"リスト!A201","v":"　"},{"$f":"リスト!B201","v":0},{"$f":"リスト!C201","v":0},{"$f":"リスト!D201","v":0},{"$f":"リスト!E201","v":0},{"$f":"リスト!F201","v":0},{"$f":"リスト!G201","v":0},{"$f":"リスト!H201","v":0},{"$f":"リスト!I201","v":0},{"$f":"リスト!J201","v":0},{"$f":"リスト!K201","v":0},{"$f":"リスト!L201","v":0},{"$f":"リスト!M201","v":0},{"$f":"リスト!N201","v":0}]

{"sheet":"中野優勝旗","index":5,"n_rows":340,"n_cols":30,"rows_kept":340,"cut":false,"hidden":false,"merged":[[0,1,0,21],[1,1,1,3],[1,4,1,19],[2,1,2,19],[3,1,3,3],[3,4,3,7],[3,8,3,11],[3,12,3,15],[3,16,3,19],[8,3,8,8],[8,14,8,19],[9,0,11,0],[9,3,9,8],[9,11,11,11],[9,14,9,19],[10,3,10,8],[10,14,10,19],[4,1,4,3],[4,4,4,7],[4,8,4,11],[4,12,4,15],[4,16,4,19],[5,1,5,3],[5,4,5,7],[5,8,5,11],[5,12,5,15],[5,16,5,19],[7,3,7,9],[7,14,7,20],[15,0,17,0],[15,11,17,11],[16,3,16,8],[16,14,16,19],[17,3,17,8],[17,14,17,19],[11,3,11,8],[11,14,11,19],[12,0,14,0],[12,3,12,8],[12,11,14,11],[12,14,12,19],[13,3,13,8],[13,14,13,19],[14,3,14,8],[14,14,14,19],[21,0,23,0],[21,3,21,8],[21,11,23,11],[21,14,21,19],[22,3,22,8],[22,14,22,19],[23,3,23,8],[23,14,23,19],[18,0,20,0],[18,3,18,8],[18,11,20,11],[18,14,18,19],[19,3,19,8],[19,14,19,19],[20,3,20,8],[20,14,20,19],[27,0,29,0],[27,3,27,8],[27,11,29,11],[27,14,27,19],[28,3,28,8],[28,14,28,19],[29,3,29,8],[29,14,29,19],[24,0,26,0],[24,3,24,8],[24,11,26,11],[24,14,24,19],[25,3,25,8],[25,14,25,19],[26,3,26,8],[26,14,26,19],[33,0,35,0],[33,3,33,8],[33,11,35,11],[33,14,33,19],[34,3,34,8],[34,14,34,19],[35,3,35,8],[35,14,35,19],[30,0,32,0],[30,3,30,8],[30,11,32,11],[30,14,30,19],[31,3,31,8],[31,14,31,19],[32,3,32,8],[32,14,32,19],[39,0,41,0],[39,3,39,8],[39,11,41,11],[39,14,39,19],[40,3,40,8],[40,14,40,19],[41,3,41,8],[41,14,41,19],[36,0,38,0],[36,3,36,8],[36,11,38,11],[36,14,36,19],[37,3,37,8],[37,14,37,19],[38,3,38,8],[38,14,38,19],[45,0,47,0],[45,3,45,8],[45,11,47,11],[45,14,45,19],[46,3,46,8],[46,14,46,19],[47,3,47,8],[47,14,47,19],[42,0,44,0],[42,3,42,8],[42,11,44,11],[42,14,42,19],[43,3,43,8],[43,14,43,19],[44,3,44,8],[44,14,44,19],[51,11,53,11],[51,14,51,19],[52,3,52,8],[52,14,52,19],[53,3,53,8],[53,14,53,19],[48,0,50,0],[48,3,48,8],[48,11,50,11],[48,14,48,19],[49,3,49,8],[49,14,49,19],[50,3,50,8],[50,14,50,19],[60,1,60,2],[60,3,60,8],[60,12,60,13],[60,14,60,19],[9,12,11,12],[9,1,11,1],[57,0,59,0],[57,3,57,8],[57,11,59,11],[57,14,57,19],[58,3,58,8],[58,14,58,19],[59,3,59,8],[59,14,59,19],[54,0,56,0],[54,3,54,8],[54,11,56,11],[54,14,54,19],[55,3,55,8],[55,14,55,19],[56,3,56,8],[56,14,56,19],[51,0,53,0],[51,3,51,8]]}
[null,"令和６年度\n第47回中野優勝旗記念弓道大会　申し込み\n",null,null,null,null,null,null,null,null,null,null,null,null,null,null,null,null,null,null,null,null,null,null,6,20,21,22,23,24]
[null,"学校名\n（正式名称）",null,null,null,null,null,null,null,null,null,null,null,null,null,null,null,null,null,null,null,null,null,null,{"$f":"IF(ISERROR(VLOOKUP($E$2,$A$66:$AD$138,Y1,FALSE)),\"\",VLOOKUP($E$2,$A$66:$AD$138,Y1,FALSE))","v":""},"","","","",""]
[null,"引率者"]
[null,"8月31日（土）",null,null,null,null,null,null,null,null,null,null,null,null,null,null,null,null,null,null,"昼食の数"]
[null,null,null,null,null,null,null,null,null,null,null,null,null,null,null,null,null,null,null,null,"昼食の数"]
[null,null,null,null,null,null,null,null,null,null,null,null,null,null,null,null,null,null,null,null,"昼食の数"]
[null,null,null,null,null,null,null,null,"※引率2人目以降はこちらに入力"]
[null,"男子",null,"※個人の参加の場合には、大前（１）に記入",null,null,null,null,null,null,null,null,"女子",null,"※個人の参加の場合には、大前（１）に記入"]
[null,"チーム","立順","選手名",null,null,null,null,null,"学年",null,null,"チーム","立順","選手名",null,null,null,null,null,"学年"]
["A",{"$f":"IF(LEN($Y$2)=0,\"\",$Y$2)","v":""},1,null,null,null,null,null,null,{"$f":"IF(LEN(D10)=0,\"\",VLOOKUP(D10,リスト!$A$3:$N$201,3,FALSE))","v":""},{"$f":"IF(LEN(D10)=0,\"\",VLOOKUP(D10,リスト!$A$3:$N$201,2,FALSE))","v":""},"A",{"$f":"IF(LEN($Y$2)=0,\"\",$Y$2)","v":""},1,null,null,null,null,null,null,{"$f":"IF(LEN(O10)=0,\"\",VLOOKUP(O10,リスト!$A$3:$N$201,3,FALSE))","v":""},{"$f":"IF(LEN(O10)=0,\"\",VLOOKUP(O10,リスト!$A$3:$N$201,2,FALSE))","v":""},null,null,{"$f":"COUNTA(D10:I12)","v":0},{"$f":"COUNTA(O10:T12)","v":0}]
[null,null,2,null,null,null,null,null,null,{"$f":"IF(LEN(D11)=0,\"\",VLOOKUP(D11,リスト!$A$3:$N$201,3,FALSE))","v":""},{"$f":"IF(LEN(D11)=0,\"\",VLOOKUP(D11,リスト!$A$3:$N$201,2,FALSE))","v":""},null,null,2,null,null,null,null,null,null,{"$f":"IF(LEN(O11)=0,\"\",VLOOKUP(O11,リスト!$A$3:$N$201,3,FALSE))","v":""},{"$f":"IF(LEN(O11)=0,\"\",VLOOKUP(O11,リスト!$A$3:$N$201,2,FALSE))","v":""},null,null,{"$f":"COUNTA(D10:I12)","v":0},{"$f":"COUNTA(O10:T12)","v":0}]
[null,null,3,null,null,null,null,null,null,{"$f":"IF(LEN(D12)=0,\"\",VLOOKUP(D12,リスト!$A$3:$N$201,3,FALSE))","v":""},{"$f":"IF(LEN(D12)=0,\"\",VLOOKUP(D12,リスト!$A$3:$N$201,2,FALSE))","v":""},null,null,3,null,null,null,null,null,null,{"$f":"IF(LEN(O12)=0,\"\",VLOOKUP(O12,リスト!$A$3:$N$201,3,FALSE))","v":""},{"$f":"IF(LEN(O12)=0,\"\",VLOOKUP(O12,リスト!$A$3:$N$201,2,FALSE))","v":""},null,null,{"$f":"COUNTA(D10:I12)","v":0},{"$f":"COUNTA(O10:T12)","v":0}]
["B",null,4,null,null,null,null,null,null,{"$f":"IF(LEN(D13)=0,\"\",VLOOKUP(D13,リスト!$A$3:$N$201,3,FALSE))","v":""},{"$f":"IF(LEN(D13)=0,\"\",VLOOKUP(D13,リスト!$A$3:$N$201,2,FALSE))","v":""},"B",null,4,null,null,null,null,null,null,{"$f":"IF(LEN(O13)=0,\"\",VLOOKUP(O13,リスト!$A$3:$N$201,3,FALSE))","v":""},{"$f":"IF(LEN(O13)=0,\"\",VLOOKUP(O13,リスト!$A$3:$N$201,2,FALSE))","v":""},null,null,{"$f":"COUNTA(D13:I15)","v":0},{"$f":"COUNTA(O13:T15)","v":0}]
[null,null,5,null,null,null,null,null,null,{"$f":"IF(LEN(D14)=0,\"\",VLOOKUP(D14,リスト!$A$3:$N$201,3,FALSE))","v":""},{"$f":"IF(LEN(D14)=0,\"\",VLOOKUP(D14,リスト!$A$3:$N$201,2,FALSE))","v":""},null,null,5,null,null,null,null,null,null,{"$f":"IF(LEN(O14)=0,\"\",VLOOKUP(O14,リスト!$A$3:$N$201,3,FALSE))","v":""},{"$f":"IF(LEN(O14)=0,\"\",VLOOKUP(O14,リスト!$A$3:$N$201,2,FALSE))","v":""},null,null,{"$f":"COUNTA(D13:I15)","v":0},{"$f":"COUNTA(O13:T15)","v":0}]
[null,null,null,null,null,null,null,null,null,null,{"$f":"IF(LEN(D15)=0,\"\",VLOOKUP(D15,リスト!$A$3:$N$201,2,FALSE))","v":""},null,null,null,null,null,null,null,null,null,null,{"$f":"IF(LEN(O15)=0,\"\",VLOOKUP(O15,リスト!$A$3:$N$201,2,FALSE))","v":""},null,null,{"$f":"COUNTA(D13:I15)","v":0},{"$f":"COUNTA(O13:T15)","v":0}]
["C","男子個人",null,null,null,null,null,null,null,null,{"$f":"IF(LEN(D16)=0,\"\",VLOOKUP(D16,リスト!$A$3:$N$201,2,FALSE))","v":""},"C","女子個人",null,null,null,null,null,null,null,null,{"$f":"IF(LEN(O16)=0,\"\",VLOOKUP(O16,リスト!$A$3:$N$201,2,FALSE))","v":""},null,null,{"$f":"COUNTA(D16:I18)","v":0},{"$f":"COUNTA(O16:T18)","v":0}]
[null,null,1,null,null,null,null,null,null,{"$f":"IF(LEN(D17)=0,\"\",VLOOKUP(D17,リスト!$A$3:$N$201,3,FALSE))","v":""},{"$f":"IF(LEN(D17)=0,\"\",VLOOKUP(D17,リスト!$A$3:$N$201,2,FALSE))","v":""},null,null,1,null,null,null,null,null,null,{"$f":"IF(LEN(O17)=0,\"\",VLOOKUP(O17,リスト!$A$3:$N$201,3,FALSE))","v":""},{"$f":"IF(LEN(O17)=0,\"\",VLOOKUP(O17,リスト!$A$3:$N$201,2,FALSE))","v":""},null,null,{"$f":"COUNTA(D16:I18)","v":0},{"$f":"COUNTA(O16:T18)","v":0}]
[null,null,2,null,null,null,null,null,null,{"$f":"IF(LEN(D18)=0,\"\",VLOOKUP(D18,リスト!$A$3:$N$201,3,FALSE))","v":""},{"$f":"IF(LEN(D18)=0,\"\",VLOOKUP(D18,リスト!$A$3:$N$201,2,FALSE))","v":""},null,null,2,null,null,null,null,null,null,{"$f":"IF(LEN(O18)=0,\"\",VLOOKUP(O18,リスト!$A$3:$N$201,3,FALSE))","v":""},{"$f":"IF(LEN(O18)=0,\"\",VLOOKUP(O18,リスト!$A$3:$N$201,2,FALSE))","v":""},null,null,{"$f":"COUNTA(D16:I18)","v":0},{"$f":"COUNTA(O16:T18)","v":0}]
["D",null,3,null,null,null,null,null,null,{"$f":"IF(LEN(D19)=0,\"\",VLOOKUP(D19,リスト!$A$3:$N$201,3,FALSE))","v":""},{"$f":"IF(LEN(D19)=0,\"\",VLOOKUP(D19,リスト!$A$3:$N$201,2,FALSE))","v":""},"D",null,3,null,null,null,null,null,null,{"$f":"IF(LEN(O19)=0,\"\",VLOOKUP(O19,リスト!$A$3:$N$201,3,FALSE))","v":""},{"$f":"IF(LEN(O19)=0,\"\",VLOOKUP(O19,リスト!$A$3:$N$201,2,FALSE))","v":""},null,null,{"$f":"COUNTA(D19:I21)","v":0},{"$f":"COUNTA(O19:T21)","v":0}]
[null,null,4,null,null,null,null,null,null,{"$f":"IF(LEN(D20)=0,\"\",VLOOKUP(D20,リスト!$A$3:$N$201,3,FALSE))","v":""},{"$f":"IF(LEN(D20)=0,\"\",VLOOKUP(D20,リスト!$A$3:$N$201,2,FALSE))","v":""},null,null,4,null,null,null,null,null,null,{"$f":"IF(LEN(O20)=0,\"\",VLOOKUP(O20,リスト!$A$3:$N$201,3,FALSE))","v":""},{"$f":"IF(LEN(O20)=0,\"\",VLOOKUP(O20,リスト!$A$3:$N$201,2,FALSE))","v":""},null,null,{"$f":"COUNTA(D19:I21)","v":0},{"$f":"COUNTA(O19:T21)","v":0}]
[null,null,5,null,null,null,null,null,null,{"$f":"IF(LEN(D21)=0,\"\",VLOOKUP(D21,リスト!$A$3:$N$201,3,FALSE))","v":""},{"$f":"IF(LEN(D21)=0,\"\",VLOOKUP(D21,リスト!$A$3:$N$201,2,FALSE))","v":""},null,null,5,null,null,null,null,null,null,{"$f":"IF(LEN(O21)=0,\"\",VLOOKUP(O21,リスト!$A$3:$N$201,3,FALSE))","v":""},{"$f":"IF(LEN(O21)=0,\"\",VLOOKUP(O21,リスト!$A$3:$N$201,2,FALSE))","v":""},null,null,{"$f":"COUNTA(D19:I21)","v":0},{"$f":"COUNTA(O19:T21)","v":0}]
["E",null,6,null,null,null,null,null,null,{"$f":"IF(LEN(D22)=0,\"\",VLOOKUP(D22,リスト!$A$3:$N$201,3,FALSE))","v":""},{"$f":"IF(LEN(D22)=0,\"\",VLOOKUP(D22,リスト!$A$3:$N$201,2,FALSE))","v":""},"E",null,6,null,null,null,null,null,null,{"$f":"IF(LEN(O22)=0,\"\",VLOOKUP(O22,リスト!$A$3:$N$201,3,FALSE))","v":""},{"$f":"IF(LEN(O22)=0,\"\",VLOOKUP(O22,リスト!$A$3:$N$201,2,FALSE))","v":""},null,null,{"$f":"COUNTA(D22:I24)","v":0},{"$f":"COUNTA(O22:T24)","v":0}]
[null,null,7,null,null,null,null,null,null,{"$f":"IF(LEN(D23)=0,\"\",VLOOKUP(D23,リスト!$A$3:$N$201,3,FALSE))","v":""},{"$f":"IF(LEN(D23)=0,\"\",VLOOKUP(D23,リスト!$A$3:$N$201,2,FALSE))","v":""},null,null,7,null,null,null,null,null,null,{"$f":"IF(LEN(O23)=0,\"\",VLOOKUP(O23,リスト!$A$3:$N$201,3,FALSE))","v":""},{"$f":"IF(LEN(O23)=0,\"\",VLOOKUP(O23,リスト!$A$3:$N$201,2,FALSE))","v":""},null,null,{"$f":"COUNTA(D22:I24)","v":0},{"$f":"COUNTA(O22:T24)","v":0}]
[null,null,8,null,null,null,null,null,null,{"$f":"IF(LEN(D24)=0,\"\",VLOOKUP(D24,リスト!$A$3:$N$201,3,FALSE))","v":""},{"$f":"IF(LEN(D24)=0,\"\",VLOOKUP(D24,リスト!$A$3:$N$201,2,FALSE))","v":""},null,null,8,null,null,null,null,null,null,{"$f":"IF(LEN(O24)=0,\"\",VLOOKUP(O24,リスト!$A$3:$N$201,3,FALSE))","v":""},{"$f":"IF(LEN(O24)=0,\"\",VLOOKUP(O24,リスト!$A$3:$N$201,2,FALSE))","v":""},null,null,{"$f":"COUNTA(D22:I24)","v":0},{"$f":"COUNTA(O22:T24)","v":0}]
["F",null,9,null,null,null,null,null,null,{"$f":"IF(LEN(D25)=0,\"\",VLOOKUP(D25,リスト!$A$3:$N$201,3,FALSE))","v":""},{"$f":"IF(LEN(D25)=0,\"\",VLOOKUP(D25,リスト!$A$3:$N$201,2,FALSE))","v":""},"F",null,9,null,null,null,null,null,null,{"$f":"IF(LEN(O25)=0,\"\",VLOOKUP(O25,リスト!$A$3:$N$201,3,FALSE))","v":""},{"$f":"IF(LEN(O25)=0,\"\",VLOOKUP(O25,リスト!$A$3:$N$201,2,FALSE))","v":""},null,null,{"$f":"COUNTA(D25:I27)","v":0},{"$f":"COUNTA(O25:T27)","v":0}]
[null,null,10,null,null,null,null,null,null,{"$f":"IF(LEN(D26)=0,\"\",VLOOKUP(D26,リスト!$A$3:$N$201,3,FALSE))","v":""},{"$f":"IF(LEN(D26)=0,\"\",VLOOKUP(D26,リスト!$A$3:$N$201,2,FALSE))","v":""},null,null,10,null,null,null,null,null,null,{"$f":"IF(LEN(O26)=0,\"\",VLOOKUP(O26,リスト!$A$3:$N$201,3,FALSE))","v":""},{"$f":"IF(LEN(O26)=0,\"\",VLOOKUP(O26,リスト!$A$3:$N$201,2,FALSE))","v":""},null,null,{"$f":"COUNTA(D25:I27)","v":0},{"$f":"COUNTA(O25:T27)","v":0}]
[null,null,11,null,null,null,null,null,null,{"$f":"IF(LEN(D27)=0,\"\",VLOOKUP(D27,リスト!$A$3:$N$201,3,FALSE))","v":""},{"$f":"IF(LEN(D27)=0,\"\",VLOOKUP(D27,リスト!$A$3:$N$201,2,FALSE))","v":""},null,null,11,null,null,null,null,null,null,{"$f":"IF(LEN(O27)=0,\"\",VLOOKUP(O27,リスト!$A$3:$N$201,3,FALSE))","v":""},{"$f":"IF(LEN(O27)=0,\"\",VLOOKUP(O27,リスト!$A$3:$N$201,2,FALSE))","v":""},null,null,{"$f":"COUNTA(D25:I27)","v":0},{"$f":"COUNTA(O25:T27)","v":0}]
["G",null,12,null,null,null,null,null,null,{"$f":"IF(LEN(D28)=0,\"\",VLOOKUP(D28,リスト!$A$3:$N$201,3,FALSE))","v":""},{"$f":"IF(LEN(D28)=0,\"\",VLOOKUP(D28,リスト!$A$3:$N$201,2,FALSE))","v":""},"G",null,12,null,null,null,null,null,null,{"$f":"IF(LEN(O28)=0,\"\",VLOOKUP(O28,リスト!$A$3:$N$201,3,FALSE))","v":""},{"$f":"IF(LEN(O28)=0,\"\",VLOOKUP(O28,リスト!$A$3:$N$201,2,FALSE))","v":""},null,null,{"$f":"COUNTA(D28:I30)","v":0},{"$f":"COUNTA(O28:T30)","v":0}]
[null,null,13,null,null,null,null,null,null,{"$f":"IF(LEN(D29)=0,\"\",VLOOKUP(D29,リスト!$A$3:$N$201,3,FALSE))","v":""},{"$f":"IF(LEN(D29)=0,\"\",VLOOKUP(D29,リスト!$A$3:$N$201,2,FALSE))","v":""},null,null,13,null,null,null,null,null,null,{"$f":"IF(LEN(O29)=0,\"\",VLOOKUP(O29,リスト!$A$3:$N$201,3,FALSE))","v":""},{"$f":"IF(LEN(O29)=0,\"\",VLOOKUP(O29,リスト!$A$3:$N$201,2,FALSE))","v":""},null,null,{"$f":"COUNTA(D28:I30)","v":0},{"$f":"COUNTA(O28:T30)","v":0}]
[null,null,14,null,null,null,null,null,null,{"$f":"IF(LEN(D30)=0,\"\",VLOOKUP(D30,リスト!$A$3:$N$201,3,FALSE))","v":""},{"$f":"IF(LEN(D30)=0,\"\",VLOOKUP(D30,リスト!$A$3:$N$201,2,FALSE))","v":""},null,null,14,null,null,null,null,null,null,{"$f":"IF(LEN(O30)=0,\"\",VLOOKUP(O30,リスト!$A$3:$N$201,3,FALSE))","v":""},{"$f":"IF(LEN(O30)=0,\"\",VLOOKUP(O30,リスト!$A$3:$N$201,2,FALSE))","v":""},null,null,{"$f":"COUNTA(D28:I30)","v":0},{"$f":"COUNTA(O28:T30)","v":0}]
["H",null,15,null,null,null,null,null,null,{"$f":"IF(LEN(D31)=0,\"\",VLOOKUP(D31,リスト!$A$3:$N$201,3,FALSE))","v":""},{"$f":"IF(LEN(D31)=0,\"\",VLOOKUP(D31,リスト!$A$3:$N$201,2,FALSE))","v":""},"H",null,15,null,null,null,null,null,null,{"$f":"IF(LEN(O31)=0,\"\",VLOOKUP(O31,リスト!$A$3:$N$201,3,FALSE))","v":""},{"$f":"IF(LEN(O31)=0,\"\",VLOOKUP(O31,リスト!$A$3:$N$201,2,FALSE))","v":""},null,null,{"$f":"COUNTA(D31:I33)","v":0},{"$f":"COUNTA(O31:T33)","v":0}]
[null,null,16,null,null,null,null,null,null,{"$f":"IF(LEN(D32)=0,\"\",VLOOKUP(D32,リスト!$A$3:$N$201,3,FALSE))","v":""},{"$f":"IF(LEN(D32)=0,\"\",VLOOKUP(D32,リスト!$A$3:$N$201,2,FALSE))","v":""},null,null,16,null,null,null,null,null,null,{"$f":"IF(LEN(O32)=0,\"\",VLOOKUP(O32,リスト!$A$3:$N$201,3,FALSE))","v":""},{"$f":"IF(LEN(O32)=0,\"\",VLOOKUP(O32,リスト!$A$3:$N$201,2,FALSE))","v":""},null,null,{"$f":"COUNTA(D31:I33)","v":0},{"$f":"COUNTA(O31:T33)","v":0}]
[null,null,17,null,null,null,null,null,null,{"$f":"IF(LEN(D33)=0,\"\",VLOOKUP(D33,リスト!$A$3:$N$201,3,FALSE))","v":""},{"$f":"IF(LEN(D33)=0,\"\",VLOOKUP(D33,リスト!$A$3:$N$201,2,FALSE))","v":""},null,null,17,null,null,null,null,null,null,{"$f":"IF(LEN(O33)=0,\"\",VLOOKUP(O33,リスト!$A$3:$N$201,3,FALSE))","v":""},{"$f":"IF(LEN(O33)=0,\"\",VLOOKUP(O33,リスト!$A$3:$N$201,2,FALSE))","v":""},null,null,{"$f":"COUNTA(D31:I33)","v":0},{"$f":"COUNTA(O31:T33)","v":0}]
["I",null,18,null,null,null,null,null,null,{"$f":"IF(LEN(D34)=0,\"\",VLOOKUP(D34,リスト!$A$3:$N$201,3,FALSE))","v":""},{"$f":"IF(LEN(D34)=0,\"\",VLOOKUP(D34,リスト!$A$3:$N$201,2,FALSE))","v":""},"I",null,18,null,null,null,null,null,null,{"$f":"IF(LEN(O34)=0,\"\",VLOOKUP(O34,リスト!$A$3:$N$201,3,FALSE))","v":""},{"$f":"IF(LEN(O34)=0,\"\",VLOOKUP(O34,リスト!$A$3:$N$201,2,FALSE))","v":""},null,null,{"$f":"COUNTA(D34:I36)","v":0},{"$f":"COUNTA(O34:T36)","v":0}]
[null,null,19,null,null,null,null,null,null,{"$f":"IF(LEN(D35)=0,\"\",VLOOKUP(D35,リスト!$A$3:$N$201,3,FALSE))","v":""},{"$f":"IF(LEN(D35)=0,\"\",VLOOKUP(D35,リスト!$A$3:$N$201,2,FALSE))","v":""},null,null,19,null,null,null,null,null,null,{"$f":"IF(LEN(O35)=0,\"\",VLOOKUP(O35,リスト!$A$3:$N$201,3,FALSE))","v":""},{"$f":"IF(LEN(O35)=0,\"\",VLOOKUP(O35,リスト!$A$3:$N$201,2,FALSE))","v":""},null,null,{"$f":"COUNTA(D34:I36)","v":0},{"$f":"COUNTA(O34:T36)","v":0}]
[null,null,20,null,null,null,null,null,null,{"$f":"IF(LEN(D36)=0,\"\",VLOOKUP(D36,リスト!$A$3:$N$201,3,FALSE))","v":""},{"$f":"IF(LEN(D36)=0,\"\",VLOOKUP(D36,リスト!$A$3:$N$201,2,FALSE))","v":""},null,null,20,null,null,null,null,null,null,{"$f":"IF(LEN(O36)=0,\"\",VLOOKUP(O36,リスト!$A$3:$N$201,3,FALSE))","v":""},{"$f":"IF(LEN(O36)=0,\"\",VLOOKUP(O36,リスト!$A$3:$N$201,2,FALSE))","v":""},null,null,{"$f":"COUNTA(D34:I36)","v":0},{"$f":"COUNTA(O34:T36)","v":0}]
["J",null,21,null,null,null,null,null,null,{"$f":"IF(LEN(D37)=0,\"\",VLOOKUP(D37,リスト!$A$3:$N$201,3,FALSE))","v":""},{"$f":"IF(LEN(D37)=0,\"\",VLOOKUP(D37,リスト!$A$3:$N$201,2,FALSE))","v":""},"J",null,21,null,null,null,null,null,null,{"$f":"IF(LEN(O37)=0,\"\",VLOOKUP(O37,リスト!$A$3:$N$201,3,FALSE))","v":""},{"$f":"IF(LEN(O37)=0,\"\",VLOOKUP(O37,リスト!$A$3:$N$201,2,FALSE))","v":""},null,null,{"$f":"COUNTA(D37:I39)","v":0},{"$f":"COUNTA(O37:T39)","v":0}]
[null,null,22,null,null,null,null,null,null,{"$f":"IF(LEN(D38)=0,\"\",VLOOKUP(D38,リスト!$A$3:$N$201,3,FALSE))","v":""},{"$f":"IF(LEN(D38)=0,\"\",VLOOKUP(D38,リスト!$A$3:$N$201,2,FALSE))","v":""},null,null,22,null,null,null,null,null,null,{"$f":"IF(LEN(O38)=0,\"\",VLOOKUP(O38,リスト!$A$3:$N$201,3,FALSE))","v":""},{"$f":"IF(LEN(O38)=0,\"\",VLOOKUP(O38,リスト!$A$3:$N$201,2,FALSE))","v":""},null,null,{"$f":"COUNTA(D37:I39)","v":0},{"$f":"COUNTA(O37:T39)","v":0}]
[null,null,23,null,null,null,null,null,null,{"$f":"IF(LEN(D39)=0,\"\",VLOOKUP(D39,リスト!$A$3:$N$201,3,FALSE))","v":""},{"$f":"IF(LEN(D39)=0,\"\",VLOOKUP(D39,リスト!$A$3:$N$201,2,FALSE))","v":""},null,null,23,null,null,null,null,null,null,{"$f":"IF(LEN(O39)=0,\"\",VLOOKUP(O39,リスト!$A$3:$N$201,3,FALSE))","v":""},{"$f":"IF(LEN(O39)=0,\"\",VLOOKUP(O39,リスト!$A$3:$N$201,2,FALSE))","v":""},null,null,{"$f":"COUNTA(D37:I39)","v":0},{"$f":"COUNTA(O37:T39)","v":0}]
["K",null,24,null,null,null,null,null,null,{"$f":"IF(LEN(D40)=0,\"\",VLOOKUP(D40,リスト!$A$3:$N$201,3,FALSE))","v":""},{"$f":"IF(LEN(D40)=0,\"\",VLOOKUP(D40,リスト!$A$3:$N$201,2,FALSE))","v":""},"K",null,24,null,null,null,null,null,null,{"$f":"IF(LEN(O40)=0,\"\",VLOOKUP(O40,リスト!$A$3:$N$201,3,FALSE))","v":""},{"$f":"IF(LEN(O40)=0,\"\",VLOOKUP(O40,リスト!$A$3:$N$201,2,FALSE))","v":""},null,null,{"$f":"COUNTA(D40:I42)","v":0},{"$f":"COUNTA(O40:T42)","v":0}]
[null,null,25,null,null,null,null,null,null,{"$f":"IF(LEN(D41)=0,\"\",VLOOKUP(D41,リスト!$A$3:$N$201,3,FALSE))","v":""},{"$f":"IF(LEN(D41)=0,\"\",VLOOKUP(D41,リスト!$A$3:$N$201,2,FALSE))","v":""},null,null,25,null,null,null,null,null,null,{"$f":"IF(LEN(O41)=0,\"\",VLOOKUP(O41,リスト!$A$3:$N$201,3,FALSE))","v":""},{"$f":"IF(LEN(O41)=0,\"\",VLOOKUP(O41,リスト!$A$3:$N$201,2,FALSE))","v":""},null,null,{"$f":"COUNTA(D40:I42)","v":0},{"$f":"COUNTA(O40:T42)","v":0}]
[null,null,26,null,null,null,null,null,null,{"$f":"IF(LEN(D42)=0,\"\",VLOOKUP(D42,リスト!$A$3:$N$201,3,FALSE))","v":""},{"$f":"IF(LEN(D42)=0,\"\",VLOOKUP(D42,リスト!$A$3:$N$201,2,FALSE))","v":""},null,null,26,null,null,null,null,null,null,{"$f":"IF(LEN(O42)=0,\"\",VLOOKUP(O42,リスト!$A$3:$N$201,3,FALSE))","v":""},{"$f":"IF(LEN(O42)=0,\"\",VLOOKUP(O42,リスト!$A$3:$N$201,2,FALSE))","v":""},null,null,{"$f":"COUNTA(D40:I42)","v":0},{"$f":"COUNTA(O40:T42)","v":0}]
["L",null,27,null,null,null,null,null,null,{"$f":"IF(LEN(D43)=0,\"\",VLOOKUP(D43,リスト!$A$3:$N$201,3,FALSE))","v":""},{"$f":"IF(LEN(D43)=0,\"\",VLOOKUP(D43,リスト!$A$3:$N$201,2,FALSE))","v":""},"L",null,27,null,null,null,null,null,null,{"$f":"IF(LEN(O43)=0,\"\",VLOOKUP(O43,リスト!$A$3:$N$201,3,FALSE))","v":""},{"$f":"IF(LEN(O43)=0,\"\",VLOOKUP(O43,リスト!$A$3:$N$201,2,FALSE))","v":""},null,null,{"$f":"COUNTA(D43:I45)","v":0},{"$f":"COUNTA(O43:T45)","v":0}]
[null,null,28,null,null,null,null,null,null,{"$f":"IF(LEN(D44)=0,\"\",VLOOKUP(D44,リスト!$A$3:$N$201,3,FALSE))","v":""},{"$f":"IF(LEN(D44)=0,\"\",VLOOKUP(D44,リスト!$A$3:$N$201,2,FALSE))","v":""},null,null,28,null,null,null,null,null,null,{"$f":"IF(LEN(O44)=0,\"\",VLOOKUP(O44,リスト!$A$3:$N$201,3,FALSE))","v":""},{"$f":"IF(LEN(O44)=0,\"\",VLOOKUP(O44,リスト!$A$3:$N$201,2,FALSE))","v":""},null,null,{"$f":"COUNTA(D43:I45)","v":0},{"$f":"COUNTA(O43:T45)","v":0}]
[null,null,29,null,null,null,null,null,null,{"$f":"IF(LEN(D45)=0,\"\",VLOOKUP(D45,リスト!$A$3:$N$201,3,FALSE))","v":""},{"$f":"IF(LEN(D45)=0,\"\",VLOOKUP(D45,リスト!$A$3:$N$201,2,FALSE))","v":""},null,null,29,null,null,null,null,null,null,{"$f":"IF(LEN(O45)=0,\"\",VLOOKUP(O45,リスト!$A$3:$N$201,3,FALSE))","v":""},{"$f":"IF(LEN(O45)=0,\"\",VLOOKUP(O45,リスト!$A$3:$N$201,2,FALSE))","v":""},null,null,{"$f":"COUNTA(D43:I45)","v":0},{"$f":"COUNTA(O43:T45)","v":0}]
["M",null,30,null,null,null,null,null,null,{"$f":"IF(LEN(D46)=0,\"\",VLOOKUP(D46,リスト!$A$3:$N$201,3,FALSE))","v":""},{"$f":"IF(LEN(D46)=0,\"\",VLOOKUP(D46,リスト!$A$3:$N$201,2,FALSE))","v":""},"M",null,30,null,null,null,null,null,null,{"$f":"IF(LEN(O46)=0,\"\",VLOOKUP(O46,リスト!$A$3:$N$201,3,FALSE))","v":""},{"$f":"IF(LEN(O46)=0,\"\",VLOOKUP(O46,リスト!$A$3:$N$201,2,FALSE))","v":""},null,null,{"$f":"COUNTA(D46:I48)","v":0},{"$f":"COUNTA(O46:T48)","v":0}]
[null,null,31,null,null,null,null,null,null,{"$f":"IF(LEN(D47)=0,\"\",VLOOKUP(D47,リスト!$A$3:$N$201,3,FALSE))","v":""},{"$f":"IF(LEN(D47)=0,\"\",VLOOKUP(D47,リスト!$A$3:$N$201,2,FALSE))","v":""},null,null,31,null,null,null,null,null,null,{"$f":"IF(LEN(O47)=0,\"\",VLOOKUP(O47,リスト!$A$3:$N$201,3,FALSE))","v":""},{"$f":"IF(LEN(O47)=0,\"\",VLOOKUP(O47,リスト!$A$3:$N$201,2,FALSE))","v":""},null,null,{"$f":"COUNTA(D46:I48)","v":0},{"$f":"COUNTA(O46:T48)","v":0}]
[null,null,32,null,null,null,null,null,null,{"$f":"IF(LEN(D48)=0,\"\",VLOOKUP(D48,リスト!$A$3:$N$201,3,FALSE))","v":""},{"$f":"IF(LEN(D48)=0,\"\",VLOOKUP(D48,リスト!$A$3:$N$201,2,FALSE))","v":""},null,null,32,null,null,null,null,null,null,{"$f":"IF(LEN(O48)=0,\"\",VLOOKUP(O48,リスト!$A$3:$N$201,3,FALSE))","v":""},{"$f":"IF(LEN(O48)=0,\"\",VLOOKUP(O48,リスト!$A$3:$N$201,2,FALSE))","v":""},null,null,{"$f":"COUNTA(D46:I48)","v":0},{"$f":"COUNTA(O46:T48)","v":0}]
["N",null,33,null,null,null,null,null,null,{"$f":"IF(LEN(D49)=0,\"\",VLOOKUP(D49,リスト!$A$3:$N$201,3,FALSE))","v":""},{"$f":"IF(LEN(D49)=0,\"\",VLOOKUP(D49,リスト!$A$3:$N$201,2,FALSE))","v":""},"N",null,33,null,null,null,null,null,null,{"$f":"IF(LEN(O49)=0,\"\",VLOOKUP(O49,リスト!$A$3:$N$201,3,FALSE))","v":""},{"$f":"IF(LEN(O49)=0,\"\",VLOOKUP(O49,リスト!$A$3:$N$201,2,FALSE))","v":""},null,null,{"$f":"COUNTA(D49:I51)","v":0},{"$f":"COUNTA(O49:T51)","v":0}]
[null,null,34,null,null,null,null,null,null,{"$f":"IF(LEN(D50)=0,\"\",VLOOKUP(D50,リスト!$A$3:$N$201,3,FALSE))","v":""},{"$f":"IF(LEN(D50)=0,\"\",VLOOKUP(D50,リスト!$A$3:$N$201,2,FALSE))","v":""},null,null,34,null,null,null,null,null,null,{"$f":"IF(LEN(O50)=0,\"\",VLOOKUP(O50,リスト!$A$3:$N$201,3,FALSE))","v":""},{"$f":"IF(LEN(O50)=0,\"\",VLOOKUP(O50,リスト!$A$3:$N$201,2,FALSE))","v":""},null,null,{"$f":"COUNTA(D49:I51)","v":0},{"$f":"COUNTA(O49:T51)","v":0}]
[null,null,35,null,null,null,null,null,null,{"$f":"IF(LEN(D51)=0,\"\",VLOOKUP(D51,リスト!$A$3:$N$201,3,FALSE))","v":""},{"$f":"IF(LEN(D51)=0,\"\",VLOOKUP(D51,リスト!$A$3:$N$201,2,FALSE))","v":""},null,null,35,null,null,null,null,null,null,{"$f":"IF(LEN(O51)=0,\"\",VLOOKUP(O51,リスト!$A$3:$N$201,3,FALSE))","v":""},{"$f":"IF(LEN(O51)=0,\"\",VLOOKUP(O51,リスト!$A$3:$N$201,2,FALSE))","v":""},null,null,{"$f":"COUNTA(D49:I51)","v":0},{"$f":"COUNTA(O49:T51)","v":0}]
["O",null,36,null,null,null,null,null,null,{"$f":"IF(LEN(D52)=0,\"\",VLOOKUP(D52,リスト!$A$3:$N$201,3,FALSE))","v":""},{"$f":"IF(LEN(D52)=0,\"\",VLOOKUP(D52,リスト!$A$3:$N$201,2,FALSE))","v":""},"O",null,36,null,null,null,null,null,null,{"$f":"IF(LEN(O52)=0,\"\",VLOOKUP(O52,リスト!$A$3:$N$201,3,FALSE))","v":""},{"$f":"IF(LEN(O52)=0,\"\",VLOOKUP(O52,リスト!$A$3:$N$201,2,FALSE))","v":""},null,null,{"$f":"COUNTA(D52:I54)","v":0},{"$f":"COUNTA(O52:T54)","v":0}]
[null,null,37,null,null,null,null,null,null,{"$f":"IF(LEN(D53)=0,\"\",VLOOKUP(D53,リスト!$A$3:$N$201,3,FALSE))","v":""},{"$f":"IF(LEN(D53)=0,\"\",VLOOKUP(D53,リスト!$A$3:$N$201,2,FALSE))","v":""},null,null,37,null,null,null,null,null,null,{"$f":"IF(LEN(O53)=0,\"\",VLOOKUP(O53,リスト!$A$3:$N$201,3,FALSE))","v":""},{"$f":"IF(LEN(O53)=0,\"\",VLOOKUP(O53,リスト!$A$3:$N$201,2,FALSE))","v":""},null,null,{"$f":"COUNTA(D52:I54)","v":0},{"$f":"COUNTA(O52:T54)","v":0}]
[null,null,38,null,null,null,null,null,null,{"$f":"IF(LEN(D54)=0,\"\",VLOOKUP(D54,リスト!$A$3:$N$201,3,FALSE))","v":""},{"$f":"IF(LEN(D54)=0,\"\",VLOOKUP(D54,リスト!$A$3:$N$201,2,FALSE))","v":""},null,null,38,null,null,null,null,null,null,{"$f":"IF(LEN(O54)=0,\"\",VLOOKUP(O54,リスト!$A$3:$N$201,3,FALSE))","v":""},{"$f":"IF(LEN(O54)=0,\"\",VLOOKUP(O54,リスト!$A$3:$N$201,2,FALSE))","v":""},null,null,{"$f":"COUNTA(D52:I54)","v":0},{"$f":"COUNTA(O52:T54)","v":0}]
["P",null,39,null,null,null,null,null,null,{"$f":"IF(LEN(D55)=0,\"\",VLOOKUP(D55,リスト!$A$3:$N$201,3,FALSE))","v":""},{"$f":"IF(LEN(D55)=0,\"\",VLOOKUP(D55,リスト!$A$3:$N$201,2,FALSE))","v":""},"P",null,39,null,null,null,null,null,null,{"$f":"IF(LEN(O55)=0,\"\",VLOOKUP(O55,リスト!$A$3:$N$201,3,FALSE))","v":""},{"$f":"IF(LEN(O55)=0,\"\",VLOOKUP(O55,リスト!$A$3:$N$201,2,FALSE))","v":""},null,null,{"$f":"COUNTA(D55:I57)","v":0},{"$f":"COUNTA(O55:T57)","v":0}]
[null,null,40,null,null,null,null,null,null,{"$f":"IF(LEN(D56)=0,\"\",VLOOKUP(D56,リスト!$A$3:$N$201,3,FALSE))","v":""},{"$f":"IF(LEN(D56)=0,\"\",VLOOKUP(D56,リスト!$A$3:$N$201,2,FALSE))","v":""},null,null,40,null,null,null,null,null,null,{"$f":"IF(LEN(O56)=0,\"\",VLOOKUP(O56,リスト!$A$3:$N$201,3,FALSE))","v":""},{"$f":"IF(LEN(O56)=0,\"\",VLOOKUP(O56,リスト!$A$3:$N$201,2,FALSE))","v":""},null,null,{"$f":"COUNTA(D55:I57)","v":0},{"$f":"COUNTA(O55:T57)","v":0}]
[null,null,41,null,null,null,null,null,null,{"$f":"IF(LEN(D57)=0,\"\",VLOOKUP(D57,リスト!$A$3:$N$201,3,FALSE))","v":""},{"$f":"IF(LEN(D57)=0,\"\",VLOOKUP(D57,リスト!$A$3:$N$201,2,FALSE))","v":""},null,null,41,null,null,null,null,null,null,{"$f":"IF(LEN(O57)=0,\"\",VLOOKUP(O57,リスト!$A$3:$N$201,3,FALSE))","v":""},{"$f":"IF(LEN(O57)=0,\"\",VLOOKUP(O57,リスト!$A$3:$N$201,2,FALSE))","v":""},null,null,{"$f":"COUNTA(D55:I57)","v":0},{"$f":"COUNTA(O55:T57)","v":0}]
["Q",null,42,null,null,null,null,null,null,{"$f":"IF(LEN(D58)=0,\"\",VLOOKUP(D58,リスト!$A$3:$N$201,3,FALSE))","v":""},{"$f":"IF(LEN(D58)=0,\"\",VLOOKUP(D58,リスト!$A$3:$N$201,2,FALSE))","v":""},"Q",null,42,null,null,null,null,null,null,{"$f":"IF(LEN(O58)=0,\"\",VLOOKUP(O58,リスト!$A$3:$N$201,3,FALSE))","v":""},{"$f":"IF(LEN(O58)=0,\"\",VLOOKUP(O58,リスト!$A$3:$N$201,2,FALSE))","v":""},null,null,{"$f":"COUNTA(D58:I60)","v":0},{"$f":"COUNTA(O58:T60)","v":0}]
[null,null,43,null,null,null,null,null,null,{"$f":"IF(LEN(D59)=0,\"\",VLOOKUP(D59,リスト!$A$3:$N$201,3,FALSE))","v":""},{"$f":"IF(LEN(D59)=0,\"\",VLOOKUP(D59,リスト!$A$3:$N$201,2,FALSE))","v":""},null,null,43,null,null,null,null,null,null,{"$f":"IF(LEN(O59)=0,\"\",VLOOKUP(O59,リスト!$A$3:$N$201,3,FALSE))","v":""},{"$f":"IF(LEN(O59)=0,\"\",VLOOKUP(O59,リスト!$A$3:$N$201,2,FALSE))","v":""},null,null,{"$f":"COUNTA(D58:I60)","v":0},{"$f":"COUNTA(O58:T60)","v":0}]
[null,null,44,null,null,null,null,null,null,{"$f":"IF(LEN(D60)=0,\"\",VLOOKUP(D60,リスト!$A$3:$N$201,3,FALSE))","v":""},{"$f":"IF(LEN(D60)=0,\"\",VLOOKUP(D60,リスト!$A$3:$N$201,2,FALSE))","v":""},null,null,44,null,null,null,null,null,null,{"$f":"IF(LEN(O60)=0,\"\",VLOOKUP(O60,リスト!$A$3:$N$201,3,FALSE))","v":""},{"$f":"IF(LEN(O60)=0,\"\",VLOOKUP(O60,リスト!$A$3:$N$201,2,FALSE))","v":""},null,null,{"$f":"COUNTA(D58:I60)","v":0},{"$f":"COUNTA(O58:T60)","v":0}]
[]
[]
[]
[]
[]
[{"$f":"I66","v":"日立第一高等学校"},1,1,1,"日一","日立一","県立",0,"日立第一高等学校","日立第一","ひたちだいいち","男","女","317-0063","日立市若葉町3-15-1","0294-22-6488","31700630294-22-64880294-21-4490","0294-21-4490","磯邉　裕一","志賀　達哉","安斎　正人","坂本　八穂","大場　久美子","　",null,{"$f":"COUNTA(O64:T66)","v":6}]
[{"$f":"I67","v":"日立第二高等学校"},1,2,2,"日二","日立二","県立",0,"日立第二高等学校","日立第二","ひたちだいに","","女","317-0071","日立市鹿島町3-2-1","0294-22-3254","31700710294-22-32540294-21-4583","0294-21-4583","蛭田　清孝","本田　由子","井手　悠賀","石川　翔子","　","　",null,{"$f":"COUNTA(N67:S69)","v":18}]
["日立商業高等学校",1,3,3,"日商","日立商","県立",0,"日立商業高等学校","日立商業","ひたちしょうぎょう","男","女","319-1222","日立市久慈町6-20-1","0294-52-4779","31912220294-52-47790294-53-8243","0294-53-8243","栗田　武志","真仲　泰成","岡見　伸行","青山　紀子","　","　",null,{"$f":"COUNTA(N67:S69)","v":18}]
["日立北高等学校",1,4,4,"日北","日立北","県立",0,"日立北高等学校","日立北","ひたちきた","男","女","319-1411","日立市川尻町6-11-1","0294-43-2101","31914110294-43-21010294-43-7967","0294-43-7967","清水　秀一","矢部　克美","小中　貴司","鈴木　利佳","　","　",null,{"$f":"COUNTA(N67:S69)","v":18}]
["磯原郷英高等学校",1,5,5,"磯郷","磯郷英","県立",0,"磯原郷英高等学校","磯原郷英","いそはらきょうえい","男","女","319-1541","北茨城市磯原町磯原912","0293-42-0260","31915410293-42-02600293-42-6545","0293-42-6545","長山　祐司","松浦　祥吾","鈴木　光雄","　","　","　"]
["太田第一高等学校",1,6,6,"太一","太田一","県立",0,"太田第一高等学校","太田第一","おおただいいち","男","女","313-0005","常陸太田市栄町58","0294-72-2115","31300050294-72-21150294-72-2119","0294-72-2119","谷津　勉","西野　志津子","重中　茜","　","　","　"]
["太田西山高等学校",1,7,7,"西山","太西山","県立",0,"太田西山高等学校","太田西山","おおたせいざん","男","女","313-0007","常陸太田市新宿町210","0294-72-2136","31300070294-72-21360294-72-2147","0294-72-2147","菊池　幸惠","黒川　誠","佐伯　祐","　","　","　"]
["小瀬高等学校",1,1,8,"小瀬","小瀬","県立",0,"小瀬高等学校","小　　瀬","おせ","男","女","319-2401","常陸大宮市上小瀬1881","0295-56-2204","31924010295-56-22040295-56-3804","0295-56-3804","山下　則雄","北嶋　大輔","野上　勇","　","　","　"]
["常陸大宮高等学校",2,2,9,"常大","常大宮","県立",0,"常陸大宮高等学校","常陸大宮","みとだいいち","男","","319-2255","常陸大宮市野中町3257-2","0295-52-2175","31922550295-52-21750295-53-6914","0295-53-6914","堀川　洋","西野　有希","倉持　太陽","　","　","　"]
["水戸第一高等学校",2,3,10,"水一","水戸一","県立",0,"水戸第一高等学校","水戸第一","みとだいに","男","女","310-0011","水戸市三の丸3-10-1","029-224-2254","3100011029-224-2254029-225-5694","029-225-5694","御厩　祐司","石井　孝典","金井　正人","　","　","　"]
["水戸第二高等学校",2,4,11,"水二","水戸二","県立",0,"水戸第二高等学校","水戸第二","みとだいさん","","女","310-0062","水戸市大町2-2-14","029-224-2543","3100062029-224-2543029-225-5049","029-225-5049","渡邉　剛","恩田　洋一","梶原　拓光","　","　","　"]
["水戸第三高等学校",2,5,12,"水三","水戸三","県立",0,"水戸第三高等学校","水戸第三","みどりおか","","女","310-0011","水戸市三の丸2-7-27","029-224-2044","3100011029-224-2044029-225-4524","029-225-4524","南雲　康司","深谷　拓","辺見　知子","　","　","　"]
["緑岡高等学校",2,6,13,"緑岡","緑岡","県立",0,"緑岡高等学校","緑　　岡","みとこうぎょう","男","女","310-0852","水戸市笠原町1284","029-241-0311","3100852029-241-0311029-241-7929","029-241-7929","今瀬　一博","田口　泰子","楠　正則","小塚　由紀子","野村　勝美","　"]
["水戸工業高等学校",2,7,14,"水工","水戸工","県立",0,"水戸工業高等学校","水戸工業","みとさくらのまき","男","女","310-0836","水戸市元吉田町1101","029-247-5711","3100836029-247-5711029-248-6399","029-248-6399","久松　政信","牧田　幸博","関口　仁","　","　","　"]
["水戸桜ノ牧高等学校",2,8,15,"桜牧","桜ノ牧","県立",0,"水戸桜ノ牧高等学校","水戸桜ノ牧","さわ","男","女","310-0914","水戸市小吹町2070","029-243-3644","3100914029-243-3644029-241-9642","029-241-9642","秋山　克巳","坂本　裕哉","梶山　潤","寺内　芳江","　","　"]
["佐和高等学校",2,9,16,"佐和","佐和","県立",0,"佐和高等学校","佐　　和","かさま","男","女","312-0061","ひたちなか市稲田636-1","029-285-1819","30916110296-72-11710296-72-2590","029-285-8401","鈴木　猛","辻元　誠之","清水　智子","　","　","　"]
["那珂湊高等学校",2,10,17,"那湊","那珂湊","県立",0,"那珂湊高等学校","那 珂 湊","かさま","男","女","311-1224","ひたちなか市山ノ上町4-6","029-262-2642","3111224029-262-2642029-263-3961","029-263-3961","鈴木　富美子","関口　昭","満生　香子","　","　","　"]
["笠間高等学校",2,11,18,"笠間","笠間","県立",0,"笠間高等学校","笠　　間","みとさくらのまきじょうほく","男","女","309-1611","笠間市笠間1668","0296-72-1171","30916110296-72-11710296-72-2590","0296-72-2590","渡邉　英一","人見　広章","　","　","　","　"]
["水戸桜ノ牧高等学校常北校",2,12,19,"常北","常北","県立",0,"水戸桜ノ牧高等学校常北校","水戸桜ノ牧常北","とうかい","男","","311-4306","東茨城郡城里町春園1634","029-288-2028","3114306029-288-2028029-288-4969","029-288-4969","秋山　克巳","大図　卓也","安蔵　恭吾","海老原　洋法","　","　"]
["東海高等学校",2,13,20,"東海","東海","県立",0,"東海高等学校","東　　海","いばらきひがし","男","女","319-1112","那珂郡東海村大字村松771-1","029-282-7501","3191112029-282-7501029-287-1328","029-287-1328","正木　昇","荒木　広大","小田　義雄","　","　","　"]
["茨城東高等学校",2,14,21,"茨東","茨城東","県立",0,"茨城東高等学校","茨 城 東","なか","男","女","311-3157","東茨城郡茨城町小幡2524","029-292-6245","3113157029-292-6245029-292-2405","029-292-2405","上田　英雄","菅野　学","飯田　延稔","　","　","　"]
["那珂高等学校",2,15,22,"那珂","那珂","県立",0,"那珂高等学校","那　　珂","いばらき","男","女","311-0111","那珂市後台1710-1","029-295-2710","3110111029-295-2710029-295-4640","029-295-4640","阿内　勉","大内　麻子","朝比奈　泰紀","　","　","　"]
["茨城高等学校",2,16,23,"茨城","茨城","","私立","茨城高等学校","茨　　城","すいじょう","男","女","310-0065","水戸市八幡町16-1","029-221-4936","3100065029-221-4936029-221-4923","029-221-4923","梶　克治","遠藤　康","作山　友孝","　","　","　"]
["水城高等学校",2,17,24,"水城","水城",0,"私立","水城高等学校","水　　城","いばらきこうぎょうこうとうせんもん","男","女","310-0804","水戸市白梅2-1-45","029-247-6509","3100804029-247-6509029-248-7252","029-248-7252","小田部　幹夫","中村　諒","武田　悠平","　","　","　"]
["茨城工業高等専門学校",2,18,25,"高専","茨高専","国立",0,"茨城工業高等専門学校","茨城工業高等専門学校","ほこただいいち","男","女","312-8508","ひたちなか市中根866","029-272-5201","3128508029-272-5201029-271-2813","029-271-2813","鈴木　秋弘","丸山　智章","平本　留理","大津　麻紀子","　","　"]
["鉾田第一高等学校",3,1,26,"鉾一","鉾田一","県立",0,"鉾田第一高等学校","鉾田第一","ほこただいに","男","女","311-1517","鉾田市鉾田1090-2","0291-33-2161","31115170291-33-21610291-33-6086","0291-33-6086","飯山　美都子","星　浩一","杉山　公実子","　","　","　"]
["鉾田第二高等学校",3,2,27,"鉾二","鉾田二","県立",0,"鉾田第二高等学校","鉾田第二","たまつくりこうぎょう","男","女","311-1517","鉾田市鉾田1158","0291-33-2171","31115170291-33-21710291-33-6093","0291-33-6093","海老澤　浩一","沼里　民子","廣原　嘉明","　","　","　"]
["玉造工業高等学校",3,3,28,"玉工","玉造工","県立",0,"玉造工業高等学校","玉造工業","あそう","男","女","311-3501","行方市芹沢1552","0299-55-0138","31135010299-55-01380299-55-3454","0299-55-3454","大塚　哲蔵","小畑　繁","　","　","　","　"]
["麻生高等学校",3,4,29,"麻生","麻生","県立",0,"麻生高等学校","麻　　生","いたこ","男","女","311-3832","行方市麻生1806","0299-72-0098","31138320299-72-00980299-72-2317","0299-72-2317","園部　晃嗣","齊藤　啓","森作　実玖也","　","　","　"]
["潮来高等学校",3,5,30,"潮来","潮来","県立",0,"潮来高等学校","潮　　来","かしま","男","女","311-2448","潮来市須賀3025","0299-66-2142","31124480299-66-21420299-66-2670","0299-66-2670","小澤　茂幸","萩原　卓","飯島　愛美","髙野　深愛","　","　"]
["鹿島高等学校",3,6,31,"鹿島","鹿島","県立",0,"鹿島高等学校","鹿　　島","はさき","男","女","314-0038","鹿嶋市城山2-2-19","0299-82-1903","31400380299-82-19030299-84-1547","0299-84-1547","小沼　浩幸","山口　薫","青塚　明香","甲　良美","谷田部　大地","　"]
["波崎高等学校",3,7,32,"波崎","波崎","県立",0,"波崎高等学校","波　　崎","せいしんがくえん","男","女","314-0343","神栖市土合本町2-9928-1","0479-48-0044","31403430479-48-00440479-48-4679","0479-48-4679","高橋　秀樹","山田　宏","　","　","　","　"]
["清真学園高等学校",3,8,33,"清真","清真学",0,"私立","清真学園高等学校","清真学園","つちうらだいいち","男","女","314-0031","鹿嶋市宮中伏見4448-5","0299-83-1811","31400310299-83-18110299-83-6414","0299-83-6414","飯山　克則","炭谷　崇人","佐久間　和彰","釜田　啓市","清野　千里","　"]
["土浦第一高等学校",4,1,34,"土一","土浦一","県立",0,"土浦第一高等学校","土浦第一","つちうらだいに","男","女","300-0051","土浦市真鍋4-4-2","029-822-0137","3000051029-822-0137029-826-3521","029-826-3521","プラニク　ヨゲンドラ","柴沼　陽","大野　岳志","　","　","　"]
["土浦第二高等学校",4,2,35,"土二","土浦二","県立",0,"土浦第二高等学校","土浦第二","つちうらだいさん","男","女","300-0041","土浦市立田町9-6","029-822-5027","3000041029-822-5027029-826-3522","029-826-3522","深谷　靖","塚本　晋太郎","土井　和恵","　","　","杉山　尚之"]
["土浦第三高等学校",4,3,36,"土三","土浦三","県立",0,"土浦第三高等学校","土浦第三","つちうらこうぎょう","男","女","300-0835","土浦市大岩田1599","029-821-1605","3000835029-821-1605029-826-3523","029-826-3523","渡邊　聡","松本　現","鎌田　千亜紀","石井　美香","　","　"]
["土浦工業高等学校",4,4,37,"土工","土浦工","県立",0,"土浦工業高等学校","土浦工業","いしおかだいいち","男","女","300-0051","土浦市真鍋6-11-20","029-821-1953","3000051029-821-1953029-822-6924","029-822-6924","後藤　光彦","千葉　一茂","福岡　聖美","蓼沼　正弘","　","　"]
["石岡第一高等学校",4,5,38,"石一","石岡一","県立",0,"石岡第一高等学校","石岡第一","いしおかだいに","男","女","315-0001","石岡市石岡1-9","0299-22-4135","31500010299-22-41350299-22-6289","0299-22-6289","櫻井　隆之","川村　理絵","土居　義邦","前野　和美","　","　"]
["石岡第二高等学校",4,6,39,"石二","石岡二","県立",0,"石岡第二高等学校","石岡第二","いしおかしょうぎょう","男","女","315-0013","石岡市府中5-14-14","0299-23-2101","31500130299-23-21010299-23-4895","0299-23-4895","鈴木　教生","門井　寿通","岡田　睦美","　","　","　"]
["石岡商業高等学校",4,7,40,"石商","石岡商","県立",0,"石岡商業高等学校","石岡商業","つちうらにほんだいがく","男","女","315-0033","石岡市東光台3-4-1","0299-26-4138","31500330299-26-41380299-26-1029","0299-26-1029","木戸　智子","青柳　優","森作　明美","　","　","　"]
["土浦日本大学高等学校",4,8,41,"土日","土日大",0,{"$error":"#REF!"},"土浦日本大学高等学校","土浦日本大学","じょうそうがくいん","男","女","300-0826","土浦市小松ケ丘町4-46","029-822-3382","3000826029-822-3382029-823-8743","029-823-8743","伊藤　哲也","中川　久倫","阿久井　琉菜","　","　","　"]
["常総学院高等学校",4,9,42,"常総","常総学",0,"私立","常総学院高等学校","常総学院","かすみがうら","男","女","300-0849","土浦市中村西根1010","029-842-8771","3000849029-842-8771029-841-1808","029-841-1808","壁谷　恵","宮本　和明","柴山　紗矢香","塚本　重毅","ステント　ブラッドリー","　"]
["霞ケ浦高等学校",4,10,43,"霞浦","霞ヶ浦",0,"私立","霞ケ浦高等学校","霞 ケ 浦","つちうらにほんだいがくちゅうとうきょういくがっこう","男","女","300-0301","稲敷郡阿見町青宿50","029-887-0013","3000301029-887-0013029-887-9380","029-887-9380","岡村　守","桜井　恭平","柳澤　雅世","　","　","　"]
["土浦日本大学中等教育学校",4,11,44,"土中","土中等",0,"私立","土浦日本大学中等教育学校","土浦日本大学中等教育学校",{"$error":"#REF!"},"男","女","300-0826","土浦市小松ケ丘町4-46","029-822-3386","3000826029-822-3386029-835-3538","029-835-3538","堀切　浩一","塩原　崇","佐藤　錬","　","　","　"]
["竜ケ崎第一高等学校",5,1,45,"竜一","竜崎一","県立",0,"竜ケ崎第一高等学校","竜ケ崎第一","りゅうがさきだいに","男","女","301-0844","龍ヶ崎市平畑248","0297-62-2146","30108440297-62-21460297-62-9836","0297-62-9836","太田垣　淳一","八重柏　由佳","石川　瑶子","前田　将貴","　","　"]
["竜ケ崎第二高等学校",5,2,46,"竜二","竜崎二","県立",0,"竜ケ崎第二高等学校","竜ケ崎第二","りゅうがさきみなみ","男","女","301-0834","龍ケ崎市3087","0297-62-3078","30108340297-62-30780297-62-9850","0297-62-9850","箕輪　文子","前田　彬貴","小吹　光","　","　","　"]
["竜ケ崎南高等学校",5,3,47,"竜南","竜崎南","県立",0,"竜ケ崎南高等学校","竜ケ崎南","えどさきそうごう","男","","301-0021","龍ケ崎市北方町120","0297-64-2167","30100210297-64-21670297-64-5241","0297-64-5241","須藤　一道","飛田　樹","杉浦　拓郎","　","　","　"]
["江戸崎総合高等学校",5,4,48,"江総","江総合","県立",0,"江戸崎総合高等学校","江戸崎総合","とりでだいいち","男","女","300-0504","稲敷市江戸崎甲476-2","029-892-2103","3000504029-892-2103029-892-3957","029-892-3957","川田　　利行","篠崎　美穂","河野　亮一","渡邉　怜奈","　","　"]
["取手第一高等学校",5,5,49,"取一","取手一","県立",0,"取手第一高等学校","取手第一","とりでだいに","男","女","302-0013","取手市台宿2-4-1","0297-72-1348","30200130297-72-13480297-73-7814","0297-73-7814","高野　健二","山中　範子","高木　渉","後藤　裕一","　","久保田　清"]
["取手第二高等学校",5,6,50,"取二","取手二","県立",0,"取手第二高等学校","取手第二","ふじしろ","","女","302-0005","取手市東2-5-1","0297-73-0049","30200050297-73-00490297-73-7821","0297-73-7821","池田　聡","寺田　和馬","　","　","　","　"]
["藤代高等学校",5,7,51,"藤代","藤代","県立",0,"藤代高等学校","藤　　代","うしく","男","女","300-1537","取手市毛有640","0297-82-6283","30015370297-82-62830297-82-6021","0297-82-6021","根本　雄一","深堀　いずみ","富岡　美和","木村　愛","　","　"]
["牛久高等学校",5,8,52,"牛久","牛久","県立",0,"牛久高等学校","牛    久","うしくえいしん","男","女","300-1204","牛久市岡見町2081-1","029-873-6220","3001204029-873-6220029-874-8580","029-874-8580","田﨑　泰昭","人見　正敏","塚本　貞行","　","　","　"]
["牛久栄進高等学校",5,9,53,"栄進","牛栄進","県立",0,"牛久栄進高等学校","牛久栄進","とうようだいうしく","男","女","300-1201","牛久市東猯穴町876","029-843-3110","3001201029-843-3110029-842-1891","029-842-1891","奈良　由紀子","坂井　昌平","宇野　香代子","門井　美奈子","　","　"]
["東洋大学付属牛久高等学校",5,10,54,"東牛","東牛久",0,"私立","東洋大学付属牛久高等学校","東洋大学附属牛久","あいこくがくえんだいがくふぞくりゅうがさき","男","女","300-1211","牛久市柏田町1360-2","029-872-0924","3001211029-872-0924029-874-1055","029-874-1055","金澤　利明","江橋　正安","大島　優子","　","　","　"]
["江戸川学園取手高等学校",5,11,55,"江学","江戸川",0,"私立","江戸川学園取手高等学校","江戸川学園取手","あいこくがくえんだいがくふぞくりゅうがさき","男","女","302-0025","取手市西1-37-1","0297-74-8771","30200250297-74-87710297-73-4851","0297-73-4851","山本　宏之","関　貴之","野田　泰誠","　","　","明間　勲"]
["愛国学園大学附属龍ケ崎高等学校",5,12,56,"愛国","愛国学",0,"私立","愛国学園大学附属龍ケ崎高等学校","愛国学園大学附属龍ケ崎","つくば","","女","301-0041","龍ケ崎市若柴町2747","0297-66-0757","30100410297-66-07570297-66-0526","0297-66-0526","倉持　正男","坂本　渉","柴崎　智宣","　","　","　"]
["筑波高等学校",6,1,57,"筑波","筑波","県立",0,"筑波高等学校","筑　　波","たけぞの","男","女","300-4231","つくば市北条4387","029-867-0041","3004231029-867-0041029-867-4688","029-867-4688","鈴木　恒一","山北　大志","門井　浩","菊池　郁治","吉田　浩昭","林田　國洋"]
["竹園高等学校",6,2,58,"竹園","竹園","県立",0,"竹園高等学校","竹　　園","つくばこうか","男","女","305-0032","つくば市竹園3-9-1","029-851-7515","3050032029-851-7515029-852-5533","029-852-5533","辻　武　晴","宮内　雅史","今　瀬　英一朗","上　本　達　也","　","　"]
["つくば工科高等学校",6,3,59,"工科","つ工科","県立",0,"つくば工科高等学校","つくば工科","いわせ","男","女","305-0861","つくば市谷田部1818","029-836-1441","3050861029-836-1441029-836-4700","029-836-4700","石塚　照美","信戸　修一","三浦　秀之","　","　","　"]
["岩瀬高等学校",6,4,60,"岩瀬","岩瀬","県立",0,"岩瀬高等学校","岩　　瀬","しもだてだいいち","男","女","309-1294","桜川市岩瀬1511-1","0296-75-2475","30912940296-75-24750296-75-4906","0296-75-4906","西條　礼子","堀　裕美","市村　瀬里","藤森　知恵子","　","　"]
["下館第一高等学校",6,5,61,"館一","下館一","県立",0,"下館第一高等学校","下館第一",{"$error":"#REF!"},"男","女","308-0825","筑西市下中山590","0296-24-6344","30808250296-24-63440296-25-4673","0296-25-4673","木村　功","星野　雅一","海老名　晶弓","中島　陽樹","　","岩田　隆"]
["下館第二高等学校",6,6,62,"館二","下館二","県立",0,"下館第二高等学校","下館第二","しもつまだいいち","男","女","308-0051","筑西市岡芹一丁目37","0296-22-5361",{"$error":"#REF!"},"0296-25-4683","池田　恭彦","柴　弥寿子","斉藤　由起子","　","　","　"]
["明野高等学校",6,7,63,"明野","明野","県立",0,"明野高等学校","明野","しもつまだいに","男","女","300-4515","筑西市倉持1176-1","0296-52-3121",{"$error":"#REF!"},"0296-52-5869","井上　剛","塚原　千秋","真家　大輔","望月　ありさ","　","　"]
["下妻第一高等学校",6,8,64,"妻一","下妻一","県立",0,"下妻第一高等学校","下妻第一",{"$error":"#REF!"},"男","女","304-0067","下妻市下妻乙226-1","0296-44-5158","30400670296-44-25490296-43-9173","0296-43-9172","生井　秀一","中泉　尚人","濵野　美智","坂入　純子","　","　"]
["下妻第二高等学校",6,9,65,"妻二","下妻二","県立",0,"下妻第二高等学校","下妻第二","みつかいどうだいいち","男","女","304-0067","下妻市下妻乙347-8","0296-44-2549","30400670296-44-25490296-43-9173","0296-43-9173","島根　千春","大垣　朋也","福永　弘","　","　","　"]
[{"$f":"I131","v":"水海道第一高等学校"},6,10,66,"海一","水海一","県立",0,"水海道第一高等学校","水海道第一","こがだいに","男","女","303-0025","常総市水海道亀岡町2543","0297-22-0029","30300250297-22-00290297-22-5479","0297-22-5479","福田　崇","緒方　響","髙藤　啓光","　","　","　"]
["八千代高等学校",6,11,67,"八千代","八千代","県立",0,"八千代高等学校","八 千 代","こがだいさん","男","女","300-3561","結城郡八千代町大字平塚4824-2","0296-48-1836","30600240280-32-04440280-31-6602","0296-48-3201","榊原　洋子","鈴木　千裕","藤白　祐佳","　","　","　"]
["古河第二高等学校",6,12,68,"古二","古河二","県立",0,"古河第二高等学校","古河第二","さんわ","男","女","306-0024","古河市幸町19-18","0280-32-0444","30600240280-32-04440280-31-6602","0280-31-6602","有瀧　由起子","海野　俊介","栗原　邦男","　","　","　"]
["古河第三高等学校",6,13,69,"古三","古河三","県立",0,"古河第三高等学校","古河第三","さかい","男","女","306-0054","古河市中田新田12-1","0280-48-2755","30601230280-76-49590280-76-4935","0280-48-5424","早川　尚人","秋葉　尚子","山中　英憲","立川　正信","　","　"]
["三和高等学校",6,14,70,"三和","三和","県立",0,"三和高等学校","三　　和","もりや","男","女","306-0123","古河市五部54-1","0280-76-4959","30601230280-76-49590280-76-4935","0280-76-4935","鈴木　厚子","小島　彩華","諏訪　主樹","　","　","　"]
["境高等学校",6,15,71,"境","境","県立",0,"境高等学校","境","つくばしゅうえい","男","女","306-0433","猿島郡境町175","0280-87-0123","30201070297-48-64090297-45-8479","0280-87-5688","新井　智子","齋藤　起輝","吉澤　靖","木村　亜紀子","　","　"]
["守谷高等学校",6,16,72,"守谷","守谷","県立",0,"守谷高等学校","守　　谷",0,"男","女","302-0107","守谷市大木70","0297-48-6409","30201070297-48-64090297-45-8479","0297-45-8479","髙野　美有紀","松﨑　稔昌","本田　敦","早乙女　舞","　","　"]
["つくば秀英高等学校",6,17,73,"秀英","秀英",0,"私立","つくば秀英高等学校","つくば秀英",0,"男","女","300-2655","つくば市島名151","029-847-1611","","029-847-3111","石川　英昭","谷端　弘孝","川喜多　麻里","寺井　誠","福田　恒昭","　"]
[]
[]
[]
[{"$f":"リスト!A3","v":"　"},{"$f":"リスト!B3","v":0},{"$f":"リスト!C3","v":0},{"$f":"リスト!D3","v":0},{"$f":"リスト!E3","v":0},{"$f":"リスト!F3","v":0},{"$f":"リスト!G3","v":0},{"$f":"リスト!H3","v":0},{"$f":"リスト!I3","v":0},{"$f":"リスト!J3","v":0},{"$f":"リスト!K3","v":0},{"$f":"リスト!L3","v":0},{"$f":"リスト!M3","v":0},{"$f":"リスト!N3","v":0}]
[{"$f":"リスト!A4","v":"　"},{"$f":"リスト!B4","v":0},{"$f":"リスト!C4","v":0},{"$f":"リスト!D4","v":0},{"$f":"リスト!E4","v":0},{"$f":"リスト!F4","v":0},{"$f":"リスト!G4","v":0},{"$f":"リスト!H4","v":0},{"$f":"リスト!I4","v":0},{"$f":"リスト!J4","v":0},{"$f":"リスト!K4","v":0},{"$f":"リスト!L4","v":0},{"$f":"リスト!M4","v":0},{"$f":"リスト!N4","v":0}]
[{"$f":"リスト!A5","v":"　"},{"$f":"リスト!B5","v":0},{"$f":"リスト!C5","v":0},{"$f":"リスト!D5","v":0},{"$f":"リスト!E5","v":0},{"$f":"リスト!F5","v":0},{"$f":"リスト!G5","v":0},{"$f":"リスト!H5","v":0},{"$f":"リスト!I5","v":0},{"$f":"リスト!J5","v":0},{"$f":"リスト!K5","v":0},{"$f":"リスト!L5","v":0},{"$f":"リスト!M5","v":0},{"$f":"リスト!N5","v":0}]
[{"$f":"リスト!A6","v":"　"},{"$f":"リスト!B6","v":0},{"$f":"リスト!C6","v":0},{"$f":"リスト!D6","v":0},{"$f":"リスト!E6","v":0},{"$f":"リスト!F6","v":0},{"$f":"リスト!G6","v":0},{"$f":"リスト!H6","v":0},{"$f":"リスト!I6","v":0},{"$f":"リスト!J6","v":0},{"$f":"リスト!K6","v":0},{"$f":"リスト!L6","v":0},{"$f":"リスト!M6","v":0},{"$f":"リスト!N6","v":0}]
[{"$f":"リスト!A7","v":"　"},{"$f":"リスト!B7","v":0},{"$f":"リスト!C7","v":0},{"$f":"リスト!D7","v":0},{"$f":"リスト!E7","v":0},{"$f":"リスト!F7","v":0},{"$f":"リスト!G7","v":0},{"$f":"リスト!H7","v":0},{"$f":"リスト!I7","v":0},{"$f":"リスト!J7","v":0},{"$f":"リスト!K7","v":0},{"$f":"リスト!L7","v":0},{"$f":"リスト!M7","v":0},{"$f":"リスト!N7","v":0}]
[{"$f":"リスト!A8","v":"　"},{"$f":"リスト!B8","v":0},{"$f":"リスト!C8","v":0},{"$f":"リスト!D8","v":0},{"$f":"リスト!E8","v":0},{"$f":"リスト!F8","v":0},{"$f":"リスト!G8","v":0},{"$f":"リスト!H8","v":0},{"$f":"リスト!I8","v":0},{"$f":"リスト!J8","v":0},{"$f":"リスト!K8","v":0},{"$f":"リスト!L8","v":0},{"$f":"リスト!M8","v":0},{"$f":"リスト!N8","v":0}]
[{"$f":"リスト!A9","v":"　"},{"$f":"リスト!B9","v":0},{"$f":"リスト!C9","v":0},{"$f":"リスト!D9","v":0},{"$f":"リスト!E9","v":0},{"$f":"リスト!F9","v":0},{"$f":"リスト!G9","v":0},{"$f":"リスト!H9","v":0},{"$f":"リスト!I9","v":0},{"$f":"リスト!J9","v":0},{"$f":"リスト!K9","v":0},{"$f":"リスト!L9","v":0},{"$f":"リスト!M9","v":0},{"$f":"リスト!N9","v":0}]
[{"$f":"リスト!A10","v":"　"},{"$f":"リスト!B10","v":0},{"$f":"リスト!C10","v":0},{"$f":"リスト!D10","v":0},{"$f":"リスト!E10","v":0},{"$f":"リスト!F10","v":0},{"$f":"リスト!G10","v":0},{"$f":"リスト!H10","v":0},{"$f":"リスト!I10","v":0},{"$f":"リスト!J10","v":0},{"$f":"リスト!K10","v":0},{"$f":"リスト!L10","v":0},{"$f":"リスト!M10","v":0},{"$f":"リスト!N10","v":0}]
[{"$f":"リスト!A11","v":"　"},{"$f":"リスト!B11","v":0},{"$f":"リスト!C11","v":0},{"$f":"リスト!D11","v":0},{"$f":"リスト!E11","v":0},{"$f":"リスト!F11","v":0},{"$f":"リスト!G11","v":0},{"$f":"リスト!H11","v":0},{"$f":"リスト!I11","v":0},{"$f":"リスト!J11","v":0},{"$f":"リスト!K11","v":0},{"$f":"リスト!L11","v":0},{"$f":"リスト!M11","v":0},{"$f":"リスト!N11","v":0}]
[{"$f":"リスト!A12","v":"　"},{"$f":"リスト!B12","v":0},{"$f":"リスト!C12","v":0},{"$f":"リスト!D12","v":0},{"$f":"リスト!E12","v":0},{"$f":"リスト!F12","v":0},{"$f":"リスト!G12","v":0},{"$f":"リスト!H12","v":0},{"$f":"リスト!I12","v":0},{"$f":"リスト!J12","v":0},{"$f":"リスト!K12","v":0},{"$f":"リスト!L12","v":0},{"$f":"リスト!M12","v":0},{"$f":"リスト!N12","v":0}]
[{"$f":"リスト!A13","v":"　"},{"$f":"リスト!B13","v":0},{"$f":"リスト!C13","v":0},{"$f":"リスト!D13","v":0},{"$f":"リスト!E13","v":0},{"$f":"リスト!F13","v":0},{"$f":"リスト!G13","v":0},{"$f":"リスト!H13","v":0},{"$f":"リスト!I13","v":0},{"$f":"リスト!J13","v":0},{"$f":"リスト!K13","v":0},{"$f":"リスト!L13","v":0},{"$f":"リスト!M13","v":0},{"$f":"リスト!N13","v":0}]
[{"$f":"リスト!A14","v":"　"},{"$f":"リスト!B14","v":0},{"$f":"リスト!C14","v":0},{"$f":"リスト!D14","v":0},{"$f":"リスト!E14","v":0},{"$f":"リスト!F14","v":0},{"$f":"リスト!G14","v":0},{"$f":"リスト!H14","v":0},{"$f":"リスト!I14","v":0},{"$f":"リスト!J14","v":0},{"$f":"リスト!K14","v":0},{"$f":"リスト!L14","v":0},{"$f":"リスト!M14","v":0},{"$f":"リスト!N14","v":0}]
[{"$f":"リスト!A15","v":"　"},{"$f":"リスト!B15","v":0},{"$f":"リスト!C15","v":0},{"$f":"リスト!D15","v":0},{"$f":"リスト!E15","v":0},{"$f":"リスト!F15","v":0},{"$f":"リスト!G15","v":0},{"$f":"リスト!H15","v":0},{"$f":"リスト!I15","v":0},{"$f":"リスト!J15","v":0},{"$f":"リスト!K15","v":0},{"$f":"リスト!L15","v":0},{"$f":"リスト!M15","v":0},{"$f":"リスト!N15","v":0}]
[{"$f":"リスト!A16","v":"　"},{"$f":"リスト!B16","v":0},{"$f":"リスト!C16","v":0},{"$f":"リスト!D16","v":0},{"$f":"リスト!E16","v":0},{"$f":"リスト!F16","v":0},{"$f":"リスト!G16","v":0},{"$f":"リスト!H16","v":0},{"$f":"リスト!I16","v":0},{"$f":"リスト!J16","v":0},{"$f":"リスト!K16","v":0},{"$f":"リスト!L16","v":0},{"$f":"リスト!M16","v":0},{"$f":"リスト!N16","v":0}]
[{"$f":"リスト!A17","v":"　"},{"$f":"リスト!B17","v":0},{"$f":"リスト!C17","v":0},{"$f":"リスト!D17","v":0},{"$f":"リスト!E17","v":0},{"$f":"リスト!F17","v":0},{"$f":"リスト!G17","v":0},{"$f":"リスト!H17","v":0},{"$f":"リスト!I17","v":0},{"$f":"リスト!J17","v":0},{"$f":"リスト!K17","v":0},{"$f":"リスト!L17","v":0},{"$f":"リスト!M17","v":0},{"$f":"リスト!N17","v":0}]
[{"$f":"リスト!A18","v":"　"},{"$f":"リスト!B18","v":0},{"$f":"リスト!C18","v":0},{"$f":"リスト!D18","v":0},{"$f":"リスト!E18","v":0},{"$f":"リスト!F18","v":0},{"$f":"リスト!G18","v":0},{"$f":"リスト!H18","v":0},{"$f":"リスト!I18","v":0},{"$f":"リスト!J18","v":0},{"$f":"リスト!K18","v":0},{"$f":"リスト!L18","v":0},{"$f":"リスト!M18","v":0},{"$f":"リスト!N18","v":0}]
[{"$f":"リスト!A19","v":"　"},{"$f":"リスト!B19","v":0},{"$f":"リスト!C19","v":0},{"$f":"リスト!D19","v":0},{"$f":"リスト!E19","v":0},{"$f":"リスト!F19","v":0},{"$f":"リスト!G19","v":0},{"$f":"リスト!H19","v":0},{"$f":"リスト!I19","v":0},{"$f":"リスト!J19","v":0},{"$f":"リスト!K19","v":0},{"$f":"リスト!L19","v":0},{"$f":"リスト!M19","v":0},{"$f":"リスト!N19","v":0}]
[{"$f":"リスト!A20","v":"　"},{"$f":"リスト!B20","v":0},{"$f":"リスト!C20","v":0},{"$f":"リスト!D20","v":0},{"$f":"リスト!E20","v":0},{"$f":"リスト!F20","v":0},{"$f":"リスト!G20","v":0},{"$f":"リスト!H20","v":0},{"$f":"リスト!I20","v":0},{"$f":"リスト!J20","v":0},{"$f":"リスト!K20","v":0},{"$f":"リスト!L20","v":0},{"$f":"リスト!M20","v":0},{"$f":"リスト!N20","v":0}]
[{"$f":"リスト!A21","v":"　"},{"$f":"リスト!B21","v":0},{"$f":"リスト!C21","v":0},{"$f":"リスト!D21","v":0},{"$f":"リスト!E21","v":0},{"$f":"リスト!F21","v":0},{"$f":"リスト!G21","v":0},{"$f":"リスト!H21","v":0},{"$f":"リスト!I21","v":0},{"$f":"リスト!J21","v":0},{"$f":"リスト!K21","v":0},{"$f":"リスト!L21","v":0},{"$f":"リスト!M21","v":0},{"$f":"リスト!N21","v":0}]
[{"$f":"リスト!A22","v":"　"},{"$f":"リスト!B22","v":0},{"$f":"リスト!C22","v":0},{"$f":"リスト!D22","v":0},{"$f":"リスト!E22","v":0},{"$f":"リスト!F22","v":0},{"$f":"リスト!G22","v":0},{"$f":"リスト!H22","v":0},{"$f":"リスト!I22","v":0},{"$f":"リスト!J22","v":0},{"$f":"リスト!K22","v":0},{"$f":"リスト!L22","v":0},{"$f":"リスト!M22","v":0},{"$f":"リスト!N22","v":0}]
[{"$f":"リスト!A23","v":"　"},{"$f":"リスト!B23","v":0},{"$f":"リスト!C23","v":0},{"$f":"リスト!D23","v":0},{"$f":"リスト!E23","v":0},{"$f":"リスト!F23","v":0},{"$f":"リスト!G23","v":0},{"$f":"リスト!H23","v":0},{"$f":"リスト!I23","v":0},{"$f":"リスト!J23","v":0},{"$f":"リスト!K23","v":0},{"$f":"リスト!L23","v":0},{"$f":"リスト!M23","v":0},{"$f":"リスト!N23","v":0}]
[{"$f":"リスト!A24","v":"　"},{"$f":"リスト!B24","v":0},{"$f":"リスト!C24","v":0},{"$f":"リスト!D24","v":0},{"$f":"リスト!E24","v":0},{"$f":"リスト!F24","v":0},{"$f":"リスト!G24","v":0},{"$f":"リスト!H24","v":0},{"$f":"リスト!I24","v":0},{"$f":"リスト!J24","v":0},{"$f":"リスト!K24","v":0},{"$f":"リスト!L24","v":0},{"$f":"リスト!M24","v":0},{"$f":"リスト!N24","v":0}]
[{"$f":"リスト!A25","v":"　"},{"$f":"リスト!B25","v":0},{"$f":"リスト!C25","v":0},{"$f":"リスト!D25","v":0},{"$f":"リスト!E25","v":0},{"$f":"リスト!F25","v":0},{"$f":"リスト!G25","v":0},{"$f":"リスト!H25","v":0},{"$f":"リスト!I25","v":0},{"$f":"リスト!J25","v":0},{"$f":"リスト!K25","v":0},{"$f":"リスト!L25","v":0},{"$f":"リスト!M25","v":0},{"$f":"リスト!N25","v":0}]
[{"$f":"リスト!A26","v":"　"},{"$f":"リスト!B26","v":0},{"$f":"リスト!C26","v":0},{"$f":"リスト!D26","v":0},{"$f":"リスト!E26","v":0},{"$f":"リスト!F26","v":0},{"$f":"リスト!G26","v":0},{"$f":"リスト!H26","v":0},{"$f":"リスト!I26","v":0},{"$f":"リスト!J26","v":0},{"$f":"リスト!K26","v":0},{"$f":"リスト!L26","v":0},{"$f":"リスト!M26","v":0},{"$f":"リスト!N26","v":0}]
[{"$f":"リスト!A27","v":"　"},{"$f":"リスト!B27","v":0},{"$f":"リスト!C27","v":0},{"$f":"リスト!D27","v":0},{"$f":"リスト!E27","v":0},{"$f":"リスト!F27","v":0},{"$f":"リスト!G27","v":0},{"$f":"リスト!H27","v":0},{"$f":"リスト!I27","v":0},{"$f":"リスト!J27","v":0},{"$f":"リスト!K27","v":0},{"$f":"リスト!L27","v":0},{"$f":"リスト!M27","v":0},{"$f":"リスト!N27","v":0}]
[{"$f":"リスト!A28","v":"　"},{"$f":"リスト!B28","v":0},{"$f":"リスト!C28","v":0},{"$f":"リスト!D28","v":0},{"$f":"リスト!E28","v":0},{"$f":"リスト!F28","v":0},{"$f":"リスト!G28","v":0},{"$f":"リスト!H28","v":0},{"$f":"リスト!I28","v":0},{"$f":"リスト!J28","v":0},{"$f":"リスト!K28","v":0},{"$f":"リスト!L28","v":0},{"$f":"リスト!M28","v":0},{"$f":"リスト!N28","v":0}]
[{"$f":"リスト!A29","v":"　"},{"$f":"リスト!B29","v":0},{"$f":"リスト!C29","v":0},{"$f":"リスト!D29","v":0},{"$f":"リスト!E29","v":0},{"$f":"リスト!F29","v":0},{"$f":"リスト!G29","v":0},{"$f":"リスト!H29","v":0},{"$f":"リスト!I29","v":0},{"$f":"リスト!J29","v":0},{"$f":"リスト!K29","v":0},{"$f":"リスト!L29","v":0},{"$f":"リスト!M29","v":0},{"$f":"リスト!N29","v":0}]
[{"$f":"リスト!A30","v":"　"},{"$f":"リスト!B30","v":0},{"$f":"リスト!C30","v":0},{"$f":"リスト!D30","v":0},{"$f":"リスト!E30","v":0},{"$f":"リスト!F30","v":0},{"$f":"リスト!G30","v":0},{"$f":"リスト!H30","v":0},{"$f":"リスト!I30","v":0},{"$f":"リスト!J30","v":0},{"$f":"リスト!K30","v":0},{"$f":"リスト!L30","v":0},{"$f":"リスト!M30","v":0},{"$f":"リスト!N30","v":0}]
[{"$f":"リスト!A31","v":"　"},{"$f":"リスト!B31","v":0},{"$f":"リスト!C31","v":0},{"$f":"リスト!D31","v":0},{"$f":"リスト!E31","v":0},{"$f":"リスト!F31","v":0},{"$f":"リスト!G31","v":0},{"$f":"リスト!H31","v":0},{"$f":"リスト!I31","v":0},{"$f":"リスト!J31","v":0},{"$f":"リスト!K31","v":0},{"$f":"リスト!L31","v":0},{"$f":"リスト!M31","v":0},{"$f":"リスト!N31","v":0}]
[{"$f":"リスト!A32","v":"　"},{"$f":"リスト!B32","v":0},{"$f":"リスト!C32","v":0},{"$f":"リスト!D32","v":0},{"$f":"リスト!E32","v":0},{"$f":"リスト!F32","v":0},{"$f":"リスト!G32","v":0},{"$f":"リスト!H32","v":0},{"$f":"リスト!I32","v":0},{"$f":"リスト!J32","v":0},{"$f":"リスト!K32","v":0},{"$f":"リスト!L32","v":0},{"$f":"リスト!M32","v":0},{"$f":"リスト!N32","v":0}]
[{"$f":"リスト!A33","v":"　"},{"$f":"リスト!B33","v":0},{"$f":"リスト!C33","v":0},{"$f":"リスト!D33","v":0},{"$f":"リスト!E33","v":0},{"$f":"リスト!F33","v":0},{"$f":"リスト!G33","v":0},{"$f":"リスト!H33","v":0},{"$f":"リスト!I33","v":0},{"$f":"リスト!J33","v":0},{"$f":"リスト!K33","v":0},{"$f":"リスト!L33","v":0},{"$f":"リスト!M33","v":0},{"$f":"リスト!N33","v":0}]
[{"$f":"リスト!A34","v":"　"},{"$f":"リスト!B34","v":0},{"$f":"リスト!C34","v":0},{"$f":"リスト!D34","v":0},{"$f":"リスト!E34","v":0},{"$f":"リスト!F34","v":0},{"$f":"リスト!G34","v":0},{"$f":"リスト!H34","v":0},{"$f":"リスト!I34","v":0},{"$f":"リスト!J34","v":0},{"$f":"リスト!K34","v":0},{"$f":"リスト!L34","v":0},{"$f":"リスト!M34","v":0},{"$f":"リスト!N34","v":0}]
[{"$f":"リスト!A35","v":"　"},{"$f":"リスト!B35","v":0},{"$f":"リスト!C35","v":0},{"$f":"リスト!D35","v":0},{"$f":"リスト!E35","v":0},{"$f":"リスト!F35","v":0},{"$f":"リスト!G35","v":0},{"$f":"リスト!H35","v":0},{"$f":"リスト!I35","v":0},{"$f":"リスト!J35","v":0},{"$f":"リスト!K35","v":0},{"$f":"リスト!L35","v":0},{"$f":"リスト!M35","v":0},{"$f":"リスト!N35","v":0}]
[{"$f":"リスト!A36","v":"　"},{"$f":"リスト!B36","v":0},{"$f":"リスト!C36","v":0},{"$f":"リスト!D36","v":0},{"$f":"リスト!E36","v":0},{"$f":"リスト!F36","v":0},{"$f":"リスト!G36","v":0},{"$f":"リスト!H36","v":0},{"$f":"リスト!I36","v":0},{"$f":"リスト!J36","v":0},{"$f":"リスト!K36","v":0},{"$f":"リスト!L36","v":0},{"$f":"リスト!M36","v":0},{"$f":"リスト!N36","v":0}]
[{"$f":"リスト!A37","v":"　"},{"$f":"リスト!B37","v":0},{"$f":"リスト!C37","v":0},{"$f":"リスト!D37","v":0},{"$f":"リスト!E37","v":0},{"$f":"リスト!F37","v":0},{"$f":"リスト!G37","v":0},{"$f":"リスト!H37","v":0},{"$f":"リスト!I37","v":0},{"$f":"リスト!J37","v":0},{"$f":"リスト!K37","v":0},{"$f":"リスト!L37","v":0},{"$f":"リスト!M37","v":0},{"$f":"リスト!N37","v":0}]
[{"$f":"リスト!A38","v":"　"},{"$f":"リスト!B38","v":0},{"$f":"リスト!C38","v":0},{"$f":"リスト!D38","v":0},{"$f":"リスト!E38","v":0},{"$f":"リスト!F38","v":0},{"$f":"リスト!G38","v":0},{"$f":"リスト!H38","v":0},{"$f":"リスト!I38","v":0},{"$f":"リスト!J38","v":0},{"$f":"リスト!K38","v":0},{"$f":"リスト!L38","v":0},{"$f":"リスト!M38","v":0},{"$f":"リスト!N38","v":0}]
[{"$f":"リスト!A39","v":"　"},{"$f":"リスト!B39","v":0},{"$f":"リスト!C39","v":0},{"$f":"リスト!D39","v":0},{"$f":"リスト!E39","v":0},{"$f":"リスト!F39","v":0},{"$f":"リスト!G39","v":0},{"$f":"リスト!H39","v":0},{"$f":"リスト!I39","v":0},{"$f":"リスト!J39","v":0},{"$f":"リスト!K39","v":0},{"$f":"リスト!L39","v":0},{"$f":"リスト!M39","v":0},{"$f":"リスト!N39","v":0}]
[{"$f":"リスト!A40","v":"　"},{"$f":"リスト!B40","v":0},{"$f":"リスト!C40","v":0},{"$f":"リスト!D40","v":0},{"$f":"リスト!E40","v":0},{"$f":"リスト!F40","v":0},{"$f":"リスト!G40","v":0},{"$f":"リスト!H40","v":0},{"$f":"リスト!I40","v":0},{"$f":"リスト!J40","v":0},{"$f":"リスト!K40","v":0},{"$f":"リスト!L40","v":0},{"$f":"リスト!M40","v":0},{"$f":"リスト!N40","v":0}]
[{"$f":"リスト!A41","v":"　"},{"$f":"リスト!B41","v":0},{"$f":"リスト!C41","v":0},{"$f":"リスト!D41","v":0},{"$f":"リスト!E41","v":0},{"$f":"リスト!F41","v":0},{"$f":"リスト!G41","v":0},{"$f":"リスト!H41","v":0},{"$f":"リスト!I41","v":0},{"$f":"リスト!J41","v":0},{"$f":"リスト!K41","v":0},{"$f":"リスト!L41","v":0},{"$f":"リスト!M41","v":0},{"$f":"リスト!N41","v":0}]
[{"$f":"リスト!A42","v":"　"},{"$f":"リスト!B42","v":0},{"$f":"リスト!C42","v":0},{"$f":"リスト!D42","v":0},{"$f":"リスト!E42","v":0},{"$f":"リスト!F42","v":0},{"$f":"リスト!G42","v":0},{"$f":"リスト!H42","v":0},{"$f":"リスト!I42","v":0},{"$f":"リスト!J42","v":0},{"$f":"リスト!K42","v":0},{"$f":"リスト!L42","v":0},{"$f":"リスト!M42","v":0},{"$f":"リスト!N42","v":0}]
[{"$f":"リスト!A43","v":"　"},{"$f":"リスト!B43","v":0},{"$f":"リスト!C43","v":0},{"$f":"リスト!D43","v":0},{"$f":"リスト!E43","v":0},{"$f":"リスト!F43","v":0},{"$f":"リスト!G43","v":0},{"$f":"リスト!H43","v":0},{"$f":"リスト!I43","v":0},{"$f":"リスト!J43","v":0},{"$f":"リスト!K43","v":0},{"$f":"リスト!L43","v":0},{"$f":"リスト!M43","v":0},{"$f":"リスト!N43","v":0}]
[{"$f":"リスト!A44","v":"　"},{"$f":"リスト!B44","v":0},{"$f":"リスト!C44","v":0},{"$f":"リスト!D44","v":0},{"$f":"リスト!E44","v":0},{"$f":"リスト!F44","v":0},{"$f":"リスト!G44","v":0},{"$f":"リスト!H44","v":0},{"$f":"リスト!I44","v":0},{"$f":"リスト!J44","v":0},{"$f":"リスト!K44","v":0},{"$f":"リスト!L44","v":0},{"$f":"リスト!M44","v":0},{"$f":"リスト!N44","v":0}]
[{"$f":"リスト!A45","v":"　"},{"$f":"リスト!B45","v":0},{"$f":"リスト!C45","v":0},{"$f":"リスト!D45","v":0},{"$f":"リスト!E45","v":0},{"$f":"リスト!F45","v":0},{"$f":"リスト!G45","v":0},{"$f":"リスト!H45","v":0},{"$f":"リスト!I45","v":0},{"$f":"リスト!J45","v":0},{"$f":"リスト!K45","v":0},{"$f":"リスト!L45","v":0},{"$f":"リスト!M45","v":0},{"$f":"リスト!N45","v":0}]
[{"$f":"リスト!A46","v":"　"},{"$f":"リスト!B46","v":0},{"$f":"リスト!C46","v":0},{"$f":"リスト!D46","v":0},{"$f":"リスト!E46","v":0},{"$f":"リスト!F46","v":0},{"$f":"リスト!G46","v":0},{"$f":"リスト!H46","v":0},{"$f":"リスト!I46","v":0},{"$f":"リスト!J46","v":0},{"$f":"リスト!K46","v":0},{"$f":"リスト!L46","v":0},{"$f":"リスト!M46","v":0},{"$f":"リスト!N46","v":0}]
[{"$f":"リスト!A47","v":"　"},{"$f":"リスト!B47","v":0},{"$f":"リスト!C47","v":0},{"$f":"リスト!D47","v":0},{"$f":"リスト!E47","v":0},{"$f":"リスト!F47","v":0},{"$f":"リスト!G47","v":0},{"$f":"リスト!H47","v":0},{"$f":"リスト!I47","v":0},{"$f":"リスト!J47","v":0},{"$f":"リスト!K47","v":0},{"$f":"リスト!L47","v":0},{"$f":"リスト!M47","v":0},{"$f":"リスト!N47","v":0}]
[{"$f":"リスト!A48","v":"　"},{"$f":"リスト!B48","v":0},{"$f":"リスト!C48","v":0},{"$f":"リスト!D48","v":0},{"$f":"リスト!E48","v":0},{"$f":"リスト!F48","v":0},{"$f":"リスト!G48","v":0},{"$f":"リスト!H48","v":0},{"$f":"リスト!I48","v":0},{"$f":"リスト!J48","v":0},{"$f":"リスト!K48","v":0},{"$f":"リスト!L48","v":0},{"$f":"リスト!M48","v":0},{"$f":"リスト!N48","v":0}]
[{"$f":"リスト!A49","v":"　"},{"$f":"リスト!B49","v":0},{"$f":"リスト!C49","v":0},{"$f":"リスト!D49","v":0},{"$f":"リスト!E49","v":0},{"$f":"リスト!F49","v":0},{"$f":"リスト!G49","v":0},{"$f":"リスト!H49","v":0},{"$f":"リスト!I49","v":0},{"$f":"リスト!J49","v":0},{"$f":"リスト!K49","v":0},{"$f":"リスト!L49","v":0},{"$f":"リスト!M49","v":0},{"$f":"リスト!N49","v":0}]
[{"$f":"リスト!A50","v":"　"},{"$f":"リスト!B50","v":0},{"$f":"リスト!C50","v":0},{"$f":"リスト!D50","v":0},{"$f":"リスト!E50","v":0},{"$f":"リスト!F50","v":0},{"$f":"リスト!G50","v":0},{"$f":"リスト!H50","v":0},{"$f":"リスト!I50","v":0},{"$f":"リスト!J50","v":0},{"$f":"リスト!K50","v":0},{"$f":"リスト!L50","v":0},{"$f":"リスト!M50","v":0},{"$f":"リスト!N50","v":0}]
[{"$f":"リスト!A51","v":"　"},{"$f":"リスト!B51","v":0},{"$f":"リスト!C51","v":0},{"$f":"リスト!D51","v":0},{"$f":"リスト!E51","v":0},{"$f":"リスト!F51","v":0},{"$f":"リスト!G51","v":0},{"$f":"リスト!H51","v":0},{"$f":"リスト!I51","v":0},{"$f":"リスト!J51","v":0},{"$f":"リスト!K51","v":0},{"$f":"リスト!L51","v":0},{"$f":"リスト!M51","v":0},{"$f":"リスト!N51","v":0}]
[{"$f":"リスト!A52","v":"　"},{"$f":"リスト!B52","v":0},{"$f":"リスト!C52","v":0},{"$f":"リスト!D52","v":0},{"$f":"リスト!E52","v":0},{"$f":"リスト!F52","v":0},{"$f":"リスト!G52","v":0},{"$f":"リスト!H52","v":0},{"$f":"リスト!I52","v":0},{"$f":"リスト!J52","v":0},{"$f":"リスト!K52","v":0},{"$f":"リスト!L52","v":0},{"$f":"リスト!M52","v":0},{"$f":"リスト!N52","v":0}]
[{"$f":"リスト!A53","v":"　"},{"$f":"リスト!B53","v":0},{"$f":"リスト!C53","v":0},{"$f":"リスト!D53","v":0},{"$f":"リスト!E53","v":0},{"$f":"リスト!F53","v":0},{"$f":"リスト!G53","v":0},{"$f":"リスト!H53","v":0},{"$f":"リスト!I53","v":0},{"$f":"リスト!J53","v":0},{"$f":"リスト!K53","v":0},{"$f":"リスト!L53","v":0},{"$f":"リスト!M53","v":0},{"$f":"リスト!N53","v":0}]
[{"$f":"リスト!A54","v":"　"},{"$f":"リスト!B54","v":0},{"$f":"リスト!C54","v":0},{"$f":"リスト!D54","v":0},{"$f":"リスト!E54","v":0},{"$f":"リスト!F54","v":0},{"$f":"リスト!G54","v":0},{"$f":"リスト!H54","v":0},{"$f":"リスト!I54","v":0},{"$f":"リスト!J54","v":0},{"$f":"リスト!K54","v":0},{"$f":"リスト!L54","v":0},{"$f":"リスト!M54","v":0},{"$f":"リスト!N54","v":0}]
[{"$f":"リスト!A55","v":"　"},{"$f":"リスト!B55","v":0},{"$f":"リスト!C55","v":0},{"$f":"リスト!D55","v":0},{"$f":"リスト!E55","v":0},{"$f":"リスト!F55","v":0},{"$f":"リスト!G55","v":0},{"$f":"リスト!H55","v":0},{"$f":"リスト!I55","v":0},{"$f":"リスト!J55","v":0},{"$f":"リスト!K55","v":0},{"$f":"リスト!L55","v":0},{"$f":"リスト!M55","v":0},{"$f":"リスト!N55","v":0}]
[{"$f":"リスト!A56","v":"　"},{"$f":"リスト!B56","v":0},{"$f":"リスト!C56","v":0},{"$f":"リスト!D56","v":0},{"$f":"リスト!E56","v":0},{"$f":"リスト!F56","v":0},{"$f":"リスト!G56","v":0},{"$f":"リスト!H56","v":0},{"$f":"リスト!I56","v":0},{"$f":"リスト!J56","v":0},{"$f":"リスト!K56","v":0},{"$f":"リスト!L56","v":0},{"$f":"リスト!M56","v":0},{"$f":"リスト!N56","v":0}]
[{"$f":"リスト!A57","v":"　"},{"$f":"リスト!B57","v":0},{"$f":"リスト!C57","v":0},{"$f":"リスト!D57","v":0},{"$f":"リスト!E57","v":0},{"$f":"リスト!F57","v":0},{"$f":"リスト!G57","v":0},{"$f":"リスト!H57","v":0},{"$f":"リスト!I57","v":0},{"$f":"リスト!J57","v":0},{"$f":"リスト!K57","v":0},{"$f":"リスト!L57","v":0},{"$f":"リスト!M57","v":0},{"$f":"リスト!N57","v":0}]
[{"$f":"リスト!A58","v":"　"},{"$f":"リスト!B58","v":0},{"$f":"リスト!C58","v":0},{"$f":"リスト!D58","v":0},{"$f":"リスト!E58","v":0},{"$f":"リスト!F58","v":0},{"$f":"リスト!G58","v":0},{"$f":"リスト!H58","v":0},{"$f":"リスト!I58","v":0},{"$f":"リスト!J58","v":0},{"$f":"リスト!K58","v":0},{"$f":"リスト!L58","v":0},{"$f":"リスト!M58","v":0},{"$f":"リスト!N58","v":0}]
[{"$f":"リスト!A59","v":"　"},{"$f":"リスト!B59","v":0},{"$f":"リスト!C59","v":0},{"$f":"リスト!D59","v":0},{"$f":"リスト!E59","v":0},{"$f":"リスト!F59","v":0},{"$f":"リスト!G59","v":0},{"$f":"リスト!H59","v":0},{"$f":"リスト!I59","v":0},{"$f":"リスト!J59","v":0},{"$f":"リスト!K59","v":0},{"$f":"リスト!L59","v":0},{"$f":"リスト!M59","v":0},{"$f":"リスト!N59","v":0}]
[{"$f":"リスト!A60","v":"　"},{"$f":"リスト!B60","v":0},{"$f":"リスト!C60","v":0},{"$f":"リスト!D60","v":0},{"$f":"リスト!E60","v":0},{"$f":"リスト!F60","v":0},{"$f":"リスト!G60","v":0},{"$f":"リスト!H60","v":0},{"$f":"リスト!I60","v":0},{"$f":"リスト!J60","v":0},{"$f":"リスト!K60","v":0},{"$f":"リスト!L60","v":0},{"$f":"リスト!M60","v":0},{"$f":"リスト!N60","v":0}]
[{"$f":"リスト!A61","v":"　"},{"$f":"リスト!B61","v":0},{"$f":"リスト!C61","v":0},{"$f":"リスト!D61","v":0},{"$f":"リスト!E61","v":0},{"$f":"リスト!F61","v":0},{"$f":"リスト!G61","v":0},{"$f":"リスト!H61","v":0},{"$f":"リスト!I61","v":0},{"$f":"リスト!J61","v":0},{"$f":"リスト!K61","v":0},{"$f":"リスト!L61","v":0},{"$f":"リスト!M61","v":0},{"$f":"リスト!N61","v":0}]
[{"$f":"リスト!A62","v":"　"},{"$f":"リスト!B62","v":0},{"$f":"リスト!C62","v":0},{"$f":"リスト!D62","v":0},{"$f":"リスト!E62","v":0},{"$f":"リスト!F62","v":0},{"$f":"リスト!G62","v":0},{"$f":"リスト!H62","v":0},{"$f":"リスト!I62","v":0},{"$f":"リスト!J62","v":0},{"$f":"リスト!K62","v":0},{"$f":"リスト!L62","v":0},{"$f":"リスト!M62","v":0},{"$f":"リスト!N62","v":0}]
[{"$f":"リスト!A63","v":"　"},{"$f":"リスト!B63","v":0},{"$f":"リスト!C63","v":0},{"$f":"リスト!D63","v":0},{"$f":"リスト!E63","v":0},{"$f":"リスト!F63","v":0},{"$f":"リスト!G63","v":0},{"$f":"リスト!H63","v":0},{"$f":"リスト!I63","v":0},{"$f":"リスト!J63","v":0},{"$f":"リスト!K63","v":0},{"$f":"リスト!L63","v":0},{"$f":"リスト!M63","v":0},{"$f":"リスト!N63","v":0}]
[{"$f":"リスト!A64","v":"　"},{"$f":"リスト!B64","v":0},{"$f":"リスト!C64","v":0},{"$f":"リスト!D64","v":0},{"$f":"リスト!E64","v":0},{"$f":"リスト!F64","v":0},{"$f":"リスト!G64","v":0},{"$f":"リスト!H64","v":0},{"$f":"リスト!I64","v":0},{"$f":"リスト!J64","v":0},{"$f":"リスト!K64","v":0},{"$f":"リスト!L64","v":0},{"$f":"リスト!M64","v":0},{"$f":"リスト!N64","v":0}]
[{"$f":"リスト!A65","v":"　"},{"$f":"リスト!B65","v":0},{"$f":"リスト!C65","v":0},{"$f":"リスト!D65","v":0},{"$f":"リスト!E65","v":0},{"$f":"リスト!F65","v":0},{"$f":"リスト!G65","v":0},{"$f":"リスト!H65","v":0},{"$f":"リスト!I65","v":0},{"$f":"リスト!J65","v":0},{"$f":"リスト!K65","v":0},{"$f":"リスト!L65","v":0},{"$f":"リスト!M65","v":0},{"$f":"リスト!N65","v":0}]
[{"$f":"リスト!A66","v":"　"},{"$f":"リスト!B66","v":0},{"$f":"リスト!C66","v":0},{"$f":"リスト!D66","v":0},{"$f":"リスト!E66","v":0},{"$f":"リスト!F66","v":0},{"$f":"リスト!G66","v":0},{"$f":"リスト!H66","v":0},{"$f":"リスト!I66","v":0},{"$f":"リスト!J66","v":0},{"$f":"リスト!K66","v":0},{"$f":"リスト!L66","v":0},{"$f":"リスト!M66","v":0},{"$f":"リスト!N66","v":0}]
[{"$f":"リスト!A67","v":"　"},{"$f":"リスト!B67","v":0},{"$f":"リスト!C67","v":0},{"$f":"リスト!D67","v":0},{"$f":"リスト!E67","v":0},{"$f":"リスト!F67","v":0},{"$f":"リスト!G67","v":0},{"$f":"リスト!H67","v":0},{"$f":"リスト!I67","v":0},{"$f":"リスト!J67","v":0},{"$f":"リスト!K67","v":0},{"$f":"リスト!L67","v":0},{"$f":"リスト!M67","v":0},{"$f":"リスト!N67","v":0}]
[{"$f":"リスト!A68","v":"　"},{"$f":"リスト!B68","v":0},{"$f":"リスト!C68","v":0},{"$f":"リスト!D68","v":0},{"$f":"リスト!E68","v":0},{"$f":"リスト!F68","v":0},{"$f":"リスト!G68","v":0},{"$f":"リスト!H68","v":0},{"$f":"リスト!I68","v":0},{"$f":"リスト!J68","v":0},{"$f":"リスト!K68","v":0},{"$f":"リスト!L68","v":0},{"$f":"リスト!M68","v":0},{"$f":"リスト!N68","v":0}]
[{"$f":"リスト!A69","v":"　"},{"$f":"リスト!B69","v":0},{"$f":"リスト!C69","v":0},{"$f":"リスト!D69","v":0},{"$f":"リスト!E69","v":0},{"$f":"リスト!F69","v":0},{"$f":"リスト!G69","v":0},{"$f":"リスト!H69","v":0},{"$f":"リスト!I69","v":0},{"$f":"リスト!J69","v":0},{"$f":"リスト!K69","v":0},{"$f":"リスト!L69","v":0},{"$f":"リスト!M69","v":0},{"$f":"リスト!N69","v":0}]
[{"$f":"リスト!A70","v":"　"},{"$f":"リスト!B70","v":0},{"$f":"リスト!C70","v":0},{"$f":"リスト!D70","v":0},{"$f":"リスト!E70","v":0},{"$f":"リスト!F70","v":0},{"$f":"リスト!G70","v":0},{"$f":"リスト!H70","v":0},{"$f":"リスト!I70","v":0},{"$f":"リスト!J70","v":0},{"$f":"リスト!K70","v":0},{"$f":"リスト!L70","v":0},{"$f":"リスト!M70","v":0},{"$f":"リスト!N70","v":0}]
[{"$f":"リスト!A71","v":"　"},{"$f":"リスト!B71","v":0},{"$f":"リスト!C71","v":0},{"$f":"リスト!D71","v":0},{"$f":"リスト!E71","v":0},{"$f":"リスト!F71","v":0},{"$f":"リスト!G71","v":0},{"$f":"リスト!H71","v":0},{"$f":"リスト!I71","v":0},{"$f":"リスト!J71","v":0},{"$f":"リスト!K71","v":0},{"$f":"リスト!L71","v":0},{"$f":"リスト!M71","v":0},{"$f":"リスト!N71","v":0}]
[{"$f":"リスト!A72","v":"　"},{"$f":"リスト!B72","v":0},{"$f":"リスト!C72","v":0},{"$f":"リスト!D72","v":0},{"$f":"リスト!E72","v":0},{"$f":"リスト!F72","v":0},{"$f":"リスト!G72","v":0},{"$f":"リスト!H72","v":0},{"$f":"リスト!I72","v":0},{"$f":"リスト!J72","v":0},{"$f":"リスト!K72","v":0},{"$f":"リスト!L72","v":0},{"$f":"リスト!M72","v":0},{"$f":"リスト!N72","v":0}]
[{"$f":"リスト!A73","v":"　"},{"$f":"リスト!B73","v":0},{"$f":"リスト!C73","v":0},{"$f":"リスト!D73","v":0},{"$f":"リスト!E73","v":0},{"$f":"リスト!F73","v":0},{"$f":"リスト!G73","v":0},{"$f":"リスト!H73","v":0},{"$f":"リスト!I73","v":0},{"$f":"リスト!J73","v":0},{"$f":"リスト!K73","v":0},{"$f":"リスト!L73","v":0},{"$f":"リスト!M73","v":0},{"$f":"リスト!N73","v":0}]
[{"$f":"リスト!A74","v":"　"},{"$f":"リスト!B74","v":0},{"$f":"リスト!C74","v":0},{"$f":"リスト!D74","v":0},{"$f":"リスト!E74","v":0},{"$f":"リスト!F74","v":0},{"$f":"リスト!G74","v":0},{"$f":"リスト!H74","v":0},{"$f":"リスト!I74","v":0},{"$f":"リスト!J74","v":0},{"$f":"リスト!K74","v":0},{"$f":"リスト!L74","v":0},{"$f":"リスト!M74","v":0},{"$f":"リスト!N74","v":0}]
[{"$f":"リスト!A75","v":"　"},{"$f":"リスト!B75","v":0},{"$f":"リスト!C75","v":0},{"$f":"リスト!D75","v":0},{"$f":"リスト!E75","v":0},{"$f":"リスト!F75","v":0},{"$f":"リスト!G75","v":0},{"$f":"リスト!H75","v":0},{"$f":"リスト!I75","v":0},{"$f":"リスト!J75","v":0},{"$f":"リスト!K75","v":0},{"$f":"リスト!L75","v":0},{"$f":"リスト!M75","v":0},{"$f":"リスト!N75","v":0}]
[{"$f":"リスト!A76","v":"　"},{"$f":"リスト!B76","v":0},{"$f":"リスト!C76","v":0},{"$f":"リスト!D76","v":0},{"$f":"リスト!E76","v":0},{"$f":"リスト!F76","v":0},{"$f":"リスト!G76","v":0},{"$f":"リスト!H76","v":0},{"$f":"リスト!I76","v":0},{"$f":"リスト!J76","v":0},{"$f":"リスト!K76","v":0},{"$f":"リスト!L76","v":0},{"$f":"リスト!M76","v":0},{"$f":"リスト!N76","v":0}]
[{"$f":"リスト!A77","v":"　"},{"$f":"リスト!B77","v":0},{"$f":"リスト!C77","v":0},{"$f":"リスト!D77","v":0},{"$f":"リスト!E77","v":0},{"$f":"リスト!F77","v":0},{"$f":"リスト!G77","v":0},{"$f":"リスト!H77","v":0},{"$f":"リスト!I77","v":0},{"$f":"リスト!J77","v":0},{"$f":"リスト!K77","v":0},{"$f":"リスト!L77","v":0},{"$f":"リスト!M77","v":0},{"$f":"リスト!N77","v":0}]
[{"$f":"リスト!A78","v":"　"},{"$f":"リスト!B78","v":0},{"$f":"リスト!C78","v":0},{"$f":"リスト!D78","v":0},{"$f":"リスト!E78","v":0},{"$f":"リスト!F78","v":0},{"$f":"リスト!G78","v":0},{"$f":"リスト!H78","v":0},{"$f":"リスト!I78","v":0},{"$f":"リスト!J78","v":0},{"$f":"リスト!K78","v":0},{"$f":"リスト!L78","v":0},{"$f":"リスト!M78","v":0},{"$f":"リスト!N78","v":0}]
[{"$f":"リスト!A79","v":"　"},{"$f":"リスト!B79","v":0},{"$f":"リスト!C79","v":0},{"$f":"リスト!D79","v":0},{"$f":"リスト!E79","v":0},{"$f":"リスト!F79","v":0},{"$f":"リスト!G79","v":0},{"$f":"リスト!H79","v":0},{"$f":"リスト!I79","v":0},{"$f":"リスト!J79","v":0},{"$f":"リスト!K79","v":0},{"$f":"リスト!L79","v":0},{"$f":"リスト!M79","v":0},{"$f":"リスト!N79","v":0}]
[{"$f":"リスト!A80","v":"　"},{"$f":"リスト!B80","v":0},{"$f":"リスト!C80","v":0},{"$f":"リスト!D80","v":0},{"$f":"リスト!E80","v":0},{"$f":"リスト!F80","v":0},{"$f":"リスト!G80","v":0},{"$f":"リスト!H80","v":0},{"$f":"リスト!I80","v":0},{"$f":"リスト!J80","v":0},{"$f":"リスト!K80","v":0},{"$f":"リスト!L80","v":0},{"$f":"リスト!M80","v":0},{"$f":"リスト!N80","v":0}]
[{"$f":"リスト!A81","v":"　"},{"$f":"リスト!B81","v":0},{"$f":"リスト!C81","v":0},{"$f":"リスト!D81","v":0},{"$f":"リスト!E81","v":0},{"$f":"リスト!F81","v":0},{"$f":"リスト!G81","v":0},{"$f":"リスト!H81","v":0},{"$f":"リスト!I81","v":0},{"$f":"リスト!J81","v":0},{"$f":"リスト!K81","v":0},{"$f":"リスト!L81","v":0},{"$f":"リスト!M81","v":0},{"$f":"リスト!N81","v":0}]
[{"$f":"リスト!A82","v":"　"},{"$f":"リスト!B82","v":0},{"$f":"リスト!C82","v":0},{"$f":"リスト!D82","v":0},{"$f":"リスト!E82","v":0},{"$f":"リスト!F82","v":0},{"$f":"リスト!G82","v":0},{"$f":"リスト!H82","v":0},{"$f":"リスト!I82","v":0},{"$f":"リスト!J82","v":0},{"$f":"リスト!K82","v":0},{"$f":"リスト!L82","v":0},{"$f":"リスト!M82","v":0},{"$f":"リスト!N82","v":0}]
[{"$f":"リスト!A83","v":"　"},{"$f":"リスト!B83","v":0},{"$f":"リスト!C83","v":0},{"$f":"リスト!D83","v":0},{"$f":"リスト!E83","v":0},{"$f":"リスト!F83","v":0},{"$f":"リスト!G83","v":0},{"$f":"リスト!H83","v":0},{"$f":"リスト!I83","v":0},{"$f":"リスト!J83","v":0},{"$f":"リスト!K83","v":0},{"$f":"リスト!L83","v":0},{"$f":"リスト!M83","v":0},{"$f":"リスト!N83","v":0}]
[{"$f":"リスト!A84","v":"　"},{"$f":"リスト!B84","v":0},{"$f":"リスト!C84","v":0},{"$f":"リスト!D84","v":0},{"$f":"リスト!E84","v":0},{"$f":"リスト!F84","v":0},{"$f":"リスト!G84","v":0},{"$f":"リスト!H84","v":0},{"$f":"リスト!I84","v":0},{"$f":"リスト!J84","v":0},{"$f":"リスト!K84","v":0},{"$f":"リスト!L84","v":0},{"$f":"リスト!M84","v":0},{"$f":"リスト!N84","v":0}]
[{"$f":"リスト!A85","v":"　"},{"$f":"リスト!B85","v":0},{"$f":"リスト!C85","v":0},{"$f":"リスト!D85","v":0},{"$f":"リスト!E85","v":0},{"$f":"リスト!F85","v":0},{"$f":"リスト!G85","v":0},{"$f":"リスト!H85","v":0},{"$f":"リスト!I85","v":0},{"$f":"リスト!J85","v":0},{"$f":"リスト!K85","v":0},{"$f":"リスト!L85","v":0},{"$f":"リスト!M85","v":0},{"$f":"リスト!N85","v":0}]
[{"$f":"リスト!A86","v":"　"},{"$f":"リスト!B86","v":0},{"$f":"リスト!C86","v":0},{"$f":"リスト!D86","v":0},{"$f":"リスト!E86","v":0},{"$f":"リスト!F86","v":0},{"$f":"リスト!G86","v":0},{"$f":"リスト!H86","v":0},{"$f":"リスト!I86","v":0},{"$f":"リスト!J86","v":0},{"$f":"リスト!K86","v":0},{"$f":"リスト!L86","v":0},{"$f":"リスト!M86","v":0},{"$f":"リスト!N86","v":0}]
[{"$f":"リスト!A87","v":"　"},{"$f":"リスト!B87","v":0},{"$f":"リスト!C87","v":0},{"$f":"リスト!D87","v":0},{"$f":"リスト!E87","v":0},{"$f":"リスト!F87","v":0},{"$f":"リスト!G87","v":0},{"$f":"リスト!H87","v":0},{"$f":"リスト!I87","v":0},{"$f":"リスト!J87","v":0},{"$f":"リスト!K87","v":0},{"$f":"リスト!L87","v":0},{"$f":"リスト!M87","v":0},{"$f":"リスト!N87","v":0}]
[{"$f":"リスト!A88","v":"　"},{"$f":"リスト!B88","v":0},{"$f":"リスト!C88","v":0},{"$f":"リスト!D88","v":0},{"$f":"リスト!E88","v":0},{"$f":"リスト!F88","v":0},{"$f":"リスト!G88","v":0},{"$f":"リスト!H88","v":0},{"$f":"リスト!I88","v":0},{"$f":"リスト!J88","v":0},{"$f":"リスト!K88","v":0},{"$f":"リスト!L88","v":0},{"$f":"リスト!M88","v":0},{"$f":"リスト!N88","v":0}]
[{"$f":"リスト!A89","v":"　"},{"$f":"リスト!B89","v":0},{"$f":"リスト!C89","v":0},{"$f":"リスト!D89","v":0},{"$f":"リスト!E89","v":0},{"$f":"リスト!F89","v":0},{"$f":"リスト!G89","v":0},{"$f":"リスト!H89","v":0},{"$f":"リスト!I89","v":0},{"$f":"リスト!J89","v":0},{"$f":"リスト!K89","v":0},{"$f":"リスト!L89","v":0},{"$f":"リスト!M89","v":0},{"$f":"リスト!N89","v":0}]
[{"$f":"リスト!A90","v":"　"},{"$f":"リスト!B90","v":0},{"$f":"リスト!C90","v":0},{"$f":"リスト!D90","v":0},{"$f":"リスト!E90","v":0},{"$f":"リスト!F90","v":0},{"$f":"リスト!G90","v":0},{"$f":"リスト!H90","v":0},{"$f":"リスト!I90","v":0},{"$f":"リスト!J90","v":0},{"$f":"リスト!K90","v":0},{"$f":"リスト!L90","v":0},{"$f":"リスト!M90","v":0},{"$f":"リスト!N90","v":0}]
[{"$f":"リスト!A91","v":"　"},{"$f":"リスト!B91","v":0},{"$f":"リスト!C91","v":0},{"$f":"リスト!D91","v":0},{"$f":"リスト!E91","v":0},{"$f":"リスト!F91","v":0},{"$f":"リスト!G91","v":0},{"$f":"リスト!H91","v":0},{"$f":"リスト!I91","v":0},{"$f":"リスト!J91","v":0},{"$f":"リスト!K91","v":0},{"$f":"リスト!L91","v":0},{"$f":"リスト!M91","v":0},{"$f":"リスト!N91","v":0}]
[{"$f":"リスト!A92","v":"　"},{"$f":"リスト!B92","v":0},{"$f":"リスト!C92","v":0},{"$f":"リスト!D92","v":0},{"$f":"リスト!E92","v":0},{"$f":"リスト!F92","v":0},{"$f":"リスト!G92","v":0},{"$f":"リスト!H92","v":0},{"$f":"リスト!I92","v":0},{"$f":"リスト!J92","v":0},{"$f":"リスト!K92","v":0},{"$f":"リスト!L92","v":0},{"$f":"リスト!M92","v":0},{"$f":"リスト!N92","v":0}]
[{"$f":"リスト!A93","v":"　"},{"$f":"リスト!B93","v":0},{"$f":"リスト!C93","v":0},{"$f":"リスト!D93","v":0},{"$f":"リスト!E93","v":0},{"$f":"リスト!F93","v":0},{"$f":"リスト!G93","v":0},{"$f":"リスト!H93","v":0},{"$f":"リスト!I93","v":0},{"$f":"リスト!J93","v":0},{"$f":"リスト!K93","v":0},{"$f":"リスト!L93","v":0},{"$f":"リスト!M93","v":0},{"$f":"リスト!N93","v":0}]
[{"$f":"リスト!A94","v":"　"},{"$f":"リスト!B94","v":0},{"$f":"リスト!C94","v":0},{"$f":"リスト!D94","v":0},{"$f":"リスト!E94","v":0},{"$f":"リスト!F94","v":0},{"$f":"リスト!G94","v":0},{"$f":"リスト!H94","v":0},{"$f":"リスト!I94","v":0},{"$f":"リスト!J94","v":0},{"$f":"リスト!K94","v":0},{"$f":"リスト!L94","v":0},{"$f":"リスト!M94","v":0},{"$f":"リスト!N94","v":0}]
[{"$f":"リスト!A95","v":"　"},{"$f":"リスト!B95","v":0},{"$f":"リスト!C95","v":0},{"$f":"リスト!D95","v":0},{"$f":"リスト!E95","v":0},{"$f":"リスト!F95","v":0},{"$f":"リスト!G95","v":0},{"$f":"リスト!H95","v":0},{"$f":"リスト!I95","v":0},{"$f":"リスト!J95","v":0},{"$f":"リスト!K95","v":0},{"$f":"リスト!L95","v":0},{"$f":"リスト!M95","v":0},{"$f":"リスト!N95","v":0}]
[{"$f":"リスト!A96","v":"　"},{"$f":"リスト!B96","v":0},{"$f":"リスト!C96","v":0},{"$f":"リスト!D96","v":0},{"$f":"リスト!E96","v":0},{"$f":"リスト!F96","v":0},{"$f":"リスト!G96","v":0},{"$f":"リスト!H96","v":0},{"$f":"リスト!I96","v":0},{"$f":"リスト!J96","v":0},{"$f":"リスト!K96","v":0},{"$f":"リスト!L96","v":0},{"$f":"リスト!M96","v":0},{"$f":"リスト!N96","v":0}]
[{"$f":"リスト!A97","v":"　"},{"$f":"リスト!B97","v":0},{"$f":"リスト!C97","v":0},{"$f":"リスト!D97","v":0},{"$f":"リスト!E97","v":0},{"$f":"リスト!F97","v":0},{"$f":"リスト!G97","v":0},{"$f":"リスト!H97","v":0},{"$f":"リスト!I97","v":0},{"$f":"リスト!J97","v":0},{"$f":"リスト!K97","v":0},{"$f":"リスト!L97","v":0},{"$f":"リスト!M97","v":0},{"$f":"リスト!N97","v":0}]
[{"$f":"リスト!A98","v":"　"},{"$f":"リスト!B98","v":0},{"$f":"リスト!C98","v":0},{"$f":"リスト!D98","v":0},{"$f":"リスト!E98","v":0},{"$f":"リスト!F98","v":0},{"$f":"リスト!G98","v":0},{"$f":"リスト!H98","v":0},{"$f":"リスト!I98","v":0},{"$f":"リスト!J98","v":0},{"$f":"リスト!K98","v":0},{"$f":"リスト!L98","v":0},{"$f":"リスト!M98","v":0},{"$f":"リスト!N98","v":0}]
[{"$f":"リスト!A99","v":"　"},{"$f":"リスト!B99","v":0},{"$f":"リスト!C99","v":0},{"$f":"リスト!D99","v":0},{"$f":"リスト!E99","v":0},{"$f":"リスト!F99","v":0},{"$f":"リスト!G99","v":0},{"$f":"リスト!H99","v":0},{"$f":"リスト!I99","v":0},{"$f":"リスト!J99","v":0},{"$f":"リスト!K99","v":0},{"$f":"リスト!L99","v":0},{"$f":"リスト!M99","v":0},{"$f":"リスト!N99","v":0}]
[{"$f":"リスト!A100","v":"　"},{"$f":"リスト!B100","v":0},{"$f":"リスト!C100","v":0},{"$f":"リスト!D100","v":0},{"$f":"リスト!E100","v":0},{"$f":"リスト!F100","v":0},{"$f":"リスト!G100","v":0},{"$f":"リスト!H100","v":0},{"$f":"リスト!I100","v":0},{"$f":"リスト!J100","v":0},{"$f":"リスト!K100","v":0},{"$f":"リスト!L100","v":0},{"$f":"リスト!M100","v":0},{"$f":"リスト!N100","v":0}]
[{"$f":"リスト!A101","v":"　"},{"$f":"リスト!B101","v":0},{"$f":"リスト!C101","v":0},{"$f":"リスト!D101","v":0},{"$f":"リスト!E101","v":0},{"$f":"リスト!F101","v":0},{"$f":"リスト!G101","v":0},{"$f":"リスト!H101","v":0},{"$f":"リスト!I101","v":0},{"$f":"リスト!J101","v":0},{"$f":"リスト!K101","v":0},{"$f":"リスト!L101","v":0},{"$f":"リスト!M101","v":0},{"$f":"リスト!N101","v":0}]
[{"$f":"リスト!A102","v":"　"},{"$f":"リスト!B102","v":0},{"$f":"リスト!C102","v":0},{"$f":"リスト!D102","v":0},{"$f":"リスト!E102","v":0},{"$f":"リスト!F102","v":0},{"$f":"リスト!G102","v":0},{"$f":"リスト!H102","v":0},{"$f":"リスト!I102","v":0},{"$f":"リスト!J102","v":0},{"$f":"リスト!K102","v":0},{"$f":"リスト!L102","v":0},{"$f":"リスト!M102","v":0},{"$f":"リスト!N102","v":0}]
[{"$f":"リスト!A103","v":"　"},{"$f":"リスト!B103","v":0},{"$f":"リスト!C103","v":0},{"$f":"リスト!D103","v":0},{"$f":"リスト!E103","v":0},{"$f":"リスト!F103","v":0},{"$f":"リスト!G103","v":0},{"$f":"リスト!H103","v":0},{"$f":"リスト!I103","v":0},{"$f":"リスト!J103","v":0},{"$f":"リスト!K103","v":0},{"$f":"リスト!L103","v":0},{"$f":"リスト!M103","v":0},{"$f":"リスト!N103","v":0}]
[{"$f":"リスト!A104","v":"　"},{"$f":"リスト!B104","v":0},{"$f":"リスト!C104","v":0},{"$f":"リスト!D104","v":0},{"$f":"リスト!E104","v":0},{"$f":"リスト!F104","v":0},{"$f":"リスト!G104","v":0},{"$f":"リスト!H104","v":0},{"$f":"リスト!I104","v":0},{"$f":"リスト!J104","v":0},{"$f":"リスト!K104","v":0},{"$f":"リスト!L104","v":0},{"$f":"リスト!M104","v":0},{"$f":"リスト!N104","v":0}]
[{"$f":"リスト!A105","v":"　"},{"$f":"リスト!B105","v":0},{"$f":"リスト!C105","v":0},{"$f":"リスト!D105","v":0},{"$f":"リスト!E105","v":0},{"$f":"リスト!F105","v":0},{"$f":"リスト!G105","v":0},{"$f":"リスト!H105","v":0},{"$f":"リスト!I105","v":0},{"$f":"リスト!J105","v":0},{"$f":"リスト!K105","v":0},{"$f":"リスト!L105","v":0},{"$f":"リスト!M105","v":0},{"$f":"リスト!N105","v":0}]
[{"$f":"リスト!A106","v":"　"},{"$f":"リスト!B106","v":0},{"$f":"リスト!C106","v":0},{"$f":"リスト!D106","v":0},{"$f":"リスト!E106","v":0},{"$f":"リスト!F106","v":0},{"$f":"リスト!G106","v":0},{"$f":"リスト!H106","v":0},{"$f":"リスト!I106","v":0},{"$f":"リスト!J106","v":0},{"$f":"リスト!K106","v":0},{"$f":"リスト!L106","v":0},{"$f":"リスト!M106","v":0},{"$f":"リスト!N106","v":0}]
[{"$f":"リスト!A107","v":"　"},{"$f":"リスト!B107","v":0},{"$f":"リスト!C107","v":0},{"$f":"リスト!D107","v":0},{"$f":"リスト!E107","v":0},{"$f":"リスト!F107","v":0},{"$f":"リスト!G107","v":0},{"$f":"リスト!H107","v":0},{"$f":"リスト!I107","v":0},{"$f":"リスト!J107","v":0},{"$f":"リスト!K107","v":0},{"$f":"リスト!L107","v":0},{"$f":"リスト!M107","v":0},{"$f":"リスト!N107","v":0}]
[{"$f":"リスト!A108","v":"　"},{"$f":"リスト!B108","v":0},{"$f":"リスト!C108","v":0},{"$f":"リスト!D108","v":0},{"$f":"リスト!E108","v":0},{"$f":"リスト!F108","v":0},{"$f":"リスト!G108","v":0},{"$f":"リスト!H108","v":0},{"$f":"リスト!I108","v":0},{"$f":"リスト!J108","v":0},{"$f":"リスト!K108","v":0},{"$f":"リスト!L108","v":0},{"$f":"リスト!M108","v":0},{"$f":"リスト!N108","v":0}]
[{"$f":"リスト!A109","v":"　"},{"$f":"リスト!B109","v":0},{"$f":"リスト!C109","v":0},{"$f":"リスト!D109","v":0},{"$f":"リスト!E109","v":0},{"$f":"リスト!F109","v":0},{"$f":"リスト!G109","v":0},{"$f":"リスト!H109","v":0},{"$f":"リスト!I109","v":0},{"$f":"リスト!J109","v":0},{"$f":"リスト!K109","v":0},{"$f":"リスト!L109","v":0},{"$f":"リスト!M109","v":0},{"$f":"リスト!N109","v":0}]
[{"$f":"リスト!A110","v":"　"},{"$f":"リスト!B110","v":0},{"$f":"リスト!C110","v":0},{"$f":"リスト!D110","v":0},{"$f":"リスト!E110","v":0},{"$f":"リスト!F110","v":0},{"$f":"リスト!G110","v":0},{"$f":"リスト!H110","v":0},{"$f":"リスト!I110","v":0},{"$f":"リスト!J110","v":0},{"$f":"リスト!K110","v":0},{"$f":"リスト!L110","v":0},{"$f":"リスト!M110","v":0},{"$f":"リスト!N110","v":0}]
[{"$f":"リスト!A111","v":"　"},{"$f":"リスト!B111","v":0},{"$f":"リスト!C111","v":0},{"$f":"リスト!D111","v":0},{"$f":"リスト!E111","v":0},{"$f":"リスト!F111","v":0},{"$f":"リスト!G111","v":0},{"$f":"リスト!H111","v":0},{"$f":"リスト!I111","v":0},{"$f":"リスト!J111","v":0},{"$f":"リスト!K111","v":0},{"$f":"リスト!L111","v":0},{"$f":"リスト!M111","v":0},{"$f":"リスト!N111","v":0}]
[{"$f":"リスト!A112","v":"　"},{"$f":"リスト!B112","v":0},{"$f":"リスト!C112","v":0},{"$f":"リスト!D112","v":0},{"$f":"リスト!E112","v":0},{"$f":"リスト!F112","v":0},{"$f":"リスト!G112","v":0},{"$f":"リスト!H112","v":0},{"$f":"リスト!I112","v":0},{"$f":"リスト!J112","v":0},{"$f":"リスト!K112","v":0},{"$f":"リスト!L112","v":0},{"$f":"リスト!M112","v":0},{"$f":"リスト!N112","v":0}]
[{"$f":"リスト!A113","v":"　"},{"$f":"リスト!B113","v":0},{"$f":"リスト!C113","v":0},{"$f":"リスト!D113","v":0},{"$f":"リスト!E113","v":0},{"$f":"リスト!F113","v":0},{"$f":"リスト!G113","v":0},{"$f":"リスト!H113","v":0},{"$f":"リスト!I113","v":0},{"$f":"リスト!J113","v":0},{"$f":"リスト!K113","v":0},{"$f":"リスト!L113","v":0},{"$f":"リスト!M113","v":0},{"$f":"リスト!N113","v":0}]
[{"$f":"リスト!A114","v":"　"},{"$f":"リスト!B114","v":0},{"$f":"リスト!C114","v":0},{"$f":"リスト!D114","v":0},{"$f":"リスト!E114","v":0},{"$f":"リスト!F114","v":0},{"$f":"リスト!G114","v":0},{"$f":"リスト!H114","v":0},{"$f":"リスト!I114","v":0},{"$f":"リスト!J114","v":0},{"$f":"リスト!K114","v":0},{"$f":"リスト!L114","v":0},{"$f":"リスト!M114","v":0},{"$f":"リスト!N114","v":0}]
[{"$f":"リスト!A115","v":"　"},{"$f":"リスト!B115","v":0},{"$f":"リスト!C115","v":0},{"$f":"リスト!D115","v":0},{"$f":"リスト!E115","v":0},{"$f":"リスト!F115","v":0},{"$f":"リスト!G115","v":0},{"$f":"リスト!H115","v":0},{"$f":"リスト!I115","v":0},{"$f":"リスト!J115","v":0},{"$f":"リスト!K115","v":0},{"$f":"リスト!L115","v":0},{"$f":"リスト!M115","v":0},{"$f":"リスト!N115","v":0}]
[{"$f":"リスト!A116","v":"　"},{"$f":"リスト!B116","v":0},{"$f":"リスト!C116","v":0},{"$f":"リスト!D116","v":0},{"$f":"リスト!E116","v":0},{"$f":"リスト!F116","v":0},{"$f":"リスト!G116","v":0},{"$f":"リスト!H116","v":0},{"$f":"リスト!I116","v":0},{"$f":"リスト!J116","v":0},{"$f":"リスト!K116","v":0},{"$f":"リスト!L116","v":0},{"$f":"リスト!M116","v":0},{"$f":"リスト!N116","v":0}]
[{"$f":"リスト!A117","v":"　"},{"$f":"リスト!B117","v":0},{"$f":"リスト!C117","v":0},{"$f":"リスト!D117","v":0},{"$f":"リスト!E117","v":0},{"$f":"リスト!F117","v":0},{"$f":"リスト!G117","v":0},{"$f":"リスト!H117","v":0},{"$f":"リスト!I117","v":0},{"$f":"リスト!J117","v":0},{"$f":"リスト!K117","v":0},{"$f":"リスト!L117","v":0},{"$f":"リスト!M117","v":0},{"$f":"リスト!N117","v":0}]
[{"$f":"リスト!A118","v":"　"},{"$f":"リスト!B118","v":0},{"$f":"リスト!C118","v":0},{"$f":"リスト!D118","v":0},{"$f":"リスト!E118","v":0},{"$f":"リスト!F118","v":0},{"$f":"リスト!G118","v":0},{"$f":"リスト!H118","v":0},{"$f":"リスト!I118","v":0},{"$f":"リスト!J118","v":0},{"$f":"リスト!K118","v":0},{"$f":"リスト!L118","v":0},{"$f":"リスト!M118","v":0},{"$f":"リスト!N118","v":0}]
[{"$f":"リスト!A119","v":"　"},{"$f":"リスト!B119","v":0},{"$f":"リスト!C119","v":0},{"$f":"リスト!D119","v":0},{"$f":"リスト!E119","v":0},{"$f":"リスト!F119","v":0},{"$f":"リスト!G119","v":0},{"$f":"リスト!H119","v":0},{"$f":"リスト!I119","v":0},{"$f":"リスト!J119","v":0},{"$f":"リスト!K119","v":0},{"$f":"リスト!L119","v":0},{"$f":"リスト!M119","v":0},{"$f":"リスト!N119","v":0}]
[{"$f":"リスト!A120","v":"　"},{"$f":"リスト!B120","v":0},{"$f":"リスト!C120","v":0},{"$f":"リスト!D120","v":0},{"$f":"リスト!E120","v":0},{"$f":"リスト!F120","v":0},{"$f":"リスト!G120","v":0},{"$f":"リスト!H120","v":0},{"$f":"リスト!I120","v":0},{"$f":"リスト!J120","v":0},{"$f":"リスト!K120","v":0},{"$f":"リスト!L120","v":0},{"$f":"リスト!M120","v":0},{"$f":"リスト!N120","v":0}]
[{"$f":"リスト!A121","v":"　"},{"$f":"リスト!B121","v":0},{"$f":"リスト!C121","v":0},{"$f":"リスト!D121","v":0},{"$f":"リスト!E121","v":0},{"$f":"リスト!F121","v":0},{"$f":"リスト!G121","v":0},{"$f":"リスト!H121","v":0},{"$f":"リスト!I121","v":0},{"$f":"リスト!J121","v":0},{"$f":"リスト!K121","v":0},{"$f":"リスト!L121","v":0},{"$f":"リスト!M121","v":0},{"$f":"リスト!N121","v":0}]
[{"$f":"リスト!A122","v":"　"},{"$f":"リスト!B122","v":0},{"$f":"リスト!C122","v":0},{"$f":"リスト!D122","v":0},{"$f":"リスト!E122","v":0},{"$f":"リスト!F122","v":0},{"$f":"リスト!G122","v":0},{"$f":"リスト!H122","v":0},{"$f":"リスト!I122","v":0},{"$f":"リスト!J122","v":0},{"$f":"リスト!K122","v":0},{"$f":"リスト!L122","v":0},{"$f":"リスト!M122","v":0},{"$f":"リスト!N122","v":0}]
[{"$f":"リスト!A123","v":"　"},{"$f":"リスト!B123","v":0},{"$f":"リスト!C123","v":0},{"$f":"リスト!D123","v":0},{"$f":"リスト!E123","v":0},{"$f":"リスト!F123","v":0},{"$f":"リスト!G123","v":0},{"$f":"リスト!H123","v":0},{"$f":"リスト!I123","v":0},{"$f":"リスト!J123","v":0},{"$f":"リスト!K123","v":0},{"$f":"リスト!L123","v":0},{"$f":"リスト!M123","v":0},{"$f":"リスト!N123","v":0}]
[{"$f":"リスト!A124","v":"　"},{"$f":"リスト!B124","v":0},{"$f":"リスト!C124","v":0},{"$f":"リスト!D124","v":0},{"$f":"リスト!E124","v":0},{"$f":"リスト!F124","v":0},{"$f":"リスト!G124","v":0},{"$f":"リスト!H124","v":0},{"$f":"リスト!I124","v":0},{"$f":"リスト!J124","v":0},{"$f":"リスト!K124","v":0},{"$f":"リスト!L124","v":0},{"$f":"リスト!M124","v":0},{"$f":"リスト!N124","v":0}]
[{"$f":"リスト!A125","v":"　"},{"$f":"リスト!B125","v":0},{"$f":"リスト!C125","v":0},{"$f":"リスト!D125","v":0},{"$f":"リスト!E125","v":0},{"$f":"リスト!F125","v":0},{"$f":"リスト!G125","v":0},{"$f":"リスト!H125","v":0},{"$f":"リスト!I125","v":0},{"$f":"リスト!J125","v":0},{"$f":"リスト!K125","v":0},{"$f":"リスト!L125","v":0},{"$f":"リスト!M125","v":0},{"$f":"リスト!N125","v":0}]
[{"$f":"リスト!A126","v":"　"},{"$f":"リスト!B126","v":0},{"$f":"リスト!C126","v":0},{"$f":"リスト!D126","v":0},{"$f":"リスト!E126","v":0},{"$f":"リスト!F126","v":0},{"$f":"リスト!G126","v":0},{"$f":"リスト!H126","v":0},{"$f":"リスト!I126","v":0},{"$f":"リスト!J126","v":0},{"$f":"リスト!K126","v":0},{"$f":"リスト!L126","v":0},{"$f":"リスト!M126","v":0},{"$f":"リスト!N126","v":0}]
[{"$f":"リスト!A127","v":"　"},{"$f":"リスト!B127","v":0},{"$f":"リスト!C127","v":0},{"$f":"リスト!D127","v":0},{"$f":"リスト!E127","v":0},{"$f":"リスト!F127","v":0},{"$f":"リスト!G127","v":0},{"$f":"リスト!H127","v":0},{"$f":"リスト!I127","v":0},{"$f":"リスト!J127","v":0},{"$f":"リスト!K127","v":0},{"$f":"リスト!L127","v":0},{"$f":"リスト!M127","v":0},{"$f":"リスト!N127","v":0}]
[{"$f":"リスト!A128","v":"　"},{"$f":"リスト!B128","v":0},{"$f":"リスト!C128","v":0},{"$f":"リスト!D128","v":0},{"$f":"リスト!E128","v":0},{"$f":"リスト!F128","v":0},{"$f":"リスト!G128","v":0},{"$f":"リスト!H128","v":0},{"$f":"リスト!I128","v":0},{"$f":"リスト!J128","v":0},{"$f":"リスト!K128","v":0},{"$f":"リスト!L128","v":0},{"$f":"リスト!M128","v":0},{"$f":"リスト!N128","v":0}]
[{"$f":"リスト!A129","v":"　"},{"$f":"リスト!B129","v":0},{"$f":"リスト!C129","v":0},{"$f":"リスト!D129","v":0},{"$f":"リスト!E129","v":0},{"$f":"リスト!F129","v":0},{"$f":"リスト!G129","v":0},{"$f":"リスト!H129","v":0},{"$f":"リスト!I129","v":0},{"$f":"リスト!J129","v":0},{"$f":"リスト!K129","v":0},{"$f":"リスト!L129","v":0},{"$f":"リスト!M129","v":0},{"$f":"リスト!N129","v":0}]
[{"$f":"リスト!A130","v":"　"},{"$f":"リスト!B130","v":0},{"$f":"リスト!C130","v":0},{"$f":"リスト!D130","v":0},{"$f":"リスト!E130","v":0},{"$f":"リスト!F130","v":0},{"$f":"リスト!G130","v":0},{"$f":"リスト!H130","v":0},{"$f":"リスト!I130","v":0},{"$f":"リスト!J130","v":0},{"$f":"リスト!K130","v":0},{"$f":"リスト!L130","v":0},{"$f":"リスト!M130","v":0},{"$f":"リスト!N130","v":0}]
[{"$f":"リスト!A131","v":"　"},{"$f":"リスト!B131","v":0},{"$f":"リスト!C131","v":0},{"$f":"リスト!D131","v":0},{"$f":"リスト!E131","v":0},{"$f":"リスト!F131","v":0},{"$f":"リスト!G131","v":0},{"$f":"リスト!H131","v":0},{"$f":"リスト!I131","v":0},{"$f":"リスト!J131","v":0},{"$f":"リスト!K131","v":0},{"$f":"リスト!L131","v":0},{"$f":"リスト!M131","v":0},{"$f":"リスト!N131","v":0}]
[{"$f":"リスト!A132","v":"　"},{"$f":"リスト!B132","v":0},{"$f":"リスト!C132","v":0},{"$f":"リスト!D132","v":0},{"$f":"リスト!E132","v":0},{"$f":"リスト!F132","v":0},{"$f":"リスト!G132","v":0},{"$f":"リスト!H132","v":0},{"$f":"リスト!I132","v":0},{"$f":"リスト!J132","v":0},{"$f":"リスト!K132","v":0},{"$f":"リスト!L132","v":0},{"$f":"リスト!M132","v":0},{"$f":"リスト!N132","v":0}]
[{"$f":"リスト!A133","v":"　"},{"$f":"リスト!B133","v":0},{"$f":"リスト!C133","v":0},{"$f":"リスト!D133","v":0},{"$f":"リスト!E133","v":0},{"$f":"リスト!F133","v":0},{"$f":"リスト!G133","v":0},{"$f":"リスト!H133","v":0},{"$f":"リスト!I133","v":0},{"$f":"リスト!J133","v":0},{"$f":"リスト!K133","v":0},{"$f":"リスト!L133","v":0},{"$f":"リスト!M133","v":0},{"$f":"リスト!N133","v":0}]
[{"$f":"リスト!A134","v":"　"},{"$f":"リスト!B134","v":0},{"$f":"リスト!C134","v":0},{"$f":"リスト!D134","v":0},{"$f":"リスト!E134","v":0},{"$f":"リスト!F134","v":0},{"$f":"リスト!G134","v":0},{"$f":"リスト!H134","v":0},{"$f":"リスト!I134","v":0},{"$f":"リスト!J134","v":0},{"$f":"リスト!K134","v":0},{"$f":"リスト!L134","v":0},{"$f":"リスト!M134","v":0},{"$f":"リスト!N134","v":0}]
[{"$f":"リスト!A135","v":"　"},{"$f":"リスト!B135","v":0},{"$f":"リスト!C135","v":0},{"$f":"リスト!D135","v":0},{"$f":"リスト!E135","v":0},{"$f":"リスト!F135","v":0},{"$f":"リスト!G135","v":0},{"$f":"リスト!H135","v":0},{"$f":"リスト!I135","v":0},{"$f":"リスト!J135","v":0},{"$f":"リスト!K135","v":0},{"$f":"リスト!L135","v":0},{"$f":"リスト!M135","v":0},{"$f":"リスト!N135","v":0}]
[{"$f":"リスト!A136","v":"　"},{"$f":"リスト!B136","v":0},{"$f":"リスト!C136","v":0},{"$f":"リスト!D136","v":0},{"$f":"リスト!E136","v":0},{"$f":"リスト!F136","v":0},{"$f":"リスト!G136","v":0},{"$f":"リスト!H136","v":0},{"$f":"リスト!I136","v":0},{"$f":"リスト!J136","v":0},{"$f":"リスト!K136","v":0},{"$f":"リスト!L136","v":0},{"$f":"リスト!M136","v":0},{"$f":"リスト!N136","v":0}]
[{"$f":"リスト!A137","v":"　"},{"$f":"リスト!B137","v":0},{"$f":"リスト!C137","v":0},{"$f":"リスト!D137","v":0},{"$f":"リスト!E137","v":0},{"$f":"リスト!F137","v":0},{"$f":"リスト!G137","v":0},{"$f":"リスト!H137","v":0},{"$f":"リスト!I137","v":0},{"$f":"リスト!J137","v":0},{"$f":"リスト!K137","v":0},{"$f":"リスト!L137","v":0},{"$f":"リスト!M137","v":0},{"$f":"リスト!N137","v":0}]
[{"$f":"リスト!A138","v":"　"},{"$f":"リスト!B138","v":0},{"$f":"リスト!C138","v":0},{"$f":"リスト!D138","v":0},{"$f":"リスト!E138","v":0},{"$f":"リスト!F138","v":0},{"$f":"リスト!G138","v":0},{"$f":"リスト!H138","v":0},{"$f":"リスト!I138","v":0},{"$f":"リスト!J138","v":0},{"$f":"リスト!K138","v":0},{"$f":"リスト!L138","v":0},{"$f":"リスト!M138","v":0},{"$f":"リスト!N138","v":0}]
[{"$f":"リスト!A139","v":"　"},{"$f":"リスト!B139","v":0},{"$f":"リスト!C139","v":0},{"$f":"リスト!D139","v":0},{"$f":"リスト!E139","v":0},{"$f":"リスト!F139","v":0},{"$f":"リスト!G139","v":0},{"$f":"リスト!H139","v":0},{"$f":"リスト!I139","v":0},{"$f":"リスト!J139","v":0},{"$f":"リスト!K139","v":0},{"$f":"リスト!L139","v":0},{"$f":"リスト!M139","v":0},{"$f":"リスト!N139","v":0}]
[{"$f":"リスト!A140","v":"　"},{"$f":"リスト!B140","v":0},{"$f":"リスト!C140","v":0},{"$f":"リスト!D140","v":0},{"$f":"リスト!E140","v":0},{"$f":"リスト!F140","v":0},{"$f":"リスト!G140","v":0},{"$f":"リスト!H140","v":0},{"$f":"リスト!I140","v":0},{"$f":"リスト!J140","v":0},{"$f":"リスト!K140","v":0},{"$f":"リスト!L140","v":0},{"$f":"リスト!M140","v":0},{"$f":"リスト!N140","v":0}]
[{"$f":"リスト!A141","v":"　"},{"$f":"リスト!B141","v":0},{"$f":"リスト!C141","v":0},{"$f":"リスト!D141","v":0},{"$f":"リスト!E141","v":0},{"$f":"リスト!F141","v":0},{"$f":"リスト!G141","v":0},{"$f":"リスト!H141","v":0},{"$f":"リスト!I141","v":0},{"$f":"リスト!J141","v":0},{"$f":"リスト!K141","v":0},{"$f":"リスト!L141","v":0},{"$f":"リスト!M141","v":0},{"$f":"リスト!N141","v":0}]
[{"$f":"リスト!A142","v":"　"},{"$f":"リスト!B142","v":0},{"$f":"リスト!C142","v":0},{"$f":"リスト!D142","v":0},{"$f":"リスト!E142","v":0},{"$f":"リスト!F142","v":0},{"$f":"リスト!G142","v":0},{"$f":"リスト!H142","v":0},{"$f":"リスト!I142","v":0},{"$f":"リスト!J142","v":0},{"$f":"リスト!K142","v":0},{"$f":"リスト!L142","v":0},{"$f":"リスト!M142","v":0},{"$f":"リスト!N142","v":0}]
[{"$f":"リスト!A143","v":"　"},{"$f":"リスト!B143","v":0},{"$f":"リスト!C143","v":0},{"$f":"リスト!D143","v":0},{"$f":"リスト!E143","v":0},{"$f":"リスト!F143","v":0},{"$f":"リスト!G143","v":0},{"$f":"リスト!H143","v":0},{"$f":"リスト!I143","v":0},{"$f":"リスト!J143","v":0},{"$f":"リスト!K143","v":0},{"$f":"リスト!L143","v":0},{"$f":"リスト!M143","v":0},{"$f":"リスト!N143","v":0}]
[{"$f":"リスト!A144","v":"　"},{"$f":"リスト!B144","v":0},{"$f":"リスト!C144","v":0},{"$f":"リスト!D144","v":0},{"$f":"リスト!E144","v":0},{"$f":"リスト!F144","v":0},{"$f":"リスト!G144","v":0},{"$f":"リスト!H144","v":0},{"$f":"リスト!I144","v":0},{"$f":"リスト!J144","v":0},{"$f":"リスト!K144","v":0},{"$f":"リスト!L144","v":0},{"$f":"リスト!M144","v":0},{"$f":"リスト!N144","v":0}]
[{"$f":"リスト!A145","v":"　"},{"$f":"リスト!B145","v":0},{"$f":"リスト!C145","v":0},{"$f":"リスト!D145","v":0},{"$f":"リスト!E145","v":0},{"$f":"リスト!F145","v":0},{"$f":"リスト!G145","v":0},{"$f":"リスト!H145","v":0},{"$f":"リスト!I145","v":0},{"$f":"リスト!J145","v":0},{"$f":"リスト!K145","v":0},{"$f":"リスト!L145","v":0},{"$f":"リスト!M145","v":0},{"$f":"リスト!N145","v":0}]
[{"$f":"リスト!A146","v":"　"},{"$f":"リスト!B146","v":0},{"$f":"リスト!C146","v":0},{"$f":"リスト!D146","v":0},{"$f":"リスト!E146","v":0},{"$f":"リスト!F146","v":0},{"$f":"リスト!G146","v":0},{"$f":"リスト!H146","v":0},{"$f":"リスト!I146","v":0},{"$f":"リスト!J146","v":0},{"$f":"リスト!K146","v":0},{"$f":"リスト!L146","v":0},{"$f":"リスト!M146","v":0},{"$f":"リスト!N146","v":0}]
[{"$f":"リスト!A147","v":"　"},{"$f":"リスト!B147","v":0},{"$f":"リスト!C147","v":0},{"$f":"リスト!D147","v":0},{"$f":"リスト!E147","v":0},{"$f":"リスト!F147","v":0},{"$f":"リスト!G147","v":0},{"$f":"リスト!H147","v":0},{"$f":"リスト!I147","v":0},{"$f":"リスト!J147","v":0},{"$f":"リスト!K147","v":0},{"$f":"リスト!L147","v":0},{"$f":"リスト!M147","v":0},{"$f":"リスト!N147","v":0}]
[{"$f":"リスト!A148","v":"　"},{"$f":"リスト!B148","v":0},{"$f":"リスト!C148","v":0},{"$f":"リスト!D148","v":0},{"$f":"リスト!E148","v":0},{"$f":"リスト!F148","v":0},{"$f":"リスト!G148","v":0},{"$f":"リスト!H148","v":0},{"$f":"リスト!I148","v":0},{"$f":"リスト!J148","v":0},{"$f":"リスト!K148","v":0},{"$f":"リスト!L148","v":0},{"$f":"リスト!M148","v":0},{"$f":"リスト!N148","v":0}]
[{"$f":"リスト!A149","v":"　"},{"$f":"リスト!B149","v":0},{"$f":"リスト!C149","v":0},{"$f":"リスト!D149","v":0},{"$f":"リスト!E149","v":0},{"$f":"リスト!F149","v":0},{"$f":"リスト!G149","v":0},{"$f":"リスト!H149","v":0},{"$f":"リスト!I149","v":0},{"$f":"リスト!J149","v":0},{"$f":"リスト!K149","v":0},{"$f":"リスト!L149","v":0},{"$f":"リスト!M149","v":0},{"$f":"リスト!N149","v":0}]
[{"$f":"リスト!A150","v":"　"},{"$f":"リスト!B150","v":0},{"$f":"リスト!C150","v":0},{"$f":"リスト!D150","v":0},{"$f":"リスト!E150","v":0},{"$f":"リスト!F150","v":0},{"$f":"リスト!G150","v":0},{"$f":"リスト!H150","v":0},{"$f":"リスト!I150","v":0},{"$f":"リスト!J150","v":0},{"$f":"リスト!K150","v":0},{"$f":"リスト!L150","v":0},{"$f":"リスト!M150","v":0},{"$f":"リスト!N150","v":0}]
[{"$f":"リスト!A151","v":"　"},{"$f":"リスト!B151","v":0},{"$f":"リスト!C151","v":0},{"$f":"リスト!D151","v":0},{"$f":"リスト!E151","v":0},{"$f":"リスト!F151","v":0},{"$f":"リスト!G151","v":0},{"$f":"リスト!H151","v":0},{"$f":"リスト!I151","v":0},{"$f":"リスト!J151","v":0},{"$f":"リスト!K151","v":0},{"$f":"リスト!L151","v":0},{"$f":"リスト!M151","v":0},{"$f":"リスト!N151","v":0}]
[{"$f":"リスト!A152","v":"　"},{"$f":"リスト!B152","v":0},{"$f":"リスト!C152","v":0},{"$f":"リスト!D152","v":0},{"$f":"リスト!E152","v":0},{"$f":"リスト!F152","v":0},{"$f":"リスト!G152","v":0},{"$f":"リスト!H152","v":0},{"$f":"リスト!I152","v":0},{"$f":"リスト!J152","v":0},{"$f":"リスト!K152","v":0},{"$f":"リスト!L152","v":0},{"$f":"リスト!M152","v":0},{"$f":"リスト!N152","v":0}]
[{"$f":"リスト!A153","v":"　"},{"$f":"リスト!B153","v":0},{"$f":"リスト!C153","v":0},{"$f":"リスト!D153","v":0},{"$f":"リスト!E153","v":0},{"$f":"リスト!F153","v":0},{"$f":"リスト!G153","v":0},{"$f":"リスト!H153","v":0},{"$f":"リスト!I153","v":0},{"$f":"リスト!J153","v":0},{"$f":"リスト!K153","v":0},{"$f":"リスト!L153","v":0},{"$f":"リスト!M153","v":0},{"$f":"リスト!N153","v":0}]
[{"$f":"リスト!A154","v":"　"},{"$f":"リスト!B154","v":0},{"$f":"リスト!C154","v":0},{"$f":"リスト!D154","v":0},{"$f":"リスト!E154","v":0},{"$f":"リスト!F154","v":0},{"$f":"リスト!G154","v":0},{"$f":"リスト!H154","v":0},{"$f":"リスト!I154","v":0},{"$f":"リスト!J154","v":0},{"$f":"リスト!K154","v":0},{"$f":"リスト!L154","v":0},{"$f":"リスト!M154","v":0},{"$f":"リスト!N154","v":0}]
[{"$f":"リスト!A155","v":"　"},{"$f":"リスト!B155","v":0},{"$f":"リスト!C155","v":0},{"$f":"リスト!D155","v":0},{"$f":"リスト!E155","v":0},{"$f":"リスト!F155","v":0},{"$f":"リスト!G155","v":0},{"$f":"リスト!H155","v":0},{"$f":"リスト!I155","v":0},{"$f":"リスト!J155","v":0},{"$f":"リスト!K155","v":0},{"$f":"リスト!L155","v":0},{"$f":"リスト!M155","v":0},{"$f":"リスト!N155","v":0}]
[{"$f":"リスト!A156","v":"　"},{"$f":"リスト!B156","v":0},{"$f":"リスト!C156","v":0},{"$f":"リスト!D156","v":0},{"$f":"リスト!E156","v":0},{"$f":"リスト!F156","v":0},{"$f":"リスト!G156","v":0},{"$f":"リスト!H156","v":0},{"$f":"リスト!I156","v":0},{"$f":"リスト!J156","v":0},{"$f":"リスト!K156","v":0},{"$f":"リスト!L156","v":0},{"$f":"リスト!M156","v":0},{"$f":"リスト!N156","v":0}]
[{"$f":"リスト!A157","v":"　"},{"$f":"リスト!B157","v":0},{"$f":"リスト!C157","v":0},{"$f":"リスト!D157","v":0},{"$f":"リスト!E157","v":0},{"$f":"リスト!F157","v":0},{"$f":"リスト!G157","v":0},{"$f":"リスト!H157","v":0},{"$f":"リスト!I157","v":0},{"$f":"リスト!J157","v":0},{"$f":"リスト!K157","v":0},{"$f":"リスト!L157","v":0},{"$f":"リスト!M157","v":0},{"$f":"リスト!N157","v":0}]
[{"$f":"リスト!A158","v":"　"},{"$f":"リスト!B158","v":0},{"$f":"リスト!C158","v":0},{"$f":"リスト!D158","v":0},{"$f":"リスト!E158","v":0},{"$f":"リスト!F158","v":0},{"$f":"リスト!G158","v":0},{"$f":"リスト!H158","v":0},{"$f":"リスト!I158","v":0},{"$f":"リスト!J158","v":0},{"$f":"リスト!K158","v":0},{"$f":"リスト!L158","v":0},{"$f":"リスト!M158","v":0},{"$f":"リスト!N158","v":0}]
[{"$f":"リスト!A159","v":"　"},{"$f":"リスト!B159","v":0},{"$f":"リスト!C159","v":0},{"$f":"リスト!D159","v":0},{"$f":"リスト!E159","v":0},{"$f":"リスト!F159","v":0},{"$f":"リスト!G159","v":0},{"$f":"リスト!H159","v":0},{"$f":"リスト!I159","v":0},{"$f":"リスト!J159","v":0},{"$f":"リスト!K159","v":0},{"$f":"リスト!L159","v":0},{"$f":"リスト!M159","v":0},{"$f":"リスト!N159","v":0}]
[{"$f":"リスト!A160","v":"　"},{"$f":"リスト!B160","v":0},{"$f":"リスト!C160","v":0},{"$f":"リスト!D160","v":0},{"$f":"リスト!E160","v":0},{"$f":"リスト!F160","v":0},{"$f":"リスト!G160","v":0},{"$f":"リスト!H160","v":0},{"$f":"リスト!I160","v":0},{"$f":"リスト!J160","v":0},{"$f":"リスト!K160","v":0},{"$f":"リスト!L160","v":0},{"$f":"リスト!M160","v":0},{"$f":"リスト!N160","v":0}]
[{"$f":"リスト!A161","v":"　"},{"$f":"リスト!B161","v":0},{"$f":"リスト!C161","v":0},{"$f":"リスト!D161","v":0},{"$f":"リスト!E161","v":0},{"$f":"リスト!F161","v":0},{"$f":"リスト!G161","v":0},{"$f":"リスト!H161","v":0},{"$f":"リスト!I161","v":0},{"$f":"リスト!J161","v":0},{"$f":"リスト!K161","v":0},{"$f":"リスト!L161","v":0},{"$f":"リスト!M161","v":0},{"$f":"リスト!N161","v":0}]
[{"$f":"リスト!A162","v":"　"},{"$f":"リスト!B162","v":0},{"$f":"リスト!C162","v":0},{"$f":"リスト!D162","v":0},{"$f":"リスト!E162","v":0},{"$f":"リスト!F162","v":0},{"$f":"リスト!G162","v":0},{"$f":"リスト!H162","v":0},{"$f":"リスト!I162","v":0},{"$f":"リスト!J162","v":0},{"$f":"リスト!K162","v":0},{"$f":"リスト!L162","v":0},{"$f":"リスト!M162","v":0},{"$f":"リスト!N162","v":0}]
[{"$f":"リスト!A163","v":"　"},{"$f":"リスト!B163","v":0},{"$f":"リスト!C163","v":0},{"$f":"リスト!D163","v":0},{"$f":"リスト!E163","v":0},{"$f":"リスト!F163","v":0},{"$f":"リスト!G163","v":0},{"$f":"リスト!H163","v":0},{"$f":"リスト!I163","v":0},{"$f":"リスト!J163","v":0},{"$f":"リスト!K163","v":0},{"$f":"リスト!L163","v":0},{"$f":"リスト!M163","v":0},{"$f":"リスト!N163","v":0}]
[{"$f":"リスト!A164","v":"　"},{"$f":"リスト!B164","v":0},{"$f":"リスト!C164","v":0},{"$f":"リスト!D164","v":0},{"$f":"リスト!E164","v":0},{"$f":"リスト!F164","v":0},{"$f":"リスト!G164","v":0},{"$f":"リスト!H164","v":0},{"$f":"リスト!I164","v":0},{"$f":"リスト!J164","v":0},{"$f":"リスト!K164","v":0},{"$f":"リスト!L164","v":0},{"$f":"リスト!M164","v":0},{"$f":"リスト!N164","v":0}]
[{"$f":"リスト!A165","v":"　"},{"$f":"リスト!B165","v":0},{"$f":"リスト!C165","v":0},{"$f":"リスト!D165","v":0},{"$f":"リスト!E165","v":0},{"$f":"リスト!F165","v":0},{"$f":"リスト!G165","v":0},{"$f":"リスト!H165","v":0},{"$f":"リスト!I165","v":0},{"$f":"リスト!J165","v":0},{"$f":"リスト!K165","v":0},{"$f":"リスト!L165","v":0},{"$f":"リスト!M165","v":0},{"$f":"リスト!N165","v":0}]
[{"$f":"リスト!A166","v":"　"},{"$f":"リスト!B166","v":0},{"$f":"リスト!C166","v":0},{"$f":"リスト!D166","v":0},{"$f":"リスト!E166","v":0},{"$f":"リスト!F166","v":0},{"$f":"リスト!G166","v":0},{"$f":"リスト!H166","v":0},{"$f":"リスト!I166","v":0},{"$f":"リスト!J166","v":0},{"$f":"リスト!K166","v":0},{"$f":"リスト!L166","v":0},{"$f":"リスト!M166","v":0},{"$f":"リスト!N166","v":0}]
[{"$f":"リスト!A167","v":"　"},{"$f":"リスト!B167","v":0},{"$f":"リスト!C167","v":0},{"$f":"リスト!D167","v":0},{"$f":"リスト!E167","v":0},{"$f":"リスト!F167","v":0},{"$f":"リスト!G167","v":0},{"$f":"リスト!H167","v":0},{"$f":"リスト!I167","v":0},{"$f":"リスト!J167","v":0},{"$f":"リスト!K167","v":0},{"$f":"リスト!L167","v":0},{"$f":"リスト!M167","v":0},{"$f":"リスト!N167","v":0}]
[{"$f":"リスト!A168","v":"　"},{"$f":"リスト!B168","v":0},{"$f":"リスト!C168","v":0},{"$f":"リスト!D168","v":0},{"$f":"リスト!E168","v":0},{"$f":"リスト!F168","v":0},{"$f":"リスト!G168","v":0},{"$f":"リスト!H168","v":0},{"$f":"リスト!I168","v":0},{"$f":"リスト!J168","v":0},{"$f":"リスト!K168","v":0},{"$f":"リスト!L168","v":0},{"$f":"リスト!M168","v":0},{"$f":"リスト!N168","v":0}]
[{"$f":"リスト!A169","v":"　"},{"$f":"リスト!B169","v":0},{"$f":"リスト!C169","v":0},{"$f":"リスト!D169","v":0},{"$f":"リスト!E169","v":0},{"$f":"リスト!F169","v":0},{"$f":"リスト!G169","v":0},{"$f":"リスト!H169","v":0},{"$f":"リスト!I169","v":0},{"$f":"リスト!J169","v":0},{"$f":"リスト!K169","v":0},{"$f":"リスト!L169","v":0},{"$f":"リスト!M169","v":0},{"$f":"リスト!N169","v":0}]
[{"$f":"リスト!A170","v":"　"},{"$f":"リスト!B170","v":0},{"$f":"リスト!C170","v":0},{"$f":"リスト!D170","v":0},{"$f":"リスト!E170","v":0},{"$f":"リスト!F170","v":0},{"$f":"リスト!G170","v":0},{"$f":"リスト!H170","v":0},{"$f":"リスト!I170","v":0},{"$f":"リスト!J170","v":0},{"$f":"リスト!K170","v":0},{"$f":"リスト!L170","v":0},{"$f":"リスト!M170","v":0},{"$f":"リスト!N170","v":0}]
[{"$f":"リスト!A171","v":"　"},{"$f":"リスト!B171","v":0},{"$f":"リスト!C171","v":0},{"$f":"リスト!D171","v":0},{"$f":"リスト!E171","v":0},{"$f":"リスト!F171","v":0},{"$f":"リスト!G171","v":0},{"$f":"リスト!H171","v":0},{"$f":"リスト!I171","v":0},{"$f":"リスト!J171","v":0},{"$f":"リスト!K171","v":0},{"$f":"リスト!L171","v":0},{"$f":"リスト!M171","v":0},{"$f":"リスト!N171","v":0}]
[{"$f":"リスト!A172","v":"　"},{"$f":"リスト!B172","v":0},{"$f":"リスト!C172","v":0},{"$f":"リスト!D172","v":0},{"$f":"リスト!E172","v":0},{"$f":"リスト!F172","v":0},{"$f":"リスト!G172","v":0},{"$f":"リスト!H172","v":0},{"$f":"リスト!I172","v":0},{"$f":"リスト!J172","v":0},{"$f":"リスト!K172","v":0},{"$f":"リスト!L172","v":0},{"$f":"リスト!M172","v":0},{"$f":"リスト!N172","v":0}]
[{"$f":"リスト!A173","v":"　"},{"$f":"リスト!B173","v":0},{"$f":"リスト!C173","v":0},{"$f":"リスト!D173","v":0},{"$f":"リスト!E173","v":0},{"$f":"リスト!F173","v":0},{"$f":"リスト!G173","v":0},{"$f":"リスト!H173","v":0},{"$f":"リスト!I173","v":0},{"$f":"リスト!J173","v":0},{"$f":"リスト!K173","v":0},{"$f":"リスト!L173","v":0},{"$f":"リスト!M173","v":0},{"$f":"リスト!N173","v":0}]
[{"$f":"リスト!A174","v":"　"},{"$f":"リスト!B174","v":0},{"$f":"リスト!C174","v":0},{"$f":"リスト!D174","v":0},{"$f":"リスト!E174","v":0},{"$f":"リスト!F174","v":0},{"$f":"リスト!G174","v":0},{"$f":"リスト!H174","v":0},{"$f":"リスト!I174","v":0},{"$f":"リスト!J174","v":0},{"$f":"リスト!K174","v":0},{"$f":"リスト!L174","v":0},{"$f":"リスト!M174","v":0},{"$f":"リスト!N174","v":0}]
[{"$f":"リスト!A175","v":"　"},{"$f":"リスト!B175","v":0},{"$f":"リスト!C175","v":0},{"$f":"リスト!D175","v":0},{"$f":"リスト!E175","v":0},{"$f":"リスト!F175","v":0},{"$f":"リスト!G175","v":0},{"$f":"リスト!H175","v":0},{"$f":"リスト!I175","v":0},{"$f":"リスト!J175","v":0},{"$f":"リスト!K175","v":0},{"$f":"リスト!L175","v":0},{"$f":"リスト!M175","v":0},{"$f":"リスト!N175","v":0}]
[{"$f":"リスト!A176","v":"　"},{"$f":"リスト!B176","v":0},{"$f":"リスト!C176","v":0},{"$f":"リスト!D176","v":0},{"$f":"リスト!E176","v":0},{"$f":"リスト!F176","v":0},{"$f":"リスト!G176","v":0},{"$f":"リスト!H176","v":0},{"$f":"リスト!I176","v":0},{"$f":"リスト!J176","v":0},{"$f":"リスト!K176","v":0},{"$f":"リスト!L176","v":0},{"$f":"リスト!M176","v":0},{"$f":"リスト!N176","v":0}]
[{"$f":"リスト!A177","v":"　"},{"$f":"リスト!B177","v":0},{"$f":"リスト!C177","v":0},{"$f":"リスト!D177","v":0},{"$f":"リスト!E177","v":0},{"$f":"リスト!F177","v":0},{"$f":"リスト!G177","v":0},{"$f":"リスト!H177","v":0},{"$f":"リスト!I177","v":0},{"$f":"リスト!J177","v":0},{"$f":"リスト!K177","v":0},{"$f":"リスト!L177","v":0},{"$f":"リスト!M177","v":0},{"$f":"リスト!N177","v":0}]
[{"$f":"リスト!A178","v":"　"},{"$f":"リスト!B178","v":0},{"$f":"リスト!C178","v":0},{"$f":"リスト!D178","v":0},{"$f":"リスト!E178","v":0},{"$f":"リスト!F178","v":0},{"$f":"リスト!G178","v":0},{"$f":"リスト!H178","v":0},{"$f":"リスト!I178","v":0},{"$f":"リスト!J178","v":0},{"$f":"リスト!K178","v":0},{"$f":"リスト!L178","v":0},{"$f":"リスト!M178","v":0},{"$f":"リスト!N178","v":0}]
[{"$f":"リスト!A179","v":"　"},{"$f":"リスト!B179","v":0},{"$f":"リスト!C179","v":0},{"$f":"リスト!D179","v":0},{"$f":"リスト!E179","v":0},{"$f":"リスト!F179","v":0},{"$f":"リスト!G179","v":0},{"$f":"リスト!H179","v":0},{"$f":"リスト!I179","v":0},{"$f":"リスト!J179","v":0},{"$f":"リスト!K179","v":0},{"$f":"リスト!L179","v":0},{"$f":"リスト!M179","v":0},{"$f":"リスト!N179","v":0}]
[{"$f":"リスト!A180","v":"　"},{"$f":"リスト!B180","v":0},{"$f":"リスト!C180","v":0},{"$f":"リスト!D180","v":0},{"$f":"リスト!E180","v":0},{"$f":"リスト!F180","v":0},{"$f":"リスト!G180","v":0},{"$f":"リスト!H180","v":0},{"$f":"リスト!I180","v":0},{"$f":"リスト!J180","v":0},{"$f":"リスト!K180","v":0},{"$f":"リスト!L180","v":0},{"$f":"リスト!M180","v":0},{"$f":"リスト!N180","v":0}]
[{"$f":"リスト!A181","v":"　"},{"$f":"リスト!B181","v":0},{"$f":"リスト!C181","v":0},{"$f":"リスト!D181","v":0},{"$f":"リスト!E181","v":0},{"$f":"リスト!F181","v":0},{"$f":"リスト!G181","v":0},{"$f":"リスト!H181","v":0},{"$f":"リスト!I181","v":0},{"$f":"リスト!J181","v":0},{"$f":"リスト!K181","v":0},{"$f":"リスト!L181","v":0},{"$f":"リスト!M181","v":0},{"$f":"リスト!N181","v":0}]
[{"$f":"リスト!A182","v":"　"},{"$f":"リスト!B182","v":0},{"$f":"リスト!C182","v":0},{"$f":"リスト!D182","v":0},{"$f":"リスト!E182","v":0},{"$f":"リスト!F182","v":0},{"$f":"リスト!G182","v":0},{"$f":"リスト!H182","v":0},{"$f":"リスト!I182","v":0},{"$f":"リスト!J182","v":0},{"$f":"リスト!K182","v":0},{"$f":"リスト!L182","v":0},{"$f":"リスト!M182","v":0},{"$f":"リスト!N182","v":0}]
[{"$f":"リスト!A183","v":"　"},{"$f":"リスト!B183","v":0},{"$f":"リスト!C183","v":0},{"$f":"リスト!D183","v":0},{"$f":"リスト!E183","v":0},{"$f":"リスト!F183","v":0},{"$f":"リスト!G183","v":0},{"$f":"リスト!H183","v":0},{"$f":"リスト!I183","v":0},{"$f":"リスト!J183","v":0},{"$f":"リスト!K183","v":0},{"$f":"リスト!L183","v":0},{"$f":"リスト!M183","v":0},{"$f":"リスト!N183","v":0}]
[{"$f":"リスト!A184","v":"　"},{"$f":"リスト!B184","v":0},{"$f":"リスト!C184","v":0},{"$f":"リスト!D184","v":0},{"$f":"リスト!E184","v":0},{"$f":"リスト!F184","v":0},{"$f":"リスト!G184","v":0},{"$f":"リスト!H184","v":0},{"$f":"リスト!I184","v":0},{"$f":"リスト!J184","v":0},{"$f":"リスト!K184","v":0},{"$f":"リスト!L184","v":0},{"$f":"リスト!M184","v":0},{"$f":"リスト!N184","v":0}]
[{"$f":"リスト!A185","v":"　"},{"$f":"リスト!B185","v":0},{"$f":"リスト!C185","v":0},{"$f":"リスト!D185","v":0},{"$f":"リスト!E185","v":0},{"$f":"リスト!F185","v":0},{"$f":"リスト!G185","v":0},{"$f":"リスト!H185","v":0},{"$f":"リスト!I185","v":0},{"$f":"リスト!J185","v":0},{"$f":"リスト!K185","v":0},{"$f":"リスト!L185","v":0},{"$f":"リスト!M185","v":0},{"$f":"リスト!N185","v":0}]
[{"$f":"リスト!A186","v":"　"},{"$f":"リスト!B186","v":0},{"$f":"リスト!C186","v":0},{"$f":"リスト!D186","v":0},{"$f":"リスト!E186","v":0},{"$f":"リスト!F186","v":0},{"$f":"リスト!G186","v":0},{"$f":"リスト!H186","v":0},{"$f":"リスト!I186","v":0},{"$f":"リスト!J186","v":0},{"$f":"リスト!K186","v":0},{"$f":"リスト!L186","v":0},{"$f":"リスト!M186","v":0},{"$f":"リスト!N186","v":0}]
[{"$f":"リスト!A187","v":"　"},{"$f":"リスト!B187","v":0},{"$f":"リスト!C187","v":0},{"$f":"リスト!D187","v":0},{"$f":"リスト!E187","v":0},{"$f":"リスト!F187","v":0},{"$f":"リスト!G187","v":0},{"$f":"リスト!H187","v":0},{"$f":"リスト!I187","v":0},{"$f":"リスト!J187","v":0},{"$f":"リスト!K187","v":0},{"$f":"リスト!L187","v":0},{"$f":"リスト!M187","v":0},{"$f":"リスト!N187","v":0}]
[{"$f":"リスト!A188","v":"　"},{"$f":"リスト!B188","v":0},{"$f":"リスト!C188","v":0},{"$f":"リスト!D188","v":0},{"$f":"リスト!E188","v":0},{"$f":"リスト!F188","v":0},{"$f":"リスト!G188","v":0},{"$f":"リスト!H188","v":0},{"$f":"リスト!I188","v":0},{"$f":"リスト!J188","v":0},{"$f":"リスト!K188","v":0},{"$f":"リスト!L188","v":0},{"$f":"リスト!M188","v":0},{"$f":"リスト!N188","v":0}]
[{"$f":"リスト!A189","v":"　"},{"$f":"リスト!B189","v":0},{"$f":"リスト!C189","v":0},{"$f":"リスト!D189","v":0},{"$f":"リスト!E189","v":0},{"$f":"リスト!F189","v":0},{"$f":"リスト!G189","v":0},{"$f":"リスト!H189","v":0},{"$f":"リスト!I189","v":0},{"$f":"リスト!J189","v":0},{"$f":"リスト!K189","v":0},{"$f":"リスト!L189","v":0},{"$f":"リスト!M189","v":0},{"$f":"リスト!N189","v":0}]
[{"$f":"リスト!A190","v":"　"},{"$f":"リスト!B190","v":0},{"$f":"リスト!C190","v":0},{"$f":"リスト!D190","v":0},{"$f":"リスト!E190","v":0},{"$f":"リスト!F190","v":0},{"$f":"リスト!G190","v":0},{"$f":"リスト!H190","v":0},{"$f":"リスト!I190","v":0},{"$f":"リスト!J190","v":0},{"$f":"リスト!K190","v":0},{"$f":"リスト!L190","v":0},{"$f":"リスト!M190","v":0},{"$f":"リスト!N190","v":0}]
[{"$f":"リスト!A191","v":"　"},{"$f":"リスト!B191","v":0},{"$f":"リスト!C191","v":0},{"$f":"リスト!D191","v":0},{"$f":"リスト!E191","v":0},{"$f":"リスト!F191","v":0},{"$f":"リスト!G191","v":0},{"$f":"リスト!H191","v":0},{"$f":"リスト!I191","v":0},{"$f":"リスト!J191","v":0},{"$f":"リスト!K191","v":0},{"$f":"リスト!L191","v":0},{"$f":"リスト!M191","v":0},{"$f":"リスト!N191","v":0}]
[{"$f":"リスト!A192","v":"　"},{"$f":"リスト!B192","v":0},{"$f":"リスト!C192","v":0},{"$f":"リスト!D192","v":0},{"$f":"リスト!E192","v":0},{"$f":"リスト!F192","v":0},{"$f":"リスト!G192","v":0},{"$f":"リスト!H192","v":0},{"$f":"リスト!I192","v":0},{"$f":"リスト!J192","v":0},{"$f":"リスト!K192","v":0},{"$f":"リスト!L192","v":0},{"$f":"リスト!M192","v":0},{"$f":"リスト!N192","v":0}]
[{"$f":"リスト!A193","v":"　"},{"$f":"リスト!B193","v":0},{"$f":"リスト!C193","v":0},{"$f":"リスト!D193","v":0},{"$f":"リスト!E193","v":0},{"$f":"リスト!F193","v":0},{"$f":"リスト!G193","v":0},{"$f":"リスト!H193","v":0},{"$f":"リスト!I193","v":0},{"$f":"リスト!J193","v":0},{"$f":"リスト!K193","v":0},{"$f":"リスト!L193","v":0},{"$f":"リスト!M193","v":0},{"$f":"リスト!N193","v":0}]
[{"$f":"リスト!A194","v":"　"},{"$f":"リスト!B194","v":0},{"$f":"リスト!C194","v":0},{"$f":"リスト!D194","v":0},{"$f":"リスト!E194","v":0},{"$f":"リスト!F194","v":0},{"$f":"リスト!G194","v":0},{"$f":"リスト!H194","v":0},{"$f":"リスト!I194","v":0},{"$f":"リスト!J194","v":0},{"$f":"リスト!K194","v":0},{"$f":"リスト!L194","v":0},{"$f":"リスト!M194","v":0},{"$f":"リスト!N194","v":0}]
[{"$f":"リスト!A195","v":"　"},{"$f":"リスト!B195","v":0},{"$f":"リスト!C195","v":0},{"$f":"リスト!D195","v":0},{"$f":"リスト!E195","v":0},{"$f":"リスト!F195","v":0},{"$f":"リスト!G195","v":0},{"$f":"リスト!H195","v":0},{"$f":"リスト!I195","v":0},{"$f":"リスト!J195","v":0},{"$f":"リスト!K195","v":0},{"$f":"リスト!L195","v":0},{"$f":"リスト!M195","v":0},{"$f":"リスト!N195","v":0}]
[{"$f":"リスト!A196","v":"　"},{"$f":"リスト!B196","v":0},{"$f":"リスト!C196","v":0},{"$f":"リスト!D196","v":0},{"$f":"リスト!E196","v":0},{"$f":"リスト!F196","v":0},{"$f":"リスト!G196","v":0},{"$f":"リスト!H196","v":0},{"$f":"リスト!I196","v":0},{"$f":"リスト!J196","v":0},{"$f":"リスト!K196","v":0},{"$f":"リスト!L196","v":0},{"$f":"リスト!M196","v":0},{"$f":"リスト!N196","v":0}]
[{"$f":"リスト!A197","v":"　"},{"$f":"リスト!B197","v":0},{"$f":"リスト!C197","v":0},{"$f":"リスト!D197","v":0},{"$f":"リスト!E197","v":0},{"$f":"リスト!F197","v":0},{"$f":"リスト!G197","v":0},{"$f":"リスト!H197","v":0},{"$f":"リスト!I197","v":0},{"$f":"リスト!J197","v":0},{"$f":"リスト!K197","v":0},{"$f":"リスト!L197","v":0},{"$f":"リスト!M197","v":0},{"$f":"リスト!N197","v":0}]
[{"$f":"リスト!A198","v":"　"},{"$f":"リスト!B198","v":0},{"$f":"リスト!C198","v":0},{"$f":"リスト!D198","v":0},{"$f":"リスト!E198","v":0},{"$f":"リスト!F198","v":0},{"$f":"リスト!G198","v":0},{"$f":"リスト!H198","v":0},{"$f":"リスト!I198","v":0},{"$f":"リスト!J198","v":0},{"$f":"リスト!K198","v":0},{"$f":"リスト!L198","v":0},{"$f":"リスト!M198","v":0},{"$f":"リスト!N198","v":0}]
[{"$f":"リスト!A199","v":"　"},{"$f":"リスト!B199","v":0},{"$f":"リスト!C199","v":0},{"$f":"リスト!D199","v":0},{"$f":"リスト!E199","v":0},{"$f":"リスト!F199","v":0},{"$f":"リスト!G199","v":0},{"$f":"リスト!H199","v":0},{"$f":"リスト!I199","v":0},{"$f":"リスト!J199","v":0},{"$f":"リスト!K199","v":0},{"$f":"リスト!L199","v":0},{"$f":"リスト!M199","v":0},{"$f":"リスト!N199","v":0}]
[{"$f":"リスト!A200","v":"　"},{"$f":"リスト!B200","v":0},{"$f":"リスト!C200","v":0},{"$f":"リスト!D200","v":0},{"$f":"リスト!E200","v":0},{"$f":"リスト!F200","v":0},{"$f":"リスト!G200","v":0},{"$f":"リスト!H200","v":0},{"$f":"リスト!I200","v":0},{"$f":"リスト!J200","v":0},{"$f":"リスト!K200","v":0},{"$f":"リスト!L200","v":0},{"$f":"リスト!M200","v":0},{"$f":"リスト!N200","v":0}]
[{"$f":"リスト!A201","v":"　"},{"$f":"リスト!B201","v":0},{"$f":"リスト!C201","v":0},{"$f":"リスト!D201","v":0},{"$f":"リスト!E201","v":0},{"$f":"リスト!F201","v":0},{"$f":"リスト!G201","v":0},{"$f":"リスト!H201","v":0},{"$f":"リスト!I201","v":0},{"$f":"リスト!J201","v":0},{"$f":"リスト!K201","v":0},{"$f":"リスト!L201","v":0},{"$f":"リスト!M201","v":0},{"$f":"リスト!N201","v":0}]

{"sheet":"新人","index":6,"n_rows":340,"n_cols":30,"rows_kept":340,"cut":false,"hidden":false,"merged":[[0,1,0,21],[1,1,1,3],[1,4,1,19],[2,1,2,19],[3,1,3,3],[3,4,3,7],[3,8,3,11],[3,12,3,15],[3,16,3,19],[4,1,4,3],[4,4,4,7],[4,8,4,11],[4,12,4,15],[4,16,4,19],[5,1,5,3],[5,4,5,7],[5,8,5,11],[5,12,5,15],[5,16,5,19],[7,3,7,9],[7,14,7,20],[8,3,8,8],[8,14,8,19],[9,0,11,0],[9,3,9,8],[9,11,11,11],[9,14,9,19],[9,1,11,1],[10,3,10,8],[10,14,10,19],[11,3,11,8],[11,14,11,19],[19,14,19,19],[20,3,20,8],[20,14,20,19],[12,1,14,1],[15,1,17,1],[18,1,20,1],[21,1,23,1],[24,1,26,1],[27,1,29,1],[18,12,20,12],[12,0,14,0],[12,3,12,8],[12,11,14,11],[12,14,12,19],[13,3,13,8],[13,14,13,19],[9,12,11,12],[12,12,14,12],[14,3,14,8],[14,14,14,19],[15,0,17,0],[15,3,15,8],[15,11,17,11],[15,14,15,19],[16,3,16,8],[16,14,16,19],[17,3,17,8],[17,14,17,19],[15,12,17,12],[24,0,26,0],[24,3,24,8],[24,11,26,11],[24,14,24,19],[25,3,25,8],[25,14,25,19],[26,3,26,8],[26,14,26,19],[21,0,23,0],[21,3,21,8],[21,11,23,11],[21,14,21,19],[22,3,22,8],[22,14,22,19],[23,3,23,8],[23,14,23,19],[21,12,23,12],[24,12,26,12],[18,0,20,0],[18,3,18,8],[18,11,20,11],[18,14,18,19],[19,3,19,8],[30,0,32,0],[30,3,30,8],[30,11,32,11],[30,14,30,19],[31,3,31,8],[31,14,31,19],[32,3,32,8],[32,14,32,19],[27,0,29,0],[27,3,27,8],[27,11,29,11],[27,14,27,19],[28,3,28,8],[28,14,28,19],[29,3,29,8],[29,14,29,19],[27,12,29,12],[30,12,32,12],[30,1,32,1],[36,0,38,0],[36,3,36,8],[36,11,38,11],[36,14,36,19],[37,3,37,8],[37,14,37,19],[38,3,38,8],[38,14,38,19],[33,0,35,0],[33,3,33,8],[33,11,35,11],[33,14,33,19],[34,3,34,8],[34,14,34,19],[35,3,35,8],[35,14,35,19],[33,12,35,12],[36,12,38,12],[33,1,35,1],[36,1,38,1],[42,0,44,0],[42,3,42,8],[42,11,44,11],[42,14,42,19],[43,3,43,8],[43,14,43,19],[44,3,44,8],[44,14,44,19],[39,0,41,0],[39,3,39,8],[39,11,41,11],[39,14,39,19],[40,3,40,8],[40,14,40,19],[41,3,41,8],[41,14,41,19],[39,12,41,12],[42,12,44,12],[39,1,41,1],[42,1,44,1],[48,0,50,0],[48,3,48,8],[48,11,50,11],[48,14,48,19],[49,3,49,8],[49,14,49,19],[50,3,50,8],[50,14,50,19],[45,0,47,0],[45,3,45,8],[45,11,47,11],[45,14,45,19],[46,3,46,8],[46,14,46,19],[47,3,47,8],[47,14,47,19],[45,12,47,12],[48,12,50,12],[45,1,47,1],[48,1,50,1],[54,0,56,0],[54,3,54,8],[54,11,56,11],[54,14,54,19],[55,3,55,8],[55,14,55,19],[56,3,56,8],[56,14,56,19],[51,0,53,0],[51,3,51,8],[51,11,53,11],[51,14,51,19],[52,3,52,8],[52,14,52,19],[53,3,53,8],[53,14,53,19],[51,1,53,1],[54,1,56,1],[51,12,53,12],[54,12,56,12],[60,1,60,2],[60,3,60,8],[60,12,60,13],[60,14,60,19],[57,0,59,0],[57,3,57,8],[57,11,59,11],[57,14,57,19],[58,3,58,8],[58,14,58,19],[59,3,59,8],[59,14,59,19],[57,1,59,1],[57,12,59,12]]}
[null,"令和6年度茨城県高等学校弓道新人大会兼関東高等学校弓道選抜大会茨城県予選会兼全国高等学校弓\n道選抜大会茨城県予選会　申し込み",null,null,null,null,null,null,null,null,null,null,null,null,null,null,null,null,null,null,null,null,null,null,6,20,21,22,23,24]
[null,"学校名\n（正式名称）",null,null,null,null,null,null,null,null,null,null,null,null,null,null,null,null,null,null,null,null,null,null,{"$f":"IF(ISERROR(VLOOKUP($E$2,$A$66:$AD$138,Y1,FALSE)),\"\",VLOOKUP($E$2,$A$66:$AD$138,Y1,FALSE))","v":""},"","","","",""]
[null,"引率者"]
[null,"10月26日（土）\n男子",null,null,null,null,null,null,null,null,null,null,null,null,null,null,null,null,null,null,"昼食の数"]
[null,"10月27日（日）\n女子",null,null,null,null,null,null,null,null,null,null,null,null,null,null,null,null,null,null,"昼食の数"]
[null,"8月11日（日）\n決勝",null,null,null,null,null,null,null,null,null,null,null,null,null,null,null,null,null,null,"昼食の数"]
[null,null,null,null,null,null,null,null,"※引率2人目以降はこちらに入力"]
[null,"男子",null,"※個人の参加の場合には、大前（１）に記入",null,null,null,null,null,null,null,null,"女子",null,"※個人の参加の場合には、大前（１）に記入"]
[null,"チーム","立順","選手名",null,null,null,null,null,"学年",null,null,"チーム","立順","選手名",null,null,null,null,null,"学年"]
["A",{"$f":"IF(LEN($Y$2)=0,\"\",$Y$2&A10)","v":""},1,null,null,null,null,null,null,{"$f":"IF(LEN(D10)=0,\"\",VLOOKUP(D10,リスト!$A$3:$N$201,3,FALSE))","v":""},{"$f":"IF(LEN(D10)=0,\"\",VLOOKUP(D10,リスト!$A$3:$N$201,2,FALSE))","v":""},"A",{"$f":"IF(LEN($Y$2)=0,\"\",$Y$2&L10)","v":""},1,null,null,null,null,null,null,{"$f":"IF(LEN(O10)=0,\"\",VLOOKUP(O10,リスト!$A$3:$N$201,3,FALSE))","v":""},{"$f":"IF(LEN(O10)=0,\"\",VLOOKUP(O10,リスト!$A$3:$N$201,2,FALSE))","v":""},null,null,{"$f":"COUNTA(D10:I12)","v":0},{"$f":"COUNTA(O10:T12)","v":0}]
[null,null,2,null,null,null,null,null,null,{"$f":"IF(LEN(D11)=0,\"\",VLOOKUP(D11,リスト!$A$3:$N$201,3,FALSE))","v":""},{"$f":"IF(LEN(D11)=0,\"\",VLOOKUP(D11,リスト!$A$3:$N$201,2,FALSE))","v":""},null,null,2,null,null,null,null,null,null,{"$f":"IF(LEN(O11)=0,\"\",VLOOKUP(O11,リスト!$A$3:$N$201,3,FALSE))","v":""},{"$f":"IF(LEN(O11)=0,\"\",VLOOKUP(O11,リスト!$A$3:$N$201,2,FALSE))","v":""},null,null,{"$f":"COUNTA(D10:I12)","v":0},{"$f":"COUNTA(O10:T12)","v":0}]
[null,null,3,null,null,null,null,null,null,{"$f":"IF(LEN(D12)=0,\"\",VLOOKUP(D12,リスト!$A$3:$N$201,3,FALSE))","v":""},{"$f":"IF(LEN(D12)=0,\"\",VLOOKUP(D12,リスト!$A$3:$N$201,2,FALSE))","v":""},null,null,3,null,null,null,null,null,null,{"$f":"IF(LEN(O12)=0,\"\",VLOOKUP(O12,リスト!$A$3:$N$201,3,FALSE))","v":""},{"$f":"IF(LEN(O12)=0,\"\",VLOOKUP(O12,リスト!$A$3:$N$201,2,FALSE))","v":""},null,null,{"$f":"COUNTA(D10:I12)","v":0},{"$f":"COUNTA(O10:T12)","v":0}]
["B",{"$f":"IF(LEN($Y$2)=0,\"\",$Y$2&A13)","v":""},4,null,null,null,null,null,null,{"$f":"IF(LEN(D13)=0,\"\",VLOOKUP(D13,リスト!$A$3:$N$201,3,FALSE))","v":""},{"$f":"IF(LEN(D13)=0,\"\",VLOOKUP(D13,リスト!$A$3:$N$201,2,FALSE))","v":""},"B",{"$f":"IF(LEN($Y$2)=0,\"\",$Y$2&L13)","v":""},4,null,null,null,null,null,null,{"$f":"IF(LEN(O13)=0,\"\",VLOOKUP(O13,リスト!$A$3:$N$201,3,FALSE))","v":""},{"$f":"IF(LEN(O13)=0,\"\",VLOOKUP(O13,リスト!$A$3:$N$201,2,FALSE))","v":""},null,null,{"$f":"COUNTA(D13:I15)","v":0},{"$f":"COUNTA(O13:T15)","v":0}]
[null,null,5,null,null,null,null,null,null,{"$f":"IF(LEN(D14)=0,\"\",VLOOKUP(D14,リスト!$A$3:$N$201,3,FALSE))","v":""},{"$f":"IF(LEN(D14)=0,\"\",VLOOKUP(D14,リスト!$A$3:$N$201,2,FALSE))","v":""},null,null,5,null,null,null,null,null,null,{"$f":"IF(LEN(O14)=0,\"\",VLOOKUP(O14,リスト!$A$3:$N$201,3,FALSE))","v":""},{"$f":"IF(LEN(O14)=0,\"\",VLOOKUP(O14,リスト!$A$3:$N$201,2,FALSE))","v":""},null,null,{"$f":"COUNTA(D13:I15)","v":0},{"$f":"COUNTA(O13:T15)","v":0}]
[null,null,6,null,null,null,null,null,null,{"$f":"IF(LEN(D15)=0,\"\",VLOOKUP(D15,リスト!$A$3:$N$201,3,FALSE))","v":""},{"$f":"IF(LEN(D15)=0,\"\",VLOOKUP(D15,リスト!$A$3:$N$201,2,FALSE))","v":""},null,null,6,null,null,null,null,null,null,{"$f":"IF(LEN(O15)=0,\"\",VLOOKUP(O15,リスト!$A$3:$N$201,3,FALSE))","v":""},{"$f":"IF(LEN(O15)=0,\"\",VLOOKUP(O15,リスト!$A$3:$N$201,2,FALSE))","v":""},null,null,{"$f":"COUNTA(D13:I15)","v":0},{"$f":"COUNTA(O13:T15)","v":0}]
["C",{"$f":"IF(LEN($Y$2)=0,\"\",$Y$2&A16)","v":""},7,null,null,null,null,null,null,{"$f":"IF(LEN(D16)=0,\"\",VLOOKUP(D16,リスト!$A$3:$N$201,3,FALSE))","v":""},{"$f":"IF(LEN(D16)=0,\"\",VLOOKUP(D16,リスト!$A$3:$N$201,2,FALSE))","v":""},"C",{"$f":"IF(LEN($Y$2)=0,\"\",$Y$2&L16)","v":""},7,null,null,null,null,null,null,{"$f":"IF(LEN(O16)=0,\"\",VLOOKUP(O16,リスト!$A$3:$N$201,3,FALSE))","v":""},{"$f":"IF(LEN(O16)=0,\"\",VLOOKUP(O16,リスト!$A$3:$N$201,2,FALSE))","v":""},null,null,{"$f":"COUNTA(D16:I18)","v":0},{"$f":"COUNTA(O16:T18)","v":0}]
[null,null,8,null,null,null,null,null,null,{"$f":"IF(LEN(D17)=0,\"\",VLOOKUP(D17,リスト!$A$3:$N$201,3,FALSE))","v":""},{"$f":"IF(LEN(D17)=0,\"\",VLOOKUP(D17,リスト!$A$3:$N$201,2,FALSE))","v":""},null,null,8,null,null,null,null,null,null,{"$f":"IF(LEN(O17)=0,\"\",VLOOKUP(O17,リスト!$A$3:$N$201,3,FALSE))","v":""},{"$f":"IF(LEN(O17)=0,\"\",VLOOKUP(O17,リスト!$A$3:$N$201,2,FALSE))","v":""},null,null,{"$f":"COUNTA(D16:I18)","v":0},{"$f":"COUNTA(O16:T18)","v":0}]
[null,null,9,null,null,null,null,null,null,{"$f":"IF(LEN(D18)=0,\"\",VLOOKUP(D18,リスト!$A$3:$N$201,3,FALSE))","v":""},{"$f":"IF(LEN(D18)=0,\"\",VLOOKUP(D18,リスト!$A$3:$N$201,2,FALSE))","v":""},null,null,9,null,null,null,null,null,null,{"$f":"IF(LEN(O18)=0,\"\",VLOOKUP(O18,リスト!$A$3:$N$201,3,FALSE))","v":""},{"$f":"IF(LEN(O18)=0,\"\",VLOOKUP(O18,リスト!$A$3:$N$201,2,FALSE))","v":""},null,null,{"$f":"COUNTA(D16:I18)","v":0},{"$f":"COUNTA(O16:T18)","v":0}]
["D",{"$f":"IF(LEN($Y$2)=0,\"\",$Y$2&A19)","v":""},10,null,null,null,null,null,null,{"$f":"IF(LEN(D19)=0,\"\",VLOOKUP(D19,リスト!$A$3:$N$201,3,FALSE))","v":""},{"$f":"IF(LEN(D19)=0,\"\",VLOOKUP(D19,リスト!$A$3:$N$201,2,FALSE))","v":""},"D",{"$f":"IF(LEN($Y$2)=0,\"\",$Y$2&L19)","v":""},10,null,null,null,null,null,null,{"$f":"IF(LEN(O19)=0,\"\",VLOOKUP(O19,リスト!$A$3:$N$201,3,FALSE))","v":""},{"$f":"IF(LEN(O19)=0,\"\",VLOOKUP(O19,リスト!$A$3:$N$201,2,FALSE))","v":""},null,null,{"$f":"COUNTA(D19:I21)","v":0},{"$f":"COUNTA(O19:T21)","v":0}]
[null,null,11,null,null,null,null,null,null,{"$f":"IF(LEN(D20)=0,\"\",VLOOKUP(D20,リスト!$A$3:$N$201,3,FALSE))","v":""},{"$f":"IF(LEN(D20)=0,\"\",VLOOKUP(D20,リスト!$A$3:$N$201,2,FALSE))","v":""},null,null,11,null,null,null,null,null,null,{"$f":"IF(LEN(O20)=0,\"\",VLOOKUP(O20,リスト!$A$3:$N$201,3,FALSE))","v":""},{"$f":"IF(LEN(O20)=0,\"\",VLOOKUP(O20,リスト!$A$3:$N$201,2,FALSE))","v":""},null,null,{"$f":"COUNTA(D19:I21)","v":0},{"$f":"COUNTA(O19:T21)","v":0}]
[null,null,12,null,null,null,null,null,null,{"$f":"IF(LEN(D21)=0,\"\",VLOOKUP(D21,リスト!$A$3:$N$201,3,FALSE))","v":""},{"$f":"IF(LEN(D21)=0,\"\",VLOOKUP(D21,リスト!$A$3:$N$201,2,FALSE))","v":""},null,null,12,null,null,null,null,null,null,{"$f":"IF(LEN(O21)=0,\"\",VLOOKUP(O21,リスト!$A$3:$N$201,3,FALSE))","v":""},{"$f":"IF(LEN(O21)=0,\"\",VLOOKUP(O21,リスト!$A$3:$N$201,2,FALSE))","v":""},null,null,{"$f":"COUNTA(D19:I21)","v":0},{"$f":"COUNTA(O19:T21)","v":0}]
["E",{"$f":"IF(LEN($Y$2)=0,\"\",$Y$2&A22)","v":""},13,null,null,null,null,null,null,{"$f":"IF(LEN(D22)=0,\"\",VLOOKUP(D22,リスト!$A$3:$N$201,3,FALSE))","v":""},{"$f":"IF(LEN(D22)=0,\"\",VLOOKUP(D22,リスト!$A$3:$N$201,2,FALSE))","v":""},"E",{"$f":"IF(LEN($Y$2)=0,\"\",$Y$2&L22)","v":""},13,null,null,null,null,null,null,{"$f":"IF(LEN(O22)=0,\"\",VLOOKUP(O22,リスト!$A$3:$N$201,3,FALSE))","v":""},{"$f":"IF(LEN(O22)=0,\"\",VLOOKUP(O22,リスト!$A$3:$N$201,2,FALSE))","v":""},null,null,{"$f":"COUNTA(D22:I24)","v":0},{"$f":"COUNTA(O22:T24)","v":0}]
[null,null,14,null,null,null,null,null,null,{"$f":"IF(LEN(D23)=0,\"\",VLOOKUP(D23,リスト!$A$3:$N$201,3,FALSE))","v":""},{"$f":"IF(LEN(D23)=0,\"\",VLOOKUP(D23,リスト!$A$3:$N$201,2,FALSE))","v":""},null,null,14,null,null,null,null,null,null,{"$f":"IF(LEN(O23)=0,\"\",VLOOKUP(O23,リスト!$A$3:$N$201,3,FALSE))","v":""},{"$f":"IF(LEN(O23)=0,\"\",VLOOKUP(O23,リスト!$A$3:$N$201,2,FALSE))","v":""},null,null,{"$f":"COUNTA(D22:I24)","v":0},{"$f":"COUNTA(O22:T24)","v":0}]
[null,null,15,null,null,null,null,null,null,{"$f":"IF(LEN(D24)=0,\"\",VLOOKUP(D24,リスト!$A$3:$N$201,3,FALSE))","v":""},{"$f":"IF(LEN(D24)=0,\"\",VLOOKUP(D24,リスト!$A$3:$N$201,2,FALSE))","v":""},null,null,15,null,null,null,null,null,null,{"$f":"IF(LEN(O24)=0,\"\",VLOOKUP(O24,リスト!$A$3:$N$201,3,FALSE))","v":""},{"$f":"IF(LEN(O24)=0,\"\",VLOOKUP(O24,リスト!$A$3:$N$201,2,FALSE))","v":""},null,null,{"$f":"COUNTA(D22:I24)","v":0},{"$f":"COUNTA(O22:T24)","v":0}]
["F",{"$f":"IF(LEN($Y$2)=0,\"\",$Y$2&A25)","v":""},16,null,null,null,null,null,null,{"$f":"IF(LEN(D25)=0,\"\",VLOOKUP(D25,リスト!$A$3:$N$201,3,FALSE))","v":""},{"$f":"IF(LEN(D25)=0,\"\",VLOOKUP(D25,リスト!$A$3:$N$201,2,FALSE))","v":""},"F",{"$f":"IF(LEN($Y$2)=0,\"\",$Y$2&L25)","v":""},16,null,null,null,null,null,null,{"$f":"IF(LEN(O25)=0,\"\",VLOOKUP(O25,リスト!$A$3:$N$201,3,FALSE))","v":""},{"$f":"IF(LEN(O25)=0,\"\",VLOOKUP(O25,リスト!$A$3:$N$201,2,FALSE))","v":""},null,null,{"$f":"COUNTA(D25:I27)","v":0},{"$f":"COUNTA(O25:T27)","v":0}]
[null,null,17,null,null,null,null,null,null,{"$f":"IF(LEN(D26)=0,\"\",VLOOKUP(D26,リスト!$A$3:$N$201,3,FALSE))","v":""},{"$f":"IF(LEN(D26)=0,\"\",VLOOKUP(D26,リスト!$A$3:$N$201,2,FALSE))","v":""},null,null,17,null,null,null,null,null,null,{"$f":"IF(LEN(O26)=0,\"\",VLOOKUP(O26,リスト!$A$3:$N$201,3,FALSE))","v":""},{"$f":"IF(LEN(O26)=0,\"\",VLOOKUP(O26,リスト!$A$3:$N$201,2,FALSE))","v":""},null,null,{"$f":"COUNTA(D25:I27)","v":0},{"$f":"COUNTA(O25:T27)","v":0}]
[null,null,18,null,null,null,null,null,null,{"$f":"IF(LEN(D27)=0,\"\",VLOOKUP(D27,リスト!$A$3:$N$201,3,FALSE))","v":""},{"$f":"IF(LEN(D27)=0,\"\",VLOOKUP(D27,リスト!$A$3:$N$201,2,FALSE))","v":""},null,null,18,null,null,null,null,null,null,{"$f":"IF(LEN(O27)=0,\"\",VLOOKUP(O27,リスト!$A$3:$N$201,3,FALSE))","v":""},{"$f":"IF(LEN(O27)=0,\"\",VLOOKUP(O27,リスト!$A$3:$N$201,2,FALSE))","v":""},null,null,{"$f":"COUNTA(D25:I27)","v":0},{"$f":"COUNTA(O25:T27)","v":0}]
["G",{"$f":"IF(LEN($Y$2)=0,\"\",$Y$2&A28)","v":""},19,null,null,null,null,null,null,{"$f":"IF(LEN(D28)=0,\"\",VLOOKUP(D28,リスト!$A$3:$N$201,3,FALSE))","v":""},{"$f":"IF(LEN(D28)=0,\"\",VLOOKUP(D28,リスト!$A$3:$N$201,2,FALSE))","v":""},"G",{"$f":"IF(LEN($Y$2)=0,\"\",$Y$2&L28)","v":""},19,null,null,null,null,null,null,{"$f":"IF(LEN(O28)=0,\"\",VLOOKUP(O28,リスト!$A$3:$N$201,3,FALSE))","v":""},{"$f":"IF(LEN(O28)=0,\"\",VLOOKUP(O28,リスト!$A$3:$N$201,2,FALSE))","v":""},null,null,{"$f":"COUNTA(D28:I30)","v":0},{"$f":"COUNTA(O28:T30)","v":0}]
[null,null,20,null,null,null,null,null,null,{"$f":"IF(LEN(D29)=0,\"\",VLOOKUP(D29,リスト!$A$3:$N$201,3,FALSE))","v":""},{"$f":"IF(LEN(D29)=0,\"\",VLOOKUP(D29,リスト!$A$3:$N$201,2,FALSE))","v":""},null,null,20,null,null,null,null,null,null,{"$f":"IF(LEN(O29)=0,\"\",VLOOKUP(O29,リスト!$A$3:$N$201,3,FALSE))","v":""},{"$f":"IF(LEN(O29)=0,\"\",VLOOKUP(O29,リスト!$A$3:$N$201,2,FALSE))","v":""},null,null,{"$f":"COUNTA(D28:I30)","v":0},{"$f":"COUNTA(O28:T30)","v":0}]
[null,null,21,null,null,null,null,null,null,{"$f":"IF(LEN(D30)=0,\"\",VLOOKUP(D30,リスト!$A$3:$N$201,3,FALSE))","v":""},{"$f":"IF(LEN(D30)=0,\"\",VLOOKUP(D30,リスト!$A$3:$N$201,2,FALSE))","v":""},null,null,21,null,null,null,null,null,null,{"$f":"IF(LEN(O30)=0,\"\",VLOOKUP(O30,リスト!$A$3:$N$201,3,FALSE))","v":""},{"$f":"IF(LEN(O30)=0,\"\",VLOOKUP(O30,リスト!$A$3:$N$201,2,FALSE))","v":""},null,null,{"$f":"COUNTA(D28:I30)","v":0},{"$f":"COUNTA(O28:T30)","v":0}]
["H",{"$f":"IF(LEN($Y$2)=0,\"\",$Y$2&A31)","v":""},22,null,null,null,null,null,null,{"$f":"IF(LEN(D31)=0,\"\",VLOOKUP(D31,リスト!$A$3:$N$201,3,FALSE))","v":""},{"$f":"IF(LEN(D31)=0,\"\",VLOOKUP(D31,リスト!$A$3:$N$201,2,FALSE))","v":""},"H",{"$f":"IF(LEN($Y$2)=0,\"\",$Y$2&L31)","v":""},22,null,null,null,null,null,null,{"$f":"IF(LEN(O31)=0,\"\",VLOOKUP(O31,リスト!$A$3:$N$201,3,FALSE))","v":""},{"$f":"IF(LEN(O31)=0,\"\",VLOOKUP(O31,リスト!$A$3:$N$201,2,FALSE))","v":""},null,null,{"$f":"COUNTA(D31:I33)","v":0},{"$f":"COUNTA(O31:T33)","v":0}]
[null,null,23,null,null,null,null,null,null,{"$f":"IF(LEN(D32)=0,\"\",VLOOKUP(D32,リスト!$A$3:$N$201,3,FALSE))","v":""},{"$f":"IF(LEN(D32)=0,\"\",VLOOKUP(D32,リスト!$A$3:$N$201,2,FALSE))","v":""},null,null,23,null,null,null,null,null,null,{"$f":"IF(LEN(O32)=0,\"\",VLOOKUP(O32,リスト!$A$3:$N$201,3,FALSE))","v":""},{"$f":"IF(LEN(O32)=0,\"\",VLOOKUP(O32,リスト!$A$3:$N$201,2,FALSE))","v":""},null,null,{"$f":"COUNTA(D31:I33)","v":0},{"$f":"COUNTA(O31:T33)","v":0}]
[null,null,24,null,null,null,null,null,null,{"$f":"IF(LEN(D33)=0,\"\",VLOOKUP(D33,リスト!$A$3:$N$201,3,FALSE))","v":""},{"$f":"IF(LEN(D33)=0,\"\",VLOOKUP(D33,リスト!$A$3:$N$201,2,FALSE))","v":""},null,null,24,null,null,null,null,null,null,{"$f":"IF(LEN(O33)=0,\"\",VLOOKUP(O33,リスト!$A$3:$N$201,3,FALSE))","v":""},{"$f":"IF(LEN(O33)=0,\"\",VLOOKUP(O33,リスト!$A$3:$N$201,2,FALSE))","v":""},null,null,{"$f":"COUNTA(D31:I33)","v":0},{"$f":"COUNTA(O31:T33)","v":0}]
["I",{"$f":"IF(LEN($Y$2)=0,\"\",$Y$2&A34)","v":""},25,null,null,null,null,null,null,{"$f":"IF(LEN(D34)=0,\"\",VLOOKUP(D34,リスト!$A$3:$N$201,3,FALSE))","v":""},{"$f":"IF(LEN(D34)=0,\"\",VLOOKUP(D34,リスト!$A$3:$N$201,2,FALSE))","v":""},"I",{"$f":"IF(LEN($Y$2)=0,\"\",$Y$2&L34)","v":""},25,null,null,null,null,null,null,{"$f":"IF(LEN(O34)=0,\"\",VLOOKUP(O34,リスト!$A$3:$N$201,3,FALSE))","v":""},{"$f":"IF(LEN(O34)=0,\"\",VLOOKUP(O34,リスト!$A$3:$N$201,2,FALSE))","v":""},null,null,{"$f":"COUNTA(D34:I36)","v":0},{"$f":"COUNTA(O34:T36)","v":0}]
[null,null,26,null,null,null,null,null,null,{"$f":"IF(LEN(D35)=0,\"\",VLOOKUP(D35,リスト!$A$3:$N$201,3,FALSE))","v":""},{"$f":"IF(LEN(D35)=0,\"\",VLOOKUP(D35,リスト!$A$3:$N$201,2,FALSE))","v":""},null,null,26,null,null,null,null,null,null,{"$f":"IF(LEN(O35)=0,\"\",VLOOKUP(O35,リスト!$A$3:$N$201,3,FALSE))","v":""},{"$f":"IF(LEN(O35)=0,\"\",VLOOKUP(O35,リスト!$A$3:$N$201,2,FALSE))","v":""},null,null,{"$f":"COUNTA(D34:I36)","v":0},{"$f":"COUNTA(O34:T36)","v":0}]
[null,null,27,null,null,null,null,null,null,{"$f":"IF(LEN(D36)=0,\"\",VLOOKUP(D36,リスト!$A$3:$N$201,3,FALSE))","v":""},{"$f":"IF(LEN(D36)=0,\"\",VLOOKUP(D36,リスト!$A$3:$N$201,2,FALSE))","v":""},null,null,27,null,null,null,null,null,null,{"$f":"IF(LEN(O36)=0,\"\",VLOOKUP(O36,リスト!$A$3:$N$201,3,FALSE))","v":""},{"$f":"IF(LEN(O36)=0,\"\",VLOOKUP(O36,リスト!$A$3:$N$201,2,FALSE))","v":""},null,null,{"$f":"COUNTA(D34:I36)","v":0},{"$f":"COUNTA(O34:T36)","v":0}]
["J",{"$f":"IF(LEN($Y$2)=0,\"\",$Y$2&A37)","v":""},28,null,null,null,null,null,null,{"$f":"IF(LEN(D37)=0,\"\",VLOOKUP(D37,リスト!$A$3:$N$201,3,FALSE))","v":""},{"$f":"IF(LEN(D37)=0,\"\",VLOOKUP(D37,リスト!$A$3:$N$201,2,FALSE))","v":""},"J",{"$f":"IF(LEN($Y$2)=0,\"\",$Y$2&L37)","v":""},28,null,null,null,null,null,null,{"$f":"IF(LEN(O37)=0,\"\",VLOOKUP(O37,リスト!$A$3:$N$201,3,FALSE))","v":""},{"$f":"IF(LEN(O37)=0,\"\",VLOOKUP(O37,リスト!$A$3:$N$201,2,FALSE))","v":""},null,null,{"$f":"COUNTA(D37:I39)","v":0},{"$f":"COUNTA(O37:T39)","v":0}]
[null,null,29,null,null,null,null,null,null,{"$f":"IF(LEN(D38)=0,\"\",VLOOKUP(D38,リスト!$A$3:$N$201,3,FALSE))","v":""},{"$f":"IF(LEN(D38)=0,\"\",VLOOKUP(D38,リスト!$A$3:$N$201,2,FALSE))","v":""},null,null,29,null,null,null,null,null,null,{"$f":"IF(LEN(O38)=0,\"\",VLOOKUP(O38,リスト!$A$3:$N$201,3,FALSE))","v":""},{"$f":"IF(LEN(O38)=0,\"\",VLOOKUP(O38,リスト!$A$3:$N$201,2,FALSE))","v":""},null,null,{"$f":"COUNTA(D37:I39)","v":0},{"$f":"COUNTA(O37:T39)","v":0}]
[null,null,30,null,null,null,null,null,null,{"$f":"IF(LEN(D39)=0,\"\",VLOOKUP(D39,リスト!$A$3:$N$201,3,FALSE))","v":""},{"$f":"IF(LEN(D39)=0,\"\",VLOOKUP(D39,リスト!$A$3:$N$201,2,FALSE))","v":""},null,null,30,null,null,null,null,null,null,{"$f":"IF(LEN(O39)=0,\"\",VLOOKUP(O39,リスト!$A$3:$N$201,3,FALSE))","v":""},{"$f":"IF(LEN(O39)=0,\"\",VLOOKUP(O39,リスト!$A$3:$N$201,2,FALSE))","v":""},null,null,{"$f":"COUNTA(D37:I39)","v":0},{"$f":"COUNTA(O37:T39)","v":0}]
["K",{"$f":"IF(LEN($Y$2)=0,\"\",$Y$2&A40)","v":""},31,null,null,null,null,null,null,{"$f":"IF(LEN(D40)=0,\"\",VLOOKUP(D40,リスト!$A$3:$N$201,3,FALSE))","v":""},{"$f":"IF(LEN(D40)=0,\"\",VLOOKUP(D40,リスト!$A$3:$N$201,2,FALSE))","v":""},"K",{"$f":"IF(LEN($Y$2)=0,\"\",$Y$2&L40)","v":""},31,null,null,null,null,null,null,{"$f":"IF(LEN(O40)=0,\"\",VLOOKUP(O40,リスト!$A$3:$N$201,3,FALSE))","v":""},{"$f":"IF(LEN(O40)=0,\"\",VLOOKUP(O40,リスト!$A$3:$N$201,2,FALSE))","v":""},null,null,{"$f":"COUNTA(D40:I42)","v":0},{"$f":"COUNTA(O40:T42)","v":0}]
[null,null,32,null,null,null,null,null,null,{"$f":"IF(LEN(D41)=0,\"\",VLOOKUP(D41,リスト!$A$3:$N$201,3,FALSE))","v":""},{"$f":"IF(LEN(D41)=0,\"\",VLOOKUP(D41,リスト!$A$3:$N$201,2,FALSE))","v":""},null,null,32,null,null,null,null,null,null,{"$f":"IF(LEN(O41)=0,\"\",VLOOKUP(O41,リスト!$A$3:$N$201,3,FALSE))","v":""},{"$f":"IF(LEN(O41)=0,\"\",VLOOKUP(O41,リスト!$A$3:$N$201,2,FALSE))","v":""},null,null,{"$f":"COUNTA(D40:I42)","v":0},{"$f":"COUNTA(O40:T42)","v":0}]
[null,null,33,null,null,null,null,null,null,{"$f":"IF(LEN(D42)=0,\"\",VLOOKUP(D42,リスト!$A$3:$N$201,3,FALSE))","v":""},{"$f":"IF(LEN(D42)=0,\"\",VLOOKUP(D42,リスト!$A$3:$N$201,2,FALSE))","v":""},null,null,33,null,null,null,null,null,null,{"$f":"IF(LEN(O42)=0,\"\",VLOOKUP(O42,リスト!$A$3:$N$201,3,FALSE))","v":""},{"$f":"IF(LEN(O42)=0,\"\",VLOOKUP(O42,リスト!$A$3:$N$201,2,FALSE))","v":""},null,null,{"$f":"COUNTA(D40:I42)","v":0},{"$f":"COUNTA(O40:T42)","v":0}]
["L",{"$f":"IF(LEN($Y$2)=0,\"\",$Y$2&A43)","v":""},34,null,null,null,null,null,null,{"$f":"IF(LEN(D43)=0,\"\",VLOOKUP(D43,リスト!$A$3:$N$201,3,FALSE))","v":""},{"$f":"IF(LEN(D43)=0,\"\",VLOOKUP(D43,リスト!$A$3:$N$201,2,FALSE))","v":""},"L",{"$f":"IF(LEN($Y$2)=0,\"\",$Y$2&L43)","v":""},34,null,null,null,null,null,null,{"$f":"IF(LEN(O43)=0,\"\",VLOOKUP(O43,リスト!$A$3:$N$201,3,FALSE))","v":""},{"$f":"IF(LEN(O43)=0,\"\",VLOOKUP(O43,リスト!$A$3:$N$201,2,FALSE))","v":""},null,null,{"$f":"COUNTA(D43:I45)","v":0},{"$f":"COUNTA(O43:T45)","v":0}]
[null,null,35,null,null,null,null,null,null,{"$f":"IF(LEN(D44)=0,\"\",VLOOKUP(D44,リスト!$A$3:$N$201,3,FALSE))","v":""},{"$f":"IF(LEN(D44)=0,\"\",VLOOKUP(D44,リスト!$A$3:$N$201,2,FALSE))","v":""},null,null,35,null,null,null,null,null,null,{"$f":"IF(LEN(O44)=0,\"\",VLOOKUP(O44,リスト!$A$3:$N$201,3,FALSE))","v":""},{"$f":"IF(LEN(O44)=0,\"\",VLOOKUP(O44,リスト!$A$3:$N$201,2,FALSE))","v":""},null,null,{"$f":"COUNTA(D43:I45)","v":0},{"$f":"COUNTA(O43:T45)","v":0}]
[null,null,36,null,null,null,null,null,null,{"$f":"IF(LEN(D45)=0,\"\",VLOOKUP(D45,リスト!$A$3:$N$201,3,FALSE))","v":""},{"$f":"IF(LEN(D45)=0,\"\",VLOOKUP(D45,リスト!$A$3:$N$201,2,FALSE))","v":""},null,null,36,null,null,null,null,null,null,{"$f":"IF(LEN(O45)=0,\"\",VLOOKUP(O45,リスト!$A$3:$N$201,3,FALSE))","v":""},{"$f":"IF(LEN(O45)=0,\"\",VLOOKUP(O45,リスト!$A$3:$N$201,2,FALSE))","v":""},null,null,{"$f":"COUNTA(D43:I45)","v":0},{"$f":"COUNTA(O43:T45)","v":0}]
["M",{"$f":"IF(LEN($Y$2)=0,\"\",$Y$2&A46)","v":""},37,null,null,null,null,null,null,{"$f":"IF(LEN(D46)=0,\"\",VLOOKUP(D46,リスト!$A$3:$N$201,3,FALSE))","v":""},{"$f":"IF(LEN(D46)=0,\"\",VLOOKUP(D46,リスト!$A$3:$N$201,2,FALSE))","v":""},"M",{"$f":"IF(LEN($Y$2)=0,\"\",$Y$2&L46)","v":""},37,null,null,null,null,null,null,{"$f":"IF(LEN(O46)=0,\"\",VLOOKUP(O46,リスト!$A$3:$N$201,3,FALSE))","v":""},{"$f":"IF(LEN(O46)=0,\"\",VLOOKUP(O46,リスト!$A$3:$N$201,2,FALSE))","v":""},null,null,{"$f":"COUNTA(D46:I48)","v":0},{"$f":"COUNTA(O46:T48)","v":0}]
[null,null,38,null,null,null,null,null,null,{"$f":"IF(LEN(D47)=0,\"\",VLOOKUP(D47,リスト!$A$3:$N$201,3,FALSE))","v":""},{"$f":"IF(LEN(D47)=0,\"\",VLOOKUP(D47,リスト!$A$3:$N$201,2,FALSE))","v":""},null,null,38,null,null,null,null,null,null,{"$f":"IF(LEN(O47)=0,\"\",VLOOKUP(O47,リスト!$A$3:$N$201,3,FALSE))","v":""},{"$f":"IF(LEN(O47)=0,\"\",VLOOKUP(O47,リスト!$A$3:$N$201,2,FALSE))","v":""},null,null,{"$f":"COUNTA(D46:I48)","v":0},{"$f":"COUNTA(O46:T48)","v":0}]
[null,null,39,null,null,null,null,null,null,{"$f":"IF(LEN(D48)=0,\"\",VLOOKUP(D48,リスト!$A$3:$N$201,3,FALSE))","v":""},{"$f":"IF(LEN(D48)=0,\"\",VLOOKUP(D48,リスト!$A$3:$N$201,2,FALSE))","v":""},null,null,39,null,null,null,null,null,null,{"$f":"IF(LEN(O48)=0,\"\",VLOOKUP(O48,リスト!$A$3:$N$201,3,FALSE))","v":""},{"$f":"IF(LEN(O48)=0,\"\",VLOOKUP(O48,リスト!$A$3:$N$201,2,FALSE))","v":""},null,null,{"$f":"COUNTA(D46:I48)","v":0},{"$f":"COUNTA(O46:T48)","v":0}]
["N",{"$f":"IF(LEN($Y$2)=0,\"\",$Y$2&A49)","v":""},40,null,null,null,null,null,null,{"$f":"IF(LEN(D49)=0,\"\",VLOOKUP(D49,リスト!$A$3:$N$201,3,FALSE))","v":""},{"$f":"IF(LEN(D49)=0,\"\",VLOOKUP(D49,リスト!$A$3:$N$201,2,FALSE))","v":""},"N",{"$f":"IF(LEN($Y$2)=0,\"\",$Y$2&L49)","v":""},40,null,null,null,null,null,null,{"$f":"IF(LEN(O49)=0,\"\",VLOOKUP(O49,リスト!$A$3:$N$201,3,FALSE))","v":""},{"$f":"IF(LEN(O49)=0,\"\",VLOOKUP(O49,リスト!$A$3:$N$201,2,FALSE))","v":""},null,null,{"$f":"COUNTA(D49:I51)","v":0},{"$f":"COUNTA(O49:T51)","v":0}]
[null,null,41,null,null,null,null,null,null,{"$f":"IF(LEN(D50)=0,\"\",VLOOKUP(D50,リスト!$A$3:$N$201,3,FALSE))","v":""},{"$f":"IF(LEN(D50)=0,\"\",VLOOKUP(D50,リスト!$A$3:$N$201,2,FALSE))","v":""},null,null,41,null,null,null,null,null,null,{"$f":"IF(LEN(O50)=0,\"\",VLOOKUP(O50,リスト!$A$3:$N$201,3,FALSE))","v":""},{"$f":"IF(LEN(O50)=0,\"\",VLOOKUP(O50,リスト!$A$3:$N$201,2,FALSE))","v":""},null,null,{"$f":"COUNTA(D49:I51)","v":0},{"$f":"COUNTA(O49:T51)","v":0}]
[null,null,42,null,null,null,null,null,null,{"$f":"IF(LEN(D51)=0,\"\",VLOOKUP(D51,リスト!$A$3:$N$201,3,FALSE))","v":""},{"$f":"IF(LEN(D51)=0,\"\",VLOOKUP(D51,リスト!$A$3:$N$201,2,FALSE))","v":""},null,null,42,null,null,null,null,null,null,{"$f":"IF(LEN(O51)=0,\"\",VLOOKUP(O51,リスト!$A$3:$N$201,3,FALSE))","v":""},{"$f":"IF(LEN(O51)=0,\"\",VLOOKUP(O51,リスト!$A$3:$N$201,2,FALSE))","v":""},null,null,{"$f":"COUNTA(D49:I51)","v":0},{"$f":"COUNTA(O49:T51)","v":0}]
["O",{"$f":"IF(LEN($Y$2)=0,\"\",$Y$2&A52)","v":""},43,null,null,null,null,null,null,{"$f":"IF(LEN(D52)=0,\"\",VLOOKUP(D52,リスト!$A$3:$N$201,3,FALSE))","v":""},{"$f":"IF(LEN(D52)=0,\"\",VLOOKUP(D52,リスト!$A$3:$N$201,2,FALSE))","v":""},"O",{"$f":"IF(LEN($Y$2)=0,\"\",$Y$2&L52)","v":""},43,null,null,null,null,null,null,{"$f":"IF(LEN(O52)=0,\"\",VLOOKUP(O52,リスト!$A$3:$N$201,3,FALSE))","v":""},{"$f":"IF(LEN(O52)=0,\"\",VLOOKUP(O52,リスト!$A$3:$N$201,2,FALSE))","v":""},null,null,{"$f":"COUNTA(D52:I54)","v":0},{"$f":"COUNTA(O52:T54)","v":0}]
[null,null,44,null,null,null,null,null,null,{"$f":"IF(LEN(D53)=0,\"\",VLOOKUP(D53,リスト!$A$3:$N$201,3,FALSE))","v":""},{"$f":"IF(LEN(D53)=0,\"\",VLOOKUP(D53,リスト!$A$3:$N$201,2,FALSE))","v":""},null,null,44,null,null,null,null,null,null,{"$f":"IF(LEN(O53)=0,\"\",VLOOKUP(O53,リスト!$A$3:$N$201,3,FALSE))","v":""},{"$f":"IF(LEN(O53)=0,\"\",VLOOKUP(O53,リスト!$A$3:$N$201,2,FALSE))","v":""},null,null,{"$f":"COUNTA(D52:I54)","v":0},{"$f":"COUNTA(O52:T54)","v":0}]
[null,null,45,null,null,null,null,null,null,{"$f":"IF(LEN(D54)=0,\"\",VLOOKUP(D54,リスト!$A$3:$N$201,3,FALSE))","v":""},{"$f":"IF(LEN(D54)=0,\"\",VLOOKUP(D54,リスト!$A$3:$N$201,2,FALSE))","v":""},null,null,45,null,null,null,null,null,null,{"$f":"IF(LEN(O54)=0,\"\",VLOOKUP(O54,リスト!$A$3:$N$201,3,FALSE))","v":""},{"$f":"IF(LEN(O54)=0,\"\",VLOOKUP(O54,リスト!$A$3:$N$201,2,FALSE))","v":""},null,null,{"$f":"COUNTA(D52:I54)","v":0},{"$f":"COUNTA(O52:T54)","v":0}]
["P",{"$f":"IF(LEN($Y$2)=0,\"\",$Y$2&A55)","v":""},46,null,null,null,null,null,null,{"$f":"IF(LEN(D55)=0,\"\",VLOOKUP(D55,リスト!$A$3:$N$201,3,FALSE))","v":""},{"$f":"IF(LEN(D55)=0,\"\",VLOOKUP(D55,リスト!$A$3:$N$201,2,FALSE))","v":""},"P",{"$f":"IF(LEN($Y$2)=0,\"\",$Y$2&L55)","v":""},46,null,null,null,null,null,null,{"$f":"IF(LEN(O55)=0,\"\",VLOOKUP(O55,リスト!$A$3:$N$201,3,FALSE))","v":""},{"$f":"IF(LEN(O55)=0,\"\",VLOOKUP(O55,リスト!$A$3:$N$201,2,FALSE))","v":""},null,null,{"$f":"COUNTA(D55:I57)","v":0},{"$f":"COUNTA(O55:T57)","v":0}]
[null,null,47,null,null,null,null,null,null,{"$f":"IF(LEN(D56)=0,\"\",VLOOKUP(D56,リスト!$A$3:$N$201,3,FALSE))","v":""},{"$f":"IF(LEN(D56)=0,\"\",VLOOKUP(D56,リスト!$A$3:$N$201,2,FALSE))","v":""},null,null,47,null,null,null,null,null,null,{"$f":"IF(LEN(O56)=0,\"\",VLOOKUP(O56,リスト!$A$3:$N$201,3,FALSE))","v":""},{"$f":"IF(LEN(O56)=0,\"\",VLOOKUP(O56,リスト!$A$3:$N$201,2,FALSE))","v":""},null,null,{"$f":"COUNTA(D55:I57)","v":0},{"$f":"COUNTA(O55:T57)","v":0}]
[null,null,48,null,null,null,null,null,null,{"$f":"IF(LEN(D57)=0,\"\",VLOOKUP(D57,リスト!$A$3:$N$201,3,FALSE))","v":""},{"$f":"IF(LEN(D57)=0,\"\",VLOOKUP(D57,リスト!$A$3:$N$201,2,FALSE))","v":""},null,null,48,null,null,null,null,null,null,{"$f":"IF(LEN(O57)=0,\"\",VLOOKUP(O57,リスト!$A$3:$N$201,3,FALSE))","v":""},{"$f":"IF(LEN(O57)=0,\"\",VLOOKUP(O57,リスト!$A$3:$N$201,2,FALSE))","v":""},null,null,{"$f":"COUNTA(D55:I57)","v":0},{"$f":"COUNTA(O55:T57)","v":0}]
["Q",{"$f":"IF(LEN($Y$2)=0,\"\",$Y$2&A58)","v":""},49,null,null,null,null,null,null,{"$f":"IF(LEN(D58)=0,\"\",VLOOKUP(D58,リスト!$A$3:$N$201,3,FALSE))","v":""},{"$f":"IF(LEN(D58)=0,\"\",VLOOKUP(D58,リスト!$A$3:$N$201,2,FALSE))","v":""},"Q",{"$f":"IF(LEN($Y$2)=0,\"\",$Y$2&L58)","v":""},49,null,null,null,null,null,null,{"$f":"IF(LEN(O58)=0,\"\",VLOOKUP(O58,リスト!$A$3:$N$201,3,FALSE))","v":""},{"$f":"IF(LEN(O58)=0,\"\",VLOOKUP(O58,リスト!$A$3:$N$201,2,FALSE))","v":""},null,null,{"$f":"COUNTA(D58:I60)","v":0},{"$f":"COUNTA(O58:T60)","v":0}]
[null,null,50,null,null,null,null,null,null,{"$f":"IF(LEN(D59)=0,\"\",VLOOKUP(D59,リスト!$A$3:$N$201,3,FALSE))","v":""},{"$f":"IF(LEN(D59)=0,\"\",VLOOKUP(D59,リスト!$A$3:$N$201,2,FALSE))","v":""},null,null,50,null,null,null,null,null,null,{"$f":"IF(LEN(O59)=0,\"\",VLOOKUP(O59,リスト!$A$3:$N$201,3,FALSE))","v":""},{"$f":"IF(LEN(O59)=0,\"\",VLOOKUP(O59,リスト!$A$3:$N$201,2,FALSE))","v":""},null,null,{"$f":"COUNTA(D58:I60)","v":0},{"$f":"COUNTA(O58:T60)","v":0}]
[null,null,51,null,null,null,null,null,null,{"$f":"IF(LEN(D60)=0,\"\",VLOOKUP(D60,リスト!$A$3:$N$201,3,FALSE))","v":""},{"$f":"IF(LEN(D60)=0,\"\",VLOOKUP(D60,リスト!$A$3:$N$201,2,FALSE))","v":""},null,null,51,null,null,null,null,null,null,{"$f":"IF(LEN(O60)=0,\"\",VLOOKUP(O60,リスト!$A$3:$N$201,3,FALSE))","v":""},{"$f":"IF(LEN(O60)=0,\"\",VLOOKUP(O60,リスト!$A$3:$N$201,2,FALSE))","v":""},null,null,{"$f":"COUNTA(D58:I60)","v":0},{"$f":"COUNTA(O58:T60)","v":0}]
[]
[]
[]
[]
[]
[{"$f":"I66","v":"日立第一高等学校"},1,1,1,"日一","日立一","県立",0,"日立第一高等学校","日立第一","ひたちだいいち","男","女","317-0063","日立市若葉町3-15-1","0294-22-6488","31700630294-22-64880294-21-4490","0294-21-4490","磯邉　裕一","志賀　達哉","安斎　正人","坂本　八穂","大場　久美子","　",null,{"$f":"COUNTA(O64:T66)","v":6}]
[{"$f":"I67","v":"日立第二高等学校"},1,2,2,"日二","日立二","県立",0,"日立第二高等学校","日立第二","ひたちだいに","","女","317-0071","日立市鹿島町3-2-1","0294-22-3254","31700710294-22-32540294-21-4583","0294-21-4583","蛭田　清孝","本田　由子","井手　悠賀","石川　翔子","　","　",null,{"$f":"COUNTA(N67:S69)","v":18}]
["日立商業高等学校",1,3,3,"日商","日立商","県立",0,"日立商業高等学校","日立商業","ひたちしょうぎょう","男","女","319-1222","日立市久慈町6-20-1","0294-52-4779","31912220294-52-47790294-53-8243","0294-53-8243","栗田　武志","真仲　泰成","岡見　伸行","青山　紀子","　","　",null,{"$f":"COUNTA(N67:S69)","v":18}]
["日立北高等学校",1,4,4,"日北","日立北","県立",0,"日立北高等学校","日立北","ひたちきた","男","女","319-1411","日立市川尻町6-11-1","0294-43-2101","31914110294-43-21010294-43-7967","0294-43-7967","清水　秀一","矢部　克美","小中　貴司","鈴木　利佳","　","　",null,{"$f":"COUNTA(N67:S69)","v":18}]
["磯原郷英高等学校",1,5,5,"磯郷","磯郷英","県立",0,"磯原郷英高等学校","磯原郷英","いそはらきょうえい","男","女","319-1541","北茨城市磯原町磯原912","0293-42-0260","31915410293-42-02600293-42-6545","0293-42-6545","長山　祐司","松浦　祥吾","鈴木　光雄","　","　","　"]
["太田第一高等学校",1,6,6,"太一","太田一","県立",0,"太田第一高等学校","太田第一","おおただいいち","男","女","313-0005","常陸太田市栄町58","0294-72-2115","31300050294-72-21150294-72-2119","0294-72-2119","谷津　勉","西野　志津子","重中　茜","　","　","　"]
["太田西山高等学校",1,7,7,"西山","太西山","県立",0,"太田西山高等学校","太田西山","おおたせいざん","男","女","313-0007","常陸太田市新宿町210","0294-72-2136","31300070294-72-21360294-72-2147","0294-72-2147","菊池　幸惠","黒川　誠","佐伯　祐","　","　","　"]
["小瀬高等学校",1,1,8,"小瀬","小瀬","県立",0,"小瀬高等学校","小　　瀬","おせ","男","女","319-2401","常陸大宮市上小瀬1881","0295-56-2204","31924010295-56-22040295-56-3804","0295-56-3804","山下　則雄","北嶋　大輔","野上　勇","　","　","　"]
["常陸大宮高等学校",2,2,9,"常大","常大宮","県立",0,"常陸大宮高等学校","常陸大宮","みとだいいち","男","","319-2255","常陸大宮市野中町3257-2","0295-52-2175","31922550295-52-21750295-53-6914","0295-53-6914","堀川　洋","西野　有希","倉持　太陽","　","　","　"]
["水戸第一高等学校",2,3,10,"水一","水戸一","県立",0,"水戸第一高等学校","水戸第一","みとだいに","男","女","310-0011","水戸市三の丸3-10-1","029-224-2254","3100011029-224-2254029-225-5694","029-225-5694","御厩　祐司","石井　孝典","金井　正人","　","　","　"]
["水戸第二高等学校",2,4,11,"水二","水戸二","県立",0,"水戸第二高等学校","水戸第二","みとだいさん","","女","310-0062","水戸市大町2-2-14","029-224-2543","3100062029-224-2543029-225-5049","029-225-5049","渡邉　剛","恩田　洋一","梶原　拓光","　","　","　"]
["水戸第三高等学校",2,5,12,"水三","水戸三","県立",0,"水戸第三高等学校","水戸第三","みどりおか","","女","310-0011","水戸市三の丸2-7-27","029-224-2044","3100011029-224-2044029-225-4524","029-225-4524","南雲　康司","深谷　拓","辺見　知子","　","　","　"]
["緑岡高等学校",2,6,13,"緑岡","緑岡","県立",0,"緑岡高等学校","緑　　岡","みとこうぎょう","男","女","310-0852","水戸市笠原町1284","029-241-0311","3100852029-241-0311029-241-7929","029-241-7929","今瀬　一博","田口　泰子","楠　正則","小塚　由紀子","野村　勝美","　"]
["水戸工業高等学校",2,7,14,"水工","水戸工","県立",0,"水戸工業高等学校","水戸工業","みとさくらのまき","男","女","310-0836","水戸市元吉田町1101","029-247-5711","3100836029-247-5711029-248-6399","029-248-6399","久松　政信","牧田　幸博","関口　仁","　","　","　"]
["水戸桜ノ牧高等学校",2,8,15,"桜牧","桜ノ牧","県立",0,"水戸桜ノ牧高等学校","水戸桜ノ牧","さわ","男","女","310-0914","水戸市小吹町2070","029-243-3644","3100914029-243-3644029-241-9642","029-241-9642","秋山　克巳","坂本　裕哉","梶山　潤","寺内　芳江","　","　"]
["佐和高等学校",2,9,16,"佐和","佐和","県立",0,"佐和高等学校","佐　　和","かさま","男","女","312-0061","ひたちなか市稲田636-1","029-285-1819","30916110296-72-11710296-72-2590","029-285-8401","鈴木　猛","辻元　誠之","清水　智子","　","　","　"]
["那珂湊高等学校",2,10,17,"那湊","那珂湊","県立",0,"那珂湊高等学校","那 珂 湊","かさま","男","女","311-1224","ひたちなか市山ノ上町4-6","029-262-2642","3111224029-262-2642029-263-3961","029-263-3961","鈴木　富美子","関口　昭","満生　香子","　","　","　"]
["笠間高等学校",2,11,18,"笠間","笠間","県立",0,"笠間高等学校","笠　　間","みとさくらのまきじょうほく","男","女","309-1611","笠間市笠間1668","0296-72-1171","30916110296-72-11710296-72-2590","0296-72-2590","渡邉　英一","人見　広章","　","　","　","　"]
["水戸桜ノ牧高等学校常北校",2,12,19,"常北","常北","県立",0,"水戸桜ノ牧高等学校常北校","水戸桜ノ牧常北","とうかい","男","","311-4306","東茨城郡城里町春園1634","029-288-2028","3114306029-288-2028029-288-4969","029-288-4969","秋山　克巳","大図　卓也","安蔵　恭吾","海老原　洋法","　","　"]
["東海高等学校",2,13,20,"東海","東海","県立",0,"東海高等学校","東　　海","いばらきひがし","男","女","319-1112","那珂郡東海村大字村松771-1","029-282-7501","3191112029-282-7501029-287-1328","029-287-1328","正木　昇","荒木　広大","小田　義雄","　","　","　"]
["茨城東高等学校",2,14,21,"茨東","茨城東","県立",0,"茨城東高等学校","茨 城 東","なか","男","女","311-3157","東茨城郡茨城町小幡2524","029-292-6245","3113157029-292-6245029-292-2405","029-292-2405","上田　英雄","菅野　学","飯田　延稔","　","　","　"]
["那珂高等学校",2,15,22,"那珂","那珂","県立",0,"那珂高等学校","那　　珂","いばらき","男","女","311-0111","那珂市後台1710-1","029-295-2710","3110111029-295-2710029-295-4640","029-295-4640","阿内　勉","大内　麻子","朝比奈　泰紀","　","　","　"]
["茨城高等学校",2,16,23,"茨城","茨城","","私立","茨城高等学校","茨　　城","すいじょう","男","女","310-0065","水戸市八幡町16-1","029-221-4936","3100065029-221-4936029-221-4923","029-221-4923","梶　克治","遠藤　康","作山　友孝","　","　","　"]
["水城高等学校",2,17,24,"水城","水城",0,"私立","水城高等学校","水　　城","いばらきこうぎょうこうとうせんもん","男","女","310-0804","水戸市白梅2-1-45","029-247-6509","3100804029-247-6509029-248-7252","029-248-7252","小田部　幹夫","中村　諒","武田　悠平","　","　","　"]
["茨城工業高等専門学校",2,18,25,"高専","茨高専","国立",0,"茨城工業高等専門学校","茨城工業高等専門学校","ほこただいいち","男","女","312-8508","ひたちなか市中根866","029-272-5201","3128508029-272-5201029-271-2813","029-271-2813","鈴木　秋弘","丸山　智章","平本　留理","大津　麻紀子","　","　"]
["鉾田第一高等学校",3,1,26,"鉾一","鉾田一","県立",0,"鉾田第一高等学校","鉾田第一","ほこただいに","男","女","311-1517","鉾田市鉾田1090-2","0291-33-2161","31115170291-33-21610291-33-6086","0291-33-6086","飯山　美都子","星　浩一","杉山　公実子","　","　","　"]
["鉾田第二高等学校",3,2,27,"鉾二","鉾田二","県立",0,"鉾田第二高等学校","鉾田第二","たまつくりこうぎょう","男","女","311-1517","鉾田市鉾田1158","0291-33-2171","31115170291-33-21710291-33-6093","0291-33-6093","海老澤　浩一","沼里　民子","廣原　嘉明","　","　","　"]
["玉造工業高等学校",3,3,28,"玉工","玉造工","県立",0,"玉造工業高等学校","玉造工業","あそう","男","女","311-3501","行方市芹沢1552","0299-55-0138","31135010299-55-01380299-55-3454","0299-55-3454","大塚　哲蔵","小畑　繁","　","　","　","　"]
["麻生高等学校",3,4,29,"麻生","麻生","県立",0,"麻生高等学校","麻　　生","いたこ","男","女","311-3832","行方市麻生1806","0299-72-0098","31138320299-72-00980299-72-2317","0299-72-2317","園部　晃嗣","齊藤　啓","森作　実玖也","　","　","　"]
["潮来高等学校",3,5,30,"潮来","潮来","県立",0,"潮来高等学校","潮　　来","かしま","男","女","311-2448","潮来市須賀3025","0299-66-2142","31124480299-66-21420299-66-2670","0299-66-2670","小澤　茂幸","萩原　卓","飯島　愛美","髙野　深愛","　","　"]
["鹿島高等学校",3,6,31,"鹿島","鹿島","県立",0,"鹿島高等学校","鹿　　島","はさき","男","女","314-0038","鹿嶋市城山2-2-19","0299-82-1903","31400380299-82-19030299-84-1547","0299-84-1547","小沼　浩幸","山口　薫","青塚　明香","甲　良美","谷田部　大地","　"]
["波崎高等学校",3,7,32,"波崎","波崎","県立",0,"波崎高等学校","波　　崎","せいしんがくえん","男","女","314-0343","神栖市土合本町2-9928-1","0479-48-0044","31403430479-48-00440479-48-4679","0479-48-4679","高橋　秀樹","山田　宏","　","　","　","　"]
["清真学園高等学校",3,8,33,"清真","清真学",0,"私立","清真学園高等学校","清真学園","つちうらだいいち","男","女","314-0031","鹿嶋市宮中伏見4448-5","0299-83-1811","31400310299-83-18110299-83-6414","0299-83-6414","飯山　克則","炭谷　崇人","佐久間　和彰","釜田　啓市","清野　千里","　"]
["土浦第一高等学校",4,1,34,"土一","土浦一","県立",0,"土浦第一高等学校","土浦第一","つちうらだいに","男","女","300-0051","土浦市真鍋4-4-2","029-822-0137","3000051029-822-0137029-826-3521","029-826-3521","プラニク　ヨゲンドラ","柴沼　陽","大野　岳志","　","　","　"]
["土浦第二高等学校",4,2,35,"土二","土浦二","県立",0,"土浦第二高等学校","土浦第二","つちうらだいさん","男","女","300-0041","土浦市立田町9-6","029-822-5027","3000041029-822-5027029-826-3522","029-826-3522","深谷　靖","塚本　晋太郎","土井　和恵","　","　","杉山　尚之"]
["土浦第三高等学校",4,3,36,"土三","土浦三","県立",0,"土浦第三高等学校","土浦第三","つちうらこうぎょう","男","女","300-0835","土浦市大岩田1599","029-821-1605","3000835029-821-1605029-826-3523","029-826-3523","渡邊　聡","松本　現","鎌田　千亜紀","石井　美香","　","　"]
["土浦工業高等学校",4,4,37,"土工","土浦工","県立",0,"土浦工業高等学校","土浦工業","いしおかだいいち","男","女","300-0051","土浦市真鍋6-11-20","029-821-1953","3000051029-821-1953029-822-6924","029-822-6924","後藤　光彦","千葉　一茂","福岡　聖美","蓼沼　正弘","　","　"]
["石岡第一高等学校",4,5,38,"石一","石岡一","県立",0,"石岡第一高等学校","石岡第一","いしおかだいに","男","女","315-0001","石岡市石岡1-9","0299-22-4135","31500010299-22-41350299-22-6289","0299-22-6289","櫻井　隆之","川村　理絵","土居　義邦","前野　和美","　","　"]
["石岡第二高等学校",4,6,39,"石二","石岡二","県立",0,"石岡第二高等学校","石岡第二","いしおかしょうぎょう","男","女","315-0013","石岡市府中5-14-14","0299-23-2101","31500130299-23-21010299-23-4895","0299-23-4895","鈴木　教生","門井　寿通","岡田　睦美","　","　","　"]
["石岡商業高等学校",4,7,40,"石商","石岡商","県立",0,"石岡商業高等学校","石岡商業","つちうらにほんだいがく","男","女","315-0033","石岡市東光台3-4-1","0299-26-4138","31500330299-26-41380299-26-1029","0299-26-1029","木戸　智子","青柳　優","森作　明美","　","　","　"]
["土浦日本大学高等学校",4,8,41,"土日","土日大",0,{"$error":"#REF!"},"土浦日本大学高等学校","土浦日本大学","じょうそうがくいん","男","女","300-0826","土浦市小松ケ丘町4-46","029-822-3382","3000826029-822-3382029-823-8743","029-823-8743","伊藤　哲也","中川　久倫","阿久井　琉菜","　","　","　"]
["常総学院高等学校",4,9,42,"常総","常総学",0,"私立","常総学院高等学校","常総学院","かすみがうら","男","女","300-0849","土浦市中村西根1010","029-842-8771","3000849029-842-8771029-841-1808","029-841-1808","壁谷　恵","宮本　和明","柴山　紗矢香","塚本　重毅","ステント　ブラッドリー","　"]
["霞ケ浦高等学校",4,10,43,"霞浦","霞ヶ浦",0,"私立","霞ケ浦高等学校","霞 ケ 浦","つちうらにほんだいがくちゅうとうきょういくがっこう","男","女","300-0301","稲敷郡阿見町青宿50","029-887-0013","3000301029-887-0013029-887-9380","029-887-9380","岡村　守","桜井　恭平","柳澤　雅世","　","　","　"]
["土浦日本大学中等教育学校",4,11,44,"土中","土中等",0,"私立","土浦日本大学中等教育学校","土浦日本大学中等教育学校",{"$error":"#REF!"},"男","女","300-0826","土浦市小松ケ丘町4-46","029-822-3386","3000826029-822-3386029-835-3538","029-835-3538","堀切　浩一","塩原　崇","佐藤　錬","　","　","　"]
["竜ケ崎第一高等学校",5,1,45,"竜一","竜崎一","県立",0,"竜ケ崎第一高等学校","竜ケ崎第一","りゅうがさきだいに","男","女","301-0844","龍ヶ崎市平畑248","0297-62-2146","30108440297-62-21460297-62-9836","0297-62-9836","太田垣　淳一","八重柏　由佳","石川　瑶子","前田　将貴","　","　"]
["竜ケ崎第二高等学校",5,2,46,"竜二","竜崎二","県立",0,"竜ケ崎第二高等学校","竜ケ崎第二","りゅうがさきみなみ","男","女","301-0834","龍ケ崎市3087","0297-62-3078","30108340297-62-30780297-62-9850","0297-62-9850","箕輪　文子","前田　彬貴","小吹　光","　","　","　"]
["竜ケ崎南高等学校",5,3,47,"竜南","竜崎南","県立",0,"竜ケ崎南高等学校","竜ケ崎南","えどさきそうごう","男","","301-0021","龍ケ崎市北方町120","0297-64-2167","30100210297-64-21670297-64-5241","0297-64-5241","須藤　一道","飛田　樹","杉浦　拓郎","　","　","　"]
["江戸崎総合高等学校",5,4,48,"江総","江総合","県立",0,"江戸崎総合高等学校","江戸崎総合","とりでだいいち","男","女","300-0504","稲敷市江戸崎甲476-2","029-892-2103","3000504029-892-2103029-892-3957","029-892-3957","川田　　利行","篠崎　美穂","河野　亮一","渡邉　怜奈","　","　"]
["取手第一高等学校",5,5,49,"取一","取手一","県立",0,"取手第一高等学校","取手第一","とりでだいに","男","女","302-0013","取手市台宿2-4-1","0297-72-1348","30200130297-72-13480297-73-7814","0297-73-7814","高野　健二","山中　範子","高木　渉","後藤　裕一","　","久保田　清"]
["取手第二高等学校",5,6,50,"取二","取手二","県立",0,"取手第二高等学校","取手第二","ふじしろ","","女","302-0005","取手市東2-5-1","0297-73-0049","30200050297-73-00490297-73-7821","0297-73-7821","池田　聡","寺田　和馬","　","　","　","　"]
["藤代高等学校",5,7,51,"藤代","藤代","県立",0,"藤代高等学校","藤　　代","うしく","男","女","300-1537","取手市毛有640","0297-82-6283","30015370297-82-62830297-82-6021","0297-82-6021","根本　雄一","深堀　いずみ","富岡　美和","木村　愛","　","　"]
["牛久高等学校",5,8,52,"牛久","牛久","県立",0,"牛久高等学校","牛    久","うしくえいしん","男","女","300-1204","牛久市岡見町2081-1","029-873-6220","3001204029-873-6220029-874-8580","029-874-8580","田﨑　泰昭","人見　正敏","塚本　貞行","　","　","　"]
["牛久栄進高等学校",5,9,53,"栄進","牛栄進","県立",0,"牛久栄進高等学校","牛久栄進","とうようだいうしく","男","女","300-1201","牛久市東猯穴町876","029-843-3110","3001201029-843-3110029-842-1891","029-842-1891","奈良　由紀子","坂井　昌平","宇野　香代子","門井　美奈子","　","　"]
["東洋大学付属牛久高等学校",5,10,54,"東牛","東牛久",0,"私立","東洋大学付属牛久高等学校","東洋大学附属牛久","あいこくがくえんだいがくふぞくりゅうがさき","男","女","300-1211","牛久市柏田町1360-2","029-872-0924","3001211029-872-0924029-874-1055","029-874-1055","金澤　利明","江橋　正安","大島　優子","　","　","　"]
["江戸川学園取手高等学校",5,11,55,"江学","江戸川",0,"私立","江戸川学園取手高等学校","江戸川学園取手","あいこくがくえんだいがくふぞくりゅうがさき","男","女","302-0025","取手市西1-37-1","0297-74-8771","30200250297-74-87710297-73-4851","0297-73-4851","山本　宏之","関　貴之","野田　泰誠","　","　","明間　勲"]
["愛国学園大学附属龍ケ崎高等学校",5,12,56,"愛国","愛国学",0,"私立","愛国学園大学附属龍ケ崎高等学校","愛国学園大学附属龍ケ崎","つくば","","女","301-0041","龍ケ崎市若柴町2747","0297-66-0757","30100410297-66-07570297-66-0526","0297-66-0526","倉持　正男","坂本　渉","柴崎　智宣","　","　","　"]
["筑波高等学校",6,1,57,"筑波","筑波","県立",0,"筑波高等学校","筑　　波","たけぞの","男","女","300-4231","つくば市北条4387","029-867-0041","3004231029-867-0041029-867-4688","029-867-4688","鈴木　恒一","山北　大志","門井　浩","菊池　郁治","吉田　浩昭","林田　國洋"]
["竹園高等学校",6,2,58,"竹園","竹園","県立",0,"竹園高等学校","竹　　園","つくばこうか","男","女","305-0032","つくば市竹園3-9-1","029-851-7515","3050032029-851-7515029-852-5533","029-852-5533","辻　武　晴","宮内　雅史","今　瀬　英一朗","上　本　達　也","　","　"]
["つくば工科高等学校",6,3,59,"工科","つ工科","県立",0,"つくば工科高等学校","つくば工科","いわせ","男","女","305-0861","つくば市谷田部1818","029-836-1441","3050861029-836-1441029-836-4700","029-836-4700","石塚　照美","信戸　修一","三浦　秀之","　","　","　"]
["岩瀬高等学校",6,4,60,"岩瀬","岩瀬","県立",0,"岩瀬高等学校","岩　　瀬","しもだてだいいち","男","女","309-1294","桜川市岩瀬1511-1","0296-75-2475","30912940296-75-24750296-75-4906","0296-75-4906","西條　礼子","堀　裕美","市村　瀬里","藤森　知恵子","　","　"]
["下館第一高等学校",6,5,61,"館一","下館一","県立",0,"下館第一高等学校","下館第一",{"$error":"#REF!"},"男","女","308-0825","筑西市下中山590","0296-24-6344","30808250296-24-63440296-25-4673","0296-25-4673","木村　功","星野　雅一","海老名　晶弓","中島　陽樹","　","岩田　隆"]
["下館第二高等学校",6,6,62,"館二","下館二","県立",0,"下館第二高等学校","下館第二","しもつまだいいち","男","女","308-0051","筑西市岡芹一丁目37","0296-22-5361",{"$error":"#REF!"},"0296-25-4683","池田　恭彦","柴　弥寿子","斉藤　由起子","　","　","　"]
["明野高等学校",6,7,63,"明野","明野","県立",0,"明野高等学校","明野","しもつまだいに","男","女","300-4515","筑西市倉持1176-1","0296-52-3121",{"$error":"#REF!"},"0296-52-5869","井上　剛","塚原　千秋","真家　大輔","望月　ありさ","　","　"]
["下妻第一高等学校",6,8,64,"妻一","下妻一","県立",0,"下妻第一高等学校","下妻第一",{"$error":"#REF!"},"男","女","304-0067","下妻市下妻乙226-1","0296-44-5158","30400670296-44-25490296-43-9173","0296-43-9172","生井　秀一","中泉　尚人","濵野　美智","坂入　純子","　","　"]
["下妻第二高等学校",6,9,65,"妻二","下妻二","県立",0,"下妻第二高等学校","下妻第二","みつかいどうだいいち","男","女","304-0067","下妻市下妻乙347-8","0296-44-2549","30400670296-44-25490296-43-9173","0296-43-9173","島根　千春","大垣　朋也","福永　弘","　","　","　"]
[{"$f":"I131","v":"水海道第一高等学校"},6,10,66,"海一","水海一","県立",0,"水海道第一高等学校","水海道第一","こがだいに","男","女","303-0025","常総市水海道亀岡町2543","0297-22-0029","30300250297-22-00290297-22-5479","0297-22-5479","福田　崇","緒方　響","髙藤　啓光","　","　","　"]
["八千代高等学校",6,11,67,"八千代","八千代","県立",0,"八千代高等学校","八 千 代","こがだいさん","男","女","300-3561","結城郡八千代町大字平塚4824-2","0296-48-1836","30600240280-32-04440280-31-6602","0296-48-3201","榊原　洋子","鈴木　千裕","藤白　祐佳","　","　","　"]
["古河第二高等学校",6,12,68,"古二","古河二","県立",0,"古河第二高等学校","古河第二","さんわ","男","女","306-0024","古河市幸町19-18","0280-32-0444","30600240280-32-04440280-31-6602","0280-31-6602","有瀧　由起子","海野　俊介","栗原　邦男","　","　","　"]
["古河第三高等学校",6,13,69,"古三","古河三","県立",0,"古河第三高等学校","古河第三","さかい","男","女","306-0054","古河市中田新田12-1","0280-48-2755","30601230280-76-49590280-76-4935","0280-48-5424","早川　尚人","秋葉　尚子","山中　英憲","立川　正信","　","　"]
["三和高等学校",6,14,70,"三和","三和","県立",0,"三和高等学校","三　　和","もりや","男","女","306-0123","古河市五部54-1","0280-76-4959","30601230280-76-49590280-76-4935","0280-76-4935","鈴木　厚子","小島　彩華","諏訪　主樹","　","　","　"]
["境高等学校",6,15,71,"境","境","県立",0,"境高等学校","境","つくばしゅうえい","男","女","306-0433","猿島郡境町175","0280-87-0123","30201070297-48-64090297-45-8479","0280-87-5688","新井　智子","齋藤　起輝","吉澤　靖","木村　亜紀子","　","　"]
["守谷高等学校",6,16,72,"守谷","守谷","県立",0,"守谷高等学校","守　　谷",0,"男","女","302-0107","守谷市大木70","0297-48-6409","30201070297-48-64090297-45-8479","0297-45-8479","髙野　美有紀","松﨑　稔昌","本田　敦","早乙女　舞","　","　"]
["つくば秀英高等学校",6,17,73,"秀英","秀英",0,"私立","つくば秀英高等学校","つくば秀英",0,"男","女","300-2655","つくば市島名151","029-847-1611","","029-847-3111","石川　英昭","谷端　弘孝","川喜多　麻里","寺井　誠","福田　恒昭","　"]
[]
[]
[]
[{"$f":"リスト!A3","v":"　"},{"$f":"リスト!B3","v":0},{"$f":"リスト!C3","v":0},{"$f":"リスト!D3","v":0},{"$f":"リスト!E3","v":0},{"$f":"リスト!F3","v":0},{"$f":"リスト!G3","v":0},{"$f":"リスト!H3","v":0},{"$f":"リスト!I3","v":0},{"$f":"リスト!J3","v":0},{"$f":"リスト!K3","v":0},{"$f":"リスト!L3","v":0},{"$f":"リスト!M3","v":0},{"$f":"リスト!N3","v":0}]
[{"$f":"リスト!A4","v":"　"},{"$f":"リスト!B4","v":0},{"$f":"リスト!C4","v":0},{"$f":"リスト!D4","v":0},{"$f":"リスト!E4","v":0},{"$f":"リスト!F4","v":0},{"$f":"リスト!G4","v":0},{"$f":"リスト!H4","v":0},{"$f":"リスト!I4","v":0},{"$f":"リスト!J4","v":0},{"$f":"リスト!K4","v":0},{"$f":"リスト!L4","v":0},{"$f":"リスト!M4","v":0},{"$f":"リスト!N4","v":0}]
[{"$f":"リスト!A5","v":"　"},{"$f":"リスト!B5","v":0},{"$f":"リスト!C5","v":0},{"$f":"リスト!D5","v":0},{"$f":"リスト!E5","v":0},{"$f":"リスト!F5","v":0},{"$f":"リスト!G5","v":0},{"$f":"リスト!H5","v":0},{"$f":"リスト!I5","v":0},{"$f":"リスト!J5","v":0},{"$f":"リスト!K5","v":0},{"$f":"リスト!L5","v":0},{"$f":"リスト!M5","v":0},{"$f":"リスト!N5","v":0}]
[{"$f":"リスト!A6","v":"　"},{"$f":"リスト!B6","v":0},{"$f":"リスト!C6","v":0},{"$f":"リスト!D6","v":0},{"$f":"リスト!E6","v":0},{"$f":"リスト!F6","v":0},{"$f":"リスト!G6","v":0},{"$f":"リスト!H6","v":0},{"$f":"リスト!I6","v":0},{"$f":"リスト!J6","v":0},{"$f":"リスト!K6","v":0},{"$f":"リスト!L6","v":0},{"$f":"リスト!M6","v":0},{"$f":"リスト!N6","v":0}]
[{"$f":"リスト!A7","v":"　"},{"$f":"リスト!B7","v":0},{"$f":"リスト!C7","v":0},{"$f":"リスト!D7","v":0},{"$f":"リスト!E7","v":0},{"$f":"リスト!F7","v":0},{"$f":"リスト!G7","v":0},{"$f":"リスト!H7","v":0},{"$f":"リスト!I7","v":0},{"$f":"リスト!J7","v":0},{"$f":"リスト!K7","v":0},{"$f":"リスト!L7","v":0},{"$f":"リスト!M7","v":0},{"$f":"リスト!N7","v":0}]
[{"$f":"リスト!A8","v":"　"},{"$f":"リスト!B8","v":0},{"$f":"リスト!C8","v":0},{"$f":"リスト!D8","v":0},{"$f":"リスト!E8","v":0},{"$f":"リスト!F8","v":0},{"$f":"リスト!G8","v":0},{"$f":"リスト!H8","v":0},{"$f":"リスト!I8","v":0},{"$f":"リスト!J8","v":0},{"$f":"リスト!K8","v":0},{"$f":"リスト!L8","v":0},{"$f":"リスト!M8","v":0},{"$f":"リスト!N8","v":0}]
[{"$f":"リスト!A9","v":"　"},{"$f":"リスト!B9","v":0},{"$f":"リスト!C9","v":0},{"$f":"リスト!D9","v":0},{"$f":"リスト!E9","v":0},{"$f":"リスト!F9","v":0},{"$f":"リスト!G9","v":0},{"$f":"リスト!H9","v":0},{"$f":"リスト!I9","v":0},{"$f":"リスト!J9","v":0},{"$f":"リスト!K9","v":0},{"$f":"リスト!L9","v":0},{"$f":"リスト!M9","v":0},{"$f":"リスト!N9","v":0}]
[{"$f":"リスト!A10","v":"　"},{"$f":"リスト!B10","v":0},{"$f":"リスト!C10","v":0},{"$f":"リスト!D10","v":0},{"$f":"リスト!E10","v":0},{"$f":"リスト!F10","v":0},{"$f":"リスト!G10","v":0},{"$f":"リスト!H10","v":0},{"$f":"リスト!I10","v":0},{"$f":"リスト!J10","v":0},{"$f":"リスト!K10","v":0},{"$f":"リスト!L10","v":0},{"$f":"リスト!M10","v":0},{"$f":"リスト!N10","v":0}]
[{"$f":"リスト!A11","v":"　"},{"$f":"リスト!B11","v":0},{"$f":"リスト!C11","v":0},{"$f":"リスト!D11","v":0},{"$f":"リスト!E11","v":0},{"$f":"リスト!F11","v":0},{"$f":"リスト!G11","v":0},{"$f":"リスト!H11","v":0},{"$f":"リスト!I11","v":0},{"$f":"リスト!J11","v":0},{"$f":"リスト!K11","v":0},{"$f":"リスト!L11","v":0},{"$f":"リスト!M11","v":0},{"$f":"リスト!N11","v":0}]
[{"$f":"リスト!A12","v":"　"},{"$f":"リスト!B12","v":0},{"$f":"リスト!C12","v":0},{"$f":"リスト!D12","v":0},{"$f":"リスト!E12","v":0},{"$f":"リスト!F12","v":0},{"$f":"リスト!G12","v":0},{"$f":"リスト!H12","v":0},{"$f":"リスト!I12","v":0},{"$f":"リスト!J12","v":0},{"$f":"リスト!K12","v":0},{"$f":"リスト!L12","v":0},{"$f":"リスト!M12","v":0},{"$f":"リスト!N12","v":0}]
[{"$f":"リスト!A13","v":"　"},{"$f":"リスト!B13","v":0},{"$f":"リスト!C13","v":0},{"$f":"リスト!D13","v":0},{"$f":"リスト!E13","v":0},{"$f":"リスト!F13","v":0},{"$f":"リスト!G13","v":0},{"$f":"リスト!H13","v":0},{"$f":"リスト!I13","v":0},{"$f":"リスト!J13","v":0},{"$f":"リスト!K13","v":0},{"$f":"リスト!L13","v":0},{"$f":"リスト!M13","v":0},{"$f":"リスト!N13","v":0}]
[{"$f":"リスト!A14","v":"　"},{"$f":"リスト!B14","v":0},{"$f":"リスト!C14","v":0},{"$f":"リスト!D14","v":0},{"$f":"リスト!E14","v":0},{"$f":"リスト!F14","v":0},{"$f":"リスト!G14","v":0},{"$f":"リスト!H14","v":0},{"$f":"リスト!I14","v":0},{"$f":"リスト!J14","v":0},{"$f":"リスト!K14","v":0},{"$f":"リスト!L14","v":0},{"$f":"リスト!M14","v":0},{"$f":"リスト!N14","v":0}]
[{"$f":"リスト!A15","v":"　"},{"$f":"リスト!B15","v":0},{"$f":"リスト!C15","v":0},{"$f":"リスト!D15","v":0},{"$f":"リスト!E15","v":0},{"$f":"リスト!F15","v":0},{"$f":"リスト!G15","v":0},{"$f":"リスト!H15","v":0},{"$f":"リスト!I15","v":0},{"$f":"リスト!J15","v":0},{"$f":"リスト!K15","v":0},{"$f":"リスト!L15","v":0},{"$f":"リスト!M15","v":0},{"$f":"リスト!N15","v":0}]
[{"$f":"リスト!A16","v":"　"},{"$f":"リスト!B16","v":0},{"$f":"リスト!C16","v":0},{"$f":"リスト!D16","v":0},{"$f":"リスト!E16","v":0},{"$f":"リスト!F16","v":0},{"$f":"リスト!G16","v":0},{"$f":"リスト!H16","v":0},{"$f":"リスト!I16","v":0},{"$f":"リスト!J16","v":0},{"$f":"リスト!K16","v":0},{"$f":"リスト!L16","v":0},{"$f":"リスト!M16","v":0},{"$f":"リスト!N16","v":0}]
[{"$f":"リスト!A17","v":"　"},{"$f":"リスト!B17","v":0},{"$f":"リスト!C17","v":0},{"$f":"リスト!D17","v":0},{"$f":"リスト!E17","v":0},{"$f":"リスト!F17","v":0},{"$f":"リスト!G17","v":0},{"$f":"リスト!H17","v":0},{"$f":"リスト!I17","v":0},{"$f":"リスト!J17","v":0},{"$f":"リスト!K17","v":0},{"$f":"リスト!L17","v":0},{"$f":"リスト!M17","v":0},{"$f":"リスト!N17","v":0}]
[{"$f":"リスト!A18","v":"　"},{"$f":"リスト!B18","v":0},{"$f":"リスト!C18","v":0},{"$f":"リスト!D18","v":0},{"$f":"リスト!E18","v":0},{"$f":"リスト!F18","v":0},{"$f":"リスト!G18","v":0},{"$f":"リスト!H18","v":0},{"$f":"リスト!I18","v":0},{"$f":"リスト!J18","v":0},{"$f":"リスト!K18","v":0},{"$f":"リスト!L18","v":0},{"$f":"リスト!M18","v":0},{"$f":"リスト!N18","v":0}]
[{"$f":"リスト!A19","v":"　"},{"$f":"リスト!B19","v":0},{"$f":"リスト!C19","v":0},{"$f":"リスト!D19","v":0},{"$f":"リスト!E19","v":0},{"$f":"リスト!F19","v":0},{"$f":"リスト!G19","v":0},{"$f":"リスト!H19","v":0},{"$f":"リスト!I19","v":0},{"$f":"リスト!J19","v":0},{"$f":"リスト!K19","v":0},{"$f":"リスト!L19","v":0},{"$f":"リスト!M19","v":0},{"$f":"リスト!N19","v":0}]
[{"$f":"リスト!A20","v":"　"},{"$f":"リスト!B20","v":0},{"$f":"リスト!C20","v":0},{"$f":"リスト!D20","v":0},{"$f":"リスト!E20","v":0},{"$f":"リスト!F20","v":0},{"$f":"リスト!G20","v":0},{"$f":"リスト!H20","v":0},{"$f":"リスト!I20","v":0},{"$f":"リスト!J20","v":0},{"$f":"リスト!K20","v":0},{"$f":"リスト!L20","v":0},{"$f":"リスト!M20","v":0},{"$f":"リスト!N20","v":0}]
[{"$f":"リスト!A21","v":"　"},{"$f":"リスト!B21","v":0},{"$f":"リスト!C21","v":0},{"$f":"リスト!D21","v":0},{"$f":"リスト!E21","v":0},{"$f":"リスト!F21","v":0},{"$f":"リスト!G21","v":0},{"$f":"リスト!H21","v":0},{"$f":"リスト!I21","v":0},{"$f":"リスト!J21","v":0},{"$f":"リスト!K21","v":0},{"$f":"リスト!L21","v":0},{"$f":"リスト!M21","v":0},{"$f":"リスト!N21","v":0}]
[{"$f":"リスト!A22","v":"　"},{"$f":"リスト!B22","v":0},{"$f":"リスト!C22","v":0},{"$f":"リスト!D22","v":0},{"$f":"リスト!E22","v":0},{"$f":"リスト!F22","v":0},{"$f":"リスト!G22","v":0},{"$f":"リスト!H22","v":0},{"$f":"リスト!I22","v":0},{"$f":"リスト!J22","v":0},{"$f":"リスト!K22","v":0},{"$f":"リスト!L22","v":0},{"$f":"リスト!M22","v":0},{"$f":"リスト!N22","v":0}]
[{"$f":"リスト!A23","v":"　"},{"$f":"リスト!B23","v":0},{"$f":"リスト!C23","v":0},{"$f":"リスト!D23","v":0},{"$f":"リスト!E23","v":0},{"$f":"リスト!F23","v":0},{"$f":"リスト!G23","v":0},{"$f":"リスト!H23","v":0},{"$f":"リスト!I23","v":0},{"$f":"リスト!J23","v":0},{"$f":"リスト!K23","v":0},{"$f":"リスト!L23","v":0},{"$f":"リスト!M23","v":0},{"$f":"リスト!N23","v":0}]
[{"$f":"リスト!A24","v":"　"},{"$f":"リスト!B24","v":0},{"$f":"リスト!C24","v":0},{"$f":"リスト!D24","v":0},{"$f":"リスト!E24","v":0},{"$f":"リスト!F24","v":0},{"$f":"リスト!G24","v":0},{"$f":"リスト!H24","v":0},{"$f":"リスト!I24","v":0},{"$f":"リスト!J24","v":0},{"$f":"リスト!K24","v":0},{"$f":"リスト!L24","v":0},{"$f":"リスト!M24","v":0},{"$f":"リスト!N24","v":0}]
[{"$f":"リスト!A25","v":"　"},{"$f":"リスト!B25","v":0},{"$f":"リスト!C25","v":0},{"$f":"リスト!D25","v":0},{"$f":"リスト!E25","v":0},{"$f":"リスト!F25","v":0},{"$f":"リスト!G25","v":0},{"$f":"リスト!H25","v":0},{"$f":"リスト!I25","v":0},{"$f":"リスト!J25","v":0},{"$f":"リスト!K25","v":0},{"$f":"リスト!L25","v":0},{"$f":"リスト!M25","v":0},{"$f":"リスト!N25","v":0}]
[{"$f":"リスト!A26","v":"　"},{"$f":"リスト!B26","v":0},{"$f":"リスト!C26","v":0},{"$f":"リスト!D26","v":0},{"$f":"リスト!E26","v":0},{"$f":"リスト!F26","v":0},{"$f":"リスト!G26","v":0},{"$f":"リスト!H26","v":0},{"$f":"リスト!I26","v":0},{"$f":"リスト!J26","v":0},{"$f":"リスト!K26","v":0},{"$f":"リスト!L26","v":0},{"$f":"リスト!M26","v":0},{"$f":"リスト!N26","v":0}]
[{"$f":"リスト!A27","v":"　"},{"$f":"リスト!B27","v":0},{"$f":"リスト!C27","v":0},{"$f":"リスト!D27","v":0},{"$f":"リスト!E27","v":0},{"$f":"リスト!F27","v":0},{"$f":"リスト!G27","v":0},{"$f":"リスト!H27","v":0},{"$f":"リスト!I27","v":0},{"$f":"リスト!J27","v":0},{"$f":"リスト!K27","v":0},{"$f":"リスト!L27","v":0},{"$f":"リスト!M27","v":0},{"$f":"リスト!N27","v":0}]
[{"$f":"リスト!A28","v":"　"},{"$f":"リスト!B28","v":0},{"$f":"リスト!C28","v":0},{"$f":"リスト!D28","v":0},{"$f":"リスト!E28","v":0},{"$f":"リスト!F28","v":0},{"$f":"リスト!G28","v":0},{"$f":"リスト!H28","v":0},{"$f":"リスト!I28","v":0},{"$f":"リスト!J28","v":0},{"$f":"リスト!K28","v":0},{"$f":"リスト!L28","v":0},{"$f":"リスト!M28","v":0},{"$f":"リスト!N28","v":0}]
[{"$f":"リスト!A29","v":"　"},{"$f":"リスト!B29","v":0},{"$f":"リスト!C29","v":0},{"$f":"リスト!D29","v":0},{"$f":"リスト!E29","v":0},{"$f":"リスト!F29","v":0},{"$f":"リスト!G29","v":0},{"$f":"リスト!H29","v":0},{"$f":"リスト!I29","v":0},{"$f":"リスト!J29","v":0},{"$f":"リスト!K29","v":0},{"$f":"リスト!L29","v":0},{"$f":"リスト!M29","v":0},{"$f":"リスト!N29","v":0}]
[{"$f":"リスト!A30","v":"　"},{"$f":"リスト!B30","v":0},{"$f":"リスト!C30","v":0},{"$f":"リスト!D30","v":0},{"$f":"リスト!E30","v":0},{"$f":"リスト!F30","v":0},{"$f":"リスト!G30","v":0},{"$f":"リスト!H30","v":0},{"$f":"リスト!I30","v":0},{"$f":"リスト!J30","v":0},{"$f":"リスト!K30","v":0},{"$f":"リスト!L30","v":0},{"$f":"リスト!M30","v":0},{"$f":"リスト!N30","v":0}]
[{"$f":"リスト!A31","v":"　"},{"$f":"リスト!B31","v":0},{"$f":"リスト!C31","v":0},{"$f":"リスト!D31","v":0},{"$f":"リスト!E31","v":0},{"$f":"リスト!F31","v":0},{"$f":"リスト!G31","v":0},{"$f":"リスト!H31","v":0},{"$f":"リスト!I31","v":0},{"$f":"リスト!J31","v":0},{"$f":"リスト!K31","v":0},{"$f":"リスト!L31","v":0},{"$f":"リスト!M31","v":0},{"$f":"リスト!N31","v":0}]
[{"$f":"リスト!A32","v":"　"},{"$f":"リスト!B32","v":0},{"$f":"リスト!C32","v":0},{"$f":"リスト!D32","v":0},{"$f":"リスト!E32","v":0},{"$f":"リスト!F32","v":0},{"$f":"リスト!G32","v":0},{"$f":"リスト!H32","v":0},{"$f":"リスト!I32","v":0},{"$f":"リスト!J32","v":0},{"$f":"リスト!K32","v":0},{"$f":"リスト!L32","v":0},{"$f":"リスト!M32","v":0},{"$f":"リスト!N32","v":0}]
[{"$f":"リスト!A33","v":"　"},{"$f":"リスト!B33","v":0},{"$f":"リスト!C33","v":0},{"$f":"リスト!D33","v":0},{"$f":"リスト!E33","v":0},{"$f":"リスト!F33","v":0},{"$f":"リスト!G33","v":0},{"$f":"リスト!H33","v":0},{"$f":"リスト!I33","v":0},{"$f":"リスト!J33","v":0},{"$f":"リスト!K33","v":0},{"$f":"リスト!L33","v":0},{"$f":"リスト!M33","v":0},{"$f":"リスト!N33","v":0}]
[{"$f":"リスト!A34","v":"　"},{"$f":"リスト!B34","v":0},{"$f":"リスト!C34","v":0},{"$f":"リスト!D34","v":0},{"$f":"リスト!E34","v":0},{"$f":"リスト!F34","v":0},{"$f":"リスト!G34","v":0},{"$f":"リスト!H34","v":0},{"$f":"リスト!I34","v":0},{"$f":"リスト!J34","v":0},{"$f":"リスト!K34","v":0},{"$f":"リスト!L34","v":0},{"$f":"リスト!M34","v":0},{"$f":"リスト!N34","v":0}]
[{"$f":"リスト!A35","v":"　"},{"$f":"リスト!B35","v":0},{"$f":"リスト!C35","v":0},{"$f":"リスト!D35","v":0},{"$f":"リスト!E35","v":0},{"$f":"リスト!F35","v":0},{"$f":"リスト!G35","v":0},{"$f":"リスト!H35","v":0},{"$f":"リスト!I35","v":0},{"$f":"リスト!J35","v":0},{"$f":"リスト!K35","v":0},{"$f":"リスト!L35","v":0},{"$f":"リスト!M35","v":0},{"$f":"リスト!N35","v":0}]
[{"$f":"リスト!A36","v":"　"},{"$f":"リスト!B36","v":0},{"$f":"リスト!C36","v":0},{"$f":"リスト!D36","v":0},{"$f":"リスト!E36","v":0},{"$f":"リスト!F36","v":0},{"$f":"リスト!G36","v":0},{"$f":"リスト!H36","v":0},{"$f":"リスト!I36","v":0},{"$f":"リスト!J36","v":0},{"$f":"リスト!K36","v":0},{"$f":"リスト!L36","v":0},{"$f":"リスト!M36","v":0},{"$f":"リスト!N36","v":0}]
[{"$f":"リスト!A37","v":"　"},{"$f":"リスト!B37","v":0},{"$f":"リスト!C37","v":0},{"$f":"リスト!D37","v":0},{"$f":"リスト!E37","v":0},{"$f":"リスト!F37","v":0},{"$f":"リスト!G37","v":0},{"$f":"リスト!H37","v":0},{"$f":"リスト!I37","v":0},{"$f":"リスト!J37","v":0},{"$f":"リスト!K37","v":0},{"$f":"リスト!L37","v":0},{"$f":"リスト!M37","v":0},{"$f":"リスト!N37","v":0}]
[{"$f":"リスト!A38","v":"　"},{"$f":"リスト!B38","v":0},{"$f":"リスト!C38","v":0},{"$f":"リスト!D38","v":0},{"$f":"リスト!E38","v":0},{"$f":"リスト!F38","v":0},{"$f":"リスト!G38","v":0},{"$f":"リスト!H38","v":0},{"$f":"リスト!I38","v":0},{"$f":"リスト!J38","v":0},{"$f":"リスト!K38","v":0},{"$f":"リスト!L38","v":0},{"$f":"リスト!M38","v":0},{"$f":"リスト!N38","v":0}]
[{"$f":"リスト!A39","v":"　"},{"$f":"リスト!B39","v":0},{"$f":"リスト!C39","v":0},{"$f":"リスト!D39","v":0},{"$f":"リスト!E39","v":0},{"$f":"リスト!F39","v":0},{"$f":"リスト!G39","v":0},{"$f":"リスト!H39","v":0},{"$f":"リスト!I39","v":0},{"$f":"リスト!J39","v":0},{"$f":"リスト!K39","v":0},{"$f":"リスト!L39","v":0},{"$f":"リスト!M39","v":0},{"$f":"リスト!N39","v":0}]
[{"$f":"リスト!A40","v":"　"},{"$f":"リスト!B40","v":0},{"$f":"リスト!C40","v":0},{"$f":"リスト!D40","v":0},{"$f":"リスト!E40","v":0},{"$f":"リスト!F40","v":0},{"$f":"リスト!G40","v":0},{"$f":"リスト!H40","v":0},{"$f":"リスト!I40","v":0},{"$f":"リスト!J40","v":0},{"$f":"リスト!K40","v":0},{"$f":"リスト!L40","v":0},{"$f":"リスト!M40","v":0},{"$f":"リスト!N40","v":0}]
[{"$f":"リスト!A41","v":"　"},{"$f":"リスト!B41","v":0},{"$f":"リスト!C41","v":0},{"$f":"リスト!D41","v":0},{"$f":"リスト!E41","v":0},{"$f":"リスト!F41","v":0},{"$f":"リスト!G41","v":0},{"$f":"リスト!H41","v":0},{"$f":"リスト!I41","v":0},{"$f":"リスト!J41","v":0},{"$f":"リスト!K41","v":0},{"$f":"リスト!L41","v":0},{"$f":"リスト!M41","v":0},{"$f":"リスト!N41","v":0}]
[{"$f":"リスト!A42","v":"　"},{"$f":"リスト!B42","v":0},{"$f":"リスト!C42","v":0},{"$f":"リスト!D42","v":0},{"$f":"リスト!E42","v":0},{"$f":"リスト!F42","v":0},{"$f":"リスト!G42","v":0},{"$f":"リスト!H42","v":0},{"$f":"リスト!I42","v":0},{"$f":"リスト!J42","v":0},{"$f":"リスト!K42","v":0},{"$f":"リスト!L42","v":0},{"$f":"リスト!M42","v":0},{"$f":"リスト!N42","v":0}]
[{"$f":"リスト!A43","v":"　"},{"$f":"リスト!B43","v":0},{"$f":"リスト!C43","v":0},{"$f":"リスト!D43","v":0},{"$f":"リスト!E43","v":0},{"$f":"リスト!F43","v":0},{"$f":"リスト!G43","v":0},{"$f":"リスト!H43","v":0},{"$f":"リスト!I43","v":0},{"$f":"リスト!J43","v":0},{"$f":"リスト!K43","v":0},{"$f":"リスト!L43","v":0},{"$f":"リスト!M43","v":0},{"$f":"リスト!N43","v":0}]
[{"$f":"リスト!A44","v":"　"},{"$f":"リスト!B44","v":0},{"$f":"リスト!C44","v":0},{"$f":"リスト!D44","v":0},{"$f":"リスト!E44","v":0},{"$f":"リスト!F44","v":0},{"$f":"リスト!G44","v":0},{"$f":"リスト!H44","v":0},{"$f":"リスト!I44","v":0},{"$f":"リスト!J44","v":0},{"$f":"リスト!K44","v":0},{"$f":"リスト!L44","v":0},{"$f":"リスト!M44","v":0},{"$f":"リスト!N44","v":0}]
[{"$f":"リスト!A45","v":"　"},{"$f":"リスト!B45","v":0},{"$f":"リスト!C45","v":0},{"$f":"リスト!D45","v":0},{"$f":"リスト!E45","v":0},{"$f":"リスト!F45","v":0},{"$f":"リスト!G45","v":0},{"$f":"リスト!H45","v":0},{"$f":"リスト!I45","v":0},{"$f":"リスト!J45","v":0},{"$f":"リスト!K45","v":0},{"$f":"リスト!L45","v":0},{"$f":"リスト!M45","v":0},{"$f":"リスト!N45","v":0}]
[{"$f":"リスト!A46","v":"　"},{"$f":"リスト!B46","v":0},{"$f":"リスト!C46","v":0},{"$f":"リスト!D46","v":0},{"$f":"リスト!E46","v":0},{"$f":"リスト!F46","v":0},{"$f":"リスト!G46","v":0},{"$f":"リスト!H46","v":0},{"$f":"リスト!I46","v":0},{"$f":"リスト!J46","v":0},{"$f":"リスト!K46","v":0},{"$f":"リスト!L46","v":0},{"$f":"リスト!M46","v":0},{"$f":"リスト!N46","v":0}]
[{"$f":"リスト!A47","v":"　"},{"$f":"リスト!B47","v":0},{"$f":"リスト!C47","v":0},{"$f":"リスト!D47","v":0},{"$f":"リスト!E47","v":0},{"$f":"リスト!F47","v":0},{"$f":"リスト!G47","v":0},{"$f":"リスト!H47","v":0},{"$f":"リスト!I47","v":0},{"$f":"リスト!J47","v":0},{"$f":"リスト!K47","v":0},{"$f":"リスト!L47","v":0},{"$f":"リスト!M47","v":0},{"$f":"リスト!N47","v":0}]
[{"$f":"リスト!A48","v":"　"},{"$f":"リスト!B48","v":0},{"$f":"リスト!C48","v":0},{"$f":"リスト!D48","v":0},{"$f":"リスト!E48","v":0},{"$f":"リスト!F48","v":0},{"$f":"リスト!G48","v":0},{"$f":"リスト!H48","v":0},{"$f":"リスト!I48","v":0},{"$f":"リスト!J48","v":0},{"$f":"リスト!K48","v":0},{"$f":"リスト!L48","v":0},{"$f":"リスト!M48","v":0},{"$f":"リスト!N48","v":0}]
[{"$f":"リスト!A49","v":"　"},{"$f":"リスト!B49","v":0},{"$f":"リスト!C49","v":0},{"$f":"リスト!D49","v":0},{"$f":"リスト!E49","v":0},{"$f":"リスト!F49","v":0},{"$f":"リスト!G49","v":0},{"$f":"リスト!H49","v":0},{"$f":"リスト!I49","v":0},{"$f":"リスト!J49","v":0},{"$f":"リスト!K49","v":0},{"$f":"リスト!L49","v":0},{"$f":"リスト!M49","v":0},{"$f":"リスト!N49","v":0}]
[{"$f":"リスト!A50","v":"　"},{"$f":"リスト!B50","v":0},{"$f":"リスト!C50","v":0},{"$f":"リスト!D50","v":0},{"$f":"リスト!E50","v":0},{"$f":"リスト!F50","v":0},{"$f":"リスト!G50","v":0},{"$f":"リスト!H50","v":0},{"$f":"リスト!I50","v":0},{"$f":"リスト!J50","v":0},{"$f":"リスト!K50","v":0},{"$f":"リスト!L50","v":0},{"$f":"リスト!M50","v":0},{"$f":"リスト!N50","v":0}]
[{"$f":"リスト!A51","v":"　"},{"$f":"リスト!B51","v":0},{"$f":"リスト!C51","v":0},{"$f":"リスト!D51","v":0},{"$f":"リスト!E51","v":0},{"$f":"リスト!F51","v":0},{"$f":"リスト!G51","v":0},{"$f":"リスト!H51","v":0},{"$f":"リスト!I51","v":0},{"$f":"リスト!J51","v":0},{"$f":"リスト!K51","v":0},{"$f":"リスト!L51","v":0},{"$f":"リスト!M51","v":0},{"$f":"リスト!N51","v":0}]
[{"$f":"リスト!A52","v":"　"},{"$f":"リスト!B52","v":0},{"$f":"リスト!C52","v":0},{"$f":"リスト!D52","v":0},{"$f":"リスト!E52","v":0},{"$f":"リスト!F52","v":0},{"$f":"リスト!G52","v":0},{"$f":"リスト!H52","v":0},{"$f":"リスト!I52","v":0},{"$f":"リスト!J52","v":0},{"$f":"リスト!K52","v":0},{"$f":"リスト!L52","v":0},{"$f":"リスト!M52","v":0},{"$f":"リスト!N52","v":0}]
[{"$f":"リスト!A53","v":"　"},{"$f":"リスト!B53","v":0},{"$f":"リスト!C53","v":0},{"$f":"リスト!D53","v":0},{"$f":"リスト!E53","v":0},{"$f":"リスト!F53","v":0},{"$f":"リスト!G53","v":0},{"$f":"リスト!H53","v":0},{"$f":"リスト!I53","v":0},{"$f":"リスト!J53","v":0},{"$f":"リスト!K53","v":0},{"$f":"リスト!L53","v":0},{"$f":"リスト!M53","v":0},{"$f":"リスト!N53","v":0}]
[{"$f":"リスト!A54","v":"　"},{"$f":"リスト!B54","v":0},{"$f":"リスト!C54","v":0},{"$f":"リスト!D54","v":0},{"$f":"リスト!E54","v":0},{"$f":"リスト!F54","v":0},{"$f":"リスト!G54","v":0},{"$f":"リスト!H54","v":0},{"$f":"リスト!I54","v":0},{"$f":"リスト!J54","v":0},{"$f":"リスト!K54","v":0},{"$f":"リスト!L54","v":0},{"$f":"リスト!M54","v":0},{"$f":"リスト!N54","v":0}]
[{"$f":"リスト!A55","v":"　"},{"$f":"リスト!B55","v":0},{"$f":"リスト!C55","v":0},{"$f":"リスト!D55","v":0},{"$f":"リスト!E55","v":0},{"$f":"リスト!F55","v":0},{"$f":"リスト!G55","v":0},{"$f":"リスト!H55","v":0},{"$f":"リスト!I55","v":0},{"$f":"リスト!J55","v":0},{"$f":"リスト!K55","v":0},{"$f":"リスト!L55","v":0},{"$f":"リスト!M55","v":0},{"$f":"リスト!N55","v":0}]
[{"$f":"リスト!A56","v":"　"},{"$f":"リスト!B56","v":0},{"$f":"リスト!C56","v":0},{"$f":"リスト!D56","v":0},{"$f":"リスト!E56","v":0},{"$f":"リスト!F56","v":0},{"$f":"リスト!G56","v":0},{"$f":"リスト!H56","v":0},{"$f":"リスト!I56","v":0},{"$f":"リスト!J56","v":0},{"$f":"リスト!K56","v":0},{"$f":"リスト!L56","v":0},{"$f":"リスト!M56","v":0},{"$f":"リスト!N56","v":0}]
[{"$f":"リスト!A57","v":"　"},{"$f":"リスト!B57","v":0},{"$f":"リスト!C57","v":0},{"$f":"リスト!D57","v":0},{"$f":"リスト!E57","v":0},{"$f":"リスト!F57","v":0},{"$f":"リスト!G57","v":0},{"$f":"リスト!H57","v":0},{"$f":"リスト!I57","v":0},{"$f":"リスト!J57","v":0},{"$f":"リスト!K57","v":0},{"$f":"リスト!L57","v":0},{"$f":"リスト!M57","v":0},{"$f":"リスト!N57","v":0}]
[{"$f":"リスト!A58","v":"　"},{"$f":"リスト!B58","v":0},{"$f":"リスト!C58","v":0},{"$f":"リスト!D58","v":0},{"$f":"リスト!E58","v":0},{"$f":"リスト!F58","v":0},{"$f":"リスト!G58","v":0},{"$f":"リスト!H58","v":0},{"$f":"リスト!I58","v":0},{"$f":"リスト!J58","v":0},{"$f":"リスト!K58","v":0},{"$f":"リスト!L58","v":0},{"$f":"リスト!M58","v":0},{"$f":"リスト!N58","v":0}]
[{"$f":"リスト!A59","v":"　"},{"$f":"リスト!B59","v":0},{"$f":"リスト!C59","v":0},{"$f":"リスト!D59","v":0},{"$f":"リスト!E59","v":0},{"$f":"リスト!F59","v":0},{"$f":"リスト!G59","v":0},{"$f":"リスト!H59","v":0},{"$f":"リスト!I59","v":0},{"$f":"リスト!J59","v":0},{"$f":"リスト!K59","v":0},{"$f":"リスト!L59","v":0},{"$f":"リスト!M59","v":0},{"$f":"リスト!N59","v":0}]
[{"$f":"リスト!A60","v":"　"},{"$f":"リスト!B60","v":0},{"$f":"リスト!C60","v":0},{"$f":"リスト!D60","v":0},{"$f":"リスト!E60","v":0},{"$f":"リスト!F60","v":0},{"$f":"リスト!G60","v":0},{"$f":"リスト!H60","v":0},{"$f":"リスト!I60","v":0},{"$f":"リスト!J60","v":0},{"$f":"リスト!K60","v":0},{"$f":"リスト!L60","v":0},{"$f":"リスト!M60","v":0},{"$f":"リスト!N60","v":0}]
[{"$f":"リスト!A61","v":"　"},{"$f":"リスト!B61","v":0},{"$f":"リスト!C61","v":0},{"$f":"リスト!D61","v":0},{"$f":"リスト!E61","v":0},{"$f":"リスト!F61","v":0},{"$f":"リスト!G61","v":0},{"$f":"リスト!H61","v":0},{"$f":"リスト!I61","v":0},{"$f":"リスト!J61","v":0},{"$f":"リスト!K61","v":0},{"$f":"リスト!L61","v":0},{"$f":"リスト!M61","v":0},{"$f":"リスト!N61","v":0}]
[{"$f":"リスト!A62","v":"　"},{"$f":"リスト!B62","v":0},{"$f":"リスト!C62","v":0},{"$f":"リスト!D62","v":0},{"$f":"リスト!E62","v":0},{"$f":"リスト!F62","v":0},{"$f":"リスト!G62","v":0},{"$f":"リスト!H62","v":0},{"$f":"リスト!I62","v":0},{"$f":"リスト!J62","v":0},{"$f":"リスト!K62","v":0},{"$f":"リスト!L62","v":0},{"$f":"リスト!M62","v":0},{"$f":"リスト!N62","v":0}]
[{"$f":"リスト!A63","v":"　"},{"$f":"リスト!B63","v":0},{"$f":"リスト!C63","v":0},{"$f":"リスト!D63","v":0},{"$f":"リスト!E63","v":0},{"$f":"リスト!F63","v":0},{"$f":"リスト!G63","v":0},{"$f":"リスト!H63","v":0},{"$f":"リスト!I63","v":0},{"$f":"リスト!J63","v":0},{"$f":"リスト!K63","v":0},{"$f":"リスト!L63","v":0},{"$f":"リスト!M63","v":0},{"$f":"リスト!N63","v":0}]
[{"$f":"リスト!A64","v":"　"},{"$f":"リスト!B64","v":0},{"$f":"リスト!C64","v":0},{"$f":"リスト!D64","v":0},{"$f":"リスト!E64","v":0},{"$f":"リスト!F64","v":0},{"$f":"リスト!G64","v":0},{"$f":"リスト!H64","v":0},{"$f":"リスト!I64","v":0},{"$f":"リスト!J64","v":0},{"$f":"リスト!K64","v":0},{"$f":"リスト!L64","v":0},{"$f":"リスト!M64","v":0},{"$f":"リスト!N64","v":0}]
[{"$f":"リスト!A65","v":"　"},{"$f":"リスト!B65","v":0},{"$f":"リスト!C65","v":0},{"$f":"リスト!D65","v":0},{"$f":"リスト!E65","v":0},{"$f":"リスト!F65","v":0},{"$f":"リスト!G65","v":0},{"$f":"リスト!H65","v":0},{"$f":"リスト!I65","v":0},{"$f":"リスト!J65","v":0},{"$f":"リスト!K65","v":0},{"$f":"リスト!L65","v":0},{"$f":"リスト!M65","v":0},{"$f":"リスト!N65","v":0}]
[{"$f":"リスト!A66","v":"　"},{"$f":"リスト!B66","v":0},{"$f":"リスト!C66","v":0},{"$f":"リスト!D66","v":0},{"$f":"リスト!E66","v":0},{"$f":"リスト!F66","v":0},{"$f":"リスト!G66","v":0},{"$f":"リスト!H66","v":0},{"$f":"リスト!I66","v":0},{"$f":"リスト!J66","v":0},{"$f":"リスト!K66","v":0},{"$f":"リスト!L66","v":0},{"$f":"リスト!M66","v":0},{"$f":"リスト!N66","v":0}]
[{"$f":"リスト!A67","v":"　"},{"$f":"リスト!B67","v":0},{"$f":"リスト!C67","v":0},{"$f":"リスト!D67","v":0},{"$f":"リスト!E67","v":0},{"$f":"リスト!F67","v":0},{"$f":"リスト!G67","v":0},{"$f":"リスト!H67","v":0},{"$f":"リスト!I67","v":0},{"$f":"リスト!J67","v":0},{"$f":"リスト!K67","v":0},{"$f":"リスト!L67","v":0},{"$f":"リスト!M67","v":0},{"$f":"リスト!N67","v":0}]
[{"$f":"リスト!A68","v":"　"},{"$f":"リスト!B68","v":0},{"$f":"リスト!C68","v":0},{"$f":"リスト!D68","v":0},{"$f":"リスト!E68","v":0},{"$f":"リスト!F68","v":0},{"$f":"リスト!G68","v":0},{"$f":"リスト!H68","v":0},{"$f":"リスト!I68","v":0},{"$f":"リスト!J68","v":0},{"$f":"リスト!K68","v":0},{"$f":"リスト!L68","v":0},{"$f":"リスト!M68","v":0},{"$f":"リスト!N68","v":0}]
[{"$f":"リスト!A69","v":"　"},{"$f":"リスト!B69","v":0},{"$f":"リスト!C69","v":0},{"$f":"リスト!D69","v":0},{"$f":"リスト!E69","v":0},{"$f":"リスト!F69","v":0},{"$f":"リスト!G69","v":0},{"$f":"リスト!H69","v":0},{"$f":"リスト!I69","v":0},{"$f":"リスト!J69","v":0},{"$f":"リスト!K69","v":0},{"$f":"リスト!L69","v":0},{"$f":"リスト!M69","v":0},{"$f":"リスト!N69","v":0}]
[{"$f":"リスト!A70","v":"　"},{"$f":"リスト!B70","v":0},{"$f":"リスト!C70","v":0},{"$f":"リスト!D70","v":0},{"$f":"リスト!E70","v":0},{"$f":"リスト!F70","v":0},{"$f":"リスト!G70","v":0},{"$f":"リスト!H70","v":0},{"$f":"リスト!I70","v":0},{"$f":"リスト!J70","v":0},{"$f":"リスト!K70","v":0},{"$f":"リスト!L70","v":0},{"$f":"リスト!M70","v":0},{"$f":"リスト!N70","v":0}]
[{"$f":"リスト!A71","v":"　"},{"$f":"リスト!B71","v":0},{"$f":"リスト!C71","v":0},{"$f":"リスト!D71","v":0},{"$f":"リスト!E71","v":0},{"$f":"リスト!F71","v":0},{"$f":"リスト!G71","v":0},{"$f":"リスト!H71","v":0},{"$f":"リスト!I71","v":0},{"$f":"リスト!J71","v":0},{"$f":"リスト!K71","v":0},{"$f":"リスト!L71","v":0},{"$f":"リスト!M71","v":0},{"$f":"リスト!N71","v":0}]
[{"$f":"リスト!A72","v":"　"},{"$f":"リスト!B72","v":0},{"$f":"リスト!C72","v":0},{"$f":"リスト!D72","v":0},{"$f":"リスト!E72","v":0},{"$f":"リスト!F72","v":0},{"$f":"リスト!G72","v":0},{"$f":"リスト!H72","v":0},{"$f":"リスト!I72","v":0},{"$f":"リスト!J72","v":0},{"$f":"リスト!K72","v":0},{"$f":"リスト!L72","v":0},{"$f":"リスト!M72","v":0},{"$f":"リスト!N72","v":0}]
[{"$f":"リスト!A73","v":"　"},{"$f":"リスト!B73","v":0},{"$f":"リスト!C73","v":0},{"$f":"リスト!D73","v":0},{"$f":"リスト!E73","v":0},{"$f":"リスト!F73","v":0},{"$f":"リスト!G73","v":0},{"$f":"リスト!H73","v":0},{"$f":"リスト!I73","v":0},{"$f":"リスト!J73","v":0},{"$f":"リスト!K73","v":0},{"$f":"リスト!L73","v":0},{"$f":"リスト!M73","v":0},{"$f":"リスト!N73","v":0}]
[{"$f":"リスト!A74","v":"　"},{"$f":"リスト!B74","v":0},{"$f":"リスト!C74","v":0},{"$f":"リスト!D74","v":0},{"$f":"リスト!E74","v":0},{"$f":"リスト!F74","v":0},{"$f":"リスト!G74","v":0},{"$f":"リスト!H74","v":0},{"$f":"リスト!I74","v":0},{"$f":"リスト!J74","v":0},{"$f":"リスト!K74","v":0},{"$f":"リスト!L74","v":0},{"$f":"リスト!M74","v":0},{"$f":"リスト!N74","v":0}]
[{"$f":"リスト!A75","v":"　"},{"$f":"リスト!B75","v":0},{"$f":"リスト!C75","v":0},{"$f":"リスト!D75","v":0},{"$f":"リスト!E75","v":0},{"$f":"リスト!F75","v":0},{"$f":"リスト!G75","v":0},{"$f":"リスト!H75","v":0},{"$f":"リスト!I75","v":0},{"$f":"リスト!J75","v":0},{"$f":"リスト!K75","v":0},{"$f":"リスト!L75","v":0},{"$f":"リスト!M75","v":0},{"$f":"リスト!N75","v":0}]
[{"$f":"リスト!A76","v":"　"},{"$f":"リスト!B76","v":0},{"$f":"リスト!C76","v":0},{"$f":"リスト!D76","v":0},{"$f":"リスト!E76","v":0},{"$f":"リスト!F76","v":0},{"$f":"リスト!G76","v":0},{"$f":"リスト!H76","v":0},{"$f":"リスト!I76","v":0},{"$f":"リスト!J76","v":0},{"$f":"リスト!K76","v":0},{"$f":"リスト!L76","v":0},{"$f":"リスト!M76","v":0},{"$f":"リスト!N76","v":0}]
[{"$f":"リスト!A77","v":"　"},{"$f":"リスト!B77","v":0},{"$f":"リスト!C77","v":0},{"$f":"リスト!D77","v":0},{"$f":"リスト!E77","v":0},{"$f":"リスト!F77","v":0},{"$f":"リスト!G77","v":0},{"$f":"リスト!H77","v":0},{"$f":"リスト!I77","v":0},{"$f":"リスト!J77","v":0},{"$f":"リスト!K77","v":0},{"$f":"リスト!L77","v":0},{"$f":"リスト!M77","v":0},{"$f":"リスト!N77","v":0}]
[{"$f":"リスト!A78","v":"　"},{"$f":"リスト!B78","v":0},{"$f":"リスト!C78","v":0},{"$f":"リスト!D78","v":0},{"$f":"リスト!E78","v":0},{"$f":"リスト!F78","v":0},{"$f":"リスト!G78","v":0},{"$f":"リスト!H78","v":0},{"$f":"リスト!I78","v":0},{"$f":"リスト!J78","v":0},{"$f":"リスト!K78","v":0},{"$f":"リスト!L78","v":0},{"$f":"リスト!M78","v":0},{"$f":"リスト!N78","v":0}]
[{"$f":"リスト!A79","v":"　"},{"$f":"リスト!B79","v":0},{"$f":"リスト!C79","v":0},{"$f":"リスト!D79","v":0},{"$f":"リスト!E79","v":0},{"$f":"リスト!F79","v":0},{"$f":"リスト!G79","v":0},{"$f":"リスト!H79","v":0},{"$f":"リスト!I79","v":0},{"$f":"リスト!J79","v":0},{"$f":"リスト!K79","v":0},{"$f":"リスト!L79","v":0},{"$f":"リスト!M79","v":0},{"$f":"リスト!N79","v":0}]
[{"$f":"リスト!A80","v":"　"},{"$f":"リスト!B80","v":0},{"$f":"リスト!C80","v":0},{"$f":"リスト!D80","v":0},{"$f":"リスト!E80","v":0},{"$f":"リスト!F80","v":0},{"$f":"リスト!G80","v":0},{"$f":"リスト!H80","v":0},{"$f":"リスト!I80","v":0},{"$f":"リスト!J80","v":0},{"$f":"リスト!K80","v":0},{"$f":"リスト!L80","v":0},{"$f":"リスト!M80","v":0},{"$f":"リスト!N80","v":0}]
[{"$f":"リスト!A81","v":"　"},{"$f":"リスト!B81","v":0},{"$f":"リスト!C81","v":0},{"$f":"リスト!D81","v":0},{"$f":"リスト!E81","v":0},{"$f":"リスト!F81","v":0},{"$f":"リスト!G81","v":0},{"$f":"リスト!H81","v":0},{"$f":"リスト!I81","v":0},{"$f":"リスト!J81","v":0},{"$f":"リスト!K81","v":0},{"$f":"リスト!L81","v":0},{"$f":"リスト!M81","v":0},{"$f":"リスト!N81","v":0}]
[{"$f":"リスト!A82","v":"　"},{"$f":"リスト!B82","v":0},{"$f":"リスト!C82","v":0},{"$f":"リスト!D82","v":0},{"$f":"リスト!E82","v":0},{"$f":"リスト!F82","v":0},{"$f":"リスト!G82","v":0},{"$f":"リスト!H82","v":0},{"$f":"リスト!I82","v":0},{"$f":"リスト!J82","v":0},{"$f":"リスト!K82","v":0},{"$f":"リスト!L82","v":0},{"$f":"リスト!M82","v":0},{"$f":"リスト!N82","v":0}]
[{"$f":"リスト!A83","v":"　"},{"$f":"リスト!B83","v":0},{"$f":"リスト!C83","v":0},{"$f":"リスト!D83","v":0},{"$f":"リスト!E83","v":0},{"$f":"リスト!F83","v":0},{"$f":"リスト!G83","v":0},{"$f":"リスト!H83","v":0},{"$f":"リスト!I83","v":0},{"$f":"リスト!J83","v":0},{"$f":"リスト!K83","v":0},{"$f":"リスト!L83","v":0},{"$f":"リスト!M83","v":0},{"$f":"リスト!N83","v":0}]
[{"$f":"リスト!A84","v":"　"},{"$f":"リスト!B84","v":0},{"$f":"リスト!C84","v":0},{"$f":"リスト!D84","v":0},{"$f":"リスト!E84","v":0},{"$f":"リスト!F84","v":0},{"$f":"リスト!G84","v":0},{"$f":"リスト!H84","v":0},{"$f":"リスト!I84","v":0},{"$f":"リスト!J84","v":0},{"$f":"リスト!K84","v":0},{"$f":"リスト!L84","v":0},{"$f":"リスト!M84","v":0},{"$f":"リスト!N84","v":0}]
[{"$f":"リスト!A85","v":"　"},{"$f":"リスト!B85","v":0},{"$f":"リスト!C85","v":0},{"$f":"リスト!D85","v":0},{"$f":"リスト!E85","v":0},{"$f":"リスト!F85","v":0},{"$f":"リスト!G85","v":0},{"$f":"リスト!H85","v":0},{"$f":"リスト!I85","v":0},{"$f":"リスト!J85","v":0},{"$f":"リスト!K85","v":0},{"$f":"リスト!L85","v":0},{"$f":"リスト!M85","v":0},{"$f":"リスト!N85","v":0}]
[{"$f":"リスト!A86","v":"　"},{"$f":"リスト!B86","v":0},{"$f":"リスト!C86","v":0},{"$f":"リスト!D86","v":0},{"$f":"リスト!E86","v":0},{"$f":"リスト!F86","v":0},{"$f":"リスト!G86","v":0},{"$f":"リスト!H86","v":0},{"$f":"リスト!I86","v":0},{"$f":"リスト!J86","v":0},{"$f":"リスト!K86","v":0},{"$f":"リスト!L86","v":0},{"$f":"リスト!M86","v":0},{"$f":"リスト!N86","v":0}]
[{"$f":"リスト!A87","v":"　"},{"$f":"リスト!B87","v":0},{"$f":"リスト!C87","v":0},{"$f":"リスト!D87","v":0},{"$f":"リスト!E87","v":0},{"$f":"リスト!F87","v":0},{"$f":"リスト!G87","v":0},{"$f":"リスト!H87","v":0},{"$f":"リスト!I87","v":0},{"$f":"リスト!J87","v":0},{"$f":"リスト!K87","v":0},{"$f":"リスト!L87","v":0},{"$f":"リスト!M87","v":0},{"$f":"リスト!N87","v":0}]
[{"$f":"リスト!A88","v":"　"},{"$f":"リスト!B88","v":0},{"$f":"リスト!C88","v":0},{"$f":"リスト!D88","v":0},{"$f":"リスト!E88","v":0},{"$f":"リスト!F88","v":0},{"$f":"リスト!G88","v":0},{"$f":"リスト!H88","v":0},{"$f":"リスト!I88","v":0},{"$f":"リスト!J88","v":0},{"$f":"リスト!K88","v":0},{"$f":"リスト!L88","v":0},{"$f":"リスト!M88","v":0},{"$f":"リスト!N88","v":0}]
[{"$f":"リスト!A89","v":"　"},{"$f":"リスト!B89","v":0},{"$f":"リスト!C89","v":0},{"$f":"リスト!D89","v":0},{"$f":"リスト!E89","v":0},{"$f":"リスト!F89","v":0},{"$f":"リスト!G89","v":0},{"$f":"リスト!H89","v":0},{"$f":"リスト!I89","v":0},{"$f":"リスト!J89","v":0},{"$f":"リスト!K89","v":0},{"$f":"リスト!L89","v":0},{"$f":"リスト!M89","v":0},{"$f":"リスト!N89","v":0}]
[{"$f":"リスト!A90","v":"　"},{"$f":"リスト!B90","v":0},{"$f":"リスト!C90","v":0},{"$f":"リスト!D90","v":0},{"$f":"リスト!E90","v":0},{"$f":"リスト!F90","v":0},{"$f":"リスト!G90","v":0},{"$f":"リスト!H90","v":0},{"$f":"リスト!I90","v":0},{"$f":"リスト!J90","v":0},{"$f":"リスト!K90","v":0},{"$f":"リスト!L90","v":0},{"$f":"リスト!M90","v":0},{"$f":"リスト!N90","v":0}]
[{"$f":"リスト!A91","v":"　"},{"$f":"リスト!B91","v":0},{"$f":"リスト!C91","v":0},{"$f":"リスト!D91","v":0},{"$f":"リスト!E91","v":0},{"$f":"リスト!F91","v":0},{"$f":"リスト!G91","v":0},{"$f":"リスト!H91","v":0},{"$f":"リスト!I91","v":0},{"$f":"リスト!J91","v":0},{"$f":"リスト!K91","v":0},{"$f":"リスト!L91","v":0},{"$f":"リスト!M91","v":0},{"$f":"リスト!N91","v":0}]
[{"$f":"リスト!A92","v":"　"},{"$f":"リスト!B92","v":0},{"$f":"リスト!C92","v":0},{"$f":"リスト!D92","v":0},{"$f":"リスト!E92","v":0},{"$f":"リスト!F92","v":0},{"$f":"リスト!G92","v":0},{"$f":"リスト!H92","v":0},{"$f":"リスト!I92","v":0},{"$f":"リスト!J92","v":0},{"$f":"リスト!K92","v":0},{"$f":"リスト!L92","v":0},{"$f":"リスト!M92","v":0},{"$f":"リスト!N92","v":0}]
[{"$f":"リスト!A93","v":"　"},{"$f":"リスト!B93","v":0},{"$f":"リスト!C93","v":0},{"$f":"リスト!D93","v":0},{"$f":"リスト!E93","v":0},{"$f":"リスト!F93","v":0},{"$f":"リスト!G93","v":0},{"$f":"リスト!H93","v":0},{"$f":"リスト!I93","v":0},{"$f":"リスト!J93","v":0},{"$f":"リスト!K93","v":0},{"$f":"リスト!L93","v":0},{"$f":"リスト!M93","v":0},{"$f":"リスト!N93","v":0}]
[{"$f":"リスト!A94","v":"　"},{"$f":"リスト!B94","v":0},{"$f":"リスト!C94","v":0},{"$f":"リスト!D94","v":0},{"$f":"リスト!E94","v":0},{"$f":"リスト!F94","v":0},{"$f":"リスト!G94","v":0},{"$f":"リスト!H94","v":0},{"$f":"リスト!I94","v":0},{"$f":"リスト!J94","v":0},{"$f":"リスト!K94","v":0},{"$f":"リスト!L94","v":0},{"$f":"リスト!M94","v":0},{"$f":"リスト!N94","v":0}]
[{"$f":"リスト!A95","v":"　"},{"$f":"リスト!B95","v":0},{"$f":"リスト!C95","v":0},{"$f":"リスト!D95","v":0},{"$f":"リスト!E95","v":0},{"$f":"リスト!F95","v":0},{"$f":"リスト!G95","v":0},{"$f":"リスト!H95","v":0},{"$f":"リスト!I95","v":0},{"$f":"リスト!J95","v":0},{"$f":"リスト!K95","v":0},{"$f":"リスト!L95","v":0},{"$f":"リスト!M95","v":0},{"$f":"リスト!N95","v":0}]
[{"$f":"リスト!A96","v":"　"},{"$f":"リスト!B96","v":0},{"$f":"リスト!C96","v":0},{"$f":"リスト!D96","v":0},{"$f":"リスト!E96","v":0},{"$f":"リスト!F96","v":0},{"$f":"リスト!G96","v":0},{"$f":"リスト!H96","v":0},{"$f":"リスト!I96","v":0},{"$f":"リスト!J96","v":0},{"$f":"リスト!K96","v":0},{"$f":"リスト!L96","v":0},{"$f":"リスト!M96","v":0},{"$f":"リスト!N96","v":0}]
[{"$f":"リスト!A97","v":"　"},{"$f":"リスト!B97","v":0},{"$f":"リスト!C97","v":0},{"$f":"リスト!D97","v":0},{"$f":"リスト!E97","v":0},{"$f":"リスト!F97","v":0},{"$f":"リスト!G97","v":0},{"$f":"リスト!H97","v":0},{"$f":"リスト!I97","v":0},{"$f":"リスト!J97","v":0},{"$f":"リスト!K97","v":0},{"$f":"リスト!L97","v":0},{"$f":"リスト!M97","v":0},{"$f":"リスト!N97","v":0}]
[{"$f":"リスト!A98","v":"　"},{"$f":"リスト!B98","v":0},{"$f":"リスト!C98","v":0},{"$f":"リスト!D98","v":0},{"$f":"リスト!E98","v":0},{"$f":"リスト!F98","v":0},{"$f":"リスト!G98","v":0},{"$f":"リスト!H98","v":0},{"$f":"リスト!I98","v":0},{"$f":"リスト!J98","v":0},{"$f":"リスト!K98","v":0},{"$f":"リスト!L98","v":0},{"$f":"リスト!M98","v":0},{"$f":"リスト!N98","v":0}]
[{"$f":"リスト!A99","v":"　"},{"$f":"リスト!B99","v":0},{"$f":"リスト!C99","v":0},{"$f":"リスト!D99","v":0},{"$f":"リスト!E99","v":0},{"$f":"リスト!F99","v":0},{"$f":"リスト!G99","v":0},{"$f":"リスト!H99","v":0},{"$f":"リスト!I99","v":0},{"$f":"リスト!J99","v":0},{"$f":"リスト!K99","v":0},{"$f":"リスト!L99","v":0},{"$f":"リスト!M99","v":0},{"$f":"リスト!N99","v":0}]
[{"$f":"リスト!A100","v":"　"},{"$f":"リスト!B100","v":0},{"$f":"リスト!C100","v":0},{"$f":"リスト!D100","v":0},{"$f":"リスト!E100","v":0},{"$f":"リスト!F100","v":0},{"$f":"リスト!G100","v":0},{"$f":"リスト!H100","v":0},{"$f":"リスト!I100","v":0},{"$f":"リスト!J100","v":0},{"$f":"リスト!K100","v":0},{"$f":"リスト!L100","v":0},{"$f":"リスト!M100","v":0},{"$f":"リスト!N100","v":0}]
[{"$f":"リスト!A101","v":"　"},{"$f":"リスト!B101","v":0},{"$f":"リスト!C101","v":0},{"$f":"リスト!D101","v":0},{"$f":"リスト!E101","v":0},{"$f":"リスト!F101","v":0},{"$f":"リスト!G101","v":0},{"$f":"リスト!H101","v":0},{"$f":"リスト!I101","v":0},{"$f":"リスト!J101","v":0},{"$f":"リスト!K101","v":0},{"$f":"リスト!L101","v":0},{"$f":"リスト!M101","v":0},{"$f":"リスト!N101","v":0}]
[{"$f":"リスト!A102","v":"　"},{"$f":"リスト!B102","v":0},{"$f":"リスト!C102","v":0},{"$f":"リスト!D102","v":0},{"$f":"リスト!E102","v":0},{"$f":"リスト!F102","v":0},{"$f":"リスト!G102","v":0},{"$f":"リスト!H102","v":0},{"$f":"リスト!I102","v":0},{"$f":"リスト!J102","v":0},{"$f":"リスト!K102","v":0},{"$f":"リスト!L102","v":0},{"$f":"リスト!M102","v":0},{"$f":"リスト!N102","v":0}]
[{"$f":"リスト!A103","v":"　"},{"$f":"リスト!B103","v":0},{"$f":"リスト!C103","v":0},{"$f":"リスト!D103","v":0},{"$f":"リスト!E103","v":0},{"$f":"リスト!F103","v":0},{"$f":"リスト!G103","v":0},{"$f":"リスト!H103","v":0},{"$f":"リスト!I103","v":0},{"$f":"リスト!J103","v":0},{"$f":"リスト!K103","v":0},{"$f":"リスト!L103","v":0},{"$f":"リスト!M103","v":0},{"$f":"リスト!N103","v":0}]
[{"$f":"リスト!A104","v":"　"},{"$f":"リスト!B104","v":0},{"$f":"リスト!C104","v":0},{"$f":"リスト!D104","v":0},{"$f":"リスト!E104","v":0},{"$f":"リスト!F104","v":0},{"$f":"リスト!G104","v":0},{"$f":"リスト!H104","v":0},{"$f":"リスト!I104","v":0},{"$f":"リスト!J104","v":0},{"$f":"リスト!K104","v":0},{"$f":"リスト!L104","v":0},{"$f":"リスト!M104","v":0},{"$f":"リスト!N104","v":0}]
[{"$f":"リスト!A105","v":"　"},{"$f":"リスト!B105","v":0},{"$f":"リスト!C105","v":0},{"$f":"リスト!D105","v":0},{"$f":"リスト!E105","v":0},{"$f":"リスト!F105","v":0},{"$f":"リスト!G105","v":0},{"$f":"リスト!H105","v":0},{"$f":"リスト!I105","v":0},{"$f":"リスト!J105","v":0},{"$f":"リスト!K105","v":0},{"$f":"リスト!L105","v":0},{"$f":"リスト!M105","v":0},{"$f":"リスト!N105","v":0}]
[{"$f":"リスト!A106","v":"　"},{"$f":"リスト!B106","v":0},{"$f":"リスト!C106","v":0},{"$f":"リスト!D106","v":0},{"$f":"リスト!E106","v":0},{"$f":"リスト!F106","v":0},{"$f":"リスト!G106","v":0},{"$f":"リスト!H106","v":0},{"$f":"リスト!I106","v":0},{"$f":"リスト!J106","v":0},{"$f":"リスト!K106","v":0},{"$f":"リスト!L106","v":0},{"$f":"リスト!M106","v":0},{"$f":"リスト!N106","v":0}]
[{"$f":"リスト!A107","v":"　"},{"$f":"リスト!B107","v":0},{"$f":"リスト!C107","v":0},{"$f":"リスト!D107","v":0},{"$f":"リスト!E107","v":0},{"$f":"リスト!F107","v":0},{"$f":"リスト!G107","v":0},{"$f":"リスト!H107","v":0},{"$f":"リスト!I107","v":0},{"$f":"リスト!J107","v":0},{"$f":"リスト!K107","v":0},{"$f":"リスト!L107","v":0},{"$f":"リスト!M107","v":0},{"$f":"リスト!N107","v":0}]
[{"$f":"リスト!A108","v":"　"},{"$f":"リスト!B108","v":0},{"$f":"リスト!C108","v":0},{"$f":"リスト!D108","v":0},{"$f":"リスト!E108","v":0},{"$f":"リスト!F108","v":0},{"$f":"リスト!G108","v":0},{"$f":"リスト!H108","v":0},{"$f":"リスト!I108","v":0},{"$f":"リスト!J108","v":0},{"$f":"リスト!K108","v":0},{"$f":"リスト!L108","v":0},{"$f":"リスト!M108","v":0},{"$f":"リスト!N108","v":0}]
[{"$f":"リスト!A109","v":"　"},{"$f":"リスト!B109","v":0},{"$f":"リスト!C109","v":0},{"$f":"リスト!D109","v":0},{"$f":"リスト!E109","v":0},{"$f":"リスト!F109","v":0},{"$f":"リスト!G109","v":0},{"$f":"リスト!H109","v":0},{"$f":"リスト!I109","v":0},{"$f":"リスト!J109","v":0},{"$f":"リスト!K109","v":0},{"$f":"リスト!L109","v":0},{"$f":"リスト!M109","v":0},{"$f":"リスト!N109","v":0}]
[{"$f":"リスト!A110","v":"　"},{"$f":"リスト!B110","v":0},{"$f":"リスト!C110","v":0},{"$f":"リスト!D110","v":0},{"$f":"リスト!E110","v":0},{"$f":"リスト!F110","v":0},{"$f":"リスト!G110","v":0},{"$f":"リスト!H110","v":0},{"$f":"リスト!I110","v":0},{"$f":"リスト!J110","v":0},{"$f":"リスト!K110","v":0},{"$f":"リスト!L110","v":0},{"$f":"リスト!M110","v":0},{"$f":"リスト!N110","v":0}]
[{"$f":"リスト!A111","v":"　"},{"$f":"リスト!B111","v":0},{"$f":"リスト!C111","v":0},{"$f":"リスト!D111","v":0},{"$f":"リスト!E111","v":0},{"$f":"リスト!F111","v":0},{"$f":"リスト!G111","v":0},{"$f":"リスト!H111","v":0},{"$f":"リスト!I111","v":0},{"$f":"リスト!J111","v":0},{"$f":"リスト!K111","v":0},{"$f":"リスト!L111","v":0},{"$f":"リスト!M111","v":0},{"$f":"リスト!N111","v":0}]
[{"$f":"リスト!A112","v":"　"},{"$f":"リスト!B112","v":0},{"$f":"リスト!C112","v":0},{"$f":"リスト!D112","v":0},{"$f":"リスト!E112","v":0},{"$f":"リスト!F112","v":0},{"$f":"リスト!G112","v":0},{"$f":"リスト!H112","v":0},{"$f":"リスト!I112","v":0},{"$f":"リスト!J112","v":0},{"$f":"リスト!K112","v":0},{"$f":"リスト!L112","v":0},{"$f":"リスト!M112","v":0},{"$f":"リスト!N112","v":0}]
[{"$f":"リスト!A113","v":"　"},{"$f":"リスト!B113","v":0},{"$f":"リスト!C113","v":0},{"$f":"リスト!D113","v":0},{"$f":"リスト!E113","v":0},{"$f":"リスト!F113","v":0},{"$f":"リスト!G113","v":0},{"$f":"リスト!H113","v":0},{"$f":"リスト!I113","v":0},{"$f":"リスト!J113","v":0},{"$f":"リスト!K113","v":0},{"$f":"リスト!L113","v":0},{"$f":"リスト!M113","v":0},{"$f":"リスト!N113","v":0}]
[{"$f":"リスト!A114","v":"　"},{"$f":"リスト!B114","v":0},{"$f":"リスト!C114","v":0},{"$f":"リスト!D114","v":0},{"$f":"リスト!E114","v":0},{"$f":"リスト!F114","v":0},{"$f":"リスト!G114","v":0},{"$f":"リスト!H114","v":0},{"$f":"リスト!I114","v":0},{"$f":"リスト!J114","v":0},{"$f":"リスト!K114","v":0},{"$f":"リスト!L114","v":0},{"$f":"リスト!M114","v":0},{"$f":"リスト!N114","v":0}]
[{"$f":"リスト!A115","v":"　"},{"$f":"リスト!B115","v":0},{"$f":"リスト!C115","v":0},{"$f":"リスト!D115","v":0},{"$f":"リスト!E115","v":0},{"$f":"リスト!F115","v":0},{"$f":"リスト!G115","v":0},{"$f":"リスト!H115","v":0},{"$f":"リスト!I115","v":0},{"$f":"リスト!J115","v":0},{"$f":"リスト!K115","v":0},{"$f":"リスト!L115","v":0},{"$f":"リスト!M115","v":0},{"$f":"リスト!N115","v":0}]
[{"$f":"リスト!A116","v":"　"},{"$f":"リスト!B116","v":0},{"$f":"リスト!C116","v":0},{"$f":"リスト!D116","v":0},{"$f":"リスト!E116","v":0},{"$f":"リスト!F116","v":0},{"$f":"リスト!G116","v":0},{"$f":"リスト!H116","v":0},{"$f":"リスト!I116","v":0},{"$f":"リスト!J116","v":0},{"$f":"リスト!K116","v":0},{"$f":"リスト!L116","v":0},{"$f":"リスト!M116","v":0},{"$f":"リスト!N116","v":0}]
[{"$f":"リスト!A117","v":"　"},{"$f":"リスト!B117","v":0},{"$f":"リスト!C117","v":0},{"$f":"リスト!D117","v":0},{"$f":"リスト!E117","v":0},{"$f":"リスト!F117","v":0},{"$f":"リスト!G117","v":0},{"$f":"リスト!H117","v":0},{"$f":"リスト!I117","v":0},{"$f":"リスト!J117","v":0},{"$f":"リスト!K117","v":0},{"$f":"リスト!L117","v":0},{"$f":"リスト!M117","v":0},{"$f":"リスト!N117","v":0}]
[{"$f":"リスト!A118","v":"　"},{"$f":"リスト!B118","v":0},{"$f":"リスト!C118","v":0},{"$f":"リスト!D118","v":0},{"$f":"リスト!E118","v":0},{"$f":"リスト!F118","v":0},{"$f":"リスト!G118","v":0},{"$f":"リスト!H118","v":0},{"$f":"リスト!I118","v":0},{"$f":"リスト!J118","v":0},{"$f":"リスト!K118","v":0},{"$f":"リスト!L118","v":0},{"$f":"リスト!M118","v":0},{"$f":"リスト!N118","v":0}]
[{"$f":"リスト!A119","v":"　"},{"$f":"リスト!B119","v":0},{"$f":"リスト!C119","v":0},{"$f":"リスト!D119","v":0},{"$f":"リスト!E119","v":0},{"$f":"リスト!F119","v":0},{"$f":"リスト!G119","v":0},{"$f":"リスト!H119","v":0},{"$f":"リスト!I119","v":0},{"$f":"リスト!J119","v":0},{"$f":"リスト!K119","v":0},{"$f":"リスト!L119","v":0},{"$f":"リスト!M119","v":0},{"$f":"リスト!N119","v":0}]
[{"$f":"リスト!A120","v":"　"},{"$f":"リスト!B120","v":0},{"$f":"リスト!C120","v":0},{"$f":"リスト!D120","v":0},{"$f":"リスト!E120","v":0},{"$f":"リスト!F120","v":0},{"$f":"リスト!G120","v":0},{"$f":"リスト!H120","v":0},{"$f":"リスト!I120","v":0},{"$f":"リスト!J120","v":0},{"$f":"リスト!K120","v":0},{"$f":"リスト!L120","v":0},{"$f":"リスト!M120","v":0},{"$f":"リスト!N120","v":0}]
[{"$f":"リスト!A121","v":"　"},{"$f":"リスト!B121","v":0},{"$f":"リスト!C121","v":0},{"$f":"リスト!D121","v":0},{"$f":"リスト!E121","v":0},{"$f":"リスト!F121","v":0},{"$f":"リスト!G121","v":0},{"$f":"リスト!H121","v":0},{"$f":"リスト!I121","v":0},{"$f":"リスト!J121","v":0},{"$f":"リスト!K121","v":0},{"$f":"リスト!L121","v":0},{"$f":"リスト!M121","v":0},{"$f":"リスト!N121","v":0}]
[{"$f":"リスト!A122","v":"　"},{"$f":"リスト!B122","v":0},{"$f":"リスト!C122","v":0},{"$f":"リスト!D122","v":0},{"$f":"リスト!E122","v":0},{"$f":"リスト!F122","v":0},{"$f":"リスト!G122","v":0},{"$f":"リスト!H122","v":0},{"$f":"リスト!I122","v":0},{"$f":"リスト!J122","v":0},{"$f":"リスト!K122","v":0},{"$f":"リスト!L122","v":0},{"$f":"リスト!M122","v":0},{"$f":"リスト!N122","v":0}]
[{"$f":"リスト!A123","v":"　"},{"$f":"リスト!B123","v":0},{"$f":"リスト!C123","v":0},{"$f":"リスト!D123","v":0},{"$f":"リスト!E123","v":0},{"$f":"リスト!F123","v":0},{"$f":"リスト!G123","v":0},{"$f":"リスト!H123","v":0},{"$f":"リスト!I123","v":0},{"$f":"リスト!J123","v":0},{"$f":"リスト!K123","v":0},{"$f":"リスト!L123","v":0},{"$f":"リスト!M123","v":0},{"$f":"リスト!N123","v":0}]
[{"$f":"リスト!A124","v":"　"},{"$f":"リスト!B124","v":0},{"$f":"リスト!C124","v":0},{"$f":"リスト!D124","v":0},{"$f":"リスト!E124","v":0},{"$f":"リスト!F124","v":0},{"$f":"リスト!G124","v":0},{"$f":"リスト!H124","v":0},{"$f":"リスト!I124","v":0},{"$f":"リスト!J124","v":0},{"$f":"リスト!K124","v":0},{"$f":"リスト!L124","v":0},{"$f":"リスト!M124","v":0},{"$f":"リスト!N124","v":0}]
[{"$f":"リスト!A125","v":"　"},{"$f":"リスト!B125","v":0},{"$f":"リスト!C125","v":0},{"$f":"リスト!D125","v":0},{"$f":"リスト!E125","v":0},{"$f":"リスト!F125","v":0},{"$f":"リスト!G125","v":0},{"$f":"リスト!H125","v":0},{"$f":"リスト!I125","v":0},{"$f":"リスト!J125","v":0},{"$f":"リスト!K125","v":0},{"$f":"リスト!L125","v":0},{"$f":"リスト!M125","v":0},{"$f":"リスト!N125","v":0}]
[{"$f":"リスト!A126","v":"　"},{"$f":"リスト!B126","v":0},{"$f":"リスト!C126","v":0},{"$f":"リスト!D126","v":0},{"$f":"リスト!E126","v":0},{"$f":"リスト!F126","v":0},{"$f":"リスト!G126","v":0},{"$f":"リスト!H126","v":0},{"$f":"リスト!I126","v":0},{"$f":"リスト!J126","v":0},{"$f":"リスト!K126","v":0},{"$f":"リスト!L126","v":0},{"$f":"リスト!M126","v":0},{"$f":"リスト!N126","v":0}]
[{"$f":"リスト!A127","v":"　"},{"$f":"リスト!B127","v":0},{"$f":"リスト!C127","v":0},{"$f":"リスト!D127","v":0},{"$f":"リスト!E127","v":0},{"$f":"リスト!F127","v":0},{"$f":"リスト!G127","v":0},{"$f":"リスト!H127","v":0},{"$f":"リスト!I127","v":0},{"$f":"リスト!J127","v":0},{"$f":"リスト!K127","v":0},{"$f":"リスト!L127","v":0},{"$f":"リスト!M127","v":0},{"$f":"リスト!N127","v":0}]
[{"$f":"リスト!A128","v":"　"},{"$f":"リスト!B128","v":0},{"$f":"リスト!C128","v":0},{"$f":"リスト!D128","v":0},{"$f":"リスト!E128","v":0},{"$f":"リスト!F128","v":0},{"$f":"リスト!G128","v":0},{"$f":"リスト!H128","v":0},{"$f":"リスト!I128","v":0},{"$f":"リスト!J128","v":0},{"$f":"リスト!K128","v":0},{"$f":"リスト!L128","v":0},{"$f":"リスト!M128","v":0},{"$f":"リスト!N128","v":0}]
[{"$f":"リスト!A129","v":"　"},{"$f":"リスト!B129","v":0},{"$f":"リスト!C129","v":0},{"$f":"リスト!D129","v":0},{"$f":"リスト!E129","v":0},{"$f":"リスト!F129","v":0},{"$f":"リスト!G129","v":0},{"$f":"リスト!H129","v":0},{"$f":"リスト!I129","v":0},{"$f":"リスト!J129","v":0},{"$f":"リスト!K129","v":0},{"$f":"リスト!L129","v":0},{"$f":"リスト!M129","v":0},{"$f":"リスト!N129","v":0}]
[{"$f":"リスト!A130","v":"　"},{"$f":"リスト!B130","v":0},{"$f":"リスト!C130","v":0},{"$f":"リスト!D130","v":0},{"$f":"リスト!E130","v":0},{"$f":"リスト!F130","v":0},{"$f":"リスト!G130","v":0},{"$f":"リスト!H130","v":0},{"$f":"リスト!I130","v":0},{"$f":"リスト!J130","v":0},{"$f":"リスト!K130","v":0},{"$f":"リスト!L130","v":0},{"$f":"リスト!M130","v":0},{"$f":"リスト!N130","v":0}]
[{"$f":"リスト!A131","v":"　"},{"$f":"リスト!B131","v":0},{"$f":"リスト!C131","v":0},{"$f":"リスト!D131","v":0},{"$f":"リスト!E131","v":0},{"$f":"リスト!F131","v":0},{"$f":"リスト!G131","v":0},{"$f":"リスト!H131","v":0},{"$f":"リスト!I131","v":0},{"$f":"リスト!J131","v":0},{"$f":"リスト!K131","v":0},{"$f":"リスト!L131","v":0},{"$f":"リスト!M131","v":0},{"$f":"リスト!N131","v":0}]
[{"$f":"リスト!A132","v":"　"},{"$f":"リスト!B132","v":0},{"$f":"リスト!C132","v":0},{"$f":"リスト!D132","v":0},{"$f":"リスト!E132","v":0},{"$f":"リスト!F132","v":0},{"$f":"リスト!G132","v":0},{"$f":"リスト!H132","v":0},{"$f":"リスト!I132","v":0},{"$f":"リスト!J132","v":0},{"$f":"リスト!K132","v":0},{"$f":"リスト!L132","v":0},{"$f":"リスト!M132","v":0},{"$f":"リスト!N132","v":0}]
[{"$f":"リスト!A133","v":"　"},{"$f":"リスト!B133","v":0},{"$f":"リスト!C133","v":0},{"$f":"リスト!D133","v":0},{"$f":"リスト!E133","v":0},{"$f":"リスト!F133","v":0},{"$f":"リスト!G133","v":0},{"$f":"リスト!H133","v":0},{"$f":"リスト!I133","v":0},{"$f":"リスト!J133","v":0},{"$f":"リスト!K133","v":0},{"$f":"リスト!L133","v":0},{"$f":"リスト!M133","v":0},{"$f":"リスト!N133","v":0}]
[{"$f":"リスト!A134","v":"　"},{"$f":"リスト!B134","v":0},{"$f":"リスト!C134","v":0},{"$f":"リスト!D134","v":0},{"$f":"リスト!E134","v":0},{"$f":"リスト!F134","v":0},{"$f":"リスト!G134","v":0},{"$f":"リスト!H134","v":0},{"$f":"リスト!I134","v":0},{"$f":"リスト!J134","v":0},{"$f":"リスト!K134","v":0},{"$f":"リスト!L134","v":0},{"$f":"リスト!M134","v":0},{"$f":"リスト!N134","v":0}]
[{"$f":"リスト!A135","v":"　"},{"$f":"リスト!B135","v":0},{"$f":"リスト!C135","v":0},{"$f":"リスト!D135","v":0},{"$f":"リスト!E135","v":0},{"$f":"リスト!F135","v":0},{"$f":"リスト!G135","v":0},{"$f":"リスト!H135","v":0},{"$f":"リスト!I135","v":0},{"$f":"リスト!J135","v":0},{"$f":"リスト!K135","v":0},{"$f":"リスト!L135","v":0},{"$f":"リスト!M135","v":0},{"$f":"リスト!N135","v":0}]
[{"$f":"リスト!A136","v":"　"},{"$f":"リスト!B136","v":0},{"$f":"リスト!C136","v":0},{"$f":"リスト!D136","v":0},{"$f":"リスト!E136","v":0},{"$f":"リスト!F136","v":0},{"$f":"リスト!G136","v":0},{"$f":"リスト!H136","v":0},{"$f":"リスト!I136","v":0},{"$f":"リスト!J136","v":0},{"$f":"リスト!K136","v":0},{"$f":"リスト!L136","v":0},{"$f":"リスト!M136","v":0},{"$f":"リスト!N136","v":0}]
[{"$f":"リスト!A137","v":"　"},{"$f":"リスト!B137","v":0},{"$f":"リスト!C137","v":0},{"$f":"リスト!D137","v":0},{"$f":"リスト!E137","v":0},{"$f":"リスト!F137","v":0},{"$f":"リスト!G137","v":0},{"$f":"リスト!H137","v":0},{"$f":"リスト!I137","v":0},{"$f":"リスト!J137","v":0},{"$f":"リスト!K137","v":0},{"$f":"リスト!L137","v":0},{"$f":"リスト!M137","v":0},{"$f":"リスト!N137","v":0}]
[{"$f":"リスト!A138","v":"　"},{"$f":"リスト!B138","v":0},{"$f":"リスト!C138","v":0},{"$f":"リスト!D138","v":0},{"$f":"リスト!E138","v":0},{"$f":"リスト!F138","v":0},{"$f":"リスト!G138","v":0},{"$f":"リスト!H138","v":0},{"$f":"リスト!I138","v":0},{"$f":"リスト!J138","v":0},{"$f":"リスト!K138","v":0},{"$f":"リスト!L138","v":0},{"$f":"リスト!M138","v":0},{"$f":"リスト!N138","v":0}]
[{"$f":"リスト!A139","v":"　"},{"$f":"リスト!B139","v":0},{"$f":"リスト!C139","v":0},{"$f":"リスト!D139","v":0},{"$f":"リスト!E139","v":0},{"$f":"リスト!F139","v":0},{"$f":"リスト!G139","v":0},{"$f":"リスト!H139","v":0},{"$f":"リスト!I139","v":0},{"$f":"リスト!J139","v":0},{"$f":"リスト!K139","v":0},{"$f":"リスト!L139","v":0},{"$f":"リスト!M139","v":0},{"$f":"リスト!N139","v":0}]
[{"$f":"リスト!A140","v":"　"},{"$f":"リスト!B140","v":0},{"$f":"リスト!C140","v":0},{"$f":"リスト!D140","v":0},{"$f":"リスト!E140","v":0},{"$f":"リスト!F140","v":0},{"$f":"リスト!G140","v":0},{"$f":"リスト!H140","v":0},{"$f":"リスト!I140","v":0},{"$f":"リスト!J140","v":0},{"$f":"リスト!K140","v":0},{"$f":"リスト!L140","v":0},{"$f":"リスト!M140","v":0},{"$f":"リスト!N140","v":0}]
[{"$f":"リスト!A141","v":"　"},{"$f":"リスト!B141","v":0},{"$f":"リスト!C141","v":0},{"$f":"リスト!D141","v":0},{"$f":"リスト!E141","v":0},{"$f":"リスト!F141","v":0},{"$f":"リスト!G141","v":0},{"$f":"リスト!H141","v":0},{"$f":"リスト!I141","v":0},{"$f":"リスト!J141","v":0},{"$f":"リスト!K141","v":0},{"$f":"リスト!L141","v":0},{"$f":"リスト!M141","v":0},{"$f":"リスト!N141","v":0}]
[{"$f":"リスト!A142","v":"　"},{"$f":"リスト!B142","v":0},{"$f":"リスト!C142","v":0},{"$f":"リスト!D142","v":0},{"$f":"リスト!E142","v":0},{"$f":"リスト!F142","v":0},{"$f":"リスト!G142","v":0},{"$f":"リスト!H142","v":0},{"$f":"リスト!I142","v":0},{"$f":"リスト!J142","v":0},{"$f":"リスト!K142","v":0},{"$f":"リスト!L142","v":0},{"$f":"リスト!M142","v":0},{"$f":"リスト!N142","v":0}]
[{"$f":"リスト!A143","v":"　"},{"$f":"リスト!B143","v":0},{"$f":"リスト!C143","v":0},{"$f":"リスト!D143","v":0},{"$f":"リスト!E143","v":0},{"$f":"リスト!F143","v":0},{"$f":"リスト!G143","v":0},{"$f":"リスト!H143","v":0},{"$f":"リスト!I143","v":0},{"$f":"リスト!J143","v":0},{"$f":"リスト!K143","v":0},{"$f":"リスト!L143","v":0},{"$f":"リスト!M143","v":0},{"$f":"リスト!N143","v":0}]
[{"$f":"リスト!A144","v":"　"},{"$f":"リスト!B144","v":0},{"$f":"リスト!C144","v":0},{"$f":"リスト!D144","v":0},{"$f":"リスト!E144","v":0},{"$f":"リスト!F144","v":0},{"$f":"リスト!G144","v":0},{"$f":"リスト!H144","v":0},{"$f":"リスト!I144","v":0},{"$f":"リスト!J144","v":0},{"$f":"リスト!K144","v":0},{"$f":"リスト!L144","v":0},{"$f":"リスト!M144","v":0},{"$f":"リスト!N144","v":0}]
[{"$f":"リスト!A145","v":"　"},{"$f":"リスト!B145","v":0},{"$f":"リスト!C145","v":0},{"$f":"リスト!D145","v":0},{"$f":"リスト!E145","v":0},{"$f":"リスト!F145","v":0},{"$f":"リスト!G145","v":0},{"$f":"リスト!H145","v":0},{"$f":"リスト!I145","v":0},{"$f":"リスト!J145","v":0},{"$f":"リスト!K145","v":0},{"$f":"リスト!L145","v":0},{"$f":"リスト!M145","v":0},{"$f":"リスト!N145","v":0}]
[{"$f":"リスト!A146","v":"　"},{"$f":"リスト!B146","v":0},{"$f":"リスト!C146","v":0},{"$f":"リスト!D146","v":0},{"$f":"リスト!E146","v":0},{"$f":"リスト!F146","v":0},{"$f":"リスト!G146","v":0},{"$f":"リスト!H146","v":0},{"$f":"リスト!I146","v":0},{"$f":"リスト!J146","v":0},{"$f":"リスト!K146","v":0},{"$f":"リスト!L146","v":0},{"$f":"リスト!M146","v":0},{"$f":"リスト!N146","v":0}]
[{"$f":"リスト!A147","v":"　"},{"$f":"リスト!B147","v":0},{"$f":"リスト!C147","v":0},{"$f":"リスト!D147","v":0},{"$f":"リスト!E147","v":0},{"$f":"リスト!F147","v":0},{"$f":"リスト!G147","v":0},{"$f":"リスト!H147","v":0},{"$f":"リスト!I147","v":0},{"$f":"リスト!J147","v":0},{"$f":"リスト!K147","v":0},{"$f":"リスト!L147","v":0},{"$f":"リスト!M147","v":0},{"$f":"リスト!N147","v":0}]
[{"$f":"リスト!A148","v":"　"},{"$f":"リスト!B148","v":0},{"$f":"リスト!C148","v":0},{"$f":"リスト!D148","v":0},{"$f":"リスト!E148","v":0},{"$f":"リスト!F148","v":0},{"$f":"リスト!G148","v":0},{"$f":"リスト!H148","v":0},{"$f":"リスト!I148","v":0},{"$f":"リスト!J148","v":0},{"$f":"リスト!K148","v":0},{"$f":"リスト!L148","v":0},{"$f":"リスト!M148","v":0},{"$f":"リスト!N148","v":0}]
[{"$f":"リスト!A149","v":"　"},{"$f":"リスト!B149","v":0},{"$f":"リスト!C149","v":0},{"$f":"リスト!D149","v":0},{"$f":"リスト!E149","v":0},{"$f":"リスト!F149","v":0},{"$f":"リスト!G149","v":0},{"$f":"リスト!H149","v":0},{"$f":"リスト!I149","v":0},{"$f":"リスト!J149","v":0},{"$f":"リスト!K149","v":0},{"$f":"リスト!L149","v":0},{"$f":"リスト!M149","v":0},{"$f":"リスト!N149","v":0}]
[{"$f":"リスト!A150","v":"　"},{"$f":"リスト!B150","v":0},{"$f":"リスト!C150","v":0},{"$f":"リスト!D150","v":0},{"$f":"リスト!E150","v":0},{"$f":"リスト!F150","v":0},{"$f":"リスト!G150","v":0},{"$f":"リスト!H150","v":0},{"$f":"リスト!I150","v":0},{"$f":"リスト!J150","v":0},{"$f":"リスト!K150","v":0},{"$f":"リスト!L150","v":0},{"$f":"リスト!M150","v":0},{"$f":"リスト!N150","v":0}]
[{"$f":"リスト!A151","v":"　"},{"$f":"リスト!B151","v":0},{"$f":"リスト!C151","v":0},{"$f":"リスト!D151","v":0},{"$f":"リスト!E151","v":0},{"$f":"リスト!F151","v":0},{"$f":"リスト!G151","v":0},{"$f":"リスト!H151","v":0},{"$f":"リスト!I151","v":0},{"$f":"リスト!J151","v":0},{"$f":"リスト!K151","v":0},{"$f":"リスト!L151","v":0},{"$f":"リスト!M151","v":0},{"$f":"リスト!N151","v":0}]
[{"$f":"リスト!A152","v":"　"},{"$f":"リスト!B152","v":0},{"$f":"リスト!C152","v":0},{"$f":"リスト!D152","v":0},{"$f":"リスト!E152","v":0},{"$f":"リスト!F152","v":0},{"$f":"リスト!G152","v":0},{"$f":"リスト!H152","v":0},{"$f":"リスト!I152","v":0},{"$f":"リスト!J152","v":0},{"$f":"リスト!K152","v":0},{"$f":"リスト!L152","v":0},{"$f":"リスト!M152","v":0},{"$f":"リスト!N152","v":0}]
[{"$f":"リスト!A153","v":"　"},{"$f":"リスト!B153","v":0},{"$f":"リスト!C153","v":0},{"$f":"リスト!D153","v":0},{"$f":"リスト!E153","v":0},{"$f":"リスト!F153","v":0},{"$f":"リスト!G153","v":0},{"$f":"リスト!H153","v":0},{"$f":"リスト!I153","v":0},{"$f":"リスト!J153","v":0},{"$f":"リスト!K153","v":0},{"$f":"リスト!L153","v":0},{"$f":"リスト!M153","v":0},{"$f":"リスト!N153","v":0}]
[{"$f":"リスト!A154","v":"　"},{"$f":"リスト!B154","v":0},{"$f":"リスト!C154","v":0},{"$f":"リスト!D154","v":0},{"$f":"リスト!E154","v":0},{"$f":"リスト!F154","v":0},{"$f":"リスト!G154","v":0},{"$f":"リスト!H154","v":0},{"$f":"リスト!I154","v":0},{"$f":"リスト!J154","v":0},{"$f":"リスト!K154","v":0},{"$f":"リスト!L154","v":0},{"$f":"リスト!M154","v":0},{"$f":"リスト!N154","v":0}]
[{"$f":"リスト!A155","v":"　"},{"$f":"リスト!B155","v":0},{"$f":"リスト!C155","v":0},{"$f":"リスト!D155","v":0},{"$f":"リスト!E155","v":0},{"$f":"リスト!F155","v":0},{"$f":"リスト!G155","v":0},{"$f":"リスト!H155","v":0},{"$f":"リスト!I155","v":0},{"$f":"リスト!J155","v":0},{"$f":"リスト!K155","v":0},{"$f":"リスト!L155","v":0},{"$f":"リスト!M155","v":0},{"$f":"リスト!N155","v":0}]
[{"$f":"リスト!A156","v":"　"},{"$f":"リスト!B156","v":0},{"$f":"リスト!C156","v":0},{"$f":"リスト!D156","v":0},{"$f":"リスト!E156","v":0},{"$f":"リスト!F156","v":0},{"$f":"リスト!G156","v":0},{"$f":"リスト!H156","v":0},{"$f":"リスト!I156","v":0},{"$f":"リスト!J156","v":0},{"$f":"リスト!K156","v":0},{"$f":"リスト!L156","v":0},{"$f":"リスト!M156","v":0},{"$f":"リスト!N156","v":0}]
[{"$f":"リスト!A157","v":"　"},{"$f":"リスト!B157","v":0},{"$f":"リスト!C157","v":0},{"$f":"リスト!D157","v":0},{"$f":"リスト!E157","v":0},{"$f":"リスト!F157","v":0},{"$f":"リスト!G157","v":0},{"$f":"リスト!H157","v":0},{"$f":"リスト!I157","v":0},{"$f":"リスト!J157","v":0},{"$f":"リスト!K157","v":0},{"$f":"リスト!L157","v":0},{"$f":"リスト!M157","v":0},{"$f":"リスト!N157","v":0}]
[{"$f":"リスト!A158","v":"　"},{"$f":"リスト!B158","v":0},{"$f":"リスト!C158","v":0},{"$f":"リスト!D158","v":0},{"$f":"リスト!E158","v":0},{"$f":"リスト!F158","v":0},{"$f":"リスト!G158","v":0},{"$f":"リスト!H158","v":0},{"$f":"リスト!I158","v":0},{"$f":"リスト!J158","v":0},{"$f":"リスト!K158","v":0},{"$f":"リスト!L158","v":0},{"$f":"リスト!M158","v":0},{"$f":"リスト!N158","v":0}]
[{"$f":"リスト!A159","v":"　"},{"$f":"リスト!B159","v":0},{"$f":"リスト!C159","v":0},{"$f":"リスト!D159","v":0},{"$f":"リスト!E159","v":0},{"$f":"リスト!F159","v":0},{"$f":"リスト!G159","v":0},{"$f":"リスト!H159","v":0},{"$f":"リスト!I159","v":0},{"$f":"リスト!J159","v":0},{"$f":"リスト!K159","v":0},{"$f":"リスト!L159","v":0},{"$f":"リスト!M159","v":0},{"$f":"リスト!N159","v":0}]
[{"$f":"リスト!A160","v":"　"},{"$f":"リスト!B160","v":0},{"$f":"リスト!C160","v":0},{"$f":"リスト!D160","v":0},{"$f":"リスト!E160","v":0},{"$f":"リスト!F160","v":0},{"$f":"リスト!G160","v":0},{"$f":"リスト!H160","v":0},{"$f":"リスト!I160","v":0},{"$f":"リスト!J160","v":0},{"$f":"リスト!K160","v":0},{"$f":"リスト!L160","v":0},{"$f":"リスト!M160","v":0},{"$f":"リスト!N160","v":0}]
[{"$f":"リスト!A161","v":"　"},{"$f":"リスト!B161","v":0},{"$f":"リスト!C161","v":0},{"$f":"リスト!D161","v":0},{"$f":"リスト!E161","v":0},{"$f":"リスト!F161","v":0},{"$f":"リスト!G161","v":0},{"$f":"リスト!H161","v":0},{"$f":"リスト!I161","v":0},{"$f":"リスト!J161","v":0},{"$f":"リスト!K161","v":0},{"$f":"リスト!L161","v":0},{"$f":"リスト!M161","v":0},{"$f":"リスト!N161","v":0}]
[{"$f":"リスト!A162","v":"　"},{"$f":"リスト!B162","v":0},{"$f":"リスト!C162","v":0},{"$f":"リスト!D162","v":0},{"$f":"リスト!E162","v":0},{"$f":"リスト!F162","v":0},{"$f":"リスト!G162","v":0},{"$f":"リスト!H162","v":0},{"$f":"リスト!I162","v":0},{"$f":"リスト!J162","v":0},{"$f":"リスト!K162","v":0},{"$f":"リスト!L162","v":0},{"$f":"リスト!M162","v":0},{"$f":"リスト!N162","v":0}]
[{"$f":"リスト!A163","v":"　"},{"$f":"リスト!B163","v":0},{"$f":"リスト!C163","v":0},{"$f":"リスト!D163","v":0},{"$f":"リスト!E163","v":0},{"$f":"リスト!F163","v":0},{"$f":"リスト!G163","v":0},{"$f":"リスト!H163","v":0},{"$f":"リスト!I163","v":0},{"$f":"リスト!J163","v":0},{"$f":"リスト!K163","v":0},{"$f":"リスト!L163","v":0},{"$f":"リスト!M163","v":0},{"$f":"リスト!N163","v":0}]
[{"$f":"リスト!A164","v":"　"},{"$f":"リスト!B164","v":0},{"$f":"リスト!C164","v":0},{"$f":"リスト!D164","v":0},{"$f":"リスト!E164","v":0},{"$f":"リスト!F164","v":0},{"$f":"リスト!G164","v":0},{"$f":"リスト!H164","v":0},{"$f":"リスト!I164","v":0},{"$f":"リスト!J164","v":0},{"$f":"リスト!K164","v":0},{"$f":"リスト!L164","v":0},{"$f":"リスト!M164","v":0},{"$f":"リスト!N164","v":0}]
[{"$f":"リスト!A165","v":"　"},{"$f":"リスト!B165","v":0},{"$f":"リスト!C165","v":0},{"$f":"リスト!D165","v":0},{"$f":"リスト!E165","v":0},{"$f":"リスト!F165","v":0},{"$f":"リスト!G165","v":0},{"$f":"リスト!H165","v":0},{"$f":"リスト!I165","v":0},{"$f":"リスト!J165","v":0},{"$f":"リスト!K165","v":0},{"$f":"リスト!L165","v":0},{"$f":"リスト!M165","v":0},{"$f":"リスト!N165","v":0}]
[{"$f":"リスト!A166","v":"　"},{"$f":"リスト!B166","v":0},{"$f":"リスト!C166","v":0},{"$f":"リスト!D166","v":0},{"$f":"リスト!E166","v":0},{"$f":"リスト!F166","v":0},{"$f":"リスト!G166","v":0},{"$f":"リスト!H166","v":0},{"$f":"リスト!I166","v":0},{"$f":"リスト!J166","v":0},{"$f":"リスト!K166","v":0},{"$f":"リスト!L166","v":0},{"$f":"リスト!M166","v":0},{"$f":"リスト!N166","v":0}]
[{"$f":"リスト!A167","v":"　"},{"$f":"リスト!B167","v":0},{"$f":"リスト!C167","v":0},{"$f":"リスト!D167","v":0},{"$f":"リスト!E167","v":0},{"$f":"リスト!F167","v":0},{"$f":"リスト!G167","v":0},{"$f":"リスト!H167","v":0},{"$f":"リスト!I167","v":0},{"$f":"リスト!J167","v":0},{"$f":"リスト!K167","v":0},{"$f":"リスト!L167","v":0},{"$f":"リスト!M167","v":0},{"$f":"リスト!N167","v":0}]
[{"$f":"リスト!A168","v":"　"},{"$f":"リスト!B168","v":0},{"$f":"リスト!C168","v":0},{"$f":"リスト!D168","v":0},{"$f":"リスト!E168","v":0},{"$f":"リスト!F168","v":0},{"$f":"リスト!G168","v":0},{"$f":"リスト!H168","v":0},{"$f":"リスト!I168","v":0},{"$f":"リスト!J168","v":0},{"$f":"リスト!K168","v":0},{"$f":"リスト!L168","v":0},{"$f":"リスト!M168","v":0},{"$f":"リスト!N168","v":0}]
[{"$f":"リスト!A169","v":"　"},{"$f":"リスト!B169","v":0},{"$f":"リスト!C169","v":0},{"$f":"リスト!D169","v":0},{"$f":"リスト!E169","v":0},{"$f":"リスト!F169","v":0},{"$f":"リスト!G169","v":0},{"$f":"リスト!H169","v":0},{"$f":"リスト!I169","v":0},{"$f":"リスト!J169","v":0},{"$f":"リスト!K169","v":0},{"$f":"リスト!L169","v":0},{"$f":"リスト!M169","v":0},{"$f":"リスト!N169","v":0}]
[{"$f":"リスト!A170","v":"　"},{"$f":"リスト!B170","v":0},{"$f":"リスト!C170","v":0},{"$f":"リスト!D170","v":0},{"$f":"リスト!E170","v":0},{"$f":"リスト!F170","v":0},{"$f":"リスト!G170","v":0},{"$f":"リスト!H170","v":0},{"$f":"リスト!I170","v":0},{"$f":"リスト!J170","v":0},{"$f":"リスト!K170","v":0},{"$f":"リスト!L170","v":0},{"$f":"リスト!M170","v":0},{"$f":"リスト!N170","v":0}]
[{"$f":"リスト!A171","v":"　"},{"$f":"リスト!B171","v":0},{"$f":"リスト!C171","v":0},{"$f":"リスト!D171","v":0},{"$f":"リスト!E171","v":0},{"$f":"リスト!F171","v":0},{"$f":"リスト!G171","v":0},{"$f":"リスト!H171","v":0},{"$f":"リスト!I171","v":0},{"$f":"リスト!J171","v":0},{"$f":"リスト!K171","v":0},{"$f":"リスト!L171","v":0},{"$f":"リスト!M171","v":0},{"$f":"リスト!N171","v":0}]
[{"$f":"リスト!A172","v":"　"},{"$f":"リスト!B172","v":0},{"$f":"リスト!C172","v":0},{"$f":"リスト!D172","v":0},{"$f":"リスト!E172","v":0},{"$f":"リスト!F172","v":0},{"$f":"リスト!G172","v":0},{"$f":"リスト!H172","v":0},{"$f":"リスト!I172","v":0},{"$f":"リスト!J172","v":0},{"$f":"リスト!K172","v":0},{"$f":"リスト!L172","v":0},{"$f":"リスト!M172","v":0},{"$f":"リスト!N172","v":0}]
[{"$f":"リスト!A173","v":"　"},{"$f":"リスト!B173","v":0},{"$f":"リスト!C173","v":0},{"$f":"リスト!D173","v":0},{"$f":"リスト!E173","v":0},{"$f":"リスト!F173","v":0},{"$f":"リスト!G173","v":0},{"$f":"リスト!H173","v":0},{"$f":"リスト!I173","v":0},{"$f":"リスト!J173","v":0},{"$f":"リスト!K173","v":0},{"$f":"リスト!L173","v":0},{"$f":"リスト!M173","v":0},{"$f":"リスト!N173","v":0}]
[{"$f":"リスト!A174","v":"　"},{"$f":"リスト!B174","v":0},{"$f":"リスト!C174","v":0},{"$f":"リスト!D174","v":0},{"$f":"リスト!E174","v":0},{"$f":"リスト!F174","v":0},{"$f":"リスト!G174","v":0},{"$f":"リスト!H174","v":0},{"$f":"リスト!I174","v":0},{"$f":"リスト!J174","v":0},{"$f":"リスト!K174","v":0},{"$f":"リスト!L174","v":0},{"$f":"リスト!M174","v":0},{"$f":"リスト!N174","v":0}]
[{"$f":"リスト!A175","v":"　"},{"$f":"リスト!B175","v":0},{"$f":"リスト!C175","v":0},{"$f":"リスト!D175","v":0},{"$f":"リスト!E175","v":0},{"$f":"リスト!F175","v":0},{"$f":"リスト!G175","v":0},{"$f":"リスト!H175","v":0},{"$f":"リスト!I175","v":0},{"$f":"リスト!J175","v":0},{"$f":"リスト!K175","v":0},{"$f":"リスト!L175","v":0},{"$f":"リスト!M175","v":0},{"$f":"リスト!N175","v":0}]
[{"$f":"リスト!A176","v":"　"},{"$f":"リスト!B176","v":0},{"$f":"リスト!C176","v":0},{"$f":"リスト!D176","v":0},{"$f":"リスト!E176","v":0},{"$f":"リスト!F176","v":0},{"$f":"リスト!G176","v":0},{"$f":"リスト!H176","v":0},{"$f":"リスト!I176","v":0},{"$f":"リスト!J176","v":0},{"$f":"リスト!K176","v":0},{"$f":"リスト!L176","v":0},{"$f":"リスト!M176","v":0},{"$f":"リスト!N176","v":0}]
[{"$f":"リスト!A177","v":"　"},{"$f":"リスト!B177","v":0},{"$f":"リスト!C177","v":0},{"$f":"リスト!D177","v":0},{"$f":"リスト!E177","v":0},{"$f":"リスト!F177","v":0},{"$f":"リスト!G177","v":0},{"$f":"リスト!H177","v":0},{"$f":"リスト!I177","v":0},{"$f":"リスト!J177","v":0},{"$f":"リスト!K177","v":0},{"$f":"リスト!L177","v":0},{"$f":"リスト!M177","v":0},{"$f":"リスト!N177","v":0}]
[{"$f":"リスト!A178","v":"　"},{"$f":"リスト!B178","v":0},{"$f":"リスト!C178","v":0},{"$f":"リスト!D178","v":0},{"$f":"リスト!E178","v":0},{"$f":"リスト!F178","v":0},{"$f":"リスト!G178","v":0},{"$f":"リスト!H178","v":0},{"$f":"リスト!I178","v":0},{"$f":"リスト!J178","v":0},{"$f":"リスト!K178","v":0},{"$f":"リスト!L178","v":0},{"$f":"リスト!M178","v":0},{"$f":"リスト!N178","v":0}]
[{"$f":"リスト!A179","v":"　"},{"$f":"リスト!B179","v":0},{"$f":"リスト!C179","v":0},{"$f":"リスト!D179","v":0},{"$f":"リスト!E179","v":0},{"$f":"リスト!F179","v":0},{"$f":"リスト!G179","v":0},{"$f":"リスト!H179","v":0},{"$f":"リスト!I179","v":0},{"$f":"リスト!J179","v":0},{"$f":"リスト!K179","v":0},{"$f":"リスト!L179","v":0},{"$f":"リスト!M179","v":0},{"$f":"リスト!N179","v":0}]
[{"$f":"リスト!A180","v":"　"},{"$f":"リスト!B180","v":0},{"$f":"リスト!C180","v":0},{"$f":"リスト!D180","v":0},{"$f":"リスト!E180","v":0},{"$f":"リスト!F180","v":0},{"$f":"リスト!G180","v":0},{"$f":"リスト!H180","v":0},{"$f":"リスト!I180","v":0},{"$f":"リスト!J180","v":0},{"$f":"リスト!K180","v":0},{"$f":"リスト!L180","v":0},{"$f":"リスト!M180","v":0},{"$f":"リスト!N180","v":0}]
[{"$f":"リスト!A181","v":"　"},{"$f":"リスト!B181","v":0},{"$f":"リスト!C181","v":0},{"$f":"リスト!D181","v":0},{"$f":"リスト!E181","v":0},{"$f":"リスト!F181","v":0},{"$f":"リスト!G181","v":0},{"$f":"リスト!H181","v":0},{"$f":"リスト!I181","v":0},{"$f":"リスト!J181","v":0},{"$f":"リスト!K181","v":0},{"$f":"リスト!L181","v":0},{"$f":"リスト!M181","v":0},{"$f":"リスト!N181","v":0}]
[{"$f":"リスト!A182","v":"　"},{"$f":"リスト!B182","v":0},{"$f":"リスト!C182","v":0},{"$f":"リスト!D182","v":0},{"$f":"リスト!E182","v":0},{"$f":"リスト!F182","v":0},{"$f":"リスト!G182","v":0},{"$f":"リスト!H182","v":0},{"$f":"リスト!I182","v":0},{"$f":"リスト!J182","v":0},{"$f":"リスト!K182","v":0},{"$f":"リスト!L182","v":0},{"$f":"リスト!M182","v":0},{"$f":"リスト!N182","v":0}]
[{"$f":"リスト!A183","v":"　"},{"$f":"リスト!B183","v":0},{"$f":"リスト!C183","v":0},{"$f":"リスト!D183","v":0},{"$f":"リスト!E183","v":0},{"$f":"リスト!F183","v":0},{"$f":"リスト!G183","v":0},{"$f":"リスト!H183","v":0},{"$f":"リスト!I183","v":0},{"$f":"リスト!J183","v":0},{"$f":"リスト!K183","v":0},{"$f":"リスト!L183","v":0},{"$f":"リスト!M183","v":0},{"$f":"リスト!N183","v":0}]
[{"$f":"リスト!A184","v":"　"},{"$f":"リスト!B184","v":0},{"$f":"リスト!C184","v":0},{"$f":"リスト!D184","v":0},{"$f":"リスト!E184","v":0},{"$f":"リスト!F184","v":0},{"$f":"リスト!G184","v":0},{"$f":"リスト!H184","v":0},{"$f":"リスト!I184","v":0},{"$f":"リスト!J184","v":0},{"$f":"リスト!K184","v":0},{"$f":"リスト!L184","v":0},{"$f":"リスト!M184","v":0},{"$f":"リスト!N184","v":0}]
[{"$f":"リスト!A185","v":"　"},{"$f":"リスト!B185","v":0},{"$f":"リスト!C185","v":0},{"$f":"リスト!D185","v":0},{"$f":"リスト!E185","v":0},{"$f":"リスト!F185","v":0},{"$f":"リスト!G185","v":0},{"$f":"リスト!H185","v":0},{"$f":"リスト!I185","v":0},{"$f":"リスト!J185","v":0},{"$f":"リスト!K185","v":0},{"$f":"リスト!L185","v":0},{"$f":"リスト!M185","v":0},{"$f":"リスト!N185","v":0}]
[{"$f":"リスト!A186","v":"　"},{"$f":"リスト!B186","v":0},{"$f":"リスト!C186","v":0},{"$f":"リスト!D186","v":0},{"$f":"リスト!E186","v":0},{"$f":"リスト!F186","v":0},{"$f":"リスト!G186","v":0},{"$f":"リスト!H186","v":0},{"$f":"リスト!I186","v":0},{"$f":"リスト!J186","v":0},{"$f":"リスト!K186","v":0},{"$f":"リスト!L186","v":0},{"$f":"リスト!M186","v":0},{"$f":"リスト!N186","v":0}]
[{"$f":"リスト!A187","v":"　"},{"$f":"リスト!B187","v":0},{"$f":"リスト!C187","v":0},{"$f":"リスト!D187","v":0},{"$f":"リスト!E187","v":0},{"$f":"リスト!F187","v":0},{"$f":"リスト!G187","v":0},{"$f":"リスト!H187","v":0},{"$f":"リスト!I187","v":0},{"$f":"リスト!J187","v":0},{"$f":"リスト!K187","v":0},{"$f":"リスト!L187","v":0},{"$f":"リスト!M187","v":0},{"$f":"リスト!N187","v":0}]
[{"$f":"リスト!A188","v":"　"},{"$f":"リスト!B188","v":0},{"$f":"リスト!C188","v":0},{"$f":"リスト!D188","v":0},{"$f":"リスト!E188","v":0},{"$f":"リスト!F188","v":0},{"$f":"リスト!G188","v":0},{"$f":"リスト!H188","v":0},{"$f":"リスト!I188","v":0},{"$f":"リスト!J188","v":0},{"$f":"リスト!K188","v":0},{"$f":"リスト!L188","v":0},{"$f":"リスト!M188","v":0},{"$f":"リスト!N188","v":0}]
[{"$f":"リスト!A189","v":"　"},{"$f":"リスト!B189","v":0},{"$f":"リスト!C189","v":0},{"$f":"リスト!D189","v":0},{"$f":"リスト!E189","v":0},{"$f":"リスト!F189","v":0},{"$f":"リスト!G189","v":0},{"$f":"リスト!H189","v":0},{"$f":"リスト!I189","v":0},{"$f":"リスト!J189","v":0},{"$f":"リスト!K189","v":0},{"$f":"リスト!L189","v":0},{"$f":"リスト!M189","v":0},{"$f":"リスト!N189","v":0}]
[{"$f":"リスト!A190","v":"　"},{"$f":"リスト!B190","v":0},{"$f":"リスト!C190","v":0},{"$f":"リスト!D190","v":0},{"$f":"リスト!E190","v":0},{"$f":"リスト!F190","v":0},{"$f":"リスト!G190","v":0},{"$f":"リスト!H190","v":0},{"$f":"リスト!I190","v":0},{"$f":"リスト!J190","v":0},{"$f":"リスト!K190","v":0},{"$f":"リスト!L190","v":0},{"$f":"リスト!M190","v":0},{"$f":"リスト!N190","v":0}]
[{"$f":"リスト!A191","v":"　"},{"$f":"リスト!B191","v":0},{"$f":"リスト!C191","v":0},{"$f":"リスト!D191","v":0},{"$f":"リスト!E191","v":0},{"$f":"リスト!F191","v":0},{"$f":"リスト!G191","v":0},{"$f":"リスト!H191","v":0},{"$f":"リスト!I191","v":0},{"$f":"リスト!J191","v":0},{"$f":"リスト!K191","v":0},{"$f":"リスト!L191","v":0},{"$f":"リスト!M191","v":0},{"$f":"リスト!N191","v":0}]
[{"$f":"リスト!A192","v":"　"},{"$f":"リスト!B192","v":0},{"$f":"リスト!C192","v":0},{"$f":"リスト!D192","v":0},{"$f":"リスト!E192","v":0},{"$f":"リスト!F192","v":0},{"$f":"リスト!G192","v":0},{"$f":"リスト!H192","v":0},{"$f":"リスト!I192","v":0},{"$f":"リスト!J192","v":0},{"$f":"リスト!K192","v":0},{"$f":"リスト!L192","v":0},{"$f":"リスト!M192","v":0},{"$f":"リスト!N192","v":0}]
[{"$f":"リスト!A193","v":"　"},{"$f":"リスト!B193","v":0},{"$f":"リスト!C193","v":0},{"$f":"リスト!D193","v":0},{"$f":"リスト!E193","v":0},{"$f":"リスト!F193","v":0},{"$f":"リスト!G193","v":0},{"$f":"リスト!H193","v":0},{"$f":"リスト!I193","v":0},{"$f":"リスト!J193","v":0},{"$f":"リスト!K193","v":0},{"$f":"リスト!L193","v":0},{"$f":"リスト!M193","v":0},{"$f":"リスト!N193","v":0}]
[{"$f":"リスト!A194","v":"　"},{"$f":"リスト!B194","v":0},{"$f":"リスト!C194","v":0},{"$f":"リスト!D194","v":0},{"$f":"リスト!E194","v":0},{"$f":"リスト!F194","v":0},{"$f":"リスト!G194","v":0},{"$f":"リスト!H194","v":0},{"$f":"リスト!I194","v":0},{"$f":"リスト!J194","v":0},{"$f":"リスト!K194","v":0},{"$f":"リスト!L194","v":0},{"$f":"リスト!M194","v":0},{"$f":"リスト!N194","v":0}]
[{"$f":"リスト!A195","v":"　"},{"$f":"リスト!B195","v":0},{"$f":"リスト!C195","v":0},{"$f":"リスト!D195","v":0},{"$f":"リスト!E195","v":0},{"$f":"リスト!F195","v":0},{"$f":"リスト!G195","v":0},{"$f":"リスト!H195","v":0},{"$f":"リスト!I195","v":0},{"$f":"リスト!J195","v":0},{"$f":"リスト!K195","v":0},{"$f":"リスト!L195","v":0},{"$f":"リスト!M195","v":0},{"$f":"リスト!N195","v":0}]
[{"$f":"リスト!A196","v":"　"},{"$f":"リスト!B196","v":0},{"$f":"リスト!C196","v":0},{"$f":"リスト!D196","v":0},{"$f":"リスト!E196","v":0},{"$f":"リスト!F196","v":0},{"$f":"リスト!G196","v":0},{"$f":"リスト!H196","v":0},{"$f":"リスト!I196","v":0},{"$f":"リスト!J196","v":0},{"$f":"リスト!K196","v":0},{"$f":"リスト!L196","v":0},{"$f":"リスト!M196","v":0},{"$f":"リスト!N196","v":0}]
[{"$f":"リスト!A197","v":"　"},{"$f":"リスト!B197","v":0},{"$f":"リスト!C197","v":0},{"$f":"リスト!D197","v":0},{"$f":"リスト!E197","v":0},{"$f":"リスト!F197","v":0},{"$f":"リスト!G197","v":0},{"$f":"リスト!H197","v":0},{"$f":"リスト!I197","v":0},{"$f":"リスト!J197","v":0},{"$f":"リスト!K197","v":0},{"$f":"リスト!L197","v":0},{"$f":"リスト!M197","v":0},{"$f":"リスト!N197","v":0}]
[{"$f":"リスト!A198","v":"　"},{"$f":"リスト!B198","v":0},{"$f":"リスト!C198","v":0},{"$f":"リスト!D198","v":0},{"$f":"リスト!E198","v":0},{"$f":"リスト!F198","v":0},{"$f":"リスト!G198","v":0},{"$f":"リスト!H198","v":0},{"$f":"リスト!I198","v":0},{"$f":"リスト!J198","v":0},{"$f":"リスト!K198","v":0},{"$f":"リスト!L198","v":0},{"$f":"リスト!M198","v":0},{"$f":"リスト!N198","v":0}]
[{"$f":"リスト!A199","v":"　"},{"$f":"リスト!B199","v":0},{"$f":"リスト!C199","v":0},{"$f":"リスト!D199","v":0},{"$f":"リスト!E199","v":0},{"$f":"リスト!F199","v":0},{"$f":"リスト!G199","v":0},{"$f":"リスト!H199","v":0},{"$f":"リスト!I199","v":0},{"$f":"リスト!J199","v":0},{"$f":"リスト!K199","v":0},{"$f":"リスト!L199","v":0},{"$f":"リスト!M199","v":0},{"$f":"リスト!N199","v":0}]
[{"$f":"リスト!A200","v":"　"},{"$f":"リスト!B200","v":0},{"$f":"リスト!C200","v":0},{"$f":"リスト!D200","v":0},{"$f":"リスト!E200","v":0},{"$f":"リスト!F200","v":0},{"$f":"リスト!G200","v":0},{"$f":"リスト!H200","v":0},{"$f":"リスト!I200","v":0},{"$f":"リスト!J200","v":0},{"$f":"リスト!K200","v":0},{"$f":"リスト!L200","v":0},{"$f":"リスト!M200","v":0},{"$f":"リスト!N200","v":0}]
[{"$f":"リスト!A201","v":"　"},{"$f":"リスト!B201","v":0},{"$f":"リスト!C201","v":0},{"$f":"リスト!D201","v":0},{"$f":"リスト!E201","v":0},{"$f":"リスト!F201","v":0},{"$f":"リスト!G201","v":0},{"$f":"リスト!H201","v":0},{"$f":"リスト!I201","v":0},{"$f":"リスト!J201","v":0},{"$f":"リスト!K201","v":0},{"$f":"リスト!L201","v":0},{"$f":"リスト!M201","v":0},{"$f":"リスト!N201","v":0}]

{"sheet":"冬季","index":7,"n_rows":340,"n_cols":30,"rows_kept":340,"cut":false,"hidden":false,"merged":[[0,1,0,21],[1,1,1,3],[1,4,1,19],[2,1,2,19],[3,1,3,3],[3,4,3,7],[3,8,3,11],[3,12,3,15],[3,16,3,19],[4,1,4,3],[4,4,4,7],[4,8,4,11],[4,12,4,15],[4,16,4,19],[5,1,5,3],[5,4,5,7],[5,8,5,11],[5,12,5,15],[5,16,5,19],[8,3,8,8],[8,14,8,19],[9,0,11,0],[9,1,13,1],[9,3,9,8],[9,11,11,11],[9,12,13,12],[9,14,9,19],[10,3,10,8],[10,14,10,19],[15,0,17,0],[15,11,17,11],[16,3,16,8],[16,14,16,19],[17,3,17,8],[17,14,17,19],[11,3,11,8],[11,14,11,19],[12,0,14,0],[12,3,12,8],[12,11,14,11],[12,14,12,19],[13,3,13,8],[13,14,13,19],[14,3,14,8],[14,14,14,19],[21,0,23,0],[21,3,21,8],[21,11,23,11],[21,14,21,19],[22,3,22,8],[22,14,22,19],[23,3,23,8],[23,14,23,19],[18,0,20,0],[18,3,18,8],[18,11,20,11],[18,14,18,19],[19,3,19,8],[19,14,19,19],[20,3,20,8],[20,14,20,19],[27,0,29,0],[27,3,27,8],[27,11,29,11],[27,14,27,19],[28,3,28,8],[28,14,28,19],[29,3,29,8],[29,14,29,19],[24,0,26,0],[24,3,24,8],[24,11,26,11],[24,14,24,19],[25,3,25,8],[25,14,25,19],[26,3,26,8],[26,14,26,19],[33,0,35,0],[33,3,33,8],[33,11,35,11],[33,14,33,19],[34,3,34,8],[34,14,34,19],[35,3,35,8],[35,14,35,19],[30,0,32,0],[30,3,30,8],[30,11,32,11],[30,14,30,19],[31,3,31,8],[31,14,31,19],[32,3,32,8],[32,14,32,19],[39,0,41,0],[39,3,39,8],[39,11,41,11],[39,14,39,19],[40,3,40,8],[40,14,40,19],[41,3,41,8],[41,14,41,19],[36,0,38,0],[36,3,36,8],[36,11,38,11],[36,14,36,19],[37,3,37,8],[37,14,37,19],[38,3,38,8],[38,14,38,19],[45,0,47,0],[45,3,45,8],[45,11,47,11],[45,14,45,19],[46,3,46,8],[46,14,46,19],[47,3,47,8],[47,14,47,19],[42,0,44,0],[42,3,42,8],[42,11,44,11],[42,14,42,19],[43,3,43,8],[43,14,43,19],[44,3,44,8],[44,14,44,19],[51,11,53,11],[51,14,51,19],[52,3,52,8],[52,14,52,19],[53,3,53,8],[53,14,53,19],[48,0,50,0],[48,3,48,8],[48,11,50,11],[48,14,48,19],[49,3,49,8],[49,14,49,19],[50,3,50,8],[50,14,50,19],[60,1,60,2],[60,3,60,8],[60,12,60,13],[60,14,60,19],[7,3,7,9],[7,14,7,20],[57,0,59,0],[57,3,57,8],[57,11,59,11],[57,14,57,19],[58,3,58,8],[58,14,58,19],[59,3,59,8],[59,14,59,19],[54,0,56,0],[54,3,54,8],[54,11,56,11],[54,14,54,19],[55,3,55,8],[55,14,55,19],[56,3,56,8],[56,14,56,19],[51,0,53,0],[51,3,51,8]]}
[null,"令和6年度茨城県高等学校弓道冬季大会　申し込み",null,null,null,null,null,null,null,null,null,null,null,null,null,null,null,null,null,null,null,null,null,null,6,20,21,22,23,24]
[null,"学校名\n（正式名称）",null,null,null,null,null,null,null,null,null,null,null,null,null,null,null,null,null,null,null,null,null,null,{"$f":"IF(ISERROR(VLOOKUP($E$2,$A$66:$AD$138,Y1,FALSE)),\"\",VLOOKUP($E$2,$A$66:$AD$138,Y1,FALSE))","v":""},"","","","",""]
[null,"引率者"]
[null,"1月25日（土）\n男子",null,null,null,null,null,null,null,null,null,null,null,null,null,null,null,null,null,null,"昼食の数"]
[null,"1月27日（月）\n女子",null,null,null,null,null,null,null,null,null,null,null,null,null,null,null,null,null,null,"昼食の数"]
[null,"5月14日（火）\n個人",null,null,null,null,null,null,null,null,null,null,null,null,null,null,null,null,null,null,"昼食の数"]
[null,null,null,null,null,null,null,null,"※引率2人目以降はこちらに入力"]
[null,"男子",null,"※個人の参加の場合には、大前（１）及び二的（２）に記入",null,null,null,null,null,null,null,null,"女子",null,"※個人の参加の場合には、大前（１）及び二的（２）に記入"]
[null,"チーム","立順","選手名",null,null,null,null,null,"学年",null,null,"チーム","立順","選手名",null,null,null,null,null,"学年"]
["A",{"$f":"IF(LEN($Y$2)=0,\"\",$Y$2)","v":""},1,null,null,null,null,null,null,{"$f":"IF(LEN(D10)=0,\"\",VLOOKUP(D10,リスト!$A$3:$N$201,3,FALSE))","v":""},{"$f":"IF(LEN(D10)=0,\"\",VLOOKUP(D10,リスト!$A$3:$N$201,2,FALSE))","v":""},"A",{"$f":"IF(LEN($Y$2)=0,\"\",$Y$2)","v":""},1,null,null,null,null,null,null,{"$f":"IF(LEN(O10)=0,\"\",VLOOKUP(O10,リスト!$A$3:$N$201,3,FALSE))","v":""},{"$f":"IF(LEN(O10)=0,\"\",VLOOKUP(O10,リスト!$A$3:$N$201,2,FALSE))","v":""},null,null,{"$f":"COUNTA(D10:I12)","v":0},{"$f":"COUNTA(O10:T12)","v":0}]
[null,null,2,null,null,null,null,null,null,{"$f":"IF(LEN(D11)=0,\"\",VLOOKUP(D11,リスト!$A$3:$N$201,3,FALSE))","v":""},{"$f":"IF(LEN(D11)=0,\"\",VLOOKUP(D11,リスト!$A$3:$N$201,2,FALSE))","v":""},null,null,2,null,null,null,null,null,null,{"$f":"IF(LEN(O11)=0,\"\",VLOOKUP(O11,リスト!$A$3:$N$201,3,FALSE))","v":""},{"$f":"IF(LEN(O11)=0,\"\",VLOOKUP(O11,リスト!$A$3:$N$201,2,FALSE))","v":""},null,null,{"$f":"COUNTA(D10:I12)","v":0},{"$f":"COUNTA(O10:T12)","v":0}]
[null,null,3,null,null,null,null,null,null,{"$f":"IF(LEN(D12)=0,\"\",VLOOKUP(D12,リスト!$A$3:$N$201,3,FALSE))","v":""},{"$f":"IF(LEN(D12)=0,\"\",VLOOKUP(D12,リスト!$A$3:$N$201,2,FALSE))","v":""},null,null,3,null,null,null,null,null,null,{"$f":"IF(LEN(O12)=0,\"\",VLOOKUP(O12,リスト!$A$3:$N$201,3,FALSE))","v":""},{"$f":"IF(LEN(O12)=0,\"\",VLOOKUP(O12,リスト!$A$3:$N$201,2,FALSE))","v":""},null,null,{"$f":"COUNTA(D10:I12)","v":0},{"$f":"COUNTA(O10:T12)","v":0}]
["B",null,4,null,null,null,null,null,null,{"$f":"IF(LEN(D13)=0,\"\",VLOOKUP(D13,リスト!$A$3:$N$201,3,FALSE))","v":""},{"$f":"IF(LEN(D13)=0,\"\",VLOOKUP(D13,リスト!$A$3:$N$201,2,FALSE))","v":""},"B",null,4,null,null,null,null,null,null,{"$f":"IF(LEN(O13)=0,\"\",VLOOKUP(O13,リスト!$A$3:$N$201,3,FALSE))","v":""},{"$f":"IF(LEN(O13)=0,\"\",VLOOKUP(O13,リスト!$A$3:$N$201,2,FALSE))","v":""},null,null,{"$f":"COUNTA(D13:I15)","v":0},{"$f":"COUNTA(O13:T15)","v":0}]
[null,null,5,null,null,null,null,null,null,{"$f":"IF(LEN(D14)=0,\"\",VLOOKUP(D14,リスト!$A$3:$N$201,3,FALSE))","v":""},{"$f":"IF(LEN(D14)=0,\"\",VLOOKUP(D14,リスト!$A$3:$N$201,2,FALSE))","v":""},null,null,5,null,null,null,null,null,null,{"$f":"IF(LEN(O14)=0,\"\",VLOOKUP(O14,リスト!$A$3:$N$201,3,FALSE))","v":""},{"$f":"IF(LEN(O14)=0,\"\",VLOOKUP(O14,リスト!$A$3:$N$201,2,FALSE))","v":""},null,null,{"$f":"COUNTA(D13:I15)","v":0},{"$f":"COUNTA(O13:T15)","v":0}]
[null,null,null,null,null,null,null,null,null,null,{"$f":"IF(LEN(D15)=0,\"\",VLOOKUP(D15,リスト!$A$3:$N$201,2,FALSE))","v":""},null,null,null,null,null,null,null,null,null,null,{"$f":"IF(LEN(O15)=0,\"\",VLOOKUP(O15,リスト!$A$3:$N$201,2,FALSE))","v":""},null,null,{"$f":"COUNTA(D13:I15)","v":0},{"$f":"COUNTA(O13:T15)","v":0}]
["C","男子個人",null,null,null,null,null,null,null,null,{"$f":"IF(LEN(D16)=0,\"\",VLOOKUP(D16,リスト!$A$3:$N$201,2,FALSE))","v":""},"C","女子個人",null,null,null,null,null,null,null,null,{"$f":"IF(LEN(O16)=0,\"\",VLOOKUP(O16,リスト!$A$3:$N$201,2,FALSE))","v":""},null,null,{"$f":"COUNTA(D16:I18)","v":0},{"$f":"COUNTA(O16:T18)","v":0}]
[null,null,1,null,null,null,null,null,null,{"$f":"IF(LEN(D17)=0,\"\",VLOOKUP(D17,リスト!$A$3:$N$201,3,FALSE))","v":""},{"$f":"IF(LEN(D17)=0,\"\",VLOOKUP(D17,リスト!$A$3:$N$201,2,FALSE))","v":""},null,null,1,null,null,null,null,null,null,{"$f":"IF(LEN(O17)=0,\"\",VLOOKUP(O17,リスト!$A$3:$N$201,3,FALSE))","v":""},{"$f":"IF(LEN(O17)=0,\"\",VLOOKUP(O17,リスト!$A$3:$N$201,2,FALSE))","v":""},null,null,{"$f":"COUNTA(D16:I18)","v":0},{"$f":"COUNTA(O16:T18)","v":0}]
[null,null,2,null,null,null,null,null,null,{"$f":"IF(LEN(D18)=0,\"\",VLOOKUP(D18,リスト!$A$3:$N$201,3,FALSE))","v":""},{"$f":"IF(LEN(D18)=0,\"\",VLOOKUP(D18,リスト!$A$3:$N$201,2,FALSE))","v":""},null,null,2,null,null,null,null,null,null,{"$f":"IF(LEN(O18)=0,\"\",VLOOKUP(O18,リスト!$A$3:$N$201,3,FALSE))","v":""},{"$f":"IF(LEN(O18)=0,\"\",VLOOKUP(O18,リスト!$A$3:$N$201,2,FALSE))","v":""},null,null,{"$f":"COUNTA(D16:I18)","v":0},{"$f":"COUNTA(O16:T18)","v":0}]
["D",null,3,null,null,null,null,null,null,{"$f":"IF(LEN(D19)=0,\"\",VLOOKUP(D19,リスト!$A$3:$N$201,3,FALSE))","v":""},{"$f":"IF(LEN(D19)=0,\"\",VLOOKUP(D19,リスト!$A$3:$N$201,2,FALSE))","v":""},"D",null,3,null,null,null,null,null,null,{"$f":"IF(LEN(O19)=0,\"\",VLOOKUP(O19,リスト!$A$3:$N$201,3,FALSE))","v":""},{"$f":"IF(LEN(O19)=0,\"\",VLOOKUP(O19,リスト!$A$3:$N$201,2,FALSE))","v":""},null,null,{"$f":"COUNTA(D19:I21)","v":0},{"$f":"COUNTA(O19:T21)","v":0}]
[null,null,4,null,null,null,null,null,null,{"$f":"IF(LEN(D20)=0,\"\",VLOOKUP(D20,リスト!$A$3:$N$201,3,FALSE))","v":""},{"$f":"IF(LEN(D20)=0,\"\",VLOOKUP(D20,リスト!$A$3:$N$201,2,FALSE))","v":""},null,null,4,null,null,null,null,null,null,{"$f":"IF(LEN(O20)=0,\"\",VLOOKUP(O20,リスト!$A$3:$N$201,3,FALSE))","v":""},{"$f":"IF(LEN(O20)=0,\"\",VLOOKUP(O20,リスト!$A$3:$N$201,2,FALSE))","v":""},null,null,{"$f":"COUNTA(D19:I21)","v":0},{"$f":"COUNTA(O19:T21)","v":0}]
[null,null,5,null,null,null,null,null,null,{"$f":"IF(LEN(D21)=0,\"\",VLOOKUP(D21,リスト!$A$3:$N$201,3,FALSE))","v":""},{"$f":"IF(LEN(D21)=0,\"\",VLOOKUP(D21,リスト!$A$3:$N$201,2,FALSE))","v":""},null,null,5,null,null,null,null,null,null,{"$f":"IF(LEN(O21)=0,\"\",VLOOKUP(O21,リスト!$A$3:$N$201,3,FALSE))","v":""},{"$f":"IF(LEN(O21)=0,\"\",VLOOKUP(O21,リスト!$A$3:$N$201,2,FALSE))","v":""},null,null,{"$f":"COUNTA(D19:I21)","v":0},{"$f":"COUNTA(O19:T21)","v":0}]
["E",null,6,null,null,null,null,null,null,{"$f":"IF(LEN(D22)=0,\"\",VLOOKUP(D22,リスト!$A$3:$N$201,3,FALSE))","v":""},{"$f":"IF(LEN(D22)=0,\"\",VLOOKUP(D22,リスト!$A$3:$N$201,2,FALSE))","v":""},"E",null,6,null,null,null,null,null,null,{"$f":"IF(LEN(O22)=0,\"\",VLOOKUP(O22,リスト!$A$3:$N$201,3,FALSE))","v":""},{"$f":"IF(LEN(O22)=0,\"\",VLOOKUP(O22,リスト!$A$3:$N$201,2,FALSE))","v":""},null,null,{"$f":"COUNTA(D22:I24)","v":0},{"$f":"COUNTA(O22:T24)","v":0}]
[null,null,7,null,null,null,null,null,null,{"$f":"IF(LEN(D23)=0,\"\",VLOOKUP(D23,リスト!$A$3:$N$201,3,FALSE))","v":""},{"$f":"IF(LEN(D23)=0,\"\",VLOOKUP(D23,リスト!$A$3:$N$201,2,FALSE))","v":""},null,null,7,null,null,null,null,null,null,{"$f":"IF(LEN(O23)=0,\"\",VLOOKUP(O23,リスト!$A$3:$N$201,3,FALSE))","v":""},{"$f":"IF(LEN(O23)=0,\"\",VLOOKUP(O23,リスト!$A$3:$N$201,2,FALSE))","v":""},null,null,{"$f":"COUNTA(D22:I24)","v":0},{"$f":"COUNTA(O22:T24)","v":0}]
[null,null,8,null,null,null,null,null,null,{"$f":"IF(LEN(D24)=0,\"\",VLOOKUP(D24,リスト!$A$3:$N$201,3,FALSE))","v":""},{"$f":"IF(LEN(D24)=0,\"\",VLOOKUP(D24,リスト!$A$3:$N$201,2,FALSE))","v":""},null,null,8,null,null,null,null,null,null,{"$f":"IF(LEN(O24)=0,\"\",VLOOKUP(O24,リスト!$A$3:$N$201,3,FALSE))","v":""},{"$f":"IF(LEN(O24)=0,\"\",VLOOKUP(O24,リスト!$A$3:$N$201,2,FALSE))","v":""},null,null,{"$f":"COUNTA(D22:I24)","v":0},{"$f":"COUNTA(O22:T24)","v":0}]
["F",null,9,null,null,null,null,null,null,{"$f":"IF(LEN(D25)=0,\"\",VLOOKUP(D25,リスト!$A$3:$N$201,3,FALSE))","v":""},{"$f":"IF(LEN(D25)=0,\"\",VLOOKUP(D25,リスト!$A$3:$N$201,2,FALSE))","v":""},"F",null,9,null,null,null,null,null,null,{"$f":"IF(LEN(O25)=0,\"\",VLOOKUP(O25,リスト!$A$3:$N$201,3,FALSE))","v":""},{"$f":"IF(LEN(O25)=0,\"\",VLOOKUP(O25,リスト!$A$3:$N$201,2,FALSE))","v":""},null,null,{"$f":"COUNTA(D25:I27)","v":0},{"$f":"COUNTA(O25:T27)","v":0}]
[null,null,10,null,null,null,null,null,null,{"$f":"IF(LEN(D26)=0,\"\",VLOOKUP(D26,リスト!$A$3:$N$201,3,FALSE))","v":""},{"$f":"IF(LEN(D26)=0,\"\",VLOOKUP(D26,リスト!$A$3:$N$201,2,FALSE))","v":""},null,null,10,null,null,null,null,null,null,{"$f":"IF(LEN(O26)=0,\"\",VLOOKUP(O26,リスト!$A$3:$N$201,3,FALSE))","v":""},{"$f":"IF(LEN(O26)=0,\"\",VLOOKUP(O26,リスト!$A$3:$N$201,2,FALSE))","v":""},null,null,{"$f":"COUNTA(D25:I27)","v":0},{"$f":"COUNTA(O25:T27)","v":0}]
[null,null,11,null,null,null,null,null,null,{"$f":"IF(LEN(D27)=0,\"\",VLOOKUP(D27,リスト!$A$3:$N$201,3,FALSE))","v":""},{"$f":"IF(LEN(D27)=0,\"\",VLOOKUP(D27,リスト!$A$3:$N$201,2,FALSE))","v":""},null,null,11,null,null,null,null,null,null,{"$f":"IF(LEN(O27)=0,\"\",VLOOKUP(O27,リスト!$A$3:$N$201,3,FALSE))","v":""},{"$f":"IF(LEN(O27)=0,\"\",VLOOKUP(O27,リスト!$A$3:$N$201,2,FALSE))","v":""},null,null,{"$f":"COUNTA(D25:I27)","v":0},{"$f":"COUNTA(O25:T27)","v":0}]
["G",null,12,null,null,null,null,null,null,{"$f":"IF(LEN(D28)=0,\"\",VLOOKUP(D28,リスト!$A$3:$N$201,3,FALSE))","v":""},{"$f":"IF(LEN(D28)=0,\"\",VLOOKUP(D28,リスト!$A$3:$N$201,2,FALSE))","v":""},"G",null,12,null,null,null,null,null,null,{"$f":"IF(LEN(O28)=0,\"\",VLOOKUP(O28,リスト!$A$3:$N$201,3,FALSE))","v":""},{"$f":"IF(LEN(O28)=0,\"\",VLOOKUP(O28,リスト!$A$3:$N$201,2,FALSE))","v":""},null,null,{"$f":"COUNTA(D28:I30)","v":0},{"$f":"COUNTA(O28:T30)","v":0}]
[null,null,13,null,null,null,null,null,null,{"$f":"IF(LEN(D29)=0,\"\",VLOOKUP(D29,リスト!$A$3:$N$201,3,FALSE))","v":""},{"$f":"IF(LEN(D29)=0,\"\",VLOOKUP(D29,リスト!$A$3:$N$201,2,FALSE))","v":""},null,null,13,null,null,null,null,null,null,{"$f":"IF(LEN(O29)=0,\"\",VLOOKUP(O29,リスト!$A$3:$N$201,3,FALSE))","v":""},{"$f":"IF(LEN(O29)=0,\"\",VLOOKUP(O29,リスト!$A$3:$N$201,2,FALSE))","v":""},null,null,{"$f":"COUNTA(D28:I30)","v":0},{"$f":"COUNTA(O28:T30)","v":0}]
[null,null,14,null,null,null,null,null,null,{"$f":"IF(LEN(D30)=0,\"\",VLOOKUP(D30,リスト!$A$3:$N$201,3,FALSE))","v":""},{"$f":"IF(LEN(D30)=0,\"\",VLOOKUP(D30,リスト!$A$3:$N$201,2,FALSE))","v":""},null,null,14,null,null,null,null,null,null,{"$f":"IF(LEN(O30)=0,\"\",VLOOKUP(O30,リスト!$A$3:$N$201,3,FALSE))","v":""},{"$f":"IF(LEN(O30)=0,\"\",VLOOKUP(O30,リスト!$A$3:$N$201,2,FALSE))","v":""},null,null,{"$f":"COUNTA(D28:I30)","v":0},{"$f":"COUNTA(O28:T30)","v":0}]
["H",null,15,null,null,null,null,null,null,{"$f":"IF(LEN(D31)=0,\"\",VLOOKUP(D31,リスト!$A$3:$N$201,3,FALSE))","v":""},{"$f":"IF(LEN(D31)=0,\"\",VLOOKUP(D31,リスト!$A$3:$N$201,2,FALSE))","v":""},"H",null,15,null,null,null,null,null,null,{"$f":"IF(LEN(O31)=0,\"\",VLOOKUP(O31,リスト!$A$3:$N$201,3,FALSE))","v":""},{"$f":"IF(LEN(O31)=0,\"\",VLOOKUP(O31,リスト!$A$3:$N$201,2,FALSE))","v":""},null,null,{"$f":"COUNTA(D31:I33)","v":0},{"$f":"COUNTA(O31:T33)","v":0}]
[null,null,16,null,null,null,null,null,null,{"$f":"IF(LEN(D32)=0,\"\",VLOOKUP(D32,リスト!$A$3:$N$201,3,FALSE))","v":""},{"$f":"IF(LEN(D32)=0,\"\",VLOOKUP(D32,リスト!$A$3:$N$201,2,FALSE))","v":""},null,null,16,null,null,null,null,null,null,{"$f":"IF(LEN(O32)=0,\"\",VLOOKUP(O32,リスト!$A$3:$N$201,3,FALSE))","v":""},{"$f":"IF(LEN(O32)=0,\"\",VLOOKUP(O32,リスト!$A$3:$N$201,2,FALSE))","v":""},null,null,{"$f":"COUNTA(D31:I33)","v":0},{"$f":"COUNTA(O31:T33)","v":0}]
[null,null,17,null,null,null,null,null,null,{"$f":"IF(LEN(D33)=0,\"\",VLOOKUP(D33,リスト!$A$3:$N$201,3,FALSE))","v":""},{"$f":"IF(LEN(D33)=0,\"\",VLOOKUP(D33,リスト!$A$3:$N$201,2,FALSE))","v":""},null,null,17,null,null,null,null,null,null,{"$f":"IF(LEN(O33)=0,\"\",VLOOKUP(O33,リスト!$A$3:$N$201,3,FALSE))","v":""},{"$f":"IF(LEN(O33)=0,\"\",VLOOKUP(O33,リスト!$A$3:$N$201,2,FALSE))","v":""},null,null,{"$f":"COUNTA(D31:I33)","v":0},{"$f":"COUNTA(O31:T33)","v":0}]
["I",null,18,null,null,null,null,null,null,{"$f":"IF(LEN(D34)=0,\"\",VLOOKUP(D34,リスト!$A$3:$N$201,3,FALSE))","v":""},{"$f":"IF(LEN(D34)=0,\"\",VLOOKUP(D34,リスト!$A$3:$N$201,2,FALSE))","v":""},"I",null,18,null,null,null,null,null,null,{"$f":"IF(LEN(O34)=0,\"\",VLOOKUP(O34,リスト!$A$3:$N$201,3,FALSE))","v":""},{"$f":"IF(LEN(O34)=0,\"\",VLOOKUP(O34,リスト!$A$3:$N$201,2,FALSE))","v":""},null,null,{"$f":"COUNTA(D34:I36)","v":0},{"$f":"COUNTA(O34:T36)","v":0}]
[null,null,19,null,null,null,null,null,null,{"$f":"IF(LEN(D35)=0,\"\",VLOOKUP(D35,リスト!$A$3:$N$201,3,FALSE))","v":""},{"$f":"IF(LEN(D35)=0,\"\",VLOOKUP(D35,リスト!$A$3:$N$201,2,FALSE))","v":""},null,null,19,null,null,null,null,null,null,{"$f":"IF(LEN(O35)=0,\"\",VLOOKUP(O35,リスト!$A$3:$N$201,3,FALSE))","v":""},{"$f":"IF(LEN(O35)=0,\"\",VLOOKUP(O35,リスト!$A$3:$N$201,2,FALSE))","v":""},null,null,{"$f":"COUNTA(D34:I36)","v":0},{"$f":"COUNTA(O34:T36)","v":0}]
[null,null,20,null,null,null,null,null,null,{"$f":"IF(LEN(D36)=0,\"\",VLOOKUP(D36,リスト!$A$3:$N$201,3,FALSE))","v":""},{"$f":"IF(LEN(D36)=0,\"\",VLOOKUP(D36,リスト!$A$3:$N$201,2,FALSE))","v":""},null,null,20,null,null,null,null,null,null,{"$f":"IF(LEN(O36)=0,\"\",VLOOKUP(O36,リスト!$A$3:$N$201,3,FALSE))","v":""},{"$f":"IF(LEN(O36)=0,\"\",VLOOKUP(O36,リスト!$A$3:$N$201,2,FALSE))","v":""},null,null,{"$f":"COUNTA(D34:I36)","v":0},{"$f":"COUNTA(O34:T36)","v":0}]
["J",null,21,null,null,null,null,null,null,{"$f":"IF(LEN(D37)=0,\"\",VLOOKUP(D37,リスト!$A$3:$N$201,3,FALSE))","v":""},{"$f":"IF(LEN(D37)=0,\"\",VLOOKUP(D37,リスト!$A$3:$N$201,2,FALSE))","v":""},"J",null,21,null,null,null,null,null,null,{"$f":"IF(LEN(O37)=0,\"\",VLOOKUP(O37,リスト!$A$3:$N$201,3,FALSE))","v":""},{"$f":"IF(LEN(O37)=0,\"\",VLOOKUP(O37,リスト!$A$3:$N$201,2,FALSE))","v":""},null,null,{"$f":"COUNTA(D37:I39)","v":0},{"$f":"COUNTA(O37:T39)","v":0}]
[null,null,22,null,null,null,null,null,null,{"$f":"IF(LEN(D38)=0,\"\",VLOOKUP(D38,リスト!$A$3:$N$201,3,FALSE))","v":""},{"$f":"IF(LEN(D38)=0,\"\",VLOOKUP(D38,リスト!$A$3:$N$201,2,FALSE))","v":""},null,null,22,null,null,null,null,null,null,{"$f":"IF(LEN(O38)=0,\"\",VLOOKUP(O38,リスト!$A$3:$N$201,3,FALSE))","v":""},{"$f":"IF(LEN(O38)=0,\"\",VLOOKUP(O38,リスト!$A$3:$N$201,2,FALSE))","v":""},null,null,{"$f":"COUNTA(D37:I39)","v":0},{"$f":"COUNTA(O37:T39)","v":0}]
[null,null,23,null,null,null,null,null,null,{"$f":"IF(LEN(D39)=0,\"\",VLOOKUP(D39,リスト!$A$3:$N$201,3,FALSE))","v":""},{"$f":"IF(LEN(D39)=0,\"\",VLOOKUP(D39,リスト!$A$3:$N$201,2,FALSE))","v":""},null,null,23,null,null,null,null,null,null,{"$f":"IF(LEN(O39)=0,\"\",VLOOKUP(O39,リスト!$A$3:$N$201,3,FALSE))","v":""},{"$f":"IF(LEN(O39)=0,\"\",VLOOKUP(O39,リスト!$A$3:$N$201,2,FALSE))","v":""},null,null,{"$f":"COUNTA(D37:I39)","v":0},{"$f":"COUNTA(O37:T39)","v":0}]
["K",null,24,null,null,null,null,null,null,{"$f":"IF(LEN(D40)=0,\"\",VLOOKUP(D40,リスト!$A$3:$N$201,3,FALSE))","v":""},{"$f":"IF(LEN(D40)=0,\"\",VLOOKUP(D40,リスト!$A$3:$N$201,2,FALSE))","v":""},"K",null,24,null,null,null,null,null,null,{"$f":"IF(LEN(O40)=0,\"\",VLOOKUP(O40,リスト!$A$3:$N$201,3,FALSE))","v":""},{"$f":"IF(LEN(O40)=0,\"\",VLOOKUP(O40,リスト!$A$3:$N$201,2,FALSE))","v":""},null,null,{"$f":"COUNTA(D40:I42)","v":0},{"$f":"COUNTA(O40:T42)","v":0}]
[null,null,25,null,null,null,null,null,null,{"$f":"IF(LEN(D41)=0,\"\",VLOOKUP(D41,リスト!$A$3:$N$201,3,FALSE))","v":""},{"$f":"IF(LEN(D41)=0,\"\",VLOOKUP(D41,リスト!$A$3:$N$201,2,FALSE))","v":""},null,null,25,null,null,null,null,null,null,{"$f":"IF(LEN(O41)=0,\"\",VLOOKUP(O41,リスト!$A$3:$N$201,3,FALSE))","v":""},{"$f":"IF(LEN(O41)=0,\"\",VLOOKUP(O41,リスト!$A$3:$N$201,2,FALSE))","v":""},null,null,{"$f":"COUNTA(D40:I42)","v":0},{"$f":"COUNTA(O40:T42)","v":0}]
[null,null,26,null,null,null,null,null,null,{"$f":"IF(LEN(D42)=0,\"\",VLOOKUP(D42,リスト!$A$3:$N$201,3,FALSE))","v":""},{"$f":"IF(LEN(D42)=0,\"\",VLOOKUP(D42,リスト!$A$3:$N$201,2,FALSE))","v":""},null,null,26,null,null,null,null,null,null,{"$f":"IF(LEN(O42)=0,\"\",VLOOKUP(O42,リスト!$A$3:$N$201,3,FALSE))","v":""},{"$f":"IF(LEN(O42)=0,\"\",VLOOKUP(O42,リスト!$A$3:$N$201,2,FALSE))","v":""},null,null,{"$f":"COUNTA(D40:I42)","v":0},{"$f":"COUNTA(O40:T42)","v":0}]
["L",null,27,null,null,null,null,null,null,{"$f":"IF(LEN(D43)=0,\"\",VLOOKUP(D43,リスト!$A$3:$N$201,3,FALSE))","v":""},{"$f":"IF(LEN(D43)=0,\"\",VLOOKUP(D43,リスト!$A$3:$N$201,2,FALSE))","v":""},"L",null,27,null,null,null,null,null,null,{"$f":"IF(LEN(O43)=0,\"\",VLOOKUP(O43,リスト!$A$3:$N$201,3,FALSE))","v":""},{"$f":"IF(LEN(O43)=0,\"\",VLOOKUP(O43,リスト!$A$3:$N$201,2,FALSE))","v":""},null,null,{"$f":"COUNTA(D43:I45)","v":0},{"$f":"COUNTA(O43:T45)","v":0}]
[null,null,28,null,null,null,null,null,null,{"$f":"IF(LEN(D44)=0,\"\",VLOOKUP(D44,リスト!$A$3:$N$201,3,FALSE))","v":""},{"$f":"IF(LEN(D44)=0,\"\",VLOOKUP(D44,リスト!$A$3:$N$201,2,FALSE))","v":""},null,null,28,null,null,null,null,null,null,{"$f":"IF(LEN(O44)=0,\"\",VLOOKUP(O44,リスト!$A$3:$N$201,3,FALSE))","v":""},{"$f":"IF(LEN(O44)=0,\"\",VLOOKUP(O44,リスト!$A$3:$N$201,2,FALSE))","v":""},null,null,{"$f":"COUNTA(D43:I45)","v":0},{"$f":"COUNTA(O43:T45)","v":0}]
[null,null,29,null,null,null,null,null,null,{"$f":"IF(LEN(D45)=0,\"\",VLOOKUP(D45,リスト!$A$3:$N$201,3,FALSE))","v":""},{"$f":"IF(LEN(D45)=0,\"\",VLOOKUP(D45,リスト!$A$3:$N$201,2,FALSE))","v":""},null,null,29,null,null,null,null,null,null,{"$f":"IF(LEN(O45)=0,\"\",VLOOKUP(O45,リスト!$A$3:$N$201,3,FALSE))","v":""},{"$f":"IF(LEN(O45)=0,\"\",VLOOKUP(O45,リスト!$A$3:$N$201,2,FALSE))","v":""},null,null,{"$f":"COUNTA(D43:I45)","v":0},{"$f":"COUNTA(O43:T45)","v":0}]
["M",null,30,null,null,null,null,null,null,{"$f":"IF(LEN(D46)=0,\"\",VLOOKUP(D46,リスト!$A$3:$N$201,3,FALSE))","v":""},{"$f":"IF(LEN(D46)=0,\"\",VLOOKUP(D46,リスト!$A$3:$N$201,2,FALSE))","v":""},"M",null,30,null,null,null,null,null,null,{"$f":"IF(LEN(O46)=0,\"\",VLOOKUP(O46,リスト!$A$3:$N$201,3,FALSE))","v":""},{"$f":"IF(LEN(O46)=0,\"\",VLOOKUP(O46,リスト!$A$3:$N$201,2,FALSE))","v":""},null,null,{"$f":"COUNTA(D46:I48)","v":0},{"$f":"COUNTA(O46:T48)","v":0}]
[null,null,31,null,null,null,null,null,null,{"$f":"IF(LEN(D47)=0,\"\",VLOOKUP(D47,リスト!$A$3:$N$201,3,FALSE))","v":""},{"$f":"IF(LEN(D47)=0,\"\",VLOOKUP(D47,リスト!$A$3:$N$201,2,FALSE))","v":""},null,null,31,null,null,null,null,null,null,{"$f":"IF(LEN(O47)=0,\"\",VLOOKUP(O47,リスト!$A$3:$N$201,3,FALSE))","v":""},{"$f":"IF(LEN(O47)=0,\"\",VLOOKUP(O47,リスト!$A$3:$N$201,2,FALSE))","v":""},null,null,{"$f":"COUNTA(D46:I48)","v":0},{"$f":"COUNTA(O46:T48)","v":0}]
[null,null,32,null,null,null,null,null,null,{"$f":"IF(LEN(D48)=0,\"\",VLOOKUP(D48,リスト!$A$3:$N$201,3,FALSE))","v":""},{"$f":"IF(LEN(D48)=0,\"\",VLOOKUP(D48,リスト!$A$3:$N$201,2,FALSE))","v":""},null,null,32,null,null,null,null,null,null,{"$f":"IF(LEN(O48)=0,\"\",VLOOKUP(O48,リスト!$A$3:$N$201,3,FALSE))","v":""},{"$f":"IF(LEN(O48)=0,\"\",VLOOKUP(O48,リスト!$A$3:$N$201,2,FALSE))","v":""},null,null,{"$f":"COUNTA(D46:I48)","v":0},{"$f":"COUNTA(O46:T48)","v":0}]
["N",null,33,null,null,null,null,null,null,{"$f":"IF(LEN(D49)=0,\"\",VLOOKUP(D49,リスト!$A$3:$N$201,3,FALSE))","v":""},{"$f":"IF(LEN(D49)=0,\"\",VLOOKUP(D49,リスト!$A$3:$N$201,2,FALSE))","v":""},"N",null,33,null,null,null,null,null,null,{"$f":"IF(LEN(O49)=0,\"\",VLOOKUP(O49,リスト!$A$3:$N$201,3,FALSE))","v":""},{"$f":"IF(LEN(O49)=0,\"\",VLOOKUP(O49,リスト!$A$3:$N$201,2,FALSE))","v":""},null,null,{"$f":"COUNTA(D49:I51)","v":0},{"$f":"COUNTA(O49:T51)","v":0}]
[null,null,34,null,null,null,null,null,null,{"$f":"IF(LEN(D50)=0,\"\",VLOOKUP(D50,リスト!$A$3:$N$201,3,FALSE))","v":""},{"$f":"IF(LEN(D50)=0,\"\",VLOOKUP(D50,リスト!$A$3:$N$201,2,FALSE))","v":""},null,null,34,null,null,null,null,null,null,{"$f":"IF(LEN(O50)=0,\"\",VLOOKUP(O50,リスト!$A$3:$N$201,3,FALSE))","v":""},{"$f":"IF(LEN(O50)=0,\"\",VLOOKUP(O50,リスト!$A$3:$N$201,2,FALSE))","v":""},null,null,{"$f":"COUNTA(D49:I51)","v":0},{"$f":"COUNTA(O49:T51)","v":0}]
[null,null,35,null,null,null,null,null,null,{"$f":"IF(LEN(D51)=0,\"\",VLOOKUP(D51,リスト!$A$3:$N$201,3,FALSE))","v":""},{"$f":"IF(LEN(D51)=0,\"\",VLOOKUP(D51,リスト!$A$3:$N$201,2,FALSE))","v":""},null,null,35,null,null,null,null,null,null,{"$f":"IF(LEN(O51)=0,\"\",VLOOKUP(O51,リスト!$A$3:$N$201,3,FALSE))","v":""},{"$f":"IF(LEN(O51)=0,\"\",VLOOKUP(O51,リスト!$A$3:$N$201,2,FALSE))","v":""},null,null,{"$f":"COUNTA(D49:I51)","v":0},{"$f":"COUNTA(O49:T51)","v":0}]
["O",null,36,null,null,null,null,null,null,{"$f":"IF(LEN(D52)=0,\"\",VLOOKUP(D52,リスト!$A$3:$N$201,3,FALSE))","v":""},{"$f":"IF(LEN(D52)=0,\"\",VLOOKUP(D52,リスト!$A$3:$N$201,2,FALSE))","v":""},"O",null,36,null,null,null,null,null,null,{"$f":"IF(LEN(O52)=0,\"\",VLOOKUP(O52,リスト!$A$3:$N$201,3,FALSE))","v":""},{"$f":"IF(LEN(O52)=0,\"\",VLOOKUP(O52,リスト!$A$3:$N$201,2,FALSE))","v":""},null,null,{"$f":"COUNTA(D52:I54)","v":0},{"$f":"COUNTA(O52:T54)","v":0}]
[null,null,37,null,null,null,null,null,null,{"$f":"IF(LEN(D53)=0,\"\",VLOOKUP(D53,リスト!$A$3:$N$201,3,FALSE))","v":""},{"$f":"IF(LEN(D53)=0,\"\",VLOOKUP(D53,リスト!$A$3:$N$201,2,FALSE))","v":""},null,null,37,null,null,null,null,null,null,{"$f":"IF(LEN(O53)=0,\"\",VLOOKUP(O53,リスト!$A$3:$N$201,3,FALSE))","v":""},{"$f":"IF(LEN(O53)=0,\"\",VLOOKUP(O53,リスト!$A$3:$N$201,2,FALSE))","v":""},null,null,{"$f":"COUNTA(D52:I54)","v":0},{"$f":"COUNTA(O52:T54)","v":0}]
[null,null,38,null,null,null,null,null,null,{"$f":"IF(LEN(D54)=0,\"\",VLOOKUP(D54,リスト!$A$3:$N$201,3,FALSE))","v":""},{"$f":"IF(LEN(D54)=0,\"\",VLOOKUP(D54,リスト!$A$3:$N$201,2,FALSE))","v":""},null,null,38,null,null,null,null,null,null,{"$f":"IF(LEN(O54)=0,\"\",VLOOKUP(O54,リスト!$A$3:$N$201,3,FALSE))","v":""},{"$f":"IF(LEN(O54)=0,\"\",VLOOKUP(O54,リスト!$A$3:$N$201,2,FALSE))","v":""},null,null,{"$f":"COUNTA(D52:I54)","v":0},{"$f":"COUNTA(O52:T54)","v":0}]
["P",null,39,null,null,null,null,null,null,{"$f":"IF(LEN(D55)=0,\"\",VLOOKUP(D55,リスト!$A$3:$N$201,3,FALSE))","v":""},{"$f":"IF(LEN(D55)=0,\"\",VLOOKUP(D55,リスト!$A$3:$N$201,2,FALSE))","v":""},"P",null,39,null,null,null,null,null,null,{"$f":"IF(LEN(O55)=0,\"\",VLOOKUP(O55,リスト!$A$3:$N$201,3,FALSE))","v":""},{"$f":"IF(LEN(O55)=0,\"\",VLOOKUP(O55,リスト!$A$3:$N$201,2,FALSE))","v":""},null,null,{"$f":"COUNTA(D55:I57)","v":0},{"$f":"COUNTA(O55:T57)","v":0}]
[null,null,40,null,null,null,null,null,null,{"$f":"IF(LEN(D56)=0,\"\",VLOOKUP(D56,リスト!$A$3:$N$201,3,FALSE))","v":""},{"$f":"IF(LEN(D56)=0,\"\",VLOOKUP(D56,リスト!$A$3:$N$201,2,FALSE))","v":""},null,null,40,null,null,null,null,null,null,{"$f":"IF(LEN(O56)=0,\"\",VLOOKUP(O56,リスト!$A$3:$N$201,3,FALSE))","v":""},{"$f":"IF(LEN(O56)=0,\"\",VLOOKUP(O56,リスト!$A$3:$N$201,2,FALSE))","v":""},null,null,{"$f":"COUNTA(D55:I57)","v":0},{"$f":"COUNTA(O55:T57)","v":0}]
[null,null,41,null,null,null,null,null,null,{"$f":"IF(LEN(D57)=0,\"\",VLOOKUP(D57,リスト!$A$3:$N$201,3,FALSE))","v":""},{"$f":"IF(LEN(D57)=0,\"\",VLOOKUP(D57,リスト!$A$3:$N$201,2,FALSE))","v":""},null,null,41,null,null,null,null,null,null,{"$f":"IF(LEN(O57)=0,\"\",VLOOKUP(O57,リスト!$A$3:$N$201,3,FALSE))","v":""},{"$f":"IF(LEN(O57)=0,\"\",VLOOKUP(O57,リスト!$A$3:$N$201,2,FALSE))","v":""},null,null,{"$f":"COUNTA(D55:I57)","v":0},{"$f":"COUNTA(O55:T57)","v":0}]
["Q",null,42,null,null,null,null,null,null,{"$f":"IF(LEN(D58)=0,\"\",VLOOKUP(D58,リスト!$A$3:$N$201,3,FALSE))","v":""},{"$f":"IF(LEN(D58)=0,\"\",VLOOKUP(D58,リスト!$A$3:$N$201,2,FALSE))","v":""},"Q",null,42,null,null,null,null,null,null,{"$f":"IF(LEN(O58)=0,\"\",VLOOKUP(O58,リスト!$A$3:$N$201,3,FALSE))","v":""},{"$f":"IF(LEN(O58)=0,\"\",VLOOKUP(O58,リスト!$A$3:$N$201,2,FALSE))","v":""},null,null,{"$f":"COUNTA(D58:I60)","v":0},{"$f":"COUNTA(O58:T60)","v":0}]
[null,null,43,null,null,null,null,null,null,{"$f":"IF(LEN(D59)=0,\"\",VLOOKUP(D59,リスト!$A$3:$N$201,3,FALSE))","v":""},{"$f":"IF(LEN(D59)=0,\"\",VLOOKUP(D59,リスト!$A$3:$N$201,2,FALSE))","v":""},null,null,43,null,null,null,null,null,null,{"$f":"IF(LEN(O59)=0,\"\",VLOOKUP(O59,リスト!$A$3:$N$201,3,FALSE))","v":""},{"$f":"IF(LEN(O59)=0,\"\",VLOOKUP(O59,リスト!$A$3:$N$201,2,FALSE))","v":""},null,null,{"$f":"COUNTA(D58:I60)","v":0},{"$f":"COUNTA(O58:T60)","v":0}]
[null,null,44,null,null,null,null,null,null,{"$f":"IF(LEN(D60)=0,\"\",VLOOKUP(D60,リスト!$A$3:$N$201,3,FALSE))","v":""},{"$f":"IF(LEN(D60)=0,\"\",VLOOKUP(D60,リスト!$A$3:$N$201,2,FALSE))","v":""},null,null,44,null,null,null,null,null,null,{"$f":"IF(LEN(O60)=0,\"\",VLOOKUP(O60,リスト!$A$3:$N$201,3,FALSE))","v":""},{"$f":"IF(LEN(O60)=0,\"\",VLOOKUP(O60,リスト!$A$3:$N$201,2,FALSE))","v":""},null,null,{"$f":"COUNTA(D58:I60)","v":0},{"$f":"COUNTA(O58:T60)","v":0}]
[]
[]
[]
[]
[]
[{"$f":"I66","v":"日立第一高等学校"},1,1,1,"日一","日立一","県立",0,"日立第一高等学校","日立第一","ひたちだいいち","男","女","317-0063","日立市若葉町3-15-1","0294-22-6488","31700630294-22-64880294-21-4490","0294-21-4490","磯邉　裕一","志賀　達哉","安斎　正人","坂本　八穂","大場　久美子","　",null,{"$f":"COUNTA(O64:T66)","v":6}]
[{"$f":"I67","v":"日立第二高等学校"},1,2,2,"日二","日立二","県立",0,"日立第二高等学校","日立第二","ひたちだいに","","女","317-0071","日立市鹿島町3-2-1","0294-22-3254","31700710294-22-32540294-21-4583","0294-21-4583","蛭田　清孝","本田　由子","井手　悠賀","石川　翔子","　","　",null,{"$f":"COUNTA(N67:S69)","v":18}]
["日立商業高等学校",1,3,3,"日商","日立商","県立",0,"日立商業高等学校","日立商業","ひたちしょうぎょう","男","女","319-1222","日立市久慈町6-20-1","0294-52-4779","31912220294-52-47790294-53-8243","0294-53-8243","栗田　武志","真仲　泰成","岡見　伸行","青山　紀子","　","　",null,{"$f":"COUNTA(N67:S69)","v":18}]
["日立北高等学校",1,4,4,"日北","日立北","県立",0,"日立北高等学校","日立北","ひたちきた","男","女","319-1411","日立市川尻町6-11-1","0294-43-2101","31914110294-43-21010294-43-7967","0294-43-7967","清水　秀一","矢部　克美","小中　貴司","鈴木　利佳","　","　",null,{"$f":"COUNTA(N67:S69)","v":18}]
["磯原郷英高等学校",1,5,5,"磯郷","磯郷英","県立",0,"磯原郷英高等学校","磯原郷英","いそはらきょうえい","男","女","319-1541","北茨城市磯原町磯原912","0293-42-0260","31915410293-42-02600293-42-6545","0293-42-6545","長山　祐司","松浦　祥吾","鈴木　光雄","　","　","　"]
["太田第一高等学校",1,6,6,"太一","太田一","県立",0,"太田第一高等学校","太田第一","おおただいいち","男","女","313-0005","常陸太田市栄町58","0294-72-2115","31300050294-72-21150294-72-2119","0294-72-2119","谷津　勉","西野　志津子","重中　茜","　","　","　"]
["太田西山高等学校",1,7,7,"西山","太西山","県立",0,"太田西山高等学校","太田西山","おおたせいざん","男","女","313-0007","常陸太田市新宿町210","0294-72-2136","31300070294-72-21360294-72-2147","0294-72-2147","菊池　幸惠","黒川　誠","佐伯　祐","　","　","　"]
["小瀬高等学校",1,1,8,"小瀬","小瀬","県立",0,"小瀬高等学校","小　　瀬","おせ","男","女","319-2401","常陸大宮市上小瀬1881","0295-56-2204","31924010295-56-22040295-56-3804","0295-56-3804","山下　則雄","北嶋　大輔","野上　勇","　","　","　"]
["常陸大宮高等学校",2,2,9,"常大","常大宮","県立",0,"常陸大宮高等学校","常陸大宮","みとだいいち","男","","319-2255","常陸大宮市野中町3257-2","0295-52-2175","31922550295-52-21750295-53-6914","0295-53-6914","堀川　洋","西野　有希","倉持　太陽","　","　","　"]
["水戸第一高等学校",2,3,10,"水一","水戸一","県立",0,"水戸第一高等学校","水戸第一","みとだいに","男","女","310-0011","水戸市三の丸3-10-1","029-224-2254","3100011029-224-2254029-225-5694","029-225-5694","御厩　祐司","石井　孝典","金井　正人","　","　","　"]
["水戸第二高等学校",2,4,11,"水二","水戸二","県立",0,"水戸第二高等学校","水戸第二","みとだいさん","","女","310-0062","水戸市大町2-2-14","029-224-2543","3100062029-224-2543029-225-5049","029-225-5049","渡邉　剛","恩田　洋一","梶原　拓光","　","　","　"]
["水戸第三高等学校",2,5,12,"水三","水戸三","県立",0,"水戸第三高等学校","水戸第三","みどりおか","","女","310-0011","水戸市三の丸2-7-27","029-224-2044","3100011029-224-2044029-225-4524","029-225-4524","南雲　康司","深谷　拓","辺見　知子","　","　","　"]
["緑岡高等学校",2,6,13,"緑岡","緑岡","県立",0,"緑岡高等学校","緑　　岡","みとこうぎょう","男","女","310-0852","水戸市笠原町1284","029-241-0311","3100852029-241-0311029-241-7929","029-241-7929","今瀬　一博","田口　泰子","楠　正則","小塚　由紀子","野村　勝美","　"]
["水戸工業高等学校",2,7,14,"水工","水戸工","県立",0,"水戸工業高等学校","水戸工業","みとさくらのまき","男","女","310-0836","水戸市元吉田町1101","029-247-5711","3100836029-247-5711029-248-6399","029-248-6399","久松　政信","牧田　幸博","関口　仁","　","　","　"]
["水戸桜ノ牧高等学校",2,8,15,"桜牧","桜ノ牧","県立",0,"水戸桜ノ牧高等学校","水戸桜ノ牧","さわ","男","女","310-0914","水戸市小吹町2070","029-243-3644","3100914029-243-3644029-241-9642","029-241-9642","秋山　克巳","坂本　裕哉","梶山　潤","寺内　芳江","　","　"]
["佐和高等学校",2,9,16,"佐和","佐和","県立",0,"佐和高等学校","佐　　和","かさま","男","女","312-0061","ひたちなか市稲田636-1","029-285-1819","30916110296-72-11710296-72-2590","029-285-8401","鈴木　猛","辻元　誠之","清水　智子","　","　","　"]
["那珂湊高等学校",2,10,17,"那湊","那珂湊","県立",0,"那珂湊高等学校","那 珂 湊","かさま","男","女","311-1224","ひたちなか市山ノ上町4-6","029-262-2642","3111224029-262-2642029-263-3961","029-263-3961","鈴木　富美子","関口　昭","満生　香子","　","　","　"]
["笠間高等学校",2,11,18,"笠間","笠間","県立",0,"笠間高等学校","笠　　間","みとさくらのまきじょうほく","男","女","309-1611","笠間市笠間1668","0296-72-1171","30916110296-72-11710296-72-2590","0296-72-2590","渡邉　英一","人見　広章","　","　","　","　"]
["水戸桜ノ牧高等学校常北校",2,12,19,"常北","常北","県立",0,"水戸桜ノ牧高等学校常北校","水戸桜ノ牧常北","とうかい","男","","311-4306","東茨城郡城里町春園1634","029-288-2028","3114306029-288-2028029-288-4969","029-288-4969","秋山　克巳","大図　卓也","安蔵　恭吾","海老原　洋法","　","　"]
["東海高等学校",2,13,20,"東海","東海","県立",0,"東海高等学校","東　　海","いばらきひがし","男","女","319-1112","那珂郡東海村大字村松771-1","029-282-7501","3191112029-282-7501029-287-1328","029-287-1328","正木　昇","荒木　広大","小田　義雄","　","　","　"]
["茨城東高等学校",2,14,21,"茨東","茨城東","県立",0,"茨城東高等学校","茨 城 東","なか","男","女","311-3157","東茨城郡茨城町小幡2524","029-292-6245","3113157029-292-6245029-292-2405","029-292-2405","上田　英雄","菅野　学","飯田　延稔","　","　","　"]
["那珂高等学校",2,15,22,"那珂","那珂","県立",0,"那珂高等学校","那　　珂","いばらき","男","女","311-0111","那珂市後台1710-1","029-295-2710","3110111029-295-2710029-295-4640","029-295-4640","阿内　勉","大内　麻子","朝比奈　泰紀","　","　","　"]
["茨城高等学校",2,16,23,"茨城","茨城","","私立","茨城高等学校","茨　　城","すいじょう","男","女","310-0065","水戸市八幡町16-1","029-221-4936","3100065029-221-4936029-221-4923","029-221-4923","梶　克治","遠藤　康","作山　友孝","　","　","　"]
["水城高等学校",2,17,24,"水城","水城",0,"私立","水城高等学校","水　　城","いばらきこうぎょうこうとうせんもん","男","女","310-0804","水戸市白梅2-1-45","029-247-6509","3100804029-247-6509029-248-7252","029-248-7252","小田部　幹夫","中村　諒","武田　悠平","　","　","　"]
["茨城工業高等専門学校",2,18,25,"高専","茨高専","国立",0,"茨城工業高等専門学校","茨城工業高等専門学校","ほこただいいち","男","女","312-8508","ひたちなか市中根866","029-272-5201","3128508029-272-5201029-271-2813","029-271-2813","鈴木　秋弘","丸山　智章","平本　留理","大津　麻紀子","　","　"]
["鉾田第一高等学校",3,1,26,"鉾一","鉾田一","県立",0,"鉾田第一高等学校","鉾田第一","ほこただいに","男","女","311-1517","鉾田市鉾田1090-2","0291-33-2161","31115170291-33-21610291-33-6086","0291-33-6086","飯山　美都子","星　浩一","杉山　公実子","　","　","　"]
["鉾田第二高等学校",3,2,27,"鉾二","鉾田二","県立",0,"鉾田第二高等学校","鉾田第二","たまつくりこうぎょう","男","女","311-1517","鉾田市鉾田1158","0291-33-2171","31115170291-33-21710291-33-6093","0291-33-6093","海老澤　浩一","沼里　民子","廣原　嘉明","　","　","　"]
["玉造工業高等学校",3,3,28,"玉工","玉造工","県立",0,"玉造工業高等学校","玉造工業","あそう","男","女","311-3501","行方市芹沢1552","0299-55-0138","31135010299-55-01380299-55-3454","0299-55-3454","大塚　哲蔵","小畑　繁","　","　","　","　"]
["麻生高等学校",3,4,29,"麻生","麻生","県立",0,"麻生高等学校","麻　　生","いたこ","男","女","311-3832","行方市麻生1806","0299-72-0098","31138320299-72-00980299-72-2317","0299-72-2317","園部　晃嗣","齊藤　啓","森作　実玖也","　","　","　"]
["潮来高等学校",3,5,30,"潮来","潮来","県立",0,"潮来高等学校","潮　　来","かしま","男","女","311-2448","潮来市須賀3025","0299-66-2142","31124480299-66-21420299-66-2670","0299-66-2670","小澤　茂幸","萩原　卓","飯島　愛美","髙野　深愛","　","　"]
["鹿島高等学校",3,6,31,"鹿島","鹿島","県立",0,"鹿島高等学校","鹿　　島","はさき","男","女","314-0038","鹿嶋市城山2-2-19","0299-82-1903","31400380299-82-19030299-84-1547","0299-84-1547","小沼　浩幸","山口　薫","青塚　明香","甲　良美","谷田部　大地","　"]
["波崎高等学校",3,7,32,"波崎","波崎","県立",0,"波崎高等学校","波　　崎","せいしんがくえん","男","女","314-0343","神栖市土合本町2-9928-1","0479-48-0044","31403430479-48-00440479-48-4679","0479-48-4679","高橋　秀樹","山田　宏","　","　","　","　"]
["清真学園高等学校",3,8,33,"清真","清真学",0,"私立","清真学園高等学校","清真学園","つちうらだいいち","男","女","314-0031","鹿嶋市宮中伏見4448-5","0299-83-1811","31400310299-83-18110299-83-6414","0299-83-6414","飯山　克則","炭谷　崇人","佐久間　和彰","釜田　啓市","清野　千里","　"]
["土浦第一高等学校",4,1,34,"土一","土浦一","県立",0,"土浦第一高等学校","土浦第一","つちうらだいに","男","女","300-0051","土浦市真鍋4-4-2","029-822-0137","3000051029-822-0137029-826-3521","029-826-3521","プラニク　ヨゲンドラ","柴沼　陽","大野　岳志","　","　","　"]
["土浦第二高等学校",4,2,35,"土二","土浦二","県立",0,"土浦第二高等学校","土浦第二","つちうらだいさん","男","女","300-0041","土浦市立田町9-6","029-822-5027","3000041029-822-5027029-826-3522","029-826-3522","深谷　靖","塚本　晋太郎","土井　和恵","　","　","杉山　尚之"]
["土浦第三高等学校",4,3,36,"土三","土浦三","県立",0,"土浦第三高等学校","土浦第三","つちうらこうぎょう","男","女","300-0835","土浦市大岩田1599","029-821-1605","3000835029-821-1605029-826-3523","029-826-3523","渡邊　聡","松本　現","鎌田　千亜紀","石井　美香","　","　"]
["土浦工業高等学校",4,4,37,"土工","土浦工","県立",0,"土浦工業高等学校","土浦工業","いしおかだいいち","男","女","300-0051","土浦市真鍋6-11-20","029-821-1953","3000051029-821-1953029-822-6924","029-822-6924","後藤　光彦","千葉　一茂","福岡　聖美","蓼沼　正弘","　","　"]
["石岡第一高等学校",4,5,38,"石一","石岡一","県立",0,"石岡第一高等学校","石岡第一","いしおかだいに","男","女","315-0001","石岡市石岡1-9","0299-22-4135","31500010299-22-41350299-22-6289","0299-22-6289","櫻井　隆之","川村　理絵","土居　義邦","前野　和美","　","　"]
["石岡第二高等学校",4,6,39,"石二","石岡二","県立",0,"石岡第二高等学校","石岡第二","いしおかしょうぎょう","男","女","315-0013","石岡市府中5-14-14","0299-23-2101","31500130299-23-21010299-23-4895","0299-23-4895","鈴木　教生","門井　寿通","岡田　睦美","　","　","　"]
["石岡商業高等学校",4,7,40,"石商","石岡商","県立",0,"石岡商業高等学校","石岡商業","つちうらにほんだいがく","男","女","315-0033","石岡市東光台3-4-1","0299-26-4138","31500330299-26-41380299-26-1029","0299-26-1029","木戸　智子","青柳　優","森作　明美","　","　","　"]
["土浦日本大学高等学校",4,8,41,"土日","土日大",0,{"$error":"#REF!"},"土浦日本大学高等学校","土浦日本大学","じょうそうがくいん","男","女","300-0826","土浦市小松ケ丘町4-46","029-822-3382","3000826029-822-3382029-823-8743","029-823-8743","伊藤　哲也","中川　久倫","阿久井　琉菜","　","　","　"]
["常総学院高等学校",4,9,42,"常総","常総学",0,"私立","常総学院高等学校","常総学院","かすみがうら","男","女","300-0849","土浦市中村西根1010","029-842-8771","3000849029-842-8771029-841-1808","029-841-1808","壁谷　恵","宮本　和明","柴山　紗矢香","塚本　重毅","ステント　ブラッドリー","　"]
["霞ケ浦高等学校",4,10,43,"霞浦","霞ヶ浦",0,"私立","霞ケ浦高等学校","霞 ケ 浦","つちうらにほんだいがくちゅうとうきょういくがっこう","男","女","300-0301","稲敷郡阿見町青宿50","029-887-0013","3000301029-887-0013029-887-9380","029-887-9380","岡村　守","桜井　恭平","柳澤　雅世","　","　","　"]
["土浦日本大学中等教育学校",4,11,44,"土中","土中等",0,"私立","土浦日本大学中等教育学校","土浦日本大学中等教育学校",{"$error":"#REF!"},"男","女","300-0826","土浦市小松ケ丘町4-46","029-822-3386","3000826029-822-3386029-835-3538","029-835-3538","堀切　浩一","塩原　崇","佐藤　錬","　","　","　"]
["竜ケ崎第一高等学校",5,1,45,"竜一","竜崎一","県立",0,"竜ケ崎第一高等学校","竜ケ崎第一","りゅうがさきだいに","男","女","301-0844","龍ヶ崎市平畑248","0297-62-2146","30108440297-62-21460297-62-9836","0297-62-9836","太田垣　淳一","八重柏　由佳","石川　瑶子","前田　将貴","　","　"]
["竜ケ崎第二高等学校",5,2,46,"竜二","竜崎二","県立",0,"竜ケ崎第二高等学校","竜ケ崎第二","りゅうがさきみなみ","男","女","301-0834","龍ケ崎市3087","0297-62-3078","30108340297-62-30780297-62-9850","0297-62-9850","箕輪　文子","前田　彬貴","小吹　光","　","　","　"]
["竜ケ崎南高等学校",5,3,47,"竜南","竜崎南","県立",0,"竜ケ崎南高等学校","竜ケ崎南","えどさきそうごう","男","","301-0021","龍ケ崎市北方町120","0297-64-2167","30100210297-64-21670297-64-5241","0297-64-5241","須藤　一道","飛田　樹","杉浦　拓郎","　","　","　"]
["江戸崎総合高等学校",5,4,48,"江総","江総合","県立",0,"江戸崎総合高等学校","江戸崎総合","とりでだいいち","男","女","300-0504","稲敷市江戸崎甲476-2","029-892-2103","3000504029-892-2103029-892-3957","029-892-3957","川田　　利行","篠崎　美穂","河野　亮一","渡邉　怜奈","　","　"]
["取手第一高等学校",5,5,49,"取一","取手一","県立",0,"取手第一高等学校","取手第一","とりでだいに","男","女","302-0013","取手市台宿2-4-1","0297-72-1348","30200130297-72-13480297-73-7814","0297-73-7814","高野　健二","山中　範子","高木　渉","後藤　裕一","　","久保田　清"]
["取手第二高等学校",5,6,50,"取二","取手二","県立",0,"取手第二高等学校","取手第二","ふじしろ","","女","302-0005","取手市東2-5-1","0297-73-0049","30200050297-73-00490297-73-7821","0297-73-7821","池田　聡","寺田　和馬","　","　","　","　"]
["藤代高等学校",5,7,51,"藤代","藤代","県立",0,"藤代高等学校","藤　　代","うしく","男","女","300-1537","取手市毛有640","0297-82-6283","30015370297-82-62830297-82-6021","0297-82-6021","根本　雄一","深堀　いずみ","富岡　美和","木村　愛","　","　"]
["牛久高等学校",5,8,52,"牛久","牛久","県立",0,"牛久高等学校","牛    久","うしくえいしん","男","女","300-1204","牛久市岡見町2081-1","029-873-6220","3001204029-873-6220029-874-8580","029-874-8580","田﨑　泰昭","人見　正敏","塚本　貞行","　","　","　"]
["牛久栄進高等学校",5,9,53,"栄進","牛栄進","県立",0,"牛久栄進高等学校","牛久栄進","とうようだいうしく","男","女","300-1201","牛久市東猯穴町876","029-843-3110","3001201029-843-3110029-842-1891","029-842-1891","奈良　由紀子","坂井　昌平","宇野　香代子","門井　美奈子","　","　"]
["東洋大学付属牛久高等学校",5,10,54,"東牛","東牛久",0,"私立","東洋大学付属牛久高等学校","東洋大学附属牛久","あいこくがくえんだいがくふぞくりゅうがさき","男","女","300-1211","牛久市柏田町1360-2","029-872-0924","3001211029-872-0924029-874-1055","029-874-1055","金澤　利明","江橋　正安","大島　優子","　","　","　"]
["江戸川学園取手高等学校",5,11,55,"江学","江戸川",0,"私立","江戸川学園取手高等学校","江戸川学園取手","あいこくがくえんだいがくふぞくりゅうがさき","男","女","302-0025","取手市西1-37-1","0297-74-8771","30200250297-74-87710297-73-4851","0297-73-4851","山本　宏之","関　貴之","野田　泰誠","　","　","明間　勲"]
["愛国学園大学附属龍ケ崎高等学校",5,12,56,"愛国","愛国学",0,"私立","愛国学園大学附属龍ケ崎高等学校","愛国学園大学附属龍ケ崎","つくば","","女","301-0041","龍ケ崎市若柴町2747","0297-66-0757","30100410297-66-07570297-66-0526","0297-66-0526","倉持　正男","坂本　渉","柴崎　智宣","　","　","　"]
["筑波高等学校",6,1,57,"筑波","筑波","県立",0,"筑波高等学校","筑　　波","たけぞの","男","女","300-4231","つくば市北条4387","029-867-0041","3004231029-867-0041029-867-4688","029-867-4688","鈴木　恒一","山北　大志","門井　浩","菊池　郁治","吉田　浩昭","林田　國洋"]
["竹園高等学校",6,2,58,"竹園","竹園","県立",0,"竹園高等学校","竹　　園","つくばこうか","男","女","305-0032","つくば市竹園3-9-1","029-851-7515","3050032029-851-7515029-852-5533","029-852-5533","辻　武　晴","宮内　雅史","今　瀬　英一朗","上　本　達　也","　","　"]
["つくば工科高等学校",6,3,59,"工科","つ工科","県立",0,"つくば工科高等学校","つくば工科","いわせ","男","女","305-0861","つくば市谷田部1818","029-836-1441","3050861029-836-1441029-836-4700","029-836-4700","石塚　照美","信戸　修一","三浦　秀之","　","　","　"]
["岩瀬高等学校",6,4,60,"岩瀬","岩瀬","県立",0,"岩瀬高等学校","岩　　瀬","しもだてだいいち","男","女","309-1294","桜川市岩瀬1511-1","0296-75-2475","30912940296-75-24750296-75-4906","0296-75-4906","西條　礼子","堀　裕美","市村　瀬里","藤森　知恵子","　","　"]
["下館第一高等学校",6,5,61,"館一","下館一","県立",0,"下館第一高等学校","下館第一",{"$error":"#REF!"},"男","女","308-0825","筑西市下中山590","0296-24-6344","30808250296-24-63440296-25-4673","0296-25-4673","木村　功","星野　雅一","海老名　晶弓","中島　陽樹","　","岩田　隆"]
["下館第二高等学校",6,6,62,"館二","下館二","県立",0,"下館第二高等学校","下館第二","しもつまだいいち","男","女","308-0051","筑西市岡芹一丁目37","0296-22-5361",{"$error":"#REF!"},"0296-25-4683","池田　恭彦","柴　弥寿子","斉藤　由起子","　","　","　"]
["明野高等学校",6,7,63,"明野","明野","県立",0,"明野高等学校","明野","しもつまだいに","男","女","300-4515","筑西市倉持1176-1","0296-52-3121",{"$error":"#REF!"},"0296-52-5869","井上　剛","塚原　千秋","真家　大輔","望月　ありさ","　","　"]
["下妻第一高等学校",6,8,64,"妻一","下妻一","県立",0,"下妻第一高等学校","下妻第一",{"$error":"#REF!"},"男","女","304-0067","下妻市下妻乙226-1","0296-44-5158","30400670296-44-25490296-43-9173","0296-43-9172","生井　秀一","中泉　尚人","濵野　美智","坂入　純子","　","　"]
["下妻第二高等学校",6,9,65,"妻二","下妻二","県立",0,"下妻第二高等学校","下妻第二","みつかいどうだいいち","男","女","304-0067","下妻市下妻乙347-8","0296-44-2549","30400670296-44-25490296-43-9173","0296-43-9173","島根　千春","大垣　朋也","福永　弘","　","　","　"]
[{"$f":"I131","v":"水海道第一高等学校"},6,10,66,"海一","水海一","県立",0,"水海道第一高等学校","水海道第一","こがだいに","男","女","303-0025","常総市水海道亀岡町2543","0297-22-0029","30300250297-22-00290297-22-5479","0297-22-5479","福田　崇","緒方　響","髙藤　啓光","　","　","　"]
["八千代高等学校",6,11,67,"八千代","八千代","県立",0,"八千代高等学校","八 千 代","こがだいさん","男","女","300-3561","結城郡八千代町大字平塚4824-2","0296-48-1836","30600240280-32-04440280-31-6602","0296-48-3201","榊原　洋子","鈴木　千裕","藤白　祐佳","　","　","　"]
["古河第二高等学校",6,12,68,"古二","古河二","県立",0,"古河第二高等学校","古河第二","さんわ","男","女","306-0024","古河市幸町19-18","0280-32-0444","30600240280-32-04440280-31-6602","0280-31-6602","有瀧　由起子","海野　俊介","栗原　邦男","　","　","　"]
["古河第三高等学校",6,13,69,"古三","古河三","県立",0,"古河第三高等学校","古河第三","さかい","男","女","306-0054","古河市中田新田12-1","0280-48-2755","30601230280-76-49590280-76-4935","0280-48-5424","早川　尚人","秋葉　尚子","山中　英憲","立川　正信","　","　"]
["三和高等学校",6,14,70,"三和","三和","県立",0,"三和高等学校","三　　和","もりや","男","女","306-0123","古河市五部54-1","0280-76-4959","30601230280-76-49590280-76-4935","0280-76-4935","鈴木　厚子","小島　彩華","諏訪　主樹","　","　","　"]
["境高等学校",6,15,71,"境","境","県立",0,"境高等学校","境","つくばしゅうえい","男","女","306-0433","猿島郡境町175","0280-87-0123","30201070297-48-64090297-45-8479","0280-87-5688","新井　智子","齋藤　起輝","吉澤　靖","木村　亜紀子","　","　"]
["守谷高等学校",6,16,72,"守谷","守谷","県立",0,"守谷高等学校","守　　谷",0,"男","女","302-0107","守谷市大木70","0297-48-6409","30201070297-48-64090297-45-8479","0297-45-8479","髙野　美有紀","松﨑　稔昌","本田　敦","早乙女　舞","　","　"]
["つくば秀英高等学校",6,17,73,"秀英","秀英",0,"私立","つくば秀英高等学校","つくば秀英",0,"男","女","300-2655","つくば市島名151","029-847-1611","","029-847-3111","石川　英昭","谷端　弘孝","川喜多　麻里","寺井　誠","福田　恒昭","　"]
[]
[]
[]
[{"$f":"リスト!A3","v":"　"},{"$f":"リスト!B3","v":0},{"$f":"リスト!C3","v":0},{"$f":"リスト!D3","v":0},{"$f":"リスト!E3","v":0},{"$f":"リスト!F3","v":0},{"$f":"リスト!G3","v":0},{"$f":"リスト!H3","v":0},{"$f":"リスト!I3","v":0},{"$f":"リスト!J3","v":0},{"$f":"リスト!K3","v":0},{"$f":"リスト!L3","v":0},{"$f":"リスト!M3","v":0},{"$f":"リスト!N3","v":0}]
[{"$f":"リスト!A4","v":"　"},{"$f":"リスト!B4","v":0},{"$f":"リスト!C4","v":0},{"$f":"リスト!D4","v":0},{"$f":"リスト!E4","v":0},{"$f":"リスト!F4","v":0},{"$f":"リスト!G4","v":0},{"$f":"リスト!H4","v":0},{"$f":"リスト!I4","v":0},{"$f":"リスト!J4","v":0},{"$f":"リスト!K4","v":0},{"$f":"リスト!L4","v":0},{"$f":"リスト!M4","v":0},{"$f":"リスト!N4","v":0}]
[{"$f":"リスト!A5","v":"　"},{"$f":"リスト!B5","v":0},{"$f":"リスト!C5","v":0},{"$f":"リスト!D5","v":0},{"$f":"リスト!E5","v":0},{"$f":"リスト!F5","v":0},{"$f":"リスト!G5","v":0},{"$f":"リスト!H5","v":0},{"$f":"リスト!I5","v":0},{"$f":"リスト!J5","v":0},{"$f":"リスト!K5","v":0},{"$f":"リスト!L5","v":0},{"$f":"リスト!M5","v":0},{"$f":"リスト!N5","v":0}]
[{"$f":"リスト!A6","v":"　"},{"$f":"リスト!B6","v":0},{"$f":"リスト!C6","v":0},{"$f":"リスト!D6","v":0},{"$f":"リスト!E6","v":0},{"$f":"リスト!F6","v":0},{"$f":"リスト!G6","v":0},{"$f":"リスト!H6","v":0},{"$f":"リスト!I6","v":0},{"$f":"リスト!J6","v":0},{"$f":"リスト!K6","v":0},{"$f":"リスト!L6","v":0},{"$f":"リスト!M6","v":0},{"$f":"リスト!N6","v":0}]
[{"$f":"リスト!A7","v":"　"},{"$f":"リスト!B7","v":0},{"$f":"リスト!C7","v":0},{"$f":"リスト!D7","v":0},{"$f":"リスト!E7","v":0},{"$f":"リスト!F7","v":0},{"$f":"リスト!G7","v":0},{"$f":"リスト!H7","v":0},{"$f":"リスト!I7","v":0},{"$f":"リスト!J7","v":0},{"$f":"リスト!K7","v":0},{"$f":"リスト!L7","v":0},{"$f":"リスト!M7","v":0},{"$f":"リスト!N7","v":0}]
[{"$f":"リスト!A8","v":"　"},{"$f":"リスト!B8","v":0},{"$f":"リスト!C8","v":0},{"$f":"リスト!D8","v":0},{"$f":"リスト!E8","v":0},{"$f":"リスト!F8","v":0},{"$f":"リスト!G8","v":0},{"$f":"リスト!H8","v":0},{"$f":"リスト!I8","v":0},{"$f":"リスト!J8","v":0},{"$f":"リスト!K8","v":0},{"$f":"リスト!L8","v":0},{"$f":"リスト!M8","v":0},{"$f":"リスト!N8","v":0}]
[{"$f":"リスト!A9","v":"　"},{"$f":"リスト!B9","v":0},{"$f":"リスト!C9","v":0},{"$f":"リスト!D9","v":0},{"$f":"リスト!E9","v":0},{"$f":"リスト!F9","v":0},{"$f":"リスト!G9","v":0},{"$f":"リスト!H9","v":0},{"$f":"リスト!I9","v":0},{"$f":"リスト!J9","v":0},{"$f":"リスト!K9","v":0},{"$f":"リスト!L9","v":0},{"$f":"リスト!M9","v":0},{"$f":"リスト!N9","v":0}]
[{"$f":"リスト!A10","v":"　"},{"$f":"リスト!B10","v":0},{"$f":"リスト!C10","v":0},{"$f":"リスト!D10","v":0},{"$f":"リスト!E10","v":0},{"$f":"リスト!F10","v":0},{"$f":"リスト!G10","v":0},{"$f":"リスト!H10","v":0},{"$f":"リスト!I10","v":0},{"$f":"リスト!J10","v":0},{"$f":"リスト!K10","v":0},{"$f":"リスト!L10","v":0},{"$f":"リスト!M10","v":0},{"$f":"リスト!N10","v":0}]
[{"$f":"リスト!A11","v":"　"},{"$f":"リスト!B11","v":0},{"$f":"リスト!C11","v":0},{"$f":"リスト!D11","v":0},{"$f":"リスト!E11","v":0},{"$f":"リスト!F11","v":0},{"$f":"リスト!G11","v":0},{"$f":"リスト!H11","v":0},{"$f":"リスト!I11","v":0},{"$f":"リスト!J11","v":0},{"$f":"リスト!K11","v":0},{"$f":"リスト!L11","v":0},{"$f":"リスト!M11","v":0},{"$f":"リスト!N11","v":0}]
[{"$f":"リスト!A12","v":"　"},{"$f":"リスト!B12","v":0},{"$f":"リスト!C12","v":0},{"$f":"リスト!D12","v":0},{"$f":"リスト!E12","v":0},{"$f":"リスト!F12","v":0},{"$f":"リスト!G12","v":0},{"$f":"リスト!H12","v":0},{"$f":"リスト!I12","v":0},{"$f":"リスト!J12","v":0},{"$f":"リスト!K12","v":0},{"$f":"リスト!L12","v":0},{"$f":"リスト!M12","v":0},{"$f":"リスト!N12","v":0}]
[{"$f":"リスト!A13","v":"　"},{"$f":"リスト!B13","v":0},{"$f":"リスト!C13","v":0},{"$f":"リスト!D13","v":0},{"$f":"リスト!E13","v":0},{"$f":"リスト!F13","v":0},{"$f":"リスト!G13","v":0},{"$f":"リスト!H13","v":0},{"$f":"リスト!I13","v":0},{"$f":"リスト!J13","v":0},{"$f":"リスト!K13","v":0},{"$f":"リスト!L13","v":0},{"$f":"リスト!M13","v":0},{"$f":"リスト!N13","v":0}]
[{"$f":"リスト!A14","v":"　"},{"$f":"リスト!B14","v":0},{"$f":"リスト!C14","v":0},{"$f":"リスト!D14","v":0},{"$f":"リスト!E14","v":0},{"$f":"リスト!F14","v":0},{"$f":"リスト!G14","v":0},{"$f":"リスト!H14","v":0},{"$f":"リスト!I14","v":0},{"$f":"リスト!J14","v":0},{"$f":"リスト!K14","v":0},{"$f":"リスト!L14","v":0},{"$f":"リスト!M14","v":0},{"$f":"リスト!N14","v":0}]
[{"$f":"リスト!A15","v":"　"},{"$f":"リスト!B15","v":0},{"$f":"リスト!C15","v":0},{"$f":"リスト!D15","v":0},{"$f":"リスト!E15","v":0},{"$f":"リスト!F15","v":0},{"$f":"リスト!G15","v":0},{"$f":"リスト!H15","v":0},{"$f":"リスト!I15","v":0},{"$f":"リスト!J15","v":0},{"$f":"リスト!K15","v":0},{"$f":"リスト!L15","v":0},{"$f":"リスト!M15","v":0},{"$f":"リスト!N15","v":0}]
[{"$f":"リスト!A16","v":"　"},{"$f":"リスト!B16","v":0},{"$f":"リスト!C16","v":0},{"$f":"リスト!D16","v":0},{"$f":"リスト!E16","v":0},{"$f":"リスト!F16","v":0},{"$f":"リスト!G16","v":0},{"$f":"リスト!H16","v":0},{"$f":"リスト!I16","v":0},{"$f":"リスト!J16","v":0},{"$f":"リスト!K16","v":0},{"$f":"リスト!L16","v":0},{"$f":"リスト!M16","v":0},{"$f":"リスト!N16","v":0}]
[{"$f":"リスト!A17","v":"　"},{"$f":"リスト!B17","v":0},{"$f":"リスト!C17","v":0},{"$f":"リスト!D17","v":0},{"$f":"リスト!E17","v":0},{"$f":"リスト!F17","v":0},{"$f":"リスト!G17","v":0},{"$f":"リスト!H17","v":0},{"$f":"リスト!I17","v":0},{"$f":"リスト!J17","v":0},{"$f":"リスト!K17","v":0},{"$f":"リスト!L17","v":0},{"$f":"リスト!M17","v":0},{"$f":"リスト!N17","v":0}]
[{"$f":"リスト!A18","v":"　"},{"$f":"リスト!B18","v":0},{"$f":"リスト!C18","v":0},{"$f":"リスト!D18","v":0},{"$f":"リスト!E18","v":0},{"$f":"リスト!F18","v":0},{"$f":"リスト!G18","v":0},{"$f":"リスト!H18","v":0},{"$f":"リスト!I18","v":0},{"$f":"リスト!J18","v":0},{"$f":"リスト!K18","v":0},{"$f":"リスト!L18","v":0},{"$f":"リスト!M18","v":0},{"$f":"リスト!N18","v":0}]
[{"$f":"リスト!A19","v":"　"},{"$f":"リスト!B19","v":0},{"$f":"リスト!C19","v":0},{"$f":"リスト!D19","v":0},{"$f":"リスト!E19","v":0},{"$f":"リスト!F19","v":0},{"$f":"リスト!G19","v":0},{"$f":"リスト!H19","v":0},{"$f":"リスト!I19","v":0},{"$f":"リスト!J19","v":0},{"$f":"リスト!K19","v":0},{"$f":"リスト!L19","v":0},{"$f":"リスト!M19","v":0},{"$f":"リスト!N19","v":0}]
[{"$f":"リスト!A20","v":"　"},{"$f":"リスト!B20","v":0},{"$f":"リスト!C20","v":0},{"$f":"リスト!D20","v":0},{"$f":"リスト!E20","v":0},{"$f":"リスト!F20","v":0},{"$f":"リスト!G20","v":0},{"$f":"リスト!H20","v":0},{"$f":"リスト!I20","v":0},{"$f":"リスト!J20","v":0},{"$f":"リスト!K20","v":0},{"$f":"リスト!L20","v":0},{"$f":"リスト!M20","v":0},{"$f":"リスト!N20","v":0}]
[{"$f":"リスト!A21","v":"　"},{"$f":"リスト!B21","v":0},{"$f":"リスト!C21","v":0},{"$f":"リスト!D21","v":0},{"$f":"リスト!E21","v":0},{"$f":"リスト!F21","v":0},{"$f":"リスト!G21","v":0},{"$f":"リスト!H21","v":0},{"$f":"リスト!I21","v":0},{"$f":"リスト!J21","v":0},{"$f":"リスト!K21","v":0},{"$f":"リスト!L21","v":0},{"$f":"リスト!M21","v":0},{"$f":"リスト!N21","v":0}]
[{"$f":"リスト!A22","v":"　"},{"$f":"リスト!B22","v":0},{"$f":"リスト!C22","v":0},{"$f":"リスト!D22","v":0},{"$f":"リスト!E22","v":0},{"$f":"リスト!F22","v":0},{"$f":"リスト!G22","v":0},{"$f":"リスト!H22","v":0},{"$f":"リスト!I22","v":0},{"$f":"リスト!J22","v":0},{"$f":"リスト!K22","v":0},{"$f":"リスト!L22","v":0},{"$f":"リスト!M22","v":0},{"$f":"リスト!N22","v":0}]
[{"$f":"リスト!A23","v":"　"},{"$f":"リスト!B23","v":0},{"$f":"リスト!C23","v":0},{"$f":"リスト!D23","v":0},{"$f":"リスト!E23","v":0},{"$f":"リスト!F23","v":0},{"$f":"リスト!G23","v":0},{"$f":"リスト!H23","v":0},{"$f":"リスト!I23","v":0},{"$f":"リスト!J23","v":0},{"$f":"リスト!K23","v":0},{"$f":"リスト!L23","v":0},{"$f":"リスト!M23","v":0},{"$f":"リスト!N23","v":0}]
[{"$f":"リスト!A24","v":"　"},{"$f":"リスト!B24","v":0},{"$f":"リスト!C24","v":0},{"$f":"リスト!D24","v":0},{"$f":"リスト!E24","v":0},{"$f":"リスト!F24","v":0},{"$f":"リスト!G24","v":0},{"$f":"リスト!H24","v":0},{"$f":"リスト!I24","v":0},{"$f":"リスト!J24","v":0},{"$f":"リスト!K24","v":0},{"$f":"リスト!L24","v":0},{"$f":"リスト!M24","v":0},{"$f":"リスト!N24","v":0}]
[{"$f":"リスト!A25","v":"　"},{"$f":"リスト!B25","v":0},{"$f":"リスト!C25","v":0},{"$f":"リスト!D25","v":0},{"$f":"リスト!E25","v":0},{"$f":"リスト!F25","v":0},{"$f":"リスト!G25","v":0},{"$f":"リスト!H25","v":0},{"$f":"リスト!I25","v":0},{"$f":"リスト!J25","v":0},{"$f":"リスト!K25","v":0},{"$f":"リスト!L25","v":0},{"$f":"リスト!M25","v":0},{"$f":"リスト!N25","v":0}]
[{"$f":"リスト!A26","v":"　"},{"$f":"リスト!B26","v":0},{"$f":"リスト!C26","v":0},{"$f":"リスト!D26","v":0},{"$f":"リスト!E26","v":0},{"$f":"リスト!F26","v":0},{"$f":"リスト!G26","v":0},{"$f":"リスト!H26","v":0},{"$f":"リスト!I26","v":0},{"$f":"リスト!J26","v":0},{"$f":"リスト!K26","v":0},{"$f":"リスト!L26","v":0},{"$f":"リスト!M26","v":0},{"$f":"リスト!N26","v":0}]
[{"$f":"リスト!A27","v":"　"},{"$f":"リスト!B27","v":0},{"$f":"リスト!C27","v":0},{"$f":"リスト!D27","v":0},{"$f":"リスト!E27","v":0},{"$f":"リスト!F27","v":0},{"$f":"リスト!G27","v":0},{"$f":"リスト!H27","v":0},{"$f":"リスト!I27","v":0},{"$f":"リスト!J27","v":0},{"$f":"リスト!K27","v":0},{"$f":"リスト!L27","v":0},{"$f":"リスト!M27","v":0},{"$f":"リスト!N27","v":0}]
[{"$f":"リスト!A28","v":"　"},{"$f":"リスト!B28","v":0},{"$f":"リスト!C28","v":0},{"$f":"リスト!D28","v":0},{"$f":"リスト!E28","v":0},{"$f":"リスト!F28","v":0},{"$f":"リスト!G28","v":0},{"$f":"リスト!H28","v":0},{"$f":"リスト!I28","v":0},{"$f":"リスト!J28","v":0},{"$f":"リスト!K28","v":0},{"$f":"リスト!L28","v":0},{"$f":"リスト!M28","v":0},{"$f":"リスト!N28","v":0}]
[{"$f":"リスト!A29","v":"　"},{"$f":"リスト!B29","v":0},{"$f":"リスト!C29","v":0},{"$f":"リスト!D29","v":0},{"$f":"リスト!E29","v":0},{"$f":"リスト!F29","v":0},{"$f":"リスト!G29","v":0},{"$f":"リスト!H29","v":0},{"$f":"リスト!I29","v":0},{"$f":"リスト!J29","v":0},{"$f":"リスト!K29","v":0},{"$f":"リスト!L29","v":0},{"$f":"リスト!M29","v":0},{"$f":"リスト!N29","v":0}]
[{"$f":"リスト!A30","v":"　"},{"$f":"リスト!B30","v":0},{"$f":"リスト!C30","v":0},{"$f":"リスト!D30","v":0},{"$f":"リスト!E30","v":0},{"$f":"リスト!F30","v":0},{"$f":"リスト!G30","v":0},{"$f":"リスト!H30","v":0},{"$f":"リスト!I30","v":0},{"$f":"リスト!J30","v":0},{"$f":"リスト!K30","v":0},{"$f":"リスト!L30","v":0},{"$f":"リスト!M30","v":0},{"$f":"リスト!N30","v":0}]
[{"$f":"リスト!A31","v":"　"},{"$f":"リスト!B31","v":0},{"$f":"リスト!C31","v":0},{"$f":"リスト!D31","v":0},{"$f":"リスト!E31","v":0},{"$f":"リスト!F31","v":0},{"$f":"リスト!G31","v":0},{"$f":"リスト!H31","v":0},{"$f":"リスト!I31","v":0},{"$f":"リスト!J31","v":0},{"$f":"リスト!K31","v":0},{"$f":"リスト!L31","v":0},{"$f":"リスト!M31","v":0},{"$f":"リスト!N31","v":0}]
[{"$f":"リスト!A32","v":"　"},{"$f":"リスト!B32","v":0},{"$f":"リスト!C32","v":0},{"$f":"リスト!D32","v":0},{"$f":"リスト!E32","v":0},{"$f":"リスト!F32","v":0},{"$f":"リスト!G32","v":0},{"$f":"リスト!H32","v":0},{"$f":"リスト!I32","v":0},{"$f":"リスト!J32","v":0},{"$f":"リスト!K32","v":0},{"$f":"リスト!L32","v":0},{"$f":"リスト!M32","v":0},{"$f":"リスト!N32","v":0}]
[{"$f":"リスト!A33","v":"　"},{"$f":"リスト!B33","v":0},{"$f":"リスト!C33","v":0},{"$f":"リスト!D33","v":0},{"$f":"リスト!E33","v":0},{"$f":"リスト!F33","v":0},{"$f":"リスト!G33","v":0},{"$f":"リスト!H33","v":0},{"$f":"リスト!I33","v":0},{"$f":"リスト!J33","v":0},{"$f":"リスト!K33","v":0},{"$f":"リスト!L33","v":0},{"$f":"リスト!M33","v":0},{"$f":"リスト!N33","v":0}]
[{"$f":"リスト!A34","v":"　"},{"$f":"リスト!B34","v":0},{"$f":"リスト!C34","v":0},{"$f":"リスト!D34","v":0},{"$f":"リスト!E34","v":0},{"$f":"リスト!F34","v":0},{"$f":"リスト!G34","v":0},{"$f":"リスト!H34","v":0},{"$f":"リスト!I34","v":0},{"$f":"リスト!J34","v":0},{"$f":"リスト!K34","v":0},{"$f":"リスト!L34","v":0},{"$f":"リスト!M34","v":0},{"$f":"リスト!N34","v":0}]
[{"$f":"リスト!A35","v":"　"},{"$f":"リスト!B35","v":0},{"$f":"リスト!C35","v":0},{"$f":"リスト!D35","v":0},{"$f":"リスト!E35","v":0},{"$f":"リスト!F35","v":0},{"$f":"リスト!G35","v":0},{"$f":"リスト!H35","v":0},{"$f":"リスト!I35","v":0},{"$f":"リスト!J35","v":0},{"$f":"リスト!K35","v":0},{"$f":"リスト!L35","v":0},{"$f":"リスト!M35","v":0},{"$f":"リスト!N35","v":0}]
[{"$f":"リスト!A36","v":"　"},{"$f":"リスト!B36","v":0},{"$f":"リスト!C36","v":0},{"$f":"リスト!D36","v":0},{"$f":"リスト!E36","v":0},{"$f":"リスト!F36","v":0},{"$f":"リスト!G36","v":0},{"$f":"リスト!H36","v":0},{"$f":"リスト!I36","v":0},{"$f":"リスト!J36","v":0},{"$f":"リスト!K36","v":0},{"$f":"リスト!L36","v":0},{"$f":"リスト!M36","v":0},{"$f":"リスト!N36","v":0}]
[{"$f":"リスト!A37","v":"　"},{"$f":"リスト!B37","v":0},{"$f":"リスト!C37","v":0},{"$f":"リスト!D37","v":0},{"$f":"リスト!E37","v":0},{"$f":"リスト!F37","v":0},{"$f":"リスト!G37","v":0},{"$f":"リスト!H37","v":0},{"$f":"リスト!I37","v":0},{"$f":"リスト!J37","v":0},{"$f":"リスト!K37","v":0},{"$f":"リスト!L37","v":0},{"$f":"リスト!M37","v":0},{"$f":"リスト!N37","v":0}]
[{"$f":"リスト!A38","v":"　"},{"$f":"リスト!B38","v":0},{"$f":"リスト!C38","v":0},{"$f":"リスト!D38","v":0},{"$f":"リスト!E38","v":0},{"$f":"リスト!F38","v":0},{"$f":"リスト!G38","v":0},{"$f":"リスト!H38","v":0},{"$f":"リスト!I38","v":0},{"$f":"リスト!J38","v":0},{"$f":"リスト!K38","v":0},{"$f":"リスト!L38","v":0},{"$f":"リスト!M38","v":0},{"$f":"リスト!N38","v":0}]
[{"$f":"リスト!A39","v":"　"},{"$f":"リスト!B39","v":0},{"$f":"リスト!C39","v":0},{"$f":"リスト!D39","v":0},{"$f":"リスト!E39","v":0},{"$f":"リスト!F39","v":0},{"$f":"リスト!G39","v":0},{"$f":"リスト!H39","v":0},{"$f":"リスト!I39","v":0},{"$f":"リスト!J39","v":0},{"$f":"リスト!K39","v":0},{"$f":"リスト!L39","v":0},{"$f":"リスト!M39","v":0},{"$f":"リスト!N39","v":0}]
[{"$f":"リスト!A40","v":"　"},{"$f":"リスト!B40","v":0},{"$f":"リスト!C40","v":0},{"$f":"リスト!D40","v":0},{"$f":"リスト!E40","v":0},{"$f":"リスト!F40","v":0},{"$f":"リスト!G40","v":0},{"$f":"リスト!H40","v":0},{"$f":"リスト!I40","v":0},{"$f":"リスト!J40","v":0},{"$f":"リスト!K40","v":0},{"$f":"リスト!L40","v":0},{"$f":"リスト!M40","v":0},{"$f":"リスト!N40","v":0}]
[{"$f":"リスト!A41","v":"　"},{"$f":"リスト!B41","v":0},{"$f":"リスト!C41","v":0},{"$f":"リスト!D41","v":0},{"$f":"リスト!E41","v":0},{"$f":"リスト!F41","v":0},{"$f":"リスト!G41","v":0},{"$f":"リスト!H41","v":0},{"$f":"リスト!I41","v":0},{"$f":"リスト!J41","v":0},{"$f":"リスト!K41","v":0},{"$f":"リスト!L41","v":0},{"$f":"リスト!M41","v":0},{"$f":"リスト!N41","v":0}]
[{"$f":"リスト!A42","v":"　"},{"$f":"リスト!B42","v":0},{"$f":"リスト!C42","v":0},{"$f":"リスト!D42","v":0},{"$f":"リスト!E42","v":0},{"$f":"リスト!F42","v":0},{"$f":"リスト!G42","v":0},{"$f":"リスト!H42","v":0},{"$f":"リスト!I42","v":0},{"$f":"リスト!J42","v":0},{"$f":"リスト!K42","v":0},{"$f":"リスト!L42","v":0},{"$f":"リスト!M42","v":0},{"$f":"リスト!N42","v":0}]
[{"$f":"リスト!A43","v":"　"},{"$f":"リスト!B43","v":0},{"$f":"リスト!C43","v":0},{"$f":"リスト!D43","v":0},{"$f":"リスト!E43","v":0},{"$f":"リスト!F43","v":0},{"$f":"リスト!G43","v":0},{"$f":"リスト!H43","v":0},{"$f":"リスト!I43","v":0},{"$f":"リスト!J43","v":0},{"$f":"リスト!K43","v":0},{"$f":"リスト!L43","v":0},{"$f":"リスト!M43","v":0},{"$f":"リスト!N43","v":0}]
[{"$f":"リスト!A44","v":"　"},{"$f":"リスト!B44","v":0},{"$f":"リスト!C44","v":0},{"$f":"リスト!D44","v":0},{"$f":"リスト!E44","v":0},{"$f":"リスト!F44","v":0},{"$f":"リスト!G44","v":0},{"$f":"リスト!H44","v":0},{"$f":"リスト!I44","v":0},{"$f":"リスト!J44","v":0},{"$f":"リスト!K44","v":0},{"$f":"リスト!L44","v":0},{"$f":"リスト!M44","v":0},{"$f":"リスト!N44","v":0}]
[{"$f":"リスト!A45","v":"　"},{"$f":"リスト!B45","v":0},{"$f":"リスト!C45","v":0},{"$f":"リスト!D45","v":0},{"$f":"リスト!E45","v":0},{"$f":"リスト!F45","v":0},{"$f":"リスト!G45","v":0},{"$f":"リスト!H45","v":0},{"$f":"リスト!I45","v":0},{"$f":"リスト!J45","v":0},{"$f":"リスト!K45","v":0},{"$f":"リスト!L45","v":0},{"$f":"リスト!M45","v":0},{"$f":"リスト!N45","v":0}]
[{"$f":"リスト!A46","v":"　"},{"$f":"リスト!B46","v":0},{"$f":"リスト!C46","v":0},{"$f":"リスト!D46","v":0},{"$f":"リスト!E46","v":0},{"$f":"リスト!F46","v":0},{"$f":"リスト!G46","v":0},{"$f":"リスト!H46","v":0},{"$f":"リスト!I46","v":0},{"$f":"リスト!J46","v":0},{"$f":"リスト!K46","v":0},{"$f":"リスト!L46","v":0},{"$f":"リスト!M46","v":0},{"$f":"リスト!N46","v":0}]
[{"$f":"リスト!A47","v":"　"},{"$f":"リスト!B47","v":0},{"$f":"リスト!C47","v":0},{"$f":"リスト!D47","v":0},{"$f":"リスト!E47","v":0},{"$f":"リスト!F47","v":0},{"$f":"リスト!G47","v":0},{"$f":"リスト!H47","v":0},{"$f":"リスト!I47","v":0},{"$f":"リスト!J47","v":0},{"$f":"リスト!K47","v":0},{"$f":"リスト!L47","v":0},{"$f":"リスト!M47","v":0},{"$f":"リスト!N47","v":0}]
[{"$f":"リスト!A48","v":"　"},{"$f":"リスト!B48","v":0},{"$f":"リスト!C48","v":0},{"$f":"リスト!D48","v":0},{"$f":"リスト!E48","v":0},{"$f":"リスト!F48","v":0},{"$f":"リスト!G48","v":0},{"$f":"リスト!H48","v":0},{"$f":"リスト!I48","v":0},{"$f":"リスト!J48","v":0},{"$f":"リスト!K48","v":0},{"$f":"リスト!L48","v":0},{"$f":"リスト!M48","v":0},{"$f":"リスト!N48","v":0}]
[{"$f":"リスト!A49","v":"　"},{"$f":"リスト!B49","v":0},{"$f":"リスト!C49","v":0},{"$f":"リスト!D49","v":0},{"$f":"リスト!E49","v":0},{"$f":"リスト!F49","v":0},{"$f":"リスト!G49","v":0},{"$f":"リスト!H49","v":0},{"$f":"リスト!I49","v":0},{"$f":"リスト!J49","v":0},{"$f":"リスト!K49","v":0},{"$f":"リスト!L49","v":0},{"$f":"リスト!M49","v":0},{"$f":"リスト!N49","v":0}]
[{"$f":"リスト!A50","v":"　"},{"$f":"リスト!B50","v":0},{"$f":"リスト!C50","v":0},{"$f":"リスト!D50","v":0},{"$f":"リスト!E50","v":0},{"$f":"リスト!F50","v":0},{"$f":"リスト!G50","v":0},{"$f":"リスト!H50","v":0},{"$f":"リスト!I50","v":0},{"$f":"リスト!J50","v":0},{"$f":"リスト!K50","v":0},{"$f":"リスト!L50","v":0},{"$f":"リスト!M50","v":0},{"$f":"リスト!N50","v":0}]
[{"$f":"リスト!A51","v":"　"},{"$f":"リスト!B51","v":0},{"$f":"リスト!C51","v":0},{"$f":"リスト!D51","v":0},{"$f":"リスト!E51","v":0},{"$f":"リスト!F51","v":0},{"$f":"リスト!G51","v":0},{"$f":"リスト!H51","v":0},{"$f":"リスト!I51","v":0},{"$f":"リスト!J51","v":0},{"$f":"リスト!K51","v":0},{"$f":"リスト!L51","v":0},{"$f":"リスト!M51","v":0},{"$f":"リスト!N51","v":0}]
[{"$f":"リスト!A52","v":"　"},{"$f":"リスト!B52","v":0},{"$f":"リスト!C52","v":0},{"$f":"リスト!D52","v":0},{"$f":"リスト!E52","v":0},{"$f":"リスト!F52","v":0},{"$f":"リスト!G52","v":0},{"$f":"リスト!H52","v":0},{"$f":"リスト!I52","v":0},{"$f":"リスト!J52","v":0},{"$f":"リスト!K52","v":0},{"$f":"リスト!L52","v":0},{"$f":"リスト!M52","v":0},{"$f":"リスト!N52","v":0}]
[{"$f":"リスト!A53","v":"　"},{"$f":"リスト!B53","v":0},{"$f":"リスト!C53","v":0},{"$f":"リスト!D53","v":0},{"$f":"リスト!E53","v":0},{"$f":"リスト!F53","v":0},{"$f":"リスト!G53","v":0},{"$f":"リスト!H53","v":0},{"$f":"リスト!I53","v":0},{"$f":"リスト!J53","v":0},{"$f":"リスト!K53","v":0},{"$f":"リスト!L53","v":0},{"$f":"リスト!M53","v":0},{"$f":"リスト!N53","v":0}]
[{"$f":"リスト!A54","v":"　"},{"$f":"リスト!B54","v":0},{"$f":"リスト!C54","v":0},{"$f":"リスト!D54","v":0},{"$f":"リスト!E54","v":0},{"$f":"リスト!F54","v":0},{"$f":"リスト!G54","v":0},{"$f":"リスト!H54","v":0},{"$f":"リスト!I54","v":0},{"$f":"リスト!J54","v":0},{"$f":"リスト!K54","v":0},{"$f":"リスト!L54","v":0},{"$f":"リスト!M54","v":0},{"$f":"リスト!N54","v":0}]
[{"$f":"リスト!A55","v":"　"},{"$f":"リスト!B55","v":0},{"$f":"リスト!C55","v":0},{"$f":"リスト!D55","v":0},{"$f":"リスト!E55","v":0},{"$f":"リスト!F55","v":0},{"$f":"リスト!G55","v":0},{"$f":"リスト!H55","v":0},{"$f":"リスト!I55","v":0},{"$f":"リスト!J55","v":0},{"$f":"リスト!K55","v":0},{"$f":"リスト!L55","v":0},{"$f":"リスト!M55","v":0},{"$f":"リスト!N55","v":0}]
[{"$f":"リスト!A56","v":"　"},{"$f":"リスト!B56","v":0},{"$f":"リスト!C56","v":0},{"$f":"リスト!D56","v":0},{"$f":"リスト!E56","v":0},{"$f":"リスト!F56","v":0},{"$f":"リスト!G56","v":0},{"$f":"リスト!H56","v":0},{"$f":"リスト!I56","v":0},{"$f":"リスト!J56","v":0},{"$f":"リスト!K56","v":0},{"$f":"リスト!L56","v":0},{"$f":"リスト!M56","v":0},{"$f":"リスト!N56","v":0}]
[{"$f":"リスト!A57","v":"　"},{"$f":"リスト!B57","v":0},{"$f":"リスト!C57","v":0},{"$f":"リスト!D57","v":0},{"$f":"リスト!E57","v":0},{"$f":"リスト!F57","v":0},{"$f":"リスト!G57","v":0},{"$f":"リスト!H57","v":0},{"$f":"リスト!I57","v":0},{"$f":"リスト!J57","v":0},{"$f":"リスト!K57","v":0},{"$f":"リスト!L57","v":0},{"$f":"リスト!M57","v":0},{"$f":"リスト!N57","v":0}]
[{"$f":"リスト!A58","v":"　"},{"$f":"リスト!B58","v":0},{"$f":"リスト!C58","v":0},{"$f":"リスト!D58","v":0},{"$f":"リスト!E58","v":0},{"$f":"リスト!F58","v":0},{"$f":"リスト!G58","v":0},{"$f":"リスト!H58","v":0},{"$f":"リスト!I58","v":0},{"$f":"リスト!J58","v":0},{"$f":"リスト!K58","v":0},{"$f":"リスト!L58","v":0},{"$f":"リスト!M58","v":0},{"$f":"リスト!N58","v":0}]
[{"$f":"リスト!A59","v":"　"},{"$f":"リスト!B59","v":0},{"$f":"リスト!C59","v":0},{"$f":"リスト!D59","v":0},{"$f":"リスト!E59","v":0},{"$f":"リスト!F59","v":0},{"$f":"リスト!G59","v":0},{"$f":"リスト!H59","v":0},{"$f":"リスト!I59","v":0},{"$f":"リスト!J59","v":0},{"$f":"リスト!K59","v":0},{"$f":"リスト!L59","v":0},{"$f":"リスト!M59","v":0},{"$f":"リスト!N59","v":0}]
[{"$f":"リスト!A60","v":"　"},{"$f":"リスト!B60","v":0},{"$f":"リスト!C60","v":0},{"$f":"リスト!D60","v":0},{"$f":"リスト!E60","v":0},{"$f":"リスト!F60","v":0},{"$f":"リスト!G60","v":0},{"$f":"リスト!H60","v":0},{"$f":"リスト!I60","v":0},{"$f":"リスト!J60","v":0},{"$f":"リスト!K60","v":0},{"$f":"リスト!L60","v":0},{"$f":"リスト!M60","v":0},{"$f":"リスト!N60","v":0}]
[{"$f":"リスト!A61","v":"　"},{"$f":"リスト!B61","v":0},{"$f":"リスト!C61","v":0},{"$f":"リスト!D61","v":0},{"$f":"リスト!E61","v":0},{"$f":"リスト!F61","v":0},{"$f":"リスト!G61","v":0},{"$f":"リスト!H61","v":0},{"$f":"リスト!I61","v":0},{"$f":"リスト!J61","v":0},{"$f":"リスト!K61","v":0},{"$f":"リスト!L61","v":0},{"$f":"リスト!M61","v":0},{"$f":"リスト!N61","v":0}]
[{"$f":"リスト!A62","v":"　"},{"$f":"リスト!B62","v":0},{"$f":"リスト!C62","v":0},{"$f":"リスト!D62","v":0},{"$f":"リスト!E62","v":0},{"$f":"リスト!F62","v":0},{"$f":"リスト!G62","v":0},{"$f":"リスト!H62","v":0},{"$f":"リスト!I62","v":0},{"$f":"リスト!J62","v":0},{"$f":"リスト!K62","v":0},{"$f":"リスト!L62","v":0},{"$f":"リスト!M62","v":0},{"$f":"リスト!N62","v":0}]
[{"$f":"リスト!A63","v":"　"},{"$f":"リスト!B63","v":0},{"$f":"リスト!C63","v":0},{"$f":"リスト!D63","v":0},{"$f":"リスト!E63","v":0},{"$f":"リスト!F63","v":0},{"$f":"リスト!G63","v":0},{"$f":"リスト!H63","v":0},{"$f":"リスト!I63","v":0},{"$f":"リスト!J63","v":0},{"$f":"リスト!K63","v":0},{"$f":"リスト!L63","v":0},{"$f":"リスト!M63","v":0},{"$f":"リスト!N63","v":0}]
[{"$f":"リスト!A64","v":"　"},{"$f":"リスト!B64","v":0},{"$f":"リスト!C64","v":0},{"$f":"リスト!D64","v":0},{"$f":"リスト!E64","v":0},{"$f":"リスト!F64","v":0},{"$f":"リスト!G64","v":0},{"$f":"リスト!H64","v":0},{"$f":"リスト!I64","v":0},{"$f":"リスト!J64","v":0},{"$f":"リスト!K64","v":0},{"$f":"リスト!L64","v":0},{"$f":"リスト!M64","v":0},{"$f":"リスト!N64","v":0}]
[{"$f":"リスト!A65","v":"　"},{"$f":"リスト!B65","v":0},{"$f":"リスト!C65","v":0},{"$f":"リスト!D65","v":0},{"$f":"リスト!E65","v":0},{"$f":"リスト!F65","v":0},{"$f":"リスト!G65","v":0},{"$f":"リスト!H65","v":0},{"$f":"リスト!I65","v":0},{"$f":"リスト!J65","v":0},{"$f":"リスト!K65","v":0},{"$f":"リスト!L65","v":0},{"$f":"リスト!M65","v":0},{"$f":"リスト!N65","v":0}]
[{"$f":"リスト!A66","v":"　"},{"$f":"リスト!B66","v":0},{"$f":"リスト!C66","v":0},{"$f":"リスト!D66","v":0},{"$f":"リスト!E66","v":0},{"$f":"リスト!F66","v":0},{"$f":"リスト!G66","v":0},{"$f":"リスト!H66","v":0},{"$f":"リスト!I66","v":0},{"$f":"リスト!J66","v":0},{"$f":"リスト!K66","v":0},{"$f":"リスト!L66","v":0},{"$f":"リスト!M66","v":0},{"$f":"リスト!N66","v":0}]
[{"$f":"リスト!A67","v":"　"},{"$f":"リスト!B67","v":0},{"$f":"リスト!C67","v":0},{"$f":"リスト!D67","v":0},{"$f":"リスト!E67","v":0},{"$f":"リスト!F67","v":0},{"$f":"リスト!G67","v":0},{"$f":"リスト!H67","v":0},{"$f":"リスト!I67","v":0},{"$f":"リスト!J67","v":0},{"$f":"リスト!K67","v":0},{"$f":"リスト!L67","v":0},{"$f":"リスト!M67","v":0},{"$f":"リスト!N67","v":0}]
[{"$f":"リスト!A68","v":"　"},{"$f":"リスト!B68","v":0},{"$f":"リスト!C68","v":0},{"$f":"リスト!D68","v":0},{"$f":"リスト!E68","v":0},{"$f":"リスト!F68","v":0},{"$f":"リスト!G68","v":0},{"$f":"リスト!H68","v":0},{"$f":"リスト!I68","v":0},{"$f":"リスト!J68","v":0},{"$f":"リスト!K68","v":0},{"$f":"リスト!L68","v":0},{"$f":"リスト!M68","v":0},{"$f":"リスト!N68","v":0}]
[{"$f":"リスト!A69","v":"　"},{"$f":"リスト!B69","v":0},{"$f":"リスト!C69","v":0},{"$f":"リスト!D69","v":0},{"$f":"リスト!E69","v":0},{"$f":"リスト!F69","v":0},{"$f":"リスト!G69","v":0},{"$f":"リスト!H69","v":0},{"$f":"リスト!I69","v":0},{"$f":"リスト!J69","v":0},{"$f":"リスト!K69","v":0},{"$f":"リスト!L69","v":0},{"$f":"リスト!M69","v":0},{"$f":"リスト!N69","v":0}]
[{"$f":"リスト!A70","v":"　"},{"$f":"リスト!B70","v":0},{"$f":"リスト!C70","v":0},{"$f":"リスト!D70","v":0},{"$f":"リスト!E70","v":0},{"$f":"リスト!F70","v":0},{"$f":"リスト!G70","v":0},{"$f":"リスト!H70","v":0},{"$f":"リスト!I70","v":0},{"$f":"リスト!J70","v":0},{"$f":"リスト!K70","v":0},{"$f":"リスト!L70","v":0},{"$f":"リスト!M70","v":0},{"$f":"リスト!N70","v":0}]
[{"$f":"リスト!A71","v":"　"},{"$f":"リスト!B71","v":0},{"$f":"リスト!C71","v":0},{"$f":"リスト!D71","v":0},{"$f":"リスト!E71","v":0},{"$f":"リスト!F71","v":0},{"$f":"リスト!G71","v":0},{"$f":"リスト!H71","v":0},{"$f":"リスト!I71","v":0},{"$f":"リスト!J71","v":0},{"$f":"リスト!K71","v":0},{"$f":"リスト!L71","v":0},{"$f":"リスト!M71","v":0},{"$f":"リスト!N71","v":0}]
[{"$f":"リスト!A72","v":"　"},{"$f":"リスト!B72","v":0},{"$f":"リスト!C72","v":0},{"$f":"リスト!D72","v":0},{"$f":"リスト!E72","v":0},{"$f":"リスト!F72","v":0},{"$f":"リスト!G72","v":0},{"$f":"リスト!H72","v":0},{"$f":"リスト!I72","v":0},{"$f":"リスト!J72","v":0},{"$f":"リスト!K72","v":0},{"$f":"リスト!L72","v":0},{"$f":"リスト!M72","v":0},{"$f":"リスト!N72","v":0}]
[{"$f":"リスト!A73","v":"　"},{"$f":"リスト!B73","v":0},{"$f":"リスト!C73","v":0},{"$f":"リスト!D73","v":0},{"$f":"リスト!E73","v":0},{"$f":"リスト!F73","v":0},{"$f":"リスト!G73","v":0},{"$f":"リスト!H73","v":0},{"$f":"リスト!I73","v":0},{"$f":"リスト!J73","v":0},{"$f":"リスト!K73","v":0},{"$f":"リスト!L73","v":0},{"$f":"リスト!M73","v":0},{"$f":"リスト!N73","v":0}]
[{"$f":"リスト!A74","v":"　"},{"$f":"リスト!B74","v":0},{"$f":"リスト!C74","v":0},{"$f":"リスト!D74","v":0},{"$f":"リスト!E74","v":0},{"$f":"リスト!F74","v":0},{"$f":"リスト!G74","v":0},{"$f":"リスト!H74","v":0},{"$f":"リスト!I74","v":0},{"$f":"リスト!J74","v":0},{"$f":"リスト!K74","v":0},{"$f":"リスト!L74","v":0},{"$f":"リスト!M74","v":0},{"$f":"リスト!N74","v":0}]
[{"$f":"リスト!A75","v":"　"},{"$f":"リスト!B75","v":0},{"$f":"リスト!C75","v":0},{"$f":"リスト!D75","v":0},{"$f":"リスト!E75","v":0},{"$f":"リスト!F75","v":0},{"$f":"リスト!G75","v":0},{"$f":"リスト!H75","v":0},{"$f":"リスト!I75","v":0},{"$f":"リスト!J75","v":0},{"$f":"リスト!K75","v":0},{"$f":"リスト!L75","v":0},{"$f":"リスト!M75","v":0},{"$f":"リスト!N75","v":0}]
[{"$f":"リスト!A76","v":"　"},{"$f":"リスト!B76","v":0},{"$f":"リスト!C76","v":0},{"$f":"リスト!D76","v":0},{"$f":"リスト!E76","v":0},{"$f":"リスト!F76","v":0},{"$f":"リスト!G76","v":0},{"$f":"リスト!H76","v":0},{"$f":"リスト!I76","v":0},{"$f":"リスト!J76","v":0},{"$f":"リスト!K76","v":0},{"$f":"リスト!L76","v":0},{"$f":"リスト!M76","v":0},{"$f":"リスト!N76","v":0}]
[{"$f":"リスト!A77","v":"　"},{"$f":"リスト!B77","v":0},{"$f":"リスト!C77","v":0},{"$f":"リスト!D77","v":0},{"$f":"リスト!E77","v":0},{"$f":"リスト!F77","v":0},{"$f":"リスト!G77","v":0},{"$f":"リスト!H77","v":0},{"$f":"リスト!I77","v":0},{"$f":"リスト!J77","v":0},{"$f":"リスト!K77","v":0},{"$f":"リスト!L77","v":0},{"$f":"リスト!M77","v":0},{"$f":"リスト!N77","v":0}]
[{"$f":"リスト!A78","v":"　"},{"$f":"リスト!B78","v":0},{"$f":"リスト!C78","v":0},{"$f":"リスト!D78","v":0},{"$f":"リスト!E78","v":0},{"$f":"リスト!F78","v":0},{"$f":"リスト!G78","v":0},{"$f":"リスト!H78","v":0},{"$f":"リスト!I78","v":0},{"$f":"リスト!J78","v":0},{"$f":"リスト!K78","v":0},{"$f":"リスト!L78","v":0},{"$f":"リスト!M78","v":0},{"$f":"リスト!N78","v":0}]
[{"$f":"リスト!A79","v":"　"},{"$f":"リスト!B79","v":0},{"$f":"リスト!C79","v":0},{"$f":"リスト!D79","v":0},{"$f":"リスト!E79","v":0},{"$f":"リスト!F79","v":0},{"$f":"リスト!G79","v":0},{"$f":"リスト!H79","v":0},{"$f":"リスト!I79","v":0},{"$f":"リスト!J79","v":0},{"$f":"リスト!K79","v":0},{"$f":"リスト!L79","v":0},{"$f":"リスト!M79","v":0},{"$f":"リスト!N79","v":0}]
[{"$f":"リスト!A80","v":"　"},{"$f":"リスト!B80","v":0},{"$f":"リスト!C80","v":0},{"$f":"リスト!D80","v":0},{"$f":"リスト!E80","v":0},{"$f":"リスト!F80","v":0},{"$f":"リスト!G80","v":0},{"$f":"リスト!H80","v":0},{"$f":"リスト!I80","v":0},{"$f":"リスト!J80","v":0},{"$f":"リスト!K80","v":0},{"$f":"リスト!L80","v":0},{"$f":"リスト!M80","v":0},{"$f":"リスト!N80","v":0}]
[{"$f":"リスト!A81","v":"　"},{"$f":"リスト!B81","v":0},{"$f":"リスト!C81","v":0},{"$f":"リスト!D81","v":0},{"$f":"リスト!E81","v":0},{"$f":"リスト!F81","v":0},{"$f":"リスト!G81","v":0},{"$f":"リスト!H81","v":0},{"$f":"リスト!I81","v":0},{"$f":"リスト!J81","v":0},{"$f":"リスト!K81","v":0},{"$f":"リスト!L81","v":0},{"$f":"リスト!M81","v":0},{"$f":"リスト!N81","v":0}]
[{"$f":"リスト!A82","v":"　"},{"$f":"リスト!B82","v":0},{"$f":"リスト!C82","v":0},{"$f":"リスト!D82","v":0},{"$f":"リスト!E82","v":0},{"$f":"リスト!F82","v":0},{"$f":"リスト!G82","v":0},{"$f":"リスト!H82","v":0},{"$f":"リスト!I82","v":0},{"$f":"リスト!J82","v":0},{"$f":"リスト!K82","v":0},{"$f":"リスト!L82","v":0},{"$f":"リスト!M82","v":0},{"$f":"リスト!N82","v":0}]
[{"$f":"リスト!A83","v":"　"},{"$f":"リスト!B83","v":0},{"$f":"リスト!C83","v":0},{"$f":"リスト!D83","v":0},{"$f":"リスト!E83","v":0},{"$f":"リスト!F83","v":0},{"$f":"リスト!G83","v":0},{"$f":"リスト!H83","v":0},{"$f":"リスト!I83","v":0},{"$f":"リスト!J83","v":0},{"$f":"リスト!K83","v":0},{"$f":"リスト!L83","v":0},{"$f":"リスト!M83","v":0},{"$f":"リスト!N83","v":0}]
[{"$f":"リスト!A84","v":"　"},{"$f":"リスト!B84","v":0},{"$f":"リスト!C84","v":0},{"$f":"リスト!D84","v":0},{"$f":"リスト!E84","v":0},{"$f":"リスト!F84","v":0},{"$f":"リスト!G84","v":0},{"$f":"リスト!H84","v":0},{"$f":"リスト!I84","v":0},{"$f":"リスト!J84","v":0},{"$f":"リスト!K84","v":0},{"$f":"リスト!L84","v":0},{"$f":"リスト!M84","v":0},{"$f":"リスト!N84","v":0}]
[{"$f":"リスト!A85","v":"　"},{"$f":"リスト!B85","v":0},{"$f":"リスト!C85","v":0},{"$f":"リスト!D85","v":0},{"$f":"リスト!E85","v":0},{"$f":"リスト!F85","v":0},{"$f":"リスト!G85","v":0},{"$f":"リスト!H85","v":0},{"$f":"リスト!I85","v":0},{"$f":"リスト!J85","v":0},{"$f":"リスト!K85","v":0},{"$f":"リスト!L85","v":0},{"$f":"リスト!M85","v":0},{"$f":"リスト!N85","v":0}]
[{"$f":"リスト!A86","v":"　"},{"$f":"リスト!B86","v":0},{"$f":"リスト!C86","v":0},{"$f":"リスト!D86","v":0},{"$f":"リスト!E86","v":0},{"$f":"リスト!F86","v":0},{"$f":"リスト!G86","v":0},{"$f":"リスト!H86","v":0},{"$f":"リスト!I86","v":0},{"$f":"リスト!J86","v":0},{"$f":"リスト!K86","v":0},{"$f":"リスト!L86","v":0},{"$f":"リスト!M86","v":0},{"$f":"リスト!N86","v":0}]
[{"$f":"リスト!A87","v":"　"},{"$f":"リスト!B87","v":0},{"$f":"リスト!C87","v":0},{"$f":"リスト!D87","v":0},{"$f":"リスト!E87","v":0},{"$f":"リスト!F87","v":0},{"$f":"リスト!G87","v":0},{"$f":"リスト!H87","v":0},{"$f":"リスト!I87","v":0},{"$f":"リスト!J87","v":0},{"$f":"リスト!K87","v":0},{"$f":"リスト!L87","v":0},{"$f":"リスト!M87","v":0},{"$f":"リスト!N87","v":0}]
[{"$f":"リスト!A88","v":"　"},{"$f":"リスト!B88","v":0},{"$f":"リスト!C88","v":0},{"$f":"リスト!D88","v":0},{"$f":"リスト!E88","v":0},{"$f":"リスト!F88","v":0},{"$f":"リスト!G88","v":0},{"$f":"リスト!H88","v":0},{"$f":"リスト!I88","v":0},{"$f":"リスト!J88","v":0},{"$f":"リスト!K88","v":0},{"$f":"リスト!L88","v":0},{"$f":"リスト!M88","v":0},{"$f":"リスト!N88","v":0}]
[{"$f":"リスト!A89","v":"　"},{"$f":"リスト!B89","v":0},{"$f":"リスト!C89","v":0},{"$f":"リスト!D89","v":0},{"$f":"リスト!E89","v":0},{"$f":"リスト!F89","v":0},{"$f":"リスト!G89","v":0},{"$f":"リスト!H89","v":0},{"$f":"リスト!I89","v":0},{"$f":"リスト!J89","v":0},{"$f":"リスト!K89","v":0},{"$f":"リスト!L89","v":0},{"$f":"リスト!M89","v":0},{"$f":"リスト!N89","v":0}]
[{"$f":"リスト!A90","v":"　"},{"$f":"リスト!B90","v":0},{"$f":"リスト!C90","v":0},{"$f":"リスト!D90","v":0},{"$f":"リスト!E90","v":0},{"$f":"リスト!F90","v":0},{"$f":"リスト!G90","v":0},{"$f":"リスト!H90","v":0},{"$f":"リスト!I90","v":0},{"$f":"リスト!J90","v":0},{"$f":"リスト!K90","v":0},{"$f":"リスト!L90","v":0},{"$f":"リスト!M90","v":0},{"$f":"リスト!N90","v":0}]
[{"$f":"リスト!A91","v":"　"},{"$f":"リスト!B91","v":0},{"$f":"リスト!C91","v":0},{"$f":"リスト!D91","v":0},{"$f":"リスト!E91","v":0},{"$f":"リスト!F91","v":0},{"$f":"リスト!G91","v":0},{"$f":"リスト!H91","v":0},{"$f":"リスト!I91","v":0},{"$f":"リスト!J91","v":0},{"$f":"リスト!K91","v":0},{"$f":"リスト!L91","v":0},{"$f":"リスト!M91","v":0},{"$f":"リスト!N91","v":0}]
[{"$f":"リスト!A92","v":"　"},{"$f":"リスト!B92","v":0},{"$f":"リスト!C92","v":0},{"$f":"リスト!D92","v":0},{"$f":"リスト!E92","v":0},{"$f":"リスト!F92","v":0},{"$f":"リスト!G92","v":0},{"$f":"リスト!H92","v":0},{"$f":"リスト!I92","v":0},{"$f":"リスト!J92","v":0},{"$f":"リスト!K92","v":0},{"$f":"リスト!L92","v":0},{"$f":"リスト!M92","v":0},{"$f":"リスト!N92","v":0}]
[{"$f":"リスト!A93","v":"　"},{"$f":"リスト!B93","v":0},{"$f":"リスト!C93","v":0},{"$f":"リスト!D93","v":0},{"$f":"リスト!E93","v":0},{"$f":"リスト!F93","v":0},{"$f":"リスト!G93","v":0},{"$f":"リスト!H93","v":0},{"$f":"リスト!I93","v":0},{"$f":"リスト!J93","v":0},{"$f":"リスト!K93","v":0},{"$f":"リスト!L93","v":0},{"$f":"リスト!M93","v":0},{"$f":"リスト!N93","v":0}]
[{"$f":"リスト!A94","v":"　"},{"$f":"リスト!B94","v":0},{"$f":"リスト!C94","v":0},{"$f":"リスト!D94","v":0},{"$f":"リスト!E94","v":0},{"$f":"リスト!F94","v":0},{"$f":"リスト!G94","v":0},{"$f":"リスト!H94","v":0},{"$f":"リスト!I94","v":0},{"$f":"リスト!J94","v":0},{"$f":"リスト!K94","v":0},{"$f":"リスト!L94","v":0},{"$f":"リスト!M94","v":0},{"$f":"リスト!N94","v":0}]
[{"$f":"リスト!A95","v":"　"},{"$f":"リスト!B95","v":0},{"$f":"リスト!C95","v":0},{"$f":"リスト!D95","v":0},{"$f":"リスト!E95","v":0},{"$f":"リスト!F95","v":0},{"$f":"リスト!G95","v":0},{"$f":"リスト!H95","v":0},{"$f":"リスト!I95","v":0},{"$f":"リスト!J95","v":0},{"$f":"リスト!K95","v":0},{"$f":"リスト!L95","v":0},{"$f":"リスト!M95","v":0},{"$f":"リスト!N95","v":0}]
[{"$f":"リスト!A96","v":"　"},{"$f":"リスト!B96","v":0},{"$f":"リスト!C96","v":0},{"$f":"リスト!D96","v":0},{"$f":"リスト!E96","v":0},{"$f":"リスト!F96","v":0},{"$f":"リスト!G96","v":0},{"$f":"リスト!H96","v":0},{"$f":"リスト!I96","v":0},{"$f":"リスト!J96","v":0},{"$f":"リスト!K96","v":0},{"$f":"リスト!L96","v":0},{"$f":"リスト!M96","v":0},{"$f":"リスト!N96","v":0}]
[{"$f":"リスト!A97","v":"　"},{"$f":"リスト!B97","v":0},{"$f":"リスト!C97","v":0},{"$f":"リスト!D97","v":0},{"$f":"リスト!E97","v":0},{"$f":"リスト!F97","v":0},{"$f":"リスト!G97","v":0},{"$f":"リスト!H97","v":0},{"$f":"リスト!I97","v":0},{"$f":"リスト!J97","v":0},{"$f":"リスト!K97","v":0},{"$f":"リスト!L97","v":0},{"$f":"リスト!M97","v":0},{"$f":"リスト!N97","v":0}]
[{"$f":"リスト!A98","v":"　"},{"$f":"リスト!B98","v":0},{"$f":"リスト!C98","v":0},{"$f":"リスト!D98","v":0},{"$f":"リスト!E98","v":0},{"$f":"リスト!F98","v":0},{"$f":"リスト!G98","v":0},{"$f":"リスト!H98","v":0},{"$f":"リスト!I98","v":0},{"$f":"リスト!J98","v":0},{"$f":"リスト!K98","v":0},{"$f":"リスト!L98","v":0},{"$f":"リスト!M98","v":0},{"$f":"リスト!N98","v":0}]
[{"$f":"リスト!A99","v":"　"},{"$f":"リスト!B99","v":0},{"$f":"リスト!C99","v":0},{"$f":"リスト!D99","v":0},{"$f":"リスト!E99","v":0},{"$f":"リスト!F99","v":0},{"$f":"リスト!G99","v":0},{"$f":"リスト!H99","v":0},{"$f":"リスト!I99","v":0},{"$f":"リスト!J99","v":0},{"$f":"リスト!K99","v":0},{"$f":"リスト!L99","v":0},{"$f":"リスト!M99","v":0},{"$f":"リスト!N99","v":0}]
[{"$f":"リスト!A100","v":"　"},{"$f":"リスト!B100","v":0},{"$f":"リスト!C100","v":0},{"$f":"リスト!D100","v":0},{"$f":"リスト!E100","v":0},{"$f":"リスト!F100","v":0},{"$f":"リスト!G100","v":0},{"$f":"リスト!H100","v":0},{"$f":"リスト!I100","v":0},{"$f":"リスト!J100","v":0},{"$f":"リスト!K100","v":0},{"$f":"リスト!L100","v":0},{"$f":"リスト!M100","v":0},{"$f":"リスト!N100","v":0}]
[{"$f":"リスト!A101","v":"　"},{"$f":"リスト!B101","v":0},{"$f":"リスト!C101","v":0},{"$f":"リスト!D101","v":0},{"$f":"リスト!E101","v":0},{"$f":"リスト!F101","v":0},{"$f":"リスト!G101","v":0},{"$f":"リスト!H101","v":0},{"$f":"リスト!I101","v":0},{"$f":"リスト!J101","v":0},{"$f":"リスト!K101","v":0},{"$f":"リスト!L101","v":0},{"$f":"リスト!M101","v":0},{"$f":"リスト!N101","v":0}]
[{"$f":"リスト!A102","v":"　"},{"$f":"リスト!B102","v":0},{"$f":"リスト!C102","v":0},{"$f":"リスト!D102","v":0},{"$f":"リスト!E102","v":0},{"$f":"リスト!F102","v":0},{"$f":"リスト!G102","v":0},{"$f":"リスト!H102","v":0},{"$f":"リスト!I102","v":0},{"$f":"リスト!J102","v":0},{"$f":"リスト!K102","v":0},{"$f":"リスト!L102","v":0},{"$f":"リスト!M102","v":0},{"$f":"リスト!N102","v":0}]
[{"$f":"リスト!A103","v":"　"},{"$f":"リスト!B103","v":0},{"$f":"リスト!C103","v":0},{"$f":"リスト!D103","v":0},{"$f":"リスト!E103","v":0},{"$f":"リスト!F103","v":0},{"$f":"リスト!G103","v":0},{"$f":"リスト!H103","v":0},{"$f":"リスト!I103","v":0},{"$f":"リスト!J103","v":0},{"$f":"リスト!K103","v":0},{"$f":"リスト!L103","v":0},{"$f":"リスト!M103","v":0},{"$f":"リスト!N103","v":0}]
[{"$f":"リスト!A104","v":"　"},{"$f":"リスト!B104","v":0},{"$f":"リスト!C104","v":0},{"$f":"リスト!D104","v":0},{"$f":"リスト!E104","v":0},{"$f":"リスト!F104","v":0},{"$f":"リスト!G104","v":0},{"$f":"リスト!H104","v":0},{"$f":"リスト!I104","v":0},{"$f":"リスト!J104","v":0},{"$f":"リスト!K104","v":0},{"$f":"リスト!L104","v":0},{"$f":"リスト!M104","v":0},{"$f":"リスト!N104","v":0}]
[{"$f":"リスト!A105","v":"　"},{"$f":"リスト!B105","v":0},{"$f":"リスト!C105","v":0},{"$f":"リスト!D105","v":0},{"$f":"リスト!E105","v":0},{"$f":"リスト!F105","v":0},{"$f":"リスト!G105","v":0},{"$f":"リスト!H105","v":0},{"$f":"リスト!I105","v":0},{"$f":"リスト!J105","v":0},{"$f":"リスト!K105","v":0},{"$f":"リスト!L105","v":0},{"$f":"リスト!M105","v":0},{"$f":"リスト!N105","v":0}]
[{"$f":"リスト!A106","v":"　"},{"$f":"リスト!B106","v":0},{"$f":"リスト!C106","v":0},{"$f":"リスト!D106","v":0},{"$f":"リスト!E106","v":0},{"$f":"リスト!F106","v":0},{"$f":"リスト!G106","v":0},{"$f":"リスト!H106","v":0},{"$f":"リスト!I106","v":0},{"$f":"リスト!J106","v":0},{"$f":"リスト!K106","v":0},{"$f":"リスト!L106","v":0},{"$f":"リスト!M106","v":0},{"$f":"リスト!N106","v":0}]
[{"$f":"リスト!A107","v":"　"},{"$f":"リスト!B107","v":0},{"$f":"リスト!C107","v":0},{"$f":"リスト!D107","v":0},{"$f":"リスト!E107","v":0},{"$f":"リスト!F107","v":0},{"$f":"リスト!G107","v":0},{"$f":"リスト!H107","v":0},{"$f":"リスト!I107","v":0},{"$f":"リスト!J107","v":0},{"$f":"リスト!K107","v":0},{"$f":"リスト!L107","v":0},{"$f":"リスト!M107","v":0},{"$f":"リスト!N107","v":0}]
[{"$f":"リスト!A108","v":"　"},{"$f":"リスト!B108","v":0},{"$f":"リスト!C108","v":0},{"$f":"リスト!D108","v":0},{"$f":"リスト!E108","v":0},{"$f":"リスト!F108","v":0},{"$f":"リスト!G108","v":0},{"$f":"リスト!H108","v":0},{"$f":"リスト!I108","v":0},{"$f":"リスト!J108","v":0},{"$f":"リスト!K108","v":0},{"$f":"リスト!L108","v":0},{"$f":"リスト!M108","v":0},{"$f":"リスト!N108","v":0}]
[{"$f":"リスト!A109","v":"　"},{"$f":"リスト!B109","v":0},{"$f":"リスト!C109","v":0},{"$f":"リスト!D109","v":0},{"$f":"リスト!E109","v":0},{"$f":"リスト!F109","v":0},{"$f":"リスト!G109","v":0},{"$f":"リスト!H109","v":0},{"$f":"リスト!I109","v":0},{"$f":"リスト!J109","v":0},{"$f":"リスト!K109","v":0},{"$f":"リスト!L109","v":0},{"$f":"リスト!M109","v":0},{"$f":"リスト!N109","v":0}]
[{"$f":"リスト!A110","v":"　"},{"$f":"リスト!B110","v":0},{"$f":"リスト!C110","v":0},{"$f":"リスト!D110","v":0},{"$f":"リスト!E110","v":0},{"$f":"リスト!F110","v":0},{"$f":"リスト!G110","v":0},{"$f":"リスト!H110","v":0},{"$f":"リスト!I110","v":0},{"$f":"リスト!J110","v":0},{"$f":"リスト!K110","v":0},{"$f":"リスト!L110","v":0},{"$f":"リスト!M110","v":0},{"$f":"リスト!N110","v":0}]
[{"$f":"リスト!A111","v":"　"},{"$f":"リスト!B111","v":0},{"$f":"リスト!C111","v":0},{"$f":"リスト!D111","v":0},{"$f":"リスト!E111","v":0},{"$f":"リスト!F111","v":0},{"$f":"リスト!G111","v":0},{"$f":"リスト!H111","v":0},{"$f":"リスト!I111","v":0},{"$f":"リスト!J111","v":0},{"$f":"リスト!K111","v":0},{"$f":"リスト!L111","v":0},{"$f":"リスト!M111","v":0},{"$f":"リスト!N111","v":0}]
[{"$f":"リスト!A112","v":"　"},{"$f":"リスト!B112","v":0},{"$f":"リスト!C112","v":0},{"$f":"リスト!D112","v":0},{"$f":"リスト!E112","v":0},{"$f":"リスト!F112","v":0},{"$f":"リスト!G112","v":0},{"$f":"リスト!H112","v":0},{"$f":"リスト!I112","v":0},{"$f":"リスト!J112","v":0},{"$f":"リスト!K112","v":0},{"$f":"リスト!L112","v":0},{"$f":"リスト!M112","v":0},{"$f":"リスト!N112","v":0}]
[{"$f":"リスト!A113","v":"　"},{"$f":"リスト!B113","v":0},{"$f":"リスト!C113","v":0},{"$f":"リスト!D113","v":0},{"$f":"リスト!E113","v":0},{"$f":"リスト!F113","v":0},{"$f":"リスト!G113","v":0},{"$f":"リスト!H113","v":0},{"$f":"リスト!I113","v":0},{"$f":"リスト!J113","v":0},{"$f":"リスト!K113","v":0},{"$f":"リスト!L113","v":0},{"$f":"リスト!M113","v":0},{"$f":"リスト!N113","v":0}]
[{"$f":"リスト!A114","v":"　"},{"$f":"リスト!B114","v":0},{"$f":"リスト!C114","v":0},{"$f":"リスト!D114","v":0},{"$f":"リスト!E114","v":0},{"$f":"リスト!F114","v":0},{"$f":"リスト!G114","v":0},{"$f":"リスト!H114","v":0},{"$f":"リスト!I114","v":0},{"$f":"リスト!J114","v":0},{"$f":"リスト!K114","v":0},{"$f":"リスト!L114","v":0},{"$f":"リスト!M114","v":0},{"$f":"リスト!N114","v":0}]
[{"$f":"リスト!A115","v":"　"},{"$f":"リスト!B115","v":0},{"$f":"リスト!C115","v":0},{"$f":"リスト!D115","v":0},{"$f":"リスト!E115","v":0},{"$f":"リスト!F115","v":0},{"$f":"リスト!G115","v":0},{"$f":"リスト!H115","v":0},{"$f":"リスト!I115","v":0},{"$f":"リスト!J115","v":0},{"$f":"リスト!K115","v":0},{"$f":"リスト!L115","v":0},{"$f":"リスト!M115","v":0},{"$f":"リスト!N115","v":0}]
[{"$f":"リスト!A116","v":"　"},{"$f":"リスト!B116","v":0},{"$f":"リスト!C116","v":0},{"$f":"リスト!D116","v":0},{"$f":"リスト!E116","v":0},{"$f":"リスト!F116","v":0},{"$f":"リスト!G116","v":0},{"$f":"リスト!H116","v":0},{"$f":"リスト!I116","v":0},{"$f":"リスト!J116","v":0},{"$f":"リスト!K116","v":0},{"$f":"リスト!L116","v":0},{"$f":"リスト!M116","v":0},{"$f":"リスト!N116","v":0}]
[{"$f":"リスト!A117","v":"　"},{"$f":"リスト!B117","v":0},{"$f":"リスト!C117","v":0},{"$f":"リスト!D117","v":0},{"$f":"リスト!E117","v":0},{"$f":"リスト!F117","v":0},{"$f":"リスト!G117","v":0},{"$f":"リスト!H117","v":0},{"$f":"リスト!I117","v":0},{"$f":"リスト!J117","v":0},{"$f":"リスト!K117","v":0},{"$f":"リスト!L117","v":0},{"$f":"リスト!M117","v":0},{"$f":"リスト!N117","v":0}]
[{"$f":"リスト!A118","v":"　"},{"$f":"リスト!B118","v":0},{"$f":"リスト!C118","v":0},{"$f":"リスト!D118","v":0},{"$f":"リスト!E118","v":0},{"$f":"リスト!F118","v":0},{"$f":"リスト!G118","v":0},{"$f":"リスト!H118","v":0},{"$f":"リスト!I118","v":0},{"$f":"リスト!J118","v":0},{"$f":"リスト!K118","v":0},{"$f":"リスト!L118","v":0},{"$f":"リスト!M118","v":0},{"$f":"リスト!N118","v":0}]
[{"$f":"リスト!A119","v":"　"},{"$f":"リスト!B119","v":0},{"$f":"リスト!C119","v":0},{"$f":"リスト!D119","v":0},{"$f":"リスト!E119","v":0},{"$f":"リスト!F119","v":0},{"$f":"リスト!G119","v":0},{"$f":"リスト!H119","v":0},{"$f":"リスト!I119","v":0},{"$f":"リスト!J119","v":0},{"$f":"リスト!K119","v":0},{"$f":"リスト!L119","v":0},{"$f":"リスト!M119","v":0},{"$f":"リスト!N119","v":0}]
[{"$f":"リスト!A120","v":"　"},{"$f":"リスト!B120","v":0},{"$f":"リスト!C120","v":0},{"$f":"リスト!D120","v":0},{"$f":"リスト!E120","v":0},{"$f":"リスト!F120","v":0},{"$f":"リスト!G120","v":0},{"$f":"リスト!H120","v":0},{"$f":"リスト!I120","v":0},{"$f":"リスト!J120","v":0},{"$f":"リスト!K120","v":0},{"$f":"リスト!L120","v":0},{"$f":"リスト!M120","v":0},{"$f":"リスト!N120","v":0}]
[{"$f":"リスト!A121","v":"　"},{"$f":"リスト!B121","v":0},{"$f":"リスト!C121","v":0},{"$f":"リスト!D121","v":0},{"$f":"リスト!E121","v":0},{"$f":"リスト!F121","v":0},{"$f":"リスト!G121","v":0},{"$f":"リスト!H121","v":0},{"$f":"リスト!I121","v":0},{"$f":"リスト!J121","v":0},{"$f":"リスト!K121","v":0},{"$f":"リスト!L121","v":0},{"$f":"リスト!M121","v":0},{"$f":"リスト!N121","v":0}]
[{"$f":"リスト!A122","v":"　"},{"$f":"リスト!B122","v":0},{"$f":"リスト!C122","v":0},{"$f":"リスト!D122","v":0},{"$f":"リスト!E122","v":0},{"$f":"リスト!F122","v":0},{"$f":"リスト!G122","v":0},{"$f":"リスト!H122","v":0},{"$f":"リスト!I122","v":0},{"$f":"リスト!J122","v":0},{"$f":"リスト!K122","v":0},{"$f":"リスト!L122","v":0},{"$f":"リスト!M122","v":0},{"$f":"リスト!N122","v":0}]
[{"$f":"リスト!A123","v":"　"},{"$f":"リスト!B123","v":0},{"$f":"リスト!C123","v":0},{"$f":"リスト!D123","v":0},{"$f":"リスト!E123","v":0},{"$f":"リスト!F123","v":0},{"$f":"リスト!G123","v":0},{"$f":"リスト!H123","v":0},{"$f":"リスト!I123","v":0},{"$f":"リスト!J123","v":0},{"$f":"リスト!K123","v":0},{"$f":"リスト!L123","v":0},{"$f":"リスト!M123","v":0},{"$f":"リスト!N123","v":0}]
[{"$f":"リスト!A124","v":"　"},{"$f":"リスト!B124","v":0},{"$f":"リスト!C124","v":0},{"$f":"リスト!D124","v":0},{"$f":"リスト!E124","v":0},{"$f":"リスト!F124","v":0},{"$f":"リスト!G124","v":0},{"$f":"リスト!H124","v":0},{"$f":"リスト!I124","v":0},{"$f":"リスト!J124","v":0},{"$f":"リスト!K124","v":0},{"$f":"リスト!L124","v":0},{"$f":"リスト!M124","v":0},{"$f":"リスト!N124","v":0}]
[{"$f":"リスト!A125","v":"　"},{"$f":"リスト!B125","v":0},{"$f":"リスト!C125","v":0},{"$f":"リスト!D125","v":0},{"$f":"リスト!E125","v":0},{"$f":"リスト!F125","v":0},{"$f":"リスト!G125","v":0},{"$f":"リスト!H125","v":0},{"$f":"リスト!I125","v":0},{"$f":"リスト!J125","v":0},{"$f":"リスト!K125","v":0},{"$f":"リスト!L125","v":0},{"$f":"リスト!M125","v":0},{"$f":"リスト!N125","v":0}]
[{"$f":"リスト!A126","v":"　"},{"$f":"リスト!B126","v":0},{"$f":"リスト!C126","v":0},{"$f":"リスト!D126","v":0},{"$f":"リスト!E126","v":0},{"$f":"リスト!F126","v":0},{"$f":"リスト!G126","v":0},{"$f":"リスト!H126","v":0},{"$f":"リスト!I126","v":0},{"$f":"リスト!J126","v":0},{"$f":"リスト!K126","v":0},{"$f":"リスト!L126","v":0},{"$f":"リスト!M126","v":0},{"$f":"リスト!N126","v":0}]
[{"$f":"リスト!A127","v":"　"},{"$f":"リスト!B127","v":0},{"$f":"リスト!C127","v":0},{"$f":"リスト!D127","v":0},{"$f":"リスト!E127","v":0},{"$f":"リスト!F127","v":0},{"$f":"リスト!G127","v":0},{"$f":"リスト!H127","v":0},{"$f":"リスト!I127","v":0},{"$f":"リスト!J127","v":0},{"$f":"リスト!K127","v":0},{"$f":"リスト!L127","v":0},{"$f":"リスト!M127","v":0},{"$f":"リスト!N127","v":0}]
[{"$f":"リスト!A128","v":"　"},{"$f":"リスト!B128","v":0},{"$f":"リスト!C128","v":0},{"$f":"リスト!D128","v":0},{"$f":"リスト!E128","v":0},{"$f":"リスト!F128","v":0},{"$f":"リスト!G128","v":0},{"$f":"リスト!H128","v":0},{"$f":"リスト!I128","v":0},{"$f":"リスト!J128","v":0},{"$f":"リスト!K128","v":0},{"$f":"リスト!L128","v":0},{"$f":"リスト!M128","v":0},{"$f":"リスト!N128","v":0}]
[{"$f":"リスト!A129","v":"　"},{"$f":"リスト!B129","v":0},{"$f":"リスト!C129","v":0},{"$f":"リスト!D129","v":0},{"$f":"リスト!E129","v":0},{"$f":"リスト!F129","v":0},{"$f":"リスト!G129","v":0},{"$f":"リスト!H129","v":0},{"$f":"リスト!I129","v":0},{"$f":"リスト!J129","v":0},{"$f":"リスト!K129","v":0},{"$f":"リスト!L129","v":0},{"$f":"リスト!M129","v":0},{"$f":"リスト!N129","v":0}]
[{"$f":"リスト!A130","v":"　"},{"$f":"リスト!B130","v":0},{"$f":"リスト!C130","v":0},{"$f":"リスト!D130","v":0},{"$f":"リスト!E130","v":0},{"$f":"リスト!F130","v":0},{"$f":"リスト!G130","v":0},{"$f":"リスト!H130","v":0},{"$f":"リスト!I130","v":0},{"$f":"リスト!J130","v":0},{"$f":"リスト!K130","v":0},{"$f":"リスト!L130","v":0},{"$f":"リスト!M130","v":0},{"$f":"リスト!N130","v":0}]
[{"$f":"リスト!A131","v":"　"},{"$f":"リスト!B131","v":0},{"$f":"リスト!C131","v":0},{"$f":"リスト!D131","v":0},{"$f":"リスト!E131","v":0},{"$f":"リスト!F131","v":0},{"$f":"リスト!G131","v":0},{"$f":"リスト!H131","v":0},{"$f":"リスト!I131","v":0},{"$f":"リスト!J131","v":0},{"$f":"リスト!K131","v":0},{"$f":"リスト!L131","v":0},{"$f":"リスト!M131","v":0},{"$f":"リスト!N131","v":0}]
[{"$f":"リスト!A132","v":"　"},{"$f":"リスト!B132","v":0},{"$f":"リスト!C132","v":0},{"$f":"リスト!D132","v":0},{"$f":"リスト!E132","v":0},{"$f":"リスト!F132","v":0},{"$f":"リスト!G132","v":0},{"$f":"リスト!H132","v":0},{"$f":"リスト!I132","v":0},{"$f":"リスト!J132","v":0},{"$f":"リスト!K132","v":0},{"$f":"リスト!L132","v":0},{"$f":"リスト!M132","v":0},{"$f":"リスト!N132","v":0}]
[{"$f":"リスト!A133","v":"　"},{"$f":"リスト!B133","v":0},{"$f":"リスト!C133","v":0},{"$f":"リスト!D133","v":0},{"$f":"リスト!E133","v":0},{"$f":"リスト!F133","v":0},{"$f":"リスト!G133","v":0},{"$f":"リスト!H133","v":0},{"$f":"リスト!I133","v":0},{"$f":"リスト!J133","v":0},{"$f":"リスト!K133","v":0},{"$f":"リスト!L133","v":0},{"$f":"リスト!M133","v":0},{"$f":"リスト!N133","v":0}]
[{"$f":"リスト!A134","v":"　"},{"$f":"リスト!B134","v":0},{"$f":"リスト!C134","v":0},{"$f":"リスト!D134","v":0},{"$f":"リスト!E134","v":0},{"$f":"リスト!F134","v":0},{"$f":"リスト!G134","v":0},{"$f":"リスト!H134","v":0},{"$f":"リスト!I134","v":0},{"$f":"リスト!J134","v":0},{"$f":"リスト!K134","v":0},{"$f":"リスト!L134","v":0},{"$f":"リスト!M134","v":0},{"$f":"リスト!N134","v":0}]
[{"$f":"リスト!A135","v":"　"},{"$f":"リスト!B135","v":0},{"$f":"リスト!C135","v":0},{"$f":"リスト!D135","v":0},{"$f":"リスト!E135","v":0},{"$f":"リスト!F135","v":0},{"$f":"リスト!G135","v":0},{"$f":"リスト!H135","v":0},{"$f":"リスト!I135","v":0},{"$f":"リスト!J135","v":0},{"$f":"リスト!K135","v":0},{"$f":"リスト!L135","v":0},{"$f":"リスト!M135","v":0},{"$f":"リスト!N135","v":0}]
[{"$f":"リスト!A136","v":"　"},{"$f":"リスト!B136","v":0},{"$f":"リスト!C136","v":0},{"$f":"リスト!D136","v":0},{"$f":"リスト!E136","v":0},{"$f":"リスト!F136","v":0},{"$f":"リスト!G136","v":0},{"$f":"リスト!H136","v":0},{"$f":"リスト!I136","v":0},{"$f":"リスト!J136","v":0},{"$f":"リスト!K136","v":0},{"$f":"リスト!L136","v":0},{"$f":"リスト!M136","v":0},{"$f":"リスト!N136","v":0}]
[{"$f":"リスト!A137","v":"　"},{"$f":"リスト!B137","v":0},{"$f":"リスト!C137","v":0},{"$f":"リスト!D137","v":0},{"$f":"リスト!E137","v":0},{"$f":"リスト!F137","v":0},{"$f":"リスト!G137","v":0},{"$f":"リスト!H137","v":0},{"$f":"リスト!I137","v":0},{"$f":"リスト!J137","v":0},{"$f":"リスト!K137","v":0},{"$f":"リスト!L137","v":0},{"$f":"リスト!M137","v":0},{"$f":"リスト!N137","v":0}]
[{"$f":"リスト!A138","v":"　"},{"$f":"リスト!B138","v":0},{"$f":"リスト!C138","v":0},{"$f":"リスト!D138","v":0},{"$f":"リスト!E138","v":0},{"$f":"リスト!F138","v":0},{"$f":"リスト!G138","v":0},{"$f":"リスト!H138","v":0},{"$f":"リスト!I138","v":0},{"$f":"リスト!J138","v":0},{"$f":"リスト!K138","v":0},{"$f":"リスト!L138","v":0},{"$f":"リスト!M138","v":0},{"$f":"リスト!N138","v":0}]
[{"$f":"リスト!A139","v":"　"},{"$f":"リスト!B139","v":0},{"$f":"リスト!C139","v":0},{"$f":"リスト!D139","v":0},{"$f":"リスト!E139","v":0},{"$f":"リスト!F139","v":0},{"$f":"リスト!G139","v":0},{"$f":"リスト!H139","v":0},{"$f":"リスト!I139","v":0},{"$f":"リスト!J139","v":0},{"$f":"リスト!K139","v":0},{"$f":"リスト!L139","v":0},{"$f":"リスト!M139","v":0},{"$f":"リスト!N139","v":0}]
[{"$f":"リスト!A140","v":"　"},{"$f":"リスト!B140","v":0},{"$f":"リスト!C140","v":0},{"$f":"リスト!D140","v":0},{"$f":"リスト!E140","v":0},{"$f":"リスト!F140","v":0},{"$f":"リスト!G140","v":0},{"$f":"リスト!H140","v":0},{"$f":"リスト!I140","v":0},{"$f":"リスト!J140","v":0},{"$f":"リスト!K140","v":0},{"$f":"リスト!L140","v":0},{"$f":"リスト!M140","v":0},{"$f":"リスト!N140","v":0}]
[{"$f":"リスト!A141","v":"　"},{"$f":"リスト!B141","v":0},{"$f":"リスト!C141","v":0},{"$f":"リスト!D141","v":0},{"$f":"リスト!E141","v":0},{"$f":"リスト!F141","v":0},{"$f":"リスト!G141","v":0},{"$f":"リスト!H141","v":0},{"$f":"リスト!I141","v":0},{"$f":"リスト!J141","v":0},{"$f":"リスト!K141","v":0},{"$f":"リスト!L141","v":0},{"$f":"リスト!M141","v":0},{"$f":"リスト!N141","v":0}]
[{"$f":"リスト!A142","v":"　"},{"$f":"リスト!B142","v":0},{"$f":"リスト!C142","v":0},{"$f":"リスト!D142","v":0},{"$f":"リスト!E142","v":0},{"$f":"リスト!F142","v":0},{"$f":"リスト!G142","v":0},{"$f":"リスト!H142","v":0},{"$f":"リスト!I142","v":0},{"$f":"リスト!J142","v":0},{"$f":"リスト!K142","v":0},{"$f":"リスト!L142","v":0},{"$f":"リスト!M142","v":0},{"$f":"リスト!N142","v":0}]
[{"$f":"リスト!A143","v":"　"},{"$f":"リスト!B143","v":0},{"$f":"リスト!C143","v":0},{"$f":"リスト!D143","v":0},{"$f":"リスト!E143","v":0},{"$f":"リスト!F143","v":0},{"$f":"リスト!G143","v":0},{"$f":"リスト!H143","v":0},{"$f":"リスト!I143","v":0},{"$f":"リスト!J143","v":0},{"$f":"リスト!K143","v":0},{"$f":"リスト!L143","v":0},{"$f":"リスト!M143","v":0},{"$f":"リスト!N143","v":0}]
[{"$f":"リスト!A144","v":"　"},{"$f":"リスト!B144","v":0},{"$f":"リスト!C144","v":0},{"$f":"リスト!D144","v":0},{"$f":"リスト!E144","v":0},{"$f":"リスト!F144","v":0},{"$f":"リスト!G144","v":0},{"$f":"リスト!H144","v":0},{"$f":"リスト!I144","v":0},{"$f":"リスト!J144","v":0},{"$f":"リスト!K144","v":0},{"$f":"リスト!L144","v":0},{"$f":"リスト!M144","v":0},{"$f":"リスト!N144","v":0}]
[{"$f":"リスト!A145","v":"　"},{"$f":"リスト!B145","v":0},{"$f":"リスト!C145","v":0},{"$f":"リスト!D145","v":0},{"$f":"リスト!E145","v":0},{"$f":"リスト!F145","v":0},{"$f":"リスト!G145","v":0},{"$f":"リスト!H145","v":0},{"$f":"リスト!I145","v":0},{"$f":"リスト!J145","v":0},{"$f":"リスト!K145","v":0},{"$f":"リスト!L145","v":0},{"$f":"リスト!M145","v":0},{"$f":"リスト!N145","v":0}]
[{"$f":"リスト!A146","v":"　"},{"$f":"リスト!B146","v":0},{"$f":"リスト!C146","v":0},{"$f":"リスト!D146","v":0},{"$f":"リスト!E146","v":0},{"$f":"リスト!F146","v":0},{"$f":"リスト!G146","v":0},{"$f":"リスト!H146","v":0},{"$f":"リスト!I146","v":0},{"$f":"リスト!J146","v":0},{"$f":"リスト!K146","v":0},{"$f":"リスト!L146","v":0},{"$f":"リスト!M146","v":0},{"$f":"リスト!N146","v":0}]
[{"$f":"リスト!A147","v":"　"},{"$f":"リスト!B147","v":0},{"$f":"リスト!C147","v":0},{"$f":"リスト!D147","v":0},{"$f":"リスト!E147","v":0},{"$f":"リスト!F147","v":0},{"$f":"リスト!G147","v":0},{"$f":"リスト!H147","v":0},{"$f":"リスト!I147","v":0},{"$f":"リスト!J147","v":0},{"$f":"リスト!K147","v":0},{"$f":"リスト!L147","v":0},{"$f":"リスト!M147","v":0},{"$f":"リスト!N147","v":0}]
[{"$f":"リスト!A148","v":"　"},{"$f":"リスト!B148","v":0},{"$f":"リスト!C148","v":0},{"$f":"リスト!D148","v":0},{"$f":"リスト!E148","v":0},{"$f":"リスト!F148","v":0},{"$f":"リスト!G148","v":0},{"$f":"リスト!H148","v":0},{"$f":"リスト!I148","v":0},{"$f":"リスト!J148","v":0},{"$f":"リスト!K148","v":0},{"$f":"リスト!L148","v":0},{"$f":"リスト!M148","v":0},{"$f":"リスト!N148","v":0}]
[{"$f":"リスト!A149","v":"　"},{"$f":"リスト!B149","v":0},{"$f":"リスト!C149","v":0},{"$f":"リスト!D149","v":0},{"$f":"リスト!E149","v":0},{"$f":"リスト!F149","v":0},{"$f":"リスト!G149","v":0},{"$f":"リスト!H149","v":0},{"$f":"リスト!I149","v":0},{"$f":"リスト!J149","v":0},{"$f":"リスト!K149","v":0},{"$f":"リスト!L149","v":0},{"$f":"リスト!M149","v":0},{"$f":"リスト!N149","v":0}]
[{"$f":"リスト!A150","v":"　"},{"$f":"リスト!B150","v":0},{"$f":"リスト!C150","v":0},{"$f":"リスト!D150","v":0},{"$f":"リスト!E150","v":0},{"$f":"リスト!F150","v":0},{"$f":"リスト!G150","v":0},{"$f":"リスト!H150","v":0},{"$f":"リスト!I150","v":0},{"$f":"リスト!J150","v":0},{"$f":"リスト!K150","v":0},{"$f":"リスト!L150","v":0},{"$f":"リスト!M150","v":0},{"$f":"リスト!N150","v":0}]
[{"$f":"リスト!A151","v":"　"},{"$f":"リスト!B151","v":0},{"$f":"リスト!C151","v":0},{"$f":"リスト!D151","v":0},{"$f":"リスト!E151","v":0},{"$f":"リスト!F151","v":0},{"$f":"リスト!G151","v":0},{"$f":"リスト!H151","v":0},{"$f":"リスト!I151","v":0},{"$f":"リスト!J151","v":0},{"$f":"リスト!K151","v":0},{"$f":"リスト!L151","v":0},{"$f":"リスト!M151","v":0},{"$f":"リスト!N151","v":0}]
[{"$f":"リスト!A152","v":"　"},{"$f":"リスト!B152","v":0},{"$f":"リスト!C152","v":0},{"$f":"リスト!D152","v":0},{"$f":"リスト!E152","v":0},{"$f":"リスト!F152","v":0},{"$f":"リスト!G152","v":0},{"$f":"リスト!H152","v":0},{"$f":"リスト!I152","v":0},{"$f":"リスト!J152","v":0},{"$f":"リスト!K152","v":0},{"$f":"リスト!L152","v":0},{"$f":"リスト!M152","v":0},{"$f":"リスト!N152","v":0}]
[{"$f":"リスト!A153","v":"　"},{"$f":"リスト!B153","v":0},{"$f":"リスト!C153","v":0},{"$f":"リスト!D153","v":0},{"$f":"リスト!E153","v":0},{"$f":"リスト!F153","v":0},{"$f":"リスト!G153","v":0},{"$f":"リスト!H153","v":0},{"$f":"リスト!I153","v":0},{"$f":"リスト!J153","v":0},{"$f":"リスト!K153","v":0},{"$f":"リスト!L153","v":0},{"$f":"リスト!M153","v":0},{"$f":"リスト!N153","v":0}]
[{"$f":"リスト!A154","v":"　"},{"$f":"リスト!B154","v":0},{"$f":"リスト!C154","v":0},{"$f":"リスト!D154","v":0},{"$f":"リスト!E154","v":0},{"$f":"リスト!F154","v":0},{"$f":"リスト!G154","v":0},{"$f":"リスト!H154","v":0},{"$f":"リスト!I154","v":0},{"$f":"リスト!J154","v":0},{"$f":"リスト!K154","v":0},{"$f":"リスト!L154","v":0},{"$f":"リスト!M154","v":0},{"$f":"リスト!N154","v":0}]
[{"$f":"リスト!A155","v":"　"},{"$f":"リスト!B155","v":0},{"$f":"リスト!C155","v":0},{"$f":"リスト!D155","v":0},{"$f":"リスト!E155","v":0},{"$f":"リスト!F155","v":0},{"$f":"リスト!G155","v":0},{"$f":"リスト!H155","v":0},{"$f":"リスト!I155","v":0},{"$f":"リスト!J155","v":0},{"$f":"リスト!K155","v":0},{"$f":"リスト!L155","v":0},{"$f":"リスト!M155","v":0},{"$f":"リスト!N155","v":0}]
[{"$f":"リスト!A156","v":"　"},{"$f":"リスト!B156","v":0},{"$f":"リスト!C156","v":0},{"$f":"リスト!D156","v":0},{"$f":"リスト!E156","v":0},{"$f":"リスト!F156","v":0},{"$f":"リスト!G156","v":0},{"$f":"リスト!H156","v":0},{"$f":"リスト!I156","v":0},{"$f":"リスト!J156","v":0},{"$f":"リスト!K156","v":0},{"$f":"リスト!L156","v":0},{"$f":"リスト!M156","v":0},{"$f":"リスト!N156","v":0}]
[{"$f":"リスト!A157","v":"　"},{"$f":"リスト!B157","v":0},{"$f":"リスト!C157","v":0},{"$f":"リスト!D157","v":0},{"$f":"リスト!E157","v":0},{"$f":"リスト!F157","v":0},{"$f":"リスト!G157","v":0},{"$f":"リスト!H157","v":0},{"$f":"リスト!I157","v":0},{"$f":"リスト!J157","v":0},{"$f":"リスト!K157","v":0},{"$f":"リスト!L157","v":0},{"$f":"リスト!M157","v":0},{"$f":"リスト!N157","v":0}]
[{"$f":"リスト!A158","v":"　"},{"$f":"リスト!B158","v":0},{"$f":"リスト!C158","v":0},{"$f":"リスト!D158","v":0},{"$f":"リスト!E158","v":0},{"$f":"リスト!F158","v":0},{"$f":"リスト!G158","v":0},{"$f":"リスト!H158","v":0},{"$f":"リスト!I158","v":0},{"$f":"リスト!J158","v":0},{"$f":"リスト!K158","v":0},{"$f":"リスト!L158","v":0},{"$f":"リスト!M158","v":0},{"$f":"リスト!N158","v":0}]
[{"$f":"リスト!A159","v":"　"},{"$f":"リスト!B159","v":0},{"$f":"リスト!C159","v":0},{"$f":"リスト!D159","v":0},{"$f":"リスト!E159","v":0},{"$f":"リスト!F159","v":0},{"$f":"リスト!G159","v":0},{"$f":"リスト!H159","v":0},{"$f":"リスト!I159","v":0},{"$f":"リスト!J159","v":0},{"$f":"リスト!K159","v":0},{"$f":"リスト!L159","v":0},{"$f":"リスト!M159","v":0},{"$f":"リスト!N159","v":0}]
[{"$f":"リスト!A160","v":"　"},{"$f":"リスト!B160","v":0},{"$f":"リスト!C160","v":0},{"$f":"リスト!D160","v":0},{"$f":"リスト!E160","v":0},{"$f":"リスト!F160","v":0},{"$f":"リスト!G160","v":0},{"$f":"リスト!H160","v":0},{"$f":"リスト!I160","v":0},{"$f":"リスト!J160","v":0},{"$f":"リスト!K160","v":0},{"$f":"リスト!L160","v":0},{"$f":"リスト!M160","v":0},{"$f":"リスト!N160","v":0}]
[{"$f":"リスト!A161","v":"　"},{"$f":"リスト!B161","v":0},{"$f":"リスト!C161","v":0},{"$f":"リスト!D161","v":0},{"$f":"リスト!E161","v":0},{"$f":"リスト!F161","v":0},{"$f":"リスト!G161","v":0},{"$f":"リスト!H161","v":0},{"$f":"リスト!I161","v":0},{"$f":"リスト!J161","v":0},{"$f":"リスト!K161","v":0},{"$f":"リスト!L161","v":0},{"$f":"リスト!M161","v":0},{"$f":"リスト!N161","v":0}]
[{"$f":"リスト!A162","v":"　"},{"$f":"リスト!B162","v":0},{"$f":"リスト!C162","v":0},{"$f":"リスト!D162","v":0},{"$f":"リスト!E162","v":0},{"$f":"リスト!F162","v":0},{"$f":"リスト!G162","v":0},{"$f":"リスト!H162","v":0},{"$f":"リスト!I162","v":0},{"$f":"リスト!J162","v":0},{"$f":"リスト!K162","v":0},{"$f":"リスト!L162","v":0},{"$f":"リスト!M162","v":0},{"$f":"リスト!N162","v":0}]
[{"$f":"リスト!A163","v":"　"},{"$f":"リスト!B163","v":0},{"$f":"リスト!C163","v":0},{"$f":"リスト!D163","v":0},{"$f":"リスト!E163","v":0},{"$f":"リスト!F163","v":0},{"$f":"リスト!G163","v":0},{"$f":"リスト!H163","v":0},{"$f":"リスト!I163","v":0},{"$f":"リスト!J163","v":0},{"$f":"リスト!K163","v":0},{"$f":"リスト!L163","v":0},{"$f":"リスト!M163","v":0},{"$f":"リスト!N163","v":0}]
[{"$f":"リスト!A164","v":"　"},{"$f":"リスト!B164","v":0},{"$f":"リスト!C164","v":0},{"$f":"リスト!D164","v":0},{"$f":"リスト!E164","v":0},{"$f":"リスト!F164","v":0},{"$f":"リスト!G164","v":0},{"$f":"リスト!H164","v":0},{"$f":"リスト!I164","v":0},{"$f":"リスト!J164","v":0},{"$f":"リスト!K164","v":0},{"$f":"リスト!L164","v":0},{"$f":"リスト!M164","v":0},{"$f":"リスト!N164","v":0}]
[{"$f":"リスト!A165","v":"　"},{"$f":"リスト!B165","v":0},{"$f":"リスト!C165","v":0},{"$f":"リスト!D165","v":0},{"$f":"リスト!E165","v":0},{"$f":"リスト!F165","v":0},{"$f":"リスト!G165","v":0},{"$f":"リスト!H165","v":0},{"$f":"リスト!I165","v":0},{"$f":"リスト!J165","v":0},{"$f":"リスト!K165","v":0},{"$f":"リスト!L165","v":0},{"$f":"リスト!M165","v":0},{"$f":"リスト!N165","v":0}]
[{"$f":"リスト!A166","v":"　"},{"$f":"リスト!B166","v":0},{"$f":"リスト!C166","v":0},{"$f":"リスト!D166","v":0},{"$f":"リスト!E166","v":0},{"$f":"リスト!F166","v":0},{"$f":"リスト!G166","v":0},{"$f":"リスト!H166","v":0},{"$f":"リスト!I166","v":0},{"$f":"リスト!J166","v":0},{"$f":"リスト!K166","v":0},{"$f":"リスト!L166","v":0},{"$f":"リスト!M166","v":0},{"$f":"リスト!N166","v":0}]
[{"$f":"リスト!A167","v":"　"},{"$f":"リスト!B167","v":0},{"$f":"リスト!C167","v":0},{"$f":"リスト!D167","v":0},{"$f":"リスト!E167","v":0},{"$f":"リスト!F167","v":0},{"$f":"リスト!G167","v":0},{"$f":"リスト!H167","v":0},{"$f":"リスト!I167","v":0},{"$f":"リスト!J167","v":0},{"$f":"リスト!K167","v":0},{"$f":"リスト!L167","v":0},{"$f":"リスト!M167","v":0},{"$f":"リスト!N167","v":0}]
[{"$f":"リスト!A168","v":"　"},{"$f":"リスト!B168","v":0},{"$f":"リスト!C168","v":0},{"$f":"リスト!D168","v":0},{"$f":"リスト!E168","v":0},{"$f":"リスト!F168","v":0},{"$f":"リスト!G168","v":0},{"$f":"リスト!H168","v":0},{"$f":"リスト!I168","v":0},{"$f":"リスト!J168","v":0},{"$f":"リスト!K168","v":0},{"$f":"リスト!L168","v":0},{"$f":"リスト!M168","v":0},{"$f":"リスト!N168","v":0}]
[{"$f":"リスト!A169","v":"　"},{"$f":"リスト!B169","v":0},{"$f":"リスト!C169","v":0},{"$f":"リスト!D169","v":0},{"$f":"リスト!E169","v":0},{"$f":"リスト!F169","v":0},{"$f":"リスト!G169","v":0},{"$f":"リスト!H169","v":0},{"$f":"リスト!I169","v":0},{"$f":"リスト!J169","v":0},{"$f":"リスト!K169","v":0},{"$f":"リスト!L169","v":0},{"$f":"リスト!M169","v":0},{"$f":"リスト!N169","v":0}]
[{"$f":"リスト!A170","v":"　"},{"$f":"リスト!B170","v":0},{"$f":"リスト!C170","v":0},{"$f":"リスト!D170","v":0},{"$f":"リスト!E170","v":0},{"$f":"リスト!F170","v":0},{"$f":"リスト!G170","v":0},{"$f":"リスト!H170","v":0},{"$f":"リスト!I170","v":0},{"$f":"リスト!J170","v":0},{"$f":"リスト!K170","v":0},{"$f":"リスト!L170","v":0},{"$f":"リスト!M170","v":0},{"$f":"リスト!N170","v":0}]
[{"$f":"リスト!A171","v":"　"},{"$f":"リスト!B171","v":0},{"$f":"リスト!C171","v":0},{"$f":"リスト!D171","v":0},{"$f":"リスト!E171","v":0},{"$f":"リスト!F171","v":0},{"$f":"リスト!G171","v":0},{"$f":"リスト!H171","v":0},{"$f":"リスト!I171","v":0},{"$f":"リスト!J171","v":0},{"$f":"リスト!K171","v":0},{"$f":"リスト!L171","v":0},{"$f":"リスト!M171","v":0},{"$f":"リスト!N171","v":0}]
[{"$f":"リスト!A172","v":"　"},{"$f":"リスト!B172","v":0},{"$f":"リスト!C172","v":0},{"$f":"リスト!D172","v":0},{"$f":"リスト!E172","v":0},{"$f":"リスト!F172","v":0},{"$f":"リスト!G172","v":0},{"$f":"リスト!H172","v":0},{"$f":"リスト!I172","v":0},{"$f":"リスト!J172","v":0},{"$f":"リスト!K172","v":0},{"$f":"リスト!L172","v":0},{"$f":"リスト!M172","v":0},{"$f":"リスト!N172","v":0}]
[{"$f":"リスト!A173","v":"　"},{"$f":"リスト!B173","v":0},{"$f":"リスト!C173","v":0},{"$f":"リスト!D173","v":0},{"$f":"リスト!E173","v":0},{"$f":"リスト!F173","v":0},{"$f":"リスト!G173","v":0},{"$f":"リスト!H173","v":0},{"$f":"リスト!I173","v":0},{"$f":"リスト!J173","v":0},{"$f":"リスト!K173","v":0},{"$f":"リスト!L173","v":0},{"$f":"リスト!M173","v":0},{"$f":"リスト!N173","v":0}]
[{"$f":"リスト!A174","v":"　"},{"$f":"リスト!B174","v":0},{"$f":"リスト!C174","v":0},{"$f":"リスト!D174","v":0},{"$f":"リスト!E174","v":0},{"$f":"リスト!F174","v":0},{"$f":"リスト!G174","v":0},{"$f":"リスト!H174","v":0},{"$f":"リスト!I174","v":0},{"$f":"リスト!J174","v":0},{"$f":"リスト!K174","v":0},{"$f":"リスト!L174","v":0},{"$f":"リスト!M174","v":0},{"$f":"リスト!N174","v":0}]
[{"$f":"リスト!A175","v":"　"},{"$f":"リスト!B175","v":0},{"$f":"リスト!C175","v":0},{"$f":"リスト!D175","v":0},{"$f":"リスト!E175","v":0},{"$f":"リスト!F175","v":0},{"$f":"リスト!G175","v":0},{"$f":"リスト!H175","v":0},{"$f":"リスト!I175","v":0},{"$f":"リスト!J175","v":0},{"$f":"リスト!K175","v":0},{"$f":"リスト!L175","v":0},{"$f":"リスト!M175","v":0},{"$f":"リスト!N175","v":0}]
[{"$f":"リスト!A176","v":"　"},{"$f":"リスト!B176","v":0},{"$f":"リスト!C176","v":0},{"$f":"リスト!D176","v":0},{"$f":"リスト!E176","v":0},{"$f":"リスト!F176","v":0},{"$f":"リスト!G176","v":0},{"$f":"リスト!H176","v":0},{"$f":"リスト!I176","v":0},{"$f":"リスト!J176","v":0},{"$f":"リスト!K176","v":0},{"$f":"リスト!L176","v":0},{"$f":"リスト!M176","v":0},{"$f":"リスト!N176","v":0}]
[{"$f":"リスト!A177","v":"　"},{"$f":"リスト!B177","v":0},{"$f":"リスト!C177","v":0},{"$f":"リスト!D177","v":0},{"$f":"リスト!E177","v":0},{"$f":"リスト!F177","v":0},{"$f":"リスト!G177","v":0},{"$f":"リスト!H177","v":0},{"$f":"リスト!I177","v":0},{"$f":"リスト!J177","v":0},{"$f":"リスト!K177","v":0},{"$f":"リスト!L177","v":0},{"$f":"リスト!M177","v":0},{"$f":"リスト!N177","v":0}]
[{"$f":"リスト!A178","v":"　"},{"$f":"リスト!B178","v":0},{"$f":"リスト!C178","v":0},{"$f":"リスト!D178","v":0},{"$f":"リスト!E178","v":0},{"$f":"リスト!F178","v":0},{"$f":"リスト!G178","v":0},{"$f":"リスト!H178","v":0},{"$f":"リスト!I178","v":0},{"$f":"リスト!J178","v":0},{"$f":"リスト!K178","v":0},{"$f":"リスト!L178","v":0},{"$f":"リスト!M178","v":0},{"$f":"リスト!N178","v":0}]
[{"$f":"リスト!A179","v":"　"},{"$f":"リスト!B179","v":0},{"$f":"リスト!C179","v":0},{"$f":"リスト!D179","v":0},{"$f":"リスト!E179","v":0},{"$f":"リスト!F179","v":0},{"$f":"リスト!G179","v":0},{"$f":"リスト!H179","v":0},{"$f":"リスト!I179","v":0},{"$f":"リスト!J179","v":0},{"$f":"リスト!K179","v":0},{"$f":"リスト!L179","v":0},{"$f":"リスト!M179","v":0},{"$f":"リスト!N179","v":0}]
[{"$f":"リスト!A180","v":"　"},{"$f":"リスト!B180","v":0},{"$f":"リスト!C180","v":0},{"$f":"リスト!D180","v":0},{"$f":"リスト!E180","v":0},{"$f":"リスト!F180","v":0},{"$f":"リスト!G180","v":0},{"$f":"リスト!H180","v":0},{"$f":"リスト!I180","v":0},{"$f":"リスト!J180","v":0},{"$f":"リスト!K180","v":0},{"$f":"リスト!L180","v":0},{"$f":"リスト!M180","v":0},{"$f":"リスト!N180","v":0}]
[{"$f":"リスト!A181","v":"　"},{"$f":"リスト!B181","v":0},{"$f":"リスト!C181","v":0},{"$f":"リスト!D181","v":0},{"$f":"リスト!E181","v":0},{"$f":"リスト!F181","v":0},{"$f":"リスト!G181","v":0},{"$f":"リスト!H181","v":0},{"$f":"リスト!I181","v":0},{"$f":"リスト!J181","v":0},{"$f":"リスト!K181","v":0},{"$f":"リスト!L181","v":0},{"$f":"リスト!M181","v":0},{"$f":"リスト!N181","v":0}]
[{"$f":"リスト!A182","v":"　"},{"$f":"リスト!B182","v":0},{"$f":"リスト!C182","v":0},{"$f":"リスト!D182","v":0},{"$f":"リスト!E182","v":0},{"$f":"リスト!F182","v":0},{"$f":"リスト!G182","v":0},{"$f":"リスト!H182","v":0},{"$f":"リスト!I182","v":0},{"$f":"リスト!J182","v":0},{"$f":"リスト!K182","v":0},{"$f":"リスト!L182","v":0},{"$f":"リスト!M182","v":0},{"$f":"リスト!N182","v":0}]
[{"$f":"リスト!A183","v":"　"},{"$f":"リスト!B183","v":0},{"$f":"リスト!C183","v":0},{"$f":"リスト!D183","v":0},{"$f":"リスト!E183","v":0},{"$f":"リスト!F183","v":0},{"$f":"リスト!G183","v":0},{"$f":"リスト!H183","v":0},{"$f":"リスト!I183","v":0},{"$f":"リスト!J183","v":0},{"$f":"リスト!K183","v":0},{"$f":"リスト!L183","v":0},{"$f":"リスト!M183","v":0},{"$f":"リスト!N183","v":0}]
[{"$f":"リスト!A184","v":"　"},{"$f":"リスト!B184","v":0},{"$f":"リスト!C184","v":0},{"$f":"リスト!D184","v":0},{"$f":"リスト!E184","v":0},{"$f":"リスト!F184","v":0},{"$f":"リスト!G184","v":0},{"$f":"リスト!H184","v":0},{"$f":"リスト!I184","v":0},{"$f":"リスト!J184","v":0},{"$f":"リスト!K184","v":0},{"$f":"リスト!L184","v":0},{"$f":"リスト!M184","v":0},{"$f":"リスト!N184","v":0}]
[{"$f":"リスト!A185","v":"　"},{"$f":"リスト!B185","v":0},{"$f":"リスト!C185","v":0},{"$f":"リスト!D185","v":0},{"$f":"リスト!E185","v":0},{"$f":"リスト!F185","v":0},{"$f":"リスト!G185","v":0},{"$f":"リスト!H185","v":0},{"$f":"リスト!I185","v":0},{"$f":"リスト!J185","v":0},{"$f":"リスト!K185","v":0},{"$f":"リスト!L185","v":0},{"$f":"リスト!M185","v":0},{"$f":"リスト!N185","v":0}]
[{"$f":"リスト!A186","v":"　"},{"$f":"リスト!B186","v":0},{"$f":"リスト!C186","v":0},{"$f":"リスト!D186","v":0},{"$f":"リスト!E186","v":0},{"$f":"リスト!F186","v":0},{"$f":"リスト!G186","v":0},{"$f":"リスト!H186","v":0},{"$f":"リスト!I186","v":0},{"$f":"リスト!J186","v":0},{"$f":"リスト!K186","v":0},{"$f":"リスト!L186","v":0},{"$f":"リスト!M186","v":0},{"$f":"リスト!N186","v":0}]
[{"$f":"リスト!A187","v":"　"},{"$f":"リスト!B187","v":0},{"$f":"リスト!C187","v":0},{"$f":"リスト!D187","v":0},{"$f":"リスト!E187","v":0},{"$f":"リスト!F187","v":0},{"$f":"リスト!G187","v":0},{"$f":"リスト!H187","v":0},{"$f":"リスト!I187","v":0},{"$f":"リスト!J187","v":0},{"$f":"リスト!K187","v":0},{"$f":"リスト!L187","v":0},{"$f":"リスト!M187","v":0},{"$f":"リスト!N187","v":0}]
[{"$f":"リスト!A188","v":"　"},{"$f":"リスト!B188","v":0},{"$f":"リスト!C188","v":0},{"$f":"リスト!D188","v":0},{"$f":"リスト!E188","v":0},{"$f":"リスト!F188","v":0},{"$f":"リスト!G188","v":0},{"$f":"リスト!H188","v":0},{"$f":"リスト!I188","v":0},{"$f":"リスト!J188","v":0},{"$f":"リスト!K188","v":0},{"$f":"リスト!L188","v":0},{"$f":"リスト!M188","v":0},{"$f":"リスト!N188","v":0}]
[{"$f":"リスト!A189","v":"　"},{"$f":"リスト!B189","v":0},{"$f":"リスト!C189","v":0},{"$f":"リスト!D189","v":0},{"$f":"リスト!E189","v":0},{"$f":"リスト!F189","v":0},{"$f":"リスト!G189","v":0},{"$f":"リスト!H189","v":0},{"$f":"リスト!I189","v":0},{"$f":"リスト!J189","v":0},{"$f":"リスト!K189","v":0},{"$f":"リスト!L189","v":0},{"$f":"リスト!M189","v":0},{"$f":"リスト!N189","v":0}]
[{"$f":"リスト!A190","v":"　"},{"$f":"リスト!B190","v":0},{"$f":"リスト!C190","v":0},{"$f":"リスト!D190","v":0},{"$f":"リスト!E190","v":0},{"$f":"リスト!F190","v":0},{"$f":"リスト!G190","v":0},{"$f":"リスト!H190","v":0},{"$f":"リスト!I190","v":0},{"$f":"リスト!J190","v":0},{"$f":"リスト!K190","v":0},{"$f":"リスト!L190","v":0},{"$f":"リスト!M190","v":0},{"$f":"リスト!N190","v":0}]
[{"$f":"リスト!A191","v":"　"},{"$f":"リスト!B191","v":0},{"$f":"リスト!C191","v":0},{"$f":"リスト!D191","v":0},{"$f":"リスト!E191","v":0},{"$f":"リスト!F191","v":0},{"$f":"リスト!G191","v":0},{"$f":"リスト!H191","v":0},{"$f":"リスト!I191","v":0},{"$f":"リスト!J191","v":0},{"$f":"リスト!K191","v":0},{"$f":"リスト!L191","v":0},{"$f":"リスト!M191","v":0},{"$f":"リスト!N191","v":0}]
[{"$f":"リスト!A192","v":"　"},{"$f":"リスト!B192","v":0},{"$f":"リスト!C192","v":0},{"$f":"リスト!D192","v":0},{"$f":"リスト!E192","v":0},{"$f":"リスト!F192","v":0},{"$f":"リスト!G192","v":0},{"$f":"リスト!H192","v":0},{"$f":"リスト!I192","v":0},{"$f":"リスト!J192","v":0},{"$f":"リスト!K192","v":0},{"$f":"リスト!L192","v":0},{"$f":"リスト!M192","v":0},{"$f":"リスト!N192","v":0}]
[{"$f":"リスト!A193","v":"　"},{"$f":"リスト!B193","v":0},{"$f":"リスト!C193","v":0},{"$f":"リスト!D193","v":0},{"$f":"リスト!E193","v":0},{"$f":"リスト!F193","v":0},{"$f":"リスト!G193","v":0},{"$f":"リスト!H193","v":0},{"$f":"リスト!I193","v":0},{"$f":"リスト!J193","v":0},{"$f":"リスト!K193","v":0},{"$f":"リスト!L193","v":0},{"$f":"リスト!M193","v":0},{"$f":"リスト!N193","v":0}]
[{"$f":"リスト!A194","v":"　"},{"$f":"リスト!B194","v":0},{"$f":"リスト!C194","v":0},{"$f":"リスト!D194","v":0},{"$f":"リスト!E194","v":0},{"$f":"リスト!F194","v":0},{"$f":"リスト!G194","v":0},{"$f":"リスト!H194","v":0},{"$f":"リスト!I194","v":0},{"$f":"リスト!J194","v":0},{"$f":"リスト!K194","v":0},{"$f":"リスト!L194","v":0},{"$f":"リスト!M194","v":0},{"$f":"リスト!N194","v":0}]
[{"$f":"リスト!A195","v":"　"},{"$f":"リスト!B195","v":0},{"$f":"リスト!C195","v":0},{"$f":"リスト!D195","v":0},{"$f":"リスト!E195","v":0},{"$f":"リスト!F195","v":0},{"$f":"リスト!G195","v":0},{"$f":"リスト!H195","v":0},{"$f":"リスト!I195","v":0},{"$f":"リスト!J195","v":0},{"$f":"リスト!K195","v":0},{"$f":"リスト!L195","v":0},{"$f":"リスト!M195","v":0},{"$f":"リスト!N195","v":0}]
[{"$f":"リスト!A196","v":"　"},{"$f":"リスト!B196","v":0},{"$f":"リスト!C196","v":0},{"$f":"リスト!D196","v":0},{"$f":"リスト!E196","v":0},{"$f":"リスト!F196","v":0},{"$f":"リスト!G196","v":0},{"$f":"リスト!H196","v":0},{"$f":"リスト!I196","v":0},{"$f":"リスト!J196","v":0},{"$f":"リスト!K196","v":0},{"$f":"リスト!L196","v":0},{"$f":"リスト!M196","v":0},{"$f":"リスト!N196","v":0}]
[{"$f":"リスト!A197","v":"　"},{"$f":"リスト!B197","v":0},{"$f":"リスト!C197","v":0},{"$f":"リスト!D197","v":0},{"$f":"リスト!E197","v":0},{"$f":"リスト!F197","v":0},{"$f":"リスト!G197","v":0},{"$f":"リスト!H197","v":0},{"$f":"リスト!I197","v":0},{"$f":"リスト!J197","v":0},{"$f":"リスト!K197","v":0},{"$f":"リスト!L197","v":0},{"$f":"リスト!M197","v":0},{"$f":"リスト!N197","v":0}]
[{"$f":"リスト!A198","v":"　"},{"$f":"リスト!B198","v":0},{"$f":"リスト!C198","v":0},{"$f":"リスト!D198","v":0},{"$f":"リスト!E198","v":0},{"$f":"リスト!F198","v":0},{"$f":"リスト!G198","v":0},{"$f":"リスト!H198","v":0},{"$f":"リスト!I198","v":0},{"$f":"リスト!J198","v":0},{"$f":"リスト!K198","v":0},{"$f":"リスト!L198","v":0},{"$f":"リスト!M198","v":0},{"$f":"リスト!N198","v":0}]
[{"$f":"リスト!A199","v":"　"},{"$f":"リスト!B199","v":0},{"$f":"リスト!C199","v":0},{"$f":"リスト!D199","v":0},{"$f":"リスト!E199","v":0},{"$f":"リスト!F199","v":0},{"$f":"リスト!G199","v":0},{"$f":"リスト!H199","v":0},{"$f":"リスト!I199","v":0},{"$f":"リスト!J199","v":0},{"$f":"リスト!K199","v":0},{"$f":"リスト!L199","v":0},{"$f":"リスト!M199","v":0},{"$f":"リスト!N199","v":0}]
[{"$f":"リスト!A200","v":"　"},{"$f":"リスト!B200","v":0},{"$f":"リスト!C200","v":0},{"$f":"リスト!D200","v":0},{"$f":"リスト!E200","v":0},{"$f":"リスト!F200","v":0},{"$f":"リスト!G200","v":0},{"$f":"リスト!H200","v":0},{"$f":"リスト!I200","v":0},{"$f":"リスト!J200","v":0},{"$f":"リスト!K200","v":0},{"$f":"リスト!L200","v":0},{"$f":"リスト!M200","v":0},{"$f":"リスト!N200","v":0}]
[{"$f":"リスト!A201","v":"　"},{"$f":"リスト!B201","v":0},{"$f":"リスト!C201","v":0},{"$f":"リスト!D201","v":0},{"$f":"リスト!E201","v":0},{"$f":"リスト!F201","v":0},{"$f":"リスト!G201","v":0},{"$f":"リスト!H201","v":0},{"$f":"リスト!I201","v":0},{"$f":"リスト!J201","v":0},{"$f":"リスト!K201","v":0},{"$f":"リスト!L201","v":0},{"$f":"リスト!M201","v":0},{"$f":"リスト!N201","v":0}]