{"text_format":"1","workbook":"xlsx","n_sheets":3,"sheets":["はじめにお読み下さい","リスト","中野優勝旗"],"not_rendered":{"charts":0,"images":6,"macros":1,"external_links":1,"defined_names":6,"comments":0,"pivot_tables":0},"unopened":[],"bounds":{"document_bytes":16777216,"sheet_cells":100000,"rows_first":2000,"rows_last":500,"rows_between":2000,"halvings":0,"cell_chars":16384,"cell_head_chars":4096},"cells_cut":0,"cells_raw":0,"read":"whole","date_system":"1900"}

{"sheet":"はじめにお読み下さい","index":0,"n_rows":57,"n_cols":9,"rows_kept":57,"cut":false,"hidden":false,"merged":[]}
["使い方（はじめにお読みください）"]
[null,"はじめに"]
[null,null,"利用のためにはマクロを有効にする必要があります。マクロが有効になっていない場合には以下の手順を先にお願いします。"]
[null,null,"ただし、お使いのコンピュータ環境によっては、毎回この工程が必要な場合があります。"]
[null,null,"手順：ファイルを開いた直後、下のようなメッセージが出ますので、「オプション」をクリック後、「このコンテンツを有効にする」を選び、「OK」を押して下さい。"]
[]
[]
[]
[]
[]
[]
[]
[]
[]
[]
[]
[]
[]
[]
[]
[]
[null,"（１）　最初に生徒の選択ができるように生徒のリストを作成します。"]
[null,null,"※１度作成しておけば，大会毎に作成する必要はありません。"]
[null,null,"①　シート「リスト」を選択します。"]
[]
[]
[]
[]
[]
[null,null,"②　２・３年生のデータの作成を行います。県連の登録で利用したファイルから取得できます。ボタンを押してファイルを選択して下さい。"]
[]
[null,null,null,null,null,null,null,null,"※　学年において、更新の欄（上段）に学年が入っている生徒のみ取り込みます。"]
[null,null,null,null,null,null,null,null,"（退部や卒業の生徒を取り込まないようにするための対応です）"]
[]
[]
[]
[null,null,"③　１年生のデータ（追加生徒）の作成を行います。県連の登録で利用したファイルから取得できます。ボタンを押してファイルを選択して下さい。"]
[null,null,"　　　※　県連にメールで送るとIDが発行されて返送されます。その返送されたファイルを利用して下さい。"]
[]
[]
[]
[]
[]
[]
[null,"（２）　大会の申し込みを作成します。"]
[null,null,"①　申し込みを行う大会のシートを選択します。"]
[null,null,"②　学校名・引率名等，申し込みに必要な情報を選択します。"]
[null,null,"　　※　学校名・引率名は選択で選べます。４月時の登録名簿を元にしています。"]
[null,null,"③　生徒を選択します。人数の関係で，個人でエントリーする場合は，下に個人用の欄があります。"]
[null,null,"④　申し込みファイルを作成します。シート右のボタンを押して下さい。"]
[]
[]
[]
[]
[null,null,"⑤　このファイルと同じ場所に申し込み用ファイルが作成されますので，そのファイルをメールにて事務局まで送って下さい。"]
[null,null,"　　※　ファイル名は変更せずに送って下さい。"]
[null,null,null,"jimukyoku.ibaraki.kyudo@gmail.com"]

{"sheet":"リスト","index":1,"n_rows":201,"n_cols":25,"rows_kept":201,"cut":false,"hidden":false,"merged":[[0,1,0,2]]}
[null,null,null,null,null,null,null,null,null,null,null,null,null,null,null,null,null,null,"男","女"]
[null,"会員ＩＤ","学年","姓","名","外字有無","せい","めい","男女","生年月日","現在段位","認許日","備考","会員登録日"]
[{"$f":"D3&\"　\"&E3","v":"　"},null,null,null,null,null,null,null,null,null,null,null,null,null,null,{"$f":"D3& \"　\"&E3","v":"　"},{"$f":"C3","v":0},{"$f":"I3","v":0},{"$f":"IF($R3=S$1,1,0)","v":0},{"$f":"IF($R3=T$1,1,0)","v":0},{"$f":"P3","v":"　"},{"$f":"Q3","v":0},1,{"$f":"IF(ISERROR(VLOOKUP($W3,$S$3:$V$201,3,FALSE)),\" \",VLOOKUP($W3,$S$3:$V$201,3,FALSE))","v":" "},{"$f":"IF(ISERROR(VLOOKUP($W3,$T$3:$V$201,2,FALSE)),\" \",VLOOKUP($W3,$T$3:$V$201,2,FALSE))","v":" "}]
[{"$f":"D4&\"　\"&E4","v":"　"},null,null,null,null,null,null,null,null,null,null,null,null,null,null,{"$f":"D4& \"　\"&E4","v":"　"},{"$f":"C4","v":0},{"$f":"I4","v":0},{"$f":"IF($R4=S$1,S3+1,0)","v":0},{"$f":"IF($R4=T$1,T3+1,0)","v":0},{"$f":"P4","v":"　"},{"$f":"Q4","v":0},2,{"$f":"IF(ISERROR(VLOOKUP($W4,$S$3:$V$201,3,FALSE)),\" \",VLOOKUP($W4,$S$3:$V$201,3,FALSE))","v":" "},{"$f":"IF(ISERROR(VLOOKUP($W4,$T$3:$V$201,2,FALSE)),\" \",VLOOKUP($W4,$T$3:$V$201,2,FALSE))","v":" "}]
["　",null,null,null,null,null,null,null,null,null,null,null,null,null,null,"　",0,0,{"$f":"IF($R5=S$1,MAX(S$3:S4)+1,0)","v":0},{"$f":"IF($R5=T$1,MAX(T$3:T4)+1,0)","v":0},"　",0,3," "," "]
["　",null,null,null,null,null,null,null,null,null,null,null,null,null,null,"　",0,0,{"$f":"IF($R6=S$1,MAX(S$3:S5)+1,0)","v":0},{"$f":"IF($R6=T$1,MAX(T$3:T5)+1,0)","v":0},"　",0,4," "," "]
["　",null,null,null,null,null,null,null,null,null,null,null,null,null,null,"　",0,0,{"$f":"IF($R7=S$1,MAX(S$3:S6)+1,0)","v":0},{"$f":"IF($R7=T$1,MAX(T$3:T6)+1,0)","v":0},"　",0,5," "," "]
["　",null,null,null,null,null,null,null,null,null,null,null,null,null,null,"　",0,0,{"$f":"IF($R8=S$1,MAX(S$3:S7)+1,0)","v":0},{"$f":"IF($R8=T$1,MAX(T$3:T7)+1,0)","v":0},"　",0,6," "," "]
["　",null,null,null,null,null,null,null,null,null,null,null,null,null,null,"　",0,0,{"$f":"IF($R9=S$1,MAX(S$3:S8)+1,0)","v":0},{"$f":"IF($R9=T$1,MAX(T$3:T8)+1,0)","v":0},"　",0,7," "," "]
["　",null,null,null,null,null,null,null,null,null,null,null,null,null,null,"　",0,0,{"$f":"IF($R10=S$1,MAX(S$3:S9)+1,0)","v":0},{"$f":"IF($R10=T$1,MAX(T$3:T9)+1,0)","v":0},"　",0,8," "," "]
["　",null,null,null,null,null,null,null,null,null,null,null,null,null,null,"　",0,0,{"$f":"IF($R11=S$1,MAX(S$3:S10)+1,0)","v":0},{"$f":"IF($R11=T$1,MAX(T$3:T10)+1,0)","v":0},"　",0,9," "," "]
["　",null,null,null,null,null,null,null,null,null,null,null,null,null,null,"　",0,0,{"$f":"IF($R12=S$1,MAX(S$3:S11)+1,0)","v":0},{"$f":"IF($R12=T$1,MAX(T$3:T11)+1,0)","v":0},"　",0,10," "," "]
["　",null,null,null,null,null,null,null,null,null,null,null,null,null,null,"　",0,0,{"$f":"IF($R13=S$1,MAX(S$3:S12)+1,0)","v":0},{"$f":"IF($R13=T$1,MAX(T$3:T12)+1,0)","v":0},"　",0,11," "," "]
["　",null,null,null,null,null,null,null,null,null,null,null,null,null,null,"　",0,0,{"$f":"IF($R14=S$1,MAX(S$3:S13)+1,0)","v":0},{"$f":"IF($R14=T$1,MAX(T$3:T13)+1,0)","v":0},"　",0,12," "," "]
["　",null,null,null,null,null,null,null,null,null,null,null,null,null,null,"　",0,0,{"$f":"IF($R15=S$1,MAX(S$3:S14)+1,0)","v":0},{"$f":"IF($R15=T$1,MAX(T$3:T14)+1,0)","v":0},"　",0,13," "," "]
["　",null,null,null,null,null,null,null,null,null,null,null,null,null,null,"　",0,0,{"$f":"IF($R16=S$1,MAX(S$3:S15)+1,0)","v":0},{"$f":"IF($R16=T$1,MAX(T$3:T15)+1,0)","v":0},"　",0,14," "," "]
["　",null,null,null,null,null,null,null,null,null,null,null,null,null,null,"　",0,0,{"$f":"IF($R17=S$1,MAX(S$3:S16)+1,0)","v":0},{"$f":"IF($R17=T$1,MAX(T$3:T16)+1,0)","v":0},"　",0,15," "," "]
["　",null,null,null,null,null,null,null,null,null,null,null,null,null,null,"　",0,0,{"$f":"IF($R18=S$1,MAX(S$3:S17)+1,0)","v":0},{"$f":"IF($R18=T$1,MAX(T$3:T17)+1,0)","v":0},"　",0,16," "," "]
["　",null,null,null,null,null,null,null,null,null,null,null,null,null,null,{"$f":"D19& \"　\"&E19","v":"　"},{"$f":"C19","v":0},{"$f":"I19","v":0},{"$f":"IF($R19=S$1,MAX(S$3:S18)+1,0)","v":0},{"$f":"IF($R19=T$1,MAX(T$3:T18)+1,0)","v":0},{"$f":"P19","v":"　"},{"$f":"Q19","v":0},17," "," "]
["　",null,null,null,null,null,null,null,null,null,null,null,null,null,null,"　",0,0,{"$f":"IF($R20=S$1,MAX(S$3:S19)+1,0)","v":0},{"$f":"IF($R20=T$1,MAX(T$3:T19)+1,0)","v":0},"　",0,18," "," "]
["　",null,null,null,null,null,null,null,null,null,null,null,null,null,null,"　",0,0,{"$f":"IF($R21=S$1,MAX(S$3:S20)+1,0)","v":0},{"$f":"IF($R21=T$1,MAX(T$3:T20)+1,0)","v":0},"　",0,19," "," "]
["　",null,null,null,null,null,null,null,null,null,null,null,null,null,null,"　",0,0,{"$f":"IF($R22=S$1,MAX(S$3:S21)+1,0)","v":0},{"$f":"IF($R22=T$1,MAX(T$3:T21)+1,0)","v":0},"　",0,20," "," "]
["　",null,null,null,null,null,null,null,null,null,null,null,null,null,null,"　",0,0,{"$f":"IF($R23=S$1,MAX(S$3:S22)+1,0)","v":0},{"$f":"IF($R23=T$1,MAX(T$3:T22)+1,0)","v":0},"　",0,21," "," "]
["　",null,null,null,null,null,null,null,null,null,null,null,null,null,null,"　",0,0,{"$f":"IF($R24=S$1,MAX(S$3:S23)+1,0)","v":0},{"$f":"IF($R24=T$1,MAX(T$3:T23)+1,0)","v":0},"　",0,22," "," "]
["　",null,null,null,null,null,null,null,null,null,null,null,null,null,null,"　",0,0,{"$f":"IF($R25=S$1,MAX(S$3:S24)+1,0)","v":0},{"$f":"IF($R25=T$1,MAX(T$3:T24)+1,0)","v":0},"　",0,23," "," "]
["　",null,null,null,null,null,null,null,null,null,null,null,null,null,null,"　",0,0,{"$f":"IF($R26=S$1,MAX(S$3:S25)+1,0)","v":0},{"$f":"IF($R26=T$1,MAX(T$3:T25)+1,0)","v":0},"　",0,24," "," "]
["　",null,null,null,null,null,null,null,null,null,null,null,null,null,null,"　",0,0,{"$f":"IF($R27=S$1,MAX(S$3:S26)+1,0)","v":0},{"$f":"IF($R27=T$1,MAX(T$3:T26)+1,0)","v":0},"　",0,25," "," "]
["　",null,null,null,null,null,null,null,null,null,null,null,null,null,null,"　",0,0,{"$f":"IF($R28=S$1,MAX(S$3:S27)+1,0)","v":0},{"$f":"IF($R28=T$1,MAX(T$3:T27)+1,0)","v":0},"　",0,26," "," "]
["　",null,null,null,null,null,null,null,null,null,null,null,null,null,null,"　",0,0,{"$f":"IF($R29=S$1,MAX(S$3:S28)+1,0)","v":0},{"$f":"IF($R29=T$1,MAX(T$3:T28)+1,0)","v":0},"　",0,27," "," "]
["　",null,null,null,null,null,null,null,null,null,null,null,null,null,null,"　",0,0,{"$f":"IF($R30=S$1,MAX(S$3:S29)+1,0)","v":0},{"$f":"IF($R30=T$1,MAX(T$3:T29)+1,0)","v":0},"　",0,28," "," "]
["　",null,null,null,null,null,null,null,null,null,null,null,null,null,null,"　",0,0,{"$f":"IF($R31=S$1,MAX(S$3:S30)+1,0)","v":0},{"$f":"IF($R31=T$1,MAX(T$3:T30)+1,0)","v":0},"　",0,29," "," "]
["　",null,null,null,null,null,null,null,null,null,null,null,null,null,null,"　",0,0,{"$f":"IF($R32=S$1,MAX(S$3:S31)+1,0)","v":0},{"$f":"IF($R32=T$1,MAX(T$3:T31)+1,0)","v":0},"　",0,30," "," "]
["　",null,null,null,null,null,null,null,null,null,null,null,null,null,null,"　",0,0,{"$f":"IF($R33=S$1,MAX(S$3:S32)+1,0)","v":0},{"$f":"IF($R33=T$1,MAX(T$3:T32)+1,0)","v":0},"　",0,31," "," "]
["　",null,null,null,null,null,null,null,null,null,null,null,null,null,null,"　",0,0,{"$f":"IF($R34=S$1,MAX(S$3:S33)+1,0)","v":0},{"$f":"IF($R34=T$1,MAX(T$3:T33)+1,0)","v":0},"　",0,32," "," "]
["　",null,null,null,null,null,null,null,null,null,null,null,null,null,null,"　",0,0,{"$f":"IF($R35=S$1,MAX(S$3:S34)+1,0)","v":0},{"$f":"IF($R35=T$1,MAX(T$3:T34)+1,0)","v":0},"　",0,33," "," "]
["　",null,null,null,null,null,null,null,null,null,null,null,null,null,null,"　",0,0,{"$f":"IF($R36=S$1,MAX(S$3:S35)+1,0)","v":0},{"$f":"IF($R36=T$1,MAX(T$3:T35)+1,0)","v":0},"　",0,34," "," "]
["　",null,null,null,null,null,null,null,null,null,null,null,null,null,null,"　",0,0,{"$f":"IF($R37=S$1,MAX(S$3:S36)+1,0)","v":0},{"$f":"IF($R37=T$1,MAX(T$3:T36)+1,0)","v":0},"　",0,35," "," "]
["　",null,null,null,null,null,null,null,null,null,null,null,null,null,null,"　",0,0,{"$f":"IF($R38=S$1,MAX(S$3:S37)+1,0)","v":0},{"$f":"IF($R38=T$1,MAX(T$3:T37)+1,0)","v":0},"　",0,36," "," "]
["　",null,null,null,null,null,null,null,null,null,null,null,null,null,null,"　",0,0,{"$f":"IF($R39=S$1,MAX(S$3:S38)+1,0)","v":0},{"$f":"IF($R39=T$1,MAX(T$3:T38)+1,0)","v":0},"　",0,37," "," "]
["　",null,null,null,null,null,null,null,null,null,null,null,null,null,null,"　",0,0,{"$f":"IF($R40=S$1,MAX(S$3:S39)+1,0)","v":0},{"$f":"IF($R40=T$1,MAX(T$3:T39)+1,0)","v":0},"　",0,38," "," "]
["　",null,null,null,null,null,null,null,null,null,null,null,null,null,null,"　",0,0,{"$f":"IF($R41=S$1,MAX(S$3:S40)+1,0)","v":0},{"$f":"IF($R41=T$1,MAX(T$3:T40)+1,0)","v":0},"　",0,39," "," "]
["　",null,null,null,null,null,null,null,null,null,null,null,null,null,null,"　",0,0,{"$f":"IF($R42=S$1,MAX(S$3:S41)+1,0)","v":0},{"$f":"IF($R42=T$1,MAX(T$3:T41)+1,0)","v":0},"　",0,40," "," "]
["　",null,null,null,null,null,null,null,null,null,null,null,null,null,null,"　",0,0,{"$f":"IF($R43=S$1,MAX(S$3:S42)+1,0)","v":0},{"$f":"IF($R43=T$1,MAX(T$3:T42)+1,0)","v":0},"　",0,41," "," "]
["　",null,null,null,null,null,null,null,null,null,null,null,null,null,null,"　",0,0,{"$f":"IF($R44=S$1,MAX(S$3:S43)+1,0)","v":0},{"$f":"IF($R44=T$1,MAX(T$3:T43)+1,0)","v":0},"　",0,42," "," "]
["　",null,null,null,null,null,null,null,null,null,null,null,null,null,null,"　",0,0,{"$f":"IF($R45=S$1,MAX(S$3:S44)+1,0)","v":0},{"$f":"IF($R45=T$1,MAX(T$3:T44)+1,0)","v":0},"　",0,43," "," "]
["　",null,null,null,null,null,null,null,null,null,null,null,null,null,null,"　",0,0,{"$f":"IF($R46=S$1,MAX(S$3:S45)+1,0)","v":0},{"$f":"IF($R46=T$1,MAX(T$3:T45)+1,0)","v":0},"　",0,44," "," "]
["　",null,null,null,null,null,null,null,null,null,null,null,null,null,null,"　",0,0,{"$f":"IF($R47=S$1,MAX(S$3:S46)+1,0)","v":0},{"$f":"IF($R47=T$1,MAX(T$3:T46)+1,0)","v":0},"　",0,45," "," "]
["　",null,null,null,null,null,null,null,null,null,null,null,null,null,null,"　",0,0,{"$f":"IF($R48=S$1,MAX(S$3:S47)+1,0)","v":0},{"$f":"IF($R48=T$1,MAX(T$3:T47)+1,0)","v":0},"　",0,46," "," "]
["　",null,null,null,null,null,null,null,null,null,null,null,null,null,null,"　",0,0,{"$f":"IF($R49=S$1,MAX(S$3:S48)+1,0)","v":0},{"$f":"IF($R49=T$1,MAX(T$3:T48)+1,0)","v":0},"　",0,47," "," "]
["　",null,null,null,null,null,null,null,null,null,null,null,null,null,null,"　",0,0,{"$f":"IF($R50=S$1,MAX(S$3:S49)+1,0)","v":0},{"$f":"IF($R50=T$1,MAX(T$3:T49)+1,0)","v":0},"　",0,48," "," "]
["　",null,null,null,null,null,null,null,null,null,null,null,null,null,null,"　",0,0,{"$f":"IF($R51=S$1,MAX(S$3:S50)+1,0)","v":0},{"$f":"IF($R51=T$1,MAX(T$3:T50)+1,0)","v":0},"　",0,49," "," "]
["　",null,null,null,null,null,null,null,null,null,null,null,null,null,null,"　",0,0,{"$f":"IF($R52=S$1,MAX(S$3:S51)+1,0)","v":0},{"$f":"IF($R52=T$1,MAX(T$3:T51)+1,0)","v":0},"　",0,50," "," "]
["　",null,null,null,null,null,null,null,null,null,null,null,null,null,null,"　",0,0,{"$f":"IF($R53=S$1,MAX(S$3:S52)+1,0)","v":0},{"$f":"IF($R53=T$1,MAX(T$3:T52)+1,0)","v":0},"　",0,51," "," "]
["　",null,null,null,null,null,null,null,null,null,null,null,null,null,null,"　",0,0,{"$f":"IF($R54=S$1,MAX(S$3:S53)+1,0)","v":0},{"$f":"IF($R54=T$1,MAX(T$3:T53)+1,0)","v":0},"　",0,52," "," "]
["　",null,null,null,null,null,null,null,null,null,null,null,null,null,null,"　",0,0,{"$f":"IF($R55=S$1,MAX(S$3:S54)+1,0)","v":0},{"$f":"IF($R55=T$1,MAX(T$3:T54)+1,0)","v":0},"　",0,53," "," "]
["　",null,null,null,null,null,null,null,null,null,null,null,null,null,null,"　",0,0,{"$f":"IF($R56=S$1,MAX(S$3:S55)+1,0)","v":0},{"$f":"IF($R56=T$1,MAX(T$3:T55)+1,0)","v":0},"　",0,54," "," "]
["　",null,null,null,null,null,null,null,null,null,null,null,null,null,null,"　",0,0,{"$f":"IF($R57=S$1,MAX(S$3:S56)+1,0)","v":0},{"$f":"IF($R57=T$1,MAX(T$3:T56)+1,0)","v":0},"　",0,55," "," "]
["　",null,null,null,null,null,null,null,null,null,null,null,null,null,null,"　",0,0,{"$f":"IF($R58=S$1,MAX(S$3:S57)+1,0)","v":0},{"$f":"IF($R58=T$1,MAX(T$3:T57)+1,0)","v":0},"　",0,56," "," "]
["　",null,null,null,null,null,null,null,null,null,null,null,null,null,null,"　",0,0,{"$f":"IF($R59=S$1,MAX(S$3:S58)+1,0)","v":0},{"$f":"IF($R59=T$1,MAX(T$3:T58)+1,0)","v":0},"　",0,57," "," "]
["　",null,null,null,null,null,null,null,null,null,null,null,null,null,null,"　",0,0,{"$f":"IF($R60=S$1,MAX(S$3:S59)+1,0)","v":0},{"$f":"IF($R60=T$1,MAX(T$3:T59)+1,0)","v":0},"　",0,58," "," "]
["　",null,null,null,null,null,null,null,null,null,null,null,null,null,null,"　",0,0,{"$f":"IF($R61=S$1,MAX(S$3:S60)+1,0)","v":0},{"$f":"IF($R61=T$1,MAX(T$3:T60)+1,0)","v":0},"　",0,59," "," "]
["　",null,null,null,null,null,null,null,null,null,null,null,null,null,null,"　",0,0,{"$f":"IF($R62=S$1,MAX(S$3:S61)+1,0)","v":0},{"$f":"IF($R62=T$1,MAX(T$3:T61)+1,0)","v":0},"　",0,60," "," "]
["　",null,null,null,null,null,null,null,null,null,null,null,null,null,null,"　",0,0,{"$f":"IF($R63=S$1,MAX(S$3:S62)+1,0)","v":0},{"$f":"IF($R63=T$1,MAX(T$3:T62)+1,0)","v":0},"　",0,61," "," "]
["　",null,null,null,null,null,null,null,null,null,null,null,null,null,null,"　",0,0,{"$f":"IF($R64=S$1,MAX(S$3:S63)+1,0)","v":0},{"$f":"IF($R64=T$1,MAX(T$3:T63)+1,0)","v":0},"　",0,62," "," "]
["　",null,null,null,null,null,null,null,null,null,null,null,null,null,null,"　",0,0,{"$f":"IF($R65=S$1,MAX(S$3:S64)+1,0)","v":0},{"$f":"IF($R65=T$1,MAX(T$3:T64)+1,0)","v":0},"　",0,63," "," "]
["　",null,null,null,null,null,null,null,null,null,null,null,null,null,null,"　",0,0,{"$f":"IF($R66=S$1,MAX(S$3:S65)+1,0)","v":0},{"$f":"IF($R66=T$1,MAX(T$3:T65)+1,0)","v":0},"　",0,64," "," "]
["　",null,null,null,null,null,null,null,null,null,null,null,null,null,null,"　",0,0,{"$f":"IF($R67=S$1,MAX(S$3:S66)+1,0)","v":0},{"$f":"IF($R67=T$1,MAX(T$3:T66)+1,0)","v":0},"　",0,65," "," "]
[{"$f":"D68&\"　\"&E68","v":"　"},null,null,null,null,null,null,null,null,null,null,null,null,null,null,"　",0,0,{"$f":"IF($R68=S$1,MAX(S$3:S67)+1,0)","v":0},{"$f":"IF($R68=T$1,MAX(T$3:T67)+1,0)","v":0},"　",0,66,{"$f":"IF(ISERROR(VLOOKUP($W68,$S$3:$V$201,3,FALSE)),\" \",VLOOKUP($W68,$S$3:$V$201,3,FALSE))","v":" "},{"$f":"IF(ISERROR(VLOOKUP($W68,$T$3:$V$201,2,FALSE)),\" \",VLOOKUP($W68,$T$3:$V$201,2,FALSE))","v":" "}]
["　",null,null,null,null,null,null,null,null,null,null,null,null,null,null,"　",0,0,{"$f":"IF($R69=S$1,MAX(S$3:S68)+1,0)","v":0},{"$f":"IF($R69=T$1,MAX(T$3:T68)+1,0)","v":0},"　",0,67," "," "]
["　",null,null,null,null,null,null,null,null,null,null,null,null,null,null,"　",0,0,{"$f":"IF($R70=S$1,MAX(S$3:S69)+1,0)","v":0},{"$f":"IF($R70=T$1,MAX(T$3:T69)+1,0)","v":0},"　",0,68," "," "]
["　",null,null,null,null,null,null,null,null,null,null,null,null,null,null,"　",0,0,{"$f":"IF($R71=S$1,MAX(S$3:S70)+1,0)","v":0},{"$f":"IF($R71=T$1,MAX(T$3:T70)+1,0)","v":0},"　",0,69," "," "]
["　",null,null,null,null,null,null,null,null,null,null,null,null,null,null,"　",0,0,{"$f":"IF($R72=S$1,MAX(S$3:S71)+1,0)","v":0},{"$f":"IF($R72=T$1,MAX(T$3:T71)+1,0)","v":0},"　",0,70," "," "]
["　",null,null,null,null,null,null,null,null,null,null,null,null,null,null,"　",0,0,{"$f":"IF($R73=S$1,MAX(S$3:S72)+1,0)","v":0},{"$f":"IF($R73=T$1,MAX(T$3:T72)+1,0)","v":0},"　",0,71," "," "]
["　",null,null,null,null,null,null,null,null,null,null,null,null,null,null,"　",0,0,{"$f":"IF($R74=S$1,MAX(S$3:S73)+1,0)","v":0},{"$f":"IF($R74=T$1,MAX(T$3:T73)+1,0)","v":0},"　",0,72," "," "]
["　",null,null,null,null,null,null,null,null,null,null,null,null,null,null,"　",0,0,{"$f":"IF($R75=S$1,MAX(S$3:S74)+1,0)","v":0},{"$f":"IF($R75=T$1,MAX(T$3:T74)+1,0)","v":0},"　",0,73," "," "]
["　",null,null,null,null,null,null,null,null,null,null,null,null,null,null,"　",0,0,{"$f":"IF($R76=S$1,MAX(S$3:S75)+1,0)","v":0},{"$f":"IF($R76=T$1,MAX(T$3:T75)+1,0)","v":0},"　",0,74," "," "]
["　",null,null,null,null,null,null,null,null,null,null,null,null,null,null,"　",0,0,{"$f":"IF($R77=S$1,MAX(S$3:S76)+1,0)","v":0},{"$f":"IF($R77=T$1,MAX(T$3:T76)+1,0)","v":0},"　",0,75," "," "]
["　",null,null,null,null,null,null,null,null,null,null,null,null,null,null,"　",0,0,{"$f":"IF($R78=S$1,MAX(S$3:S77)+1,0)","v":0},{"$f":"IF($R78=T$1,MAX(T$3:T77)+1,0)","v":0},"　",0,76," "," "]
["　",null,null,null,null,null,null,null,null,null,null,null,null,null,null,"　",0,0,{"$f":"IF($R79=S$1,MAX(S$3:S78)+1,0)","v":0},{"$f":"IF($R79=T$1,MAX(T$3:T78)+1,0)","v":0},"　",0,77," "," "]
["　",null,null,null,null,null,null,null,null,null,null,null,null,null,null,"　",0,0,{"$f":"IF($R80=S$1,MAX(S$3:S79)+1,0)","v":0},{"$f":"IF($R80=T$1,MAX(T$3:T79)+1,0)","v":0},"　",0,78," "," "]
["　",null,null,null,null,null,null,null,null,null,null,null,null,null,null,"　",0,0,{"$f":"IF($R81=S$1,MAX(S$3:S80)+1,0)","v":0},{"$f":"IF($R81=T$1,MAX(T$3:T80)+1,0)","v":0},"　",0,79," "," "]
["　",null,null,null,null,null,null,null,null,null,null,null,null,null,null,"　",0,0,{"$f":"IF($R82=S$1,MAX(S$3:S81)+1,0)","v":0},{"$f":"IF($R82=T$1,MAX(T$3:T81)+1,0)","v":0},"　",0,80," "," "]
["　",null,null,null,null,null,null,null,null,null,null,null,null,null,null,{"$f":"D83& \"　\"&E83","v":"　"},{"$f":"C83","v":0},{"$f":"I83","v":0},{"$f":"IF($R83=S$1,MAX(S$3:S82)+1,0)","v":0},{"$f":"IF($R83=T$1,MAX(T$3:T82)+1,0)","v":0},{"$f":"P83","v":"　"},{"$f":"Q83","v":0},81," "," "]
["　",null,null,null,null,null,null,null,null,null,null,null,null,null,null,"　",0,0,{"$f":"IF($R84=S$1,MAX(S$3:S83)+1,0)","v":0},{"$f":"IF($R84=T$1,MAX(T$3:T83)+1,0)","v":0},"　",0,82," "," "]
["　",null,null,null,null,null,null,null,null,null,null,null,null,null,null,"　",0,0,{"$f":"IF($R85=S$1,MAX(S$3:S84)+1,0)","v":0},{"$f":"IF($R85=T$1,MAX(T$3:T84)+1,0)","v":0},"　",0,83," "," "]
["　",null,null,null,null,null,null,null,null,null,null,null,null,null,null,"　",0,0,{"$f":"IF($R86=S$1,MAX(S$3:S85)+1,0)","v":0},{"$f":"IF($R86=T$1,MAX(T$3:T85)+1,0)","v":0},"　",0,84," "," "]
["　",null,null,null,null,null,null,null,null,null,null,null,null,null,null,"　",0,0,{"$f":"IF($R87=S$1,MAX(S$3:S86)+1,0)","v":0},{"$f":"IF($R87=T$1,MAX(T$3:T86)+1,0)","v":0},"　",0,85," "," "]
["　",null,null,null,null,null,null,null,null,null,null,null,null,null,null,"　",0,0,{"$f":"IF($R88=S$1,MAX(S$3:S87)+1,0)","v":0},{"$f":"IF($R88=T$1,MAX(T$3:T87)+1,0)","v":0},"　",0,86," "," "]
["　",null,null,null,null,null,null,null,null,null,null,null,null,null,null,"　",0,0,{"$f":"IF($R89=S$1,MAX(S$3:S88)+1,0)","v":0},{"$f":"IF($R89=T$1,MAX(T$3:T88)+1,0)","v":0},"　",0,87," "," "]
["　",null,null,null,null,null,null,null,null,null,null,null,null,null,null,"　",0,0,{"$f":"IF($R90=S$1,MAX(S$3:S89)+1,0)","v":0},{"$f":"IF($R90=T$1,MAX(T$3:T89)+1,0)","v":0},"　",0,88," "," "]
["　",null,null,null,null,null,null,null,null,null,null,null,null,null,null,"　",0,0,{"$f":"IF($R91=S$1,MAX(S$3:S90)+1,0)","v":0},{"$f":"IF($R91=T$1,MAX(T$3:T90)+1,0)","v":0},"　",0,89," "," "]
["　",null,null,null,null,null,null,null,null,null,null,null,null,null,null,"　",0,0,{"$f":"IF($R92=S$1,MAX(S$3:S91)+1,0)","v":0},{"$f":"IF($R92=T$1,MAX(T$3:T91)+1,0)","v":0},"　",0,90," "," "]
["　",null,null,null,null,null,null,null,null,null,null,null,null,null,null,"　",0,0,{"$f":"IF($R93=S$1,MAX(S$3:S92)+1,0)","v":0},{"$f":"IF($R93=T$1,MAX(T$3:T92)+1,0)","v":0},"　",0,91," "," "]
["　",null,null,null,null,null,null,null,null,null,null,null,null,null,null,"　",0,0,{"$f":"IF($R94=S$1,MAX(S$3:S93)+1,0)","v":0},{"$f":"IF($R94=T$1,MAX(T$3:T93)+1,0)","v":0},"　",0,92," "," "]
["　",null,null,null,null,null,null,null,null,null,null,null,null,null,null,"　",0,0,{"$f":"IF($R95=S$1,MAX(S$3:S94)+1,0)","v":0},{"$f":"IF($R95=T$1,MAX(T$3:T94)+1,0)","v":0},"　",0,93," "," "]
["　",null,null,null,null,null,null,null,null,null,null,null,null,null,null,"　",0,0,{"$f":"IF($R96=S$1,MAX(S$3:S95)+1,0)","v":0},{"$f":"IF($R96=T$1,MAX(T$3:T95)+1,0)","v":0},"　",0,94," "," "]
["　",null,null,null,null,null,null,null,null,null,null,null,null,null,null,"　",0,0,{"$f":"IF($R97=S$1,MAX(S$3:S96)+1,0)","v":0},{"$f":"IF($R97=T$1,MAX(T$3:T96)+1,0)","v":0},"　",0,95," "," "]
["　",null,null,null,null,null,null,null,null,null,null,null,null,null,null,"　",0,0,{"$f":"IF($R98=S$1,MAX(S$3:S97)+1,0)","v":0},{"$f":"IF($R98=T$1,MAX(T$3:T97)+1,0)","v":0},"　",0,96," "," "]
["　",null,null,null,null,null,null,null,null,null,null,null,null,null,null,"　",0,0,{"$f":"IF($R99=S$1,MAX(S$3:S98)+1,0)","v":0},{"$f":"IF($R99=T$1,MAX(T$3:T98)+1,0)","v":0},"　",0,97," "," "]
["　",null,null,null,null,null,null,null,null,null,null,null,null,null,null,"　",0,0,{"$f":"IF($R100=S$1,MAX(S$3:S99)+1,0)","v":0},{"$f":"IF($R100=T$1,MAX(T$3:T99)+1,0)","v":0},"　",0,98," "," "]
["　",null,null,null,null,null,null,null,null,null,null,null,null,null,null,"　",0,0,{"$f":"IF($R101=S$1,MAX(S$3:S100)+1,0)","v":0},{"$f":"IF($R101=T$1,MAX(T$3:T100)+1,0)","v":0},"　",0,99," "," "]
["　",null,null,null,null,null,null,null,null,null,null,null,null,null,null,"　",0,0,{"$f":"IF($R102=S$1,MAX(S$3:S101)+1,0)","v":0},{"$f":"IF($R102=T$1,MAX(T$3:T101)+1,0)","v":0},"　",0,100," "," "]
["　",null,null,null,null,null,null,null,null,null,null,null,null,null,null,"　",0,0,{"$f":"IF($R103=S$1,MAX(S$3:S102)+1,0)","v":0},{"$f":"IF($R103=T$1,MAX(T$3:T102)+1,0)","v":0},"　",0,101," "," "]
["　",null,null,null,null,null,null,null,null,null,null,null,null,null,null,"　",0,0,{"$f":"IF($R104=S$1,MAX(S$3:S103)+1,0)","v":0},{"$f":"IF($R104=T$1,MAX(T$3:T103)+1,0)","v":0},"　",0,102," "," "]
["　",null,null,null,null,null,null,null,null,null,null,null,null,null,null,"　",0,0,{"$f":"IF($R105=S$1,MAX(S$3:S104)+1,0)","v":0},{"$f":"IF($R105=T$1,MAX(T$3:T104)+1,0)","v":0},"　",0,103," "," "]
["　",null,null,null,null,null,null,null,null,null,null,null,null,null,null,"　",0,0,{"$f":"IF($R106=S$1,MAX(S$3:S105)+1,0)","v":0},{"$f":"IF($R106=T$1,MAX(T$3:T105)+1,0)","v":0},"　",0,104," "," "]
["　",null,null,null,null,null,null,null,null,null,null,null,null,null,null,"　",0,0,{"$f":"IF($R107=S$1,MAX(S$3:S106)+1,0)","v":0},{"$f":"IF($R107=T$1,MAX(T$3:T106)+1,0)","v":0},"　",0,105," "," "]
["　",null,null,null,null,null,null,null,null,null,null,null,null,null,null,"　",0,0,{"$f":"IF($R108=S$1,MAX(S$3:S107)+1,0)","v":0},{"$f":"IF($R108=T$1,MAX(T$3:T107)+1,0)","v":0},"　",0,106," "," "]
["　",null,null,null,null,null,null,null,null,null,null,null,null,null,null,"　",0,0,{"$f":"IF($R109=S$1,MAX(S$3:S108)+1,0)","v":0},{"$f":"IF($R109=T$1,MAX(T$3:T108)+1,0)","v":0},"　",0,107," "," "]
["　",null,null,null,null,null,null,null,null,null,null,null,null,null,null,"　",0,0,{"$f":"IF($R110=S$1,MAX(S$3:S109)+1,0)","v":0},{"$f":"IF($R110=T$1,MAX(T$3:T109)+1,0)","v":0},"　",0,108," "," "]
["　",null,null,null,null,null,null,null,null,null,null,null,null,null,null,"　",0,0,{"$f":"IF($R111=S$1,MAX(S$3:S110)+1,0)","v":0},{"$f":"IF($R111=T$1,MAX(T$3:T110)+1,0)","v":0},"　",0,109," "," "]
["　",null,null,null,null,null,null,null,null,null,null,null,null,null,null,"　",0,0,{"$f":"IF($R112=S$1,MAX(S$3:S111)+1,0)","v":0},{"$f":"IF($R112=T$1,MAX(T$3:T111)+1,0)","v":0},"　",0,110," "," "]
["　",null,null,null,null,null,null,null,null,null,null,null,null,null,null,"　",0,0,{"$f":"IF($R113=S$1,MAX(S$3:S112)+1,0)","v":0},{"$f":"IF($R113=T$1,MAX(T$3:T112)+1,0)","v":0},"　",0,111," "," "]
["　",null,null,null,null,null,null,null,null,null,null,null,null,null,null,"　",0,0,{"$f":"IF($R114=S$1,MAX(S$3:S113)+1,0)","v":0},{"$f":"IF($R114=T$1,MAX(T$3:T113)+1,0)","v":0},"　",0,112," "," "]
["　",null,null,null,null,null,null,null,null,null,null,null,null,null,null,"　",0,0,{"$f":"IF($R115=S$1,MAX(S$3:S114)+1,0)","v":0},{"$f":"IF($R115=T$1,MAX(T$3:T114)+1,0)","v":0},"　",0,113," "," "]
["　",null,null,null,null,null,null,null,null,null,null,null,null,null,null,"　",0,0,{"$f":"IF($R116=S$1,MAX(S$3:S115)+1,0)","v":0},{"$f":"IF($R116=T$1,MAX(T$3:T115)+1,0)","v":0},"　",0,114," "," "]
["　",null,null,null,null,null,null,null,null,null,null,null,null,null,null,"　",0,0,{"$f":"IF($R117=S$1,MAX(S$3:S116)+1,0)","v":0},{"$f":"IF($R117=T$1,MAX(T$3:T116)+1,0)","v":0},"　",0,115," "," "]
["　",null,null,null,null,null,null,null,null,null,null,null,null,null,null,"　",0,0,{"$f":"IF($R118=S$1,MAX(S$3:S117)+1,0)","v":0},{"$f":"IF($R118=T$1,MAX(T$3:T117)+1,0)","v":0},"　",0,116," "," "]
["　",null,null,null,null,null,null,null,null,null,null,null,null,null,null,"　",0,0,{"$f":"IF($R119=S$1,MAX(S$3:S118)+1,0)","v":0},{"$f":"IF($R119=T$1,MAX(T$3:T118)+1,0)","v":0},"　",0,117," "," "]
["　",null,null,null,null,null,null,null,null,null,null,null,null,null,null,"　",0,0,{"$f":"IF($R120=S$1,MAX(S$3:S119)+1,0)","v":0},{"$f":"IF($R120=T$1,MAX(T$3:T119)+1,0)","v":0},"　",0,118," "," "]
["　",null,null,null,null,null,null,null,null,null,null,null,null,null,null,"　",0,0,{"$f":"IF($R121=S$1,MAX(S$3:S120)+1,0)","v":0},{"$f":"IF($R121=T$1,MAX(T$3:T120)+1,0)","v":0},"　",0,119," "," "]
["　",null,null,null,null,null,null,null,null,null,null,null,null,null,null,"　",0,0,{"$f":"IF($R122=S$1,MAX(S$3:S121)+1,0)","v":0},{"$f":"IF($R122=T$1,MAX(T$3:T121)+1,0)","v":0},"　",0,120," "," "]
["　",null,null,null,null,null,null,null,null,null,null,null,null,null,null,"　",0,0,{"$f":"IF($R123=S$1,MAX(S$3:S122)+1,0)","v":0},{"$f":"IF($R123=T$1,MAX(T$3:T122)+1,0)","v":0},"　",0,121," "," "]
["　",null,null,null,null,null,null,null,null,null,null,null,null,null,null,"　",0,0,{"$f":"IF($R124=S$1,MAX(S$3:S123)+1,0)","v":0},{"$f":"IF($R124=T$1,MAX(T$3:T123)+1,0)","v":0},"　",0,122," "," "]
["　",null,null,null,null,null,null,null,null,null,null,null,null,null,null,"　",0,0,{"$f":"IF($R125=S$1,MAX(S$3:S124)+1,0)","v":0},{"$f":"IF($R125=T$1,MAX(T$3:T124)+1,0)","v":0},"　",0,123," "," "]
["　",null,null,null,null,null,null,null,null,null,null,null,null,null,null,"　",0,0,{"$f":"IF($R126=S$1,MAX(S$3:S125)+1,0)","v":0},{"$f":"IF($R126=T$1,MAX(T$3:T125)+1,0)","v":0},"　",0,124," "," "]
["　",null,null,null,null,null,null,null,null,null,null,null,null,null,null,"　",0,0,{"$f":"IF($R127=S$1,MAX(S$3:S126)+1,0)","v":0},{"$f":"IF($R127=T$1,MAX(T$3:T126)+1,0)","v":0},"　",0,125," "," "]
["　",null,null,null,null,null,null,null,null,null,null,null,null,null,null,"　",0,0,{"$f":"IF($R128=S$1,MAX(S$3:S127)+1,0)","v":0},{"$f":"IF($R128=T$1,MAX(T$3:T127)+1,0)","v":0},"　",0,126," "," "]
["　",null,null,null,null,null,null,null,null,null,null,null,null,null,null,"　",0,0,{"$f":"IF($R129=S$1,MAX(S$3:S128)+1,0)","v":0},{"$f":"IF($R129=T$1,MAX(T$3:T128)+1,0)","v":0},"　",0,127," "," "]
["　",null,null,null,null,null,null,null,null,null,null,null,null,null,null,"　",0,0,{"$f":"IF($R130=S$1,MAX(S$3:S129)+1,0)","v":0},{"$f":"IF($R130=T$1,MAX(T$3:T129)+1,0)","v":0},"　",0,128," "," "]
["　",null,null,null,null,null,null,null,null,null,null,null,null,null,null,"　",0,0,{"$f":"IF($R131=S$1,MAX(S$3:S130)+1,0)","v":0},{"$f":"IF($R131=T$1,MAX(T$3:T130)+1,0)","v":0},"　",0,129," "," "]
[{"$f":"D132&\"　\"&E132","v":"　"},null,null,null,null,null,null,null,null,null,null,null,null,null,null,"　",0,0,{"$f":"IF($R132=S$1,MAX(S$3:S131)+1,0)","v":0},{"$f":"IF($R132=T$1,MAX(T$3:T131)+1,0)","v":0},"　",0,130,{"$f":"IF(ISERROR(VLOOKUP($W132,$S$3:$V$201,3,FALSE)),\" \",VLOOKUP($W132,$S$3:$V$201,3,FALSE))","v":" "},{"$f":"IF(ISERROR(VLOOKUP($W132,$T$3:$V$201,2,FALSE)),\" \",VLOOKUP($W132,$T$3:$V$201,2,FALSE))","v":" "}]
["　",null,null,null,null,null,null,null,null,null,null,null,null,null,null,"　",0,0,{"$f":"IF($R133=S$1,MAX(S$3:S132)+1,0)","v":0},{"$f":"IF($R133=T$1,MAX(T$3:T132)+1,0)","v":0},"　",0,131," "," "]
["　",null,null,null,null,null,null,null,null,null,null,null,null,null,null,"　",0,0,{"$f":"IF($R134=S$1,MAX(S$3:S133)+1,0)","v":0},{"$f":"IF($R134=T$1,MAX(T$3:T133)+1,0)","v":0},"　",0,132," "," "]
["　",null,null,null,null,null,null,null,null,null,null,null,null,null,null,"　",0,0,{"$f":"IF($R135=S$1,MAX(S$3:S134)+1,0)","v":0},{"$f":"IF($R135=T$1,MAX(T$3:T134)+1,0)","v":0},"　",0,133," "," "]
["　",null,null,null,null,null,null,null,null,null,null,null,null,null,null,"　",0,0,{"$f":"IF($R136=S$1,MAX(S$3:S135)+1,0)","v":0},{"$f":"IF($R136=T$1,MAX(T$3:T135)+1,0)","v":0},"　",0,134," "," "]
["　",null,null,null,null,null,null,null,null,null,null,null,null,null,null,"　",0,0,{"$f":"IF($R137=S$1,MAX(S$3:S136)+1,0)","v":0},{"$f":"IF($R137=T$1,MAX(T$3:T136)+1,0)","v":0},"　",0,135," "," "]
["　",null,null,null,null,null,null,null,null,null,null,null,null,null,null,"　",0,0,{"$f":"IF($R138=S$1,MAX(S$3:S137)+1,0)","v":0},{"$f":"IF($R138=T$1,MAX(T$3:T137)+1,0)","v":0},"　",0,136," "," "]
["　",null,null,null,null,null,null,null,null,null,null,null,null,null,null,"　",0,0,{"$f":"IF($R139=S$1,MAX(S$3:S138)+1,0)","v":0},{"$f":"IF($R139=T$1,MAX(T$3:T138)+1,0)","v":0},"　",0,137," "," "]
["　",null,null,null,null,null,null,null,null,null,null,null,null,null,null,"　",0,0,{"$f":"IF($R140=S$1,MAX(S$3:S139)+1,0)","v":0},{"$f":"IF($R140=T$1,MAX(T$3:T139)+1,0)","v":0},"　",0,138," "," "]
["　",null,null,null,null,null,null,null,null,null,null,null,null,null,null,"　",0,0,{"$f":"IF($R141=S$1,MAX(S$3:S140)+1,0)","v":0},{"$f":"IF($R141=T$1,MAX(T$3:T140)+1,0)","v":0},"　",0,139," "," "]
["　",null,null,null,null,null,null,null,null,null,null,null,null,null,null,"　",0,0,{"$f":"IF($R142=S$1,MAX(S$3:S141)+1,0)","v":0},{"$f":"IF($R142=T$1,MAX(T$3:T141)+1,0)","v":0},"　",0,140," "," "]
["　",null,null,null,null,null,null,null,null,null,null,null,null,null,null,"　",0,0,{"$f":"IF($R143=S$1,MAX(S$3:S142)+1,0)","v":0},{"$f":"IF($R143=T$1,MAX(T$3:T142)+1,0)","v":0},"　",0,141," "," "]
["　",null,null,null,null,null,null,null,null,null,null,null,null,null,null,"　",0,0,{"$f":"IF($R144=S$1,MAX(S$3:S143)+1,0)","v":0},{"$f":"IF($R144=T$1,MAX(T$3:T143)+1,0)","v":0},"　",0,142," "," "]
["　",null,null,null,null,null,null,null,null,null,null,null,null,null,null,"　",0,0,{"$f":"IF($R145=S$1,MAX(S$3:S144)+1,0)","v":0},{"$f":"IF($R145=T$1,MAX(T$3:T144)+1,0)","v":0},"　",0,143," "," "]
["　",null,null,null,null,null,null,null,null,null,null,null,null,null,null,"　",0,0,{"$f":"IF($R146=S$1,MAX(S$3:S145)+1,0)","v":0},{"$f":"IF($R146=T$1,MAX(T$3:T145)+1,0)","v":0},"　",0,144," "," "]
["　",null,null,null,null,null,null,null,null,null,null,null,null,null,null,{"$f":"D147& \"　\"&E147","v":"　"},{"$f":"C147","v":0},{"$f":"I147","v":0},{"$f":"IF($R147=S$1,MAX(S$3:S146)+1,0)","v":0},{"$f":"IF($R147=T$1,MAX(T$3:T146)+1,0)","v":0},{"$f":"P147","v":"　"},{"$f":"Q147","v":0},145," "," "]
["　",null,null,null,null,null,null,null,null,null,null,null,null,null,null,"　",0,0,{"$f":"IF($R148=S$1,MAX(S$3:S147)+1,0)","v":0},{"$f":"IF($R148=T$1,MAX(T$3:T147)+1,0)","v":0},"　",0,146," "," "]
["　",null,null,null,null,null,null,null,null,null,null,null,null,null,null,"　",0,0,{"$f":"IF($R149=S$1,MAX(S$3:S148)+1,0)","v":0},{"$f":"IF($R149=T$1,MAX(T$3:T148)+1,0)","v":0},"　",0,147," "," "]
["　",null,null,null,null,null,null,null,null,null,null,null,null,null,null,"　",0,0,{"$f":"IF($R150=S$1,MAX(S$3:S149)+1,0)","v":0},{"$f":"IF($R150=T$1,MAX(T$3:T149)+1,0)","v":0},"　",0,148," "," "]
["　",null,null,null,null,null,null,null,null,null,null,null,null,null,null,"　",0,0,{"$f":"IF($R151=S$1,MAX(S$3:S150)+1,0)","v":0},{"$f":"IF($R151=T$1,MAX(T$3:T150)+1,0)","v":0},"　",0,149," "," "]
["　",null,null,null,null,null,null,null,null,null,null,null,null,null,null,"　",0,0,{"$f":"IF($R152=S$1,MAX(S$3:S151)+1,0)","v":0},{"$f":"IF($R152=T$1,MAX(T$3:T151)+1,0)","v":0},"　",0,150," "," "]
["　",null,null,null,null,null,null,null,null,null,null,null,null,null,null,"　",0,0,{"$f":"IF($R153=S$1,MAX(S$3:S152)+1,0)","v":0},{"$f":"IF($R153=T$1,MAX(T$3:T152)+1,0)","v":0},"　",0,151," "," "]
["　",null,null,null,null,null,null,null,null,null,null,null,null,null,null,"　",0,0,{"$f":"IF($R154=S$1,MAX(S$3:S153)+1,0)","v":0},{"$f":"IF($R154=T$1,MAX(T$3:T153)+1,0)","v":0},"　",0,152," "," "]
["　",null,null,null,null,null,null,null,null,null,null,null,null,null,null,"　",0,0,{"$f":"IF($R155=S$1,MAX(S$3:S154)+1,0)","v":0},{"$f":"IF($R155=T$1,MAX(T$3:T154)+1,0)","v":0},"　",0,153," "," "]
["　",null,null,null,null,null,null,null,null,null,null,null,null,null,null,"　",0,0,{"$f":"IF($R156=S$1,MAX(S$3:S155)+1,0)","v":0},{"$f":"IF($R156=T$1,MAX(T$3:T155)+1,0)","v":0},"　",0,154," "," "]
["　",null,null,null,null,null,null,null,null,null,null,null,null,null,null,"　",0,0,{"$f":"IF($R157=S$1,MAX(S$3:S156)+1,0)","v":0},{"$f":"IF($R157=T$1,MAX(T$3:T156)+1,0)","v":0},"　",0,155," "," "]
["　",null,null,null,null,null,null,null,null,null,null,null,null,null,null,"　",0,0,{"$f":"IF($R158=S$1,MAX(S$3:S157)+1,0)","v":0},{"$f":"IF($R158=T$1,MAX(T$3:T157)+1,0)","v":0},"　",0,156," "," "]
["　",null,null,null,null,null,null,null,null,null,null,null,null,null,null,"　",0,0,{"$f":"IF($R159=S$1,MAX(S$3:S158)+1,0)","v":0},{"$f":"IF($R159=T$1,MAX(T$3:T158)+1,0)","v":0},"　",0,157," "," "]
["　",null,null,null,null,null,null,null,null,null,null,null,null,null,null,"　",0,0,{"$f":"IF($R160=S$1,MAX(S$3:S159)+1,0)","v":0},{"$f":"IF($R160=T$1,MAX(T$3:T159)+1,0)","v":0},"　",0,158," "," "]
["　",null,null,null,null,null,null,null,null,null,null,null,null,null,null,"　",0,0,{"$f":"IF($R161=S$1,MAX(S$3:S160)+1,0)","v":0},{"$f":"IF($R161=T$1,MAX(T$3:T160)+1,0)","v":0},"　",0,159," "," "]
["　",null,null,null,null,null,null,null,null,null,null,null,null,null,null,"　",0,0,{"$f":"IF($R162=S$1,MAX(S$3:S161)+1,0)","v":0},{"$f":"IF($R162=T$1,MAX(T$3:T161)+1,0)","v":0},"　",0,160," "," "]
["　",null,null,null,null,null,null,null,null,null,null,null,null,null,null,"　",0,0,{"$f":"IF($R163=S$1,MAX(S$3:S162)+1,0)","v":0},{"$f":"IF($R163=T$1,MAX(T$3:T162)+1,0)","v":0},"　",0,161," "," "]
["　",null,null,null,null,null,null,null,null,null,null,null,null,null,null,"　",0,0,{"$f":"IF($R164=S$1,MAX(S$3:S163)+1,0)","v":0},{"$f":"IF($R164=T$1,MAX(T$3:T163)+1,0)","v":0},"　",0,162," "," "]
["　",null,null,null,null,null,null,null,null,null,null,null,null,null,null,"　",0,0,{"$f":"IF($R165=S$1,MAX(S$3:S164)+1,0)","v":0},{"$f":"IF($R165=T$1,MAX(T$3:T164)+1,0)","v":0},"　",0,163," "," "]
["　",null,null,null,null,null,null,null,null,null,null,null,null,null,null,"　",0,0,{"$f":"IF($R166=S$1,MAX(S$3:S165)+1,0)","v":0},{"$f":"IF($R166=T$1,MAX(T$3:T165)+1,0)","v":0},"　",0,164," "," "]
["　",null,null,null,null,null,null,null,null,null,null,null,null,null,null,"　",0,0,{"$f":"IF($R167=S$1,MAX(S$3:S166)+1,0)","v":0},{"$f":"IF($R167=T$1,MAX(T$3:T166)+1,0)","v":0},"　",0,165," "," "]
["　",null,null,null,null,null,null,null,null,null,null,null,null,null,null,"　",0,0,{"$f":"IF($R168=S$1,MAX(S$3:S167)+1,0)","v":0},{"$f":"IF($R168=T$1,MAX(T$3:T167)+1,0)","v":0},"　",0,166," "," "]
["　",null,null,null,null,null,null,null,null,null,null,null,null,null,null,"　",0,0,{"$f":"IF($R169=S$1,MAX(S$3:S168)+1,0)","v":0},{"$f":"IF($R169=T$1,MAX(T$3:T168)+1,0)","v":0},"　",0,167," "," "]
["　",null,null,null,null,null,null,null,null,null,null,null,null,null,null,"　",0,0,{"$f":"IF($R170=S$1,MAX(S$3:S169)+1,0)","v":0},{"$f":"IF($R170=T$1,MAX(T$3:T169)+1,0)","v":0},"　",0,168," "," "]
["　",null,null,null,null,null,null,null,null,null,null,null,null,null,null,"　",0,0,{"$f":"IF($R171=S$1,MAX(S$3:S170)+1,0)","v":0},{"$f":"IF($R171=T$1,MAX(T$3:T170)+1,0)","v":0},"　",0,169," "," "]
["　",null,null,null,null,null,null,null,null,null,null,null,null,null,null,"　",0,0,{"$f":"IF($R172=S$1,MAX(S$3:S171)+1,0)","v":0},{"$f":"IF($R172=T$1,MAX(T$3:T171)+1,0)","v":0},"　",0,170," "," "]
["　",null,null,null,null,null,null,null,null,null,null,null,null,null,null,"　",0,0,{"$f":"IF($R173=S$1,MAX(S$3:S172)+1,0)","v":0},{"$f":"IF($R173=T$1,MAX(T$3:T172)+1,0)","v":0},"　",0,171," "," "]
["　",null,null,null,null,null,null,null,null,null,null,null,null,null,null,"　",0,0,{"$f":"IF($R174=S$1,MAX(S$3:S173)+1,0)","v":0},{"$f":"IF($R174=T$1,MAX(T$3:T173)+1,0)","v":0},"　",0,172," "," "]
["　",null,null,null,null,null,null,null,null,null,null,null,null,null,null,"　",0,0,{"$f":"IF($R175=S$1,MAX(S$3:S174)+1,0)","v":0},{"$f":"IF($R175=T$1,MAX(T$3:T174)+1,0)","v":0},"　",0,173," "," "]
["　",null,null,null,null,null,null,null,null,null,null,null,null,null,null,"　",0,0,{"$f":"IF($R176=S$1,MAX(S$3:S175)+1,0)","v":0},{"$f":"IF($R176=T$1,MAX(T$3:T175)+1,0)","v":0},"　",0,174," "," "]
["　",null,null,null,null,null,null,null,null,null,null,null,null,null,null,"　",0,0,{"$f":"IF($R177=S$1,MAX(S$3:S176)+1,0)","v":0},{"$f":"IF($R177=T$1,MAX(T$3:T176)+1,0)","v":0},"　",0,175," "," "]
["　",null,null,null,null,null,null,null,null,null,null,null,null,null,null,"　",0,0,{"$f":"IF($R178=S$1,MAX(S$3:S177)+1,0)","v":0},{"$f":"IF($R178=T$1,MAX(T$3:T177)+1,0)","v":0},"　",0,176," "," "]
["　",null,null,null,null,null,null,null,null,null,null,null,null,null,null,"　",0,0,{"$f":"IF($R179=S$1,MAX(S$3:S178)+1,0)","v":0},{"$f":"IF($R179=T$1,MAX(T$3:T178)+1,0)","v":0},"　",0,177," "," "]
["　",null,null,null,null,null,null,null,null,null,null,null,null,null,null,"　",0,0,{"$f":"IF($R180=S$1,MAX(S$3:S179)+1,0)","v":0},{"$f":"IF($R180=T$1,MAX(T$3:T179)+1,0)","v":0},"　",0,178," "," "]
["　",null,null,null,null,null,null,null,null,null,null,null,null,null,null,"　",0,0,{"$f":"IF($R181=S$1,MAX(S$3:S180)+1,0)","v":0},{"$f":"IF($R181=T$1,MAX(T$3:T180)+1,0)","v":0},"　",0,179," "," "]
["　",null,null,null,null,null,null,null,null,null,null,null,null,null,null,"　",0,0,{"$f":"IF($R182=S$1,MAX(S$3:S181)+1,0)","v":0},{"$f":"IF($R182=T$1,MAX(T$3:T181)+1,0)","v":0},"　",0,180," "," "]
["　",null,null,null,null,null,null,null,null,null,null,null,null,null,null,"　",0,0,{"$f":"IF($R183=S$1,MAX(S$3:S182)+1,0)","v":0},{"$f":"IF($R183=T$1,MAX(T$3:T182)+1,0)","v":0},"　",0,181," "," "]
["　",null,null,null,null,null,null,null,null,null,null,null,null,null,null,"　",0,0,{"$f":"IF($R184=S$1,MAX(S$3:S183)+1,0)","v":0},{"$f":"IF($R184=T$1,MAX(T$3:T183)+1,0)","v":0},"　",0,182," "," "]
["　",null,null,null,null,null,null,null,null,null,null,null,null,null,null,"　",0,0,{"$f":"IF($R185=S$1,MAX(S$3:S184)+1,0)","v":0},{"$f":"IF($R185=T$1,MAX(T$3:T184)+1,0)","v":0},"　",0,183," "," "]
["　",null,null,null,null,null,null,null,null,null,null,null,null,null,null,"　",0,0,{"$f":"IF($R186=S$1,MAX(S$3:S185)+1,0)","v":0},{"$f":"IF($R186=T$1,MAX(T$3:T185)+1,0)","v":0},"　",0,184," "," "]
["　",null,null,null,null,null,null,null,null,null,null,null,null,null,null,"　",0,0,{"$f":"IF($R187=S$1,MAX(S$3:S186)+1,0)","v":0},{"$f":"IF($R187=T$1,MAX(T$3:T186)+1,0)","v":0},"　",0,185," "," "]
["　",null,null,null,null,null,null,null,null,null,null,null,null,null,null,"　",0,0,{"$f":"IF($R188=S$1,MAX(S$3:S187)+1,0)","v":0},{"$f":"IF($R188=T$1,MAX(T$3:T187)+1,0)","v":0},"　",0,186," "," "]
["　",null,null,null,null,null,null,null,null,null,null,null,null,null,null,"　",0,0,{"$f":"IF($R189=S$1,MAX(S$3:S188)+1,0)","v":0},{"$f":"IF($R189=T$1,MAX(T$3:T188)+1,0)","v":0},"　",0,187," "," "]
["　",null,null,null,null,null,null,null,null,null,null,null,null,null,null,"　",0,0,{"$f":"IF($R190=S$1,MAX(S$3:S189)+1,0)","v":0},{"$f":"IF($R190=T$1,MAX(T$3:T189)+1,0)","v":0},"　",0,188," "," "]
["　",null,null,null,null,null,null,null,null,null,null,null,null,null,null,"　",0,0,{"$f":"IF($R191=S$1,MAX(S$3:S190)+1,0)","v":0},{"$f":"IF($R191=T$1,MAX(T$3:T190)+1,0)","v":0},"　",0,189," "," "]
["　",null,null,null,null,null,null,null,null,null,null,null,null,null,null,"　",0,0,{"$f":"IF($R192=S$1,MAX(S$3:S191)+1,0)","v":0},{"$f":"IF($R192=T$1,MAX(T$3:T191)+1,0)","v":0},"　",0,190," "," "]
["　",null,null,null,null,null,null,null,null,null,null,null,null,null,null,"　",0,0,{"$f":"IF($R193=S$1,MAX(S$3:S192)+1,0)","v":0},{"$f":"IF($R193=T$1,MAX(T$3:T192)+1,0)","v":0},"　",0,191," "," "]
["　",null,null,null,null,null,null,null,null,null,null,null,null,null,null,"　",0,0,{"$f":"IF($R194=S$1,MAX(S$3:S193)+1,0)","v":0},{"$f":"IF($R194=T$1,MAX(T$3:T193)+1,0)","v":0},"　",0,192," "," "]
["　",null,null,null,null,null,null,null,null,null,null,null,null,null,null,"　",0,0,{"$f":"IF($R195=S$1,MAX(S$3:S194)+1,0)","v":0},{"$f":"IF($R195=T$1,MAX(T$3:T194)+1,0)","v":0},"　",0,193," "," "]
[{"$f":"D196&\"　\"&E196","v":"　"},null,null,null,null,null,null,null,null,null,null,null,null,null,null,"　",0,0,{"$f":"IF($R196=S$1,MAX(S$3:S195)+1,0)","v":0},{"$f":"IF($R196=T$1,MAX(T$3:T195)+1,0)","v":0},"　",0,194,{"$f":"IF(ISERROR(VLOOKUP($W196,$S$3:$V$201,3,FALSE)),\" \",VLOOKUP($W196,$S$3:$V$201,3,FALSE))","v":" "},{"$f":"IF(ISERROR(VLOOKUP($W196,$T$3:$V$201,2,FALSE)),\" \",VLOOKUP($W196,$T$3:$V$201,2,FALSE))","v":" "}]
["　",null,null,null,null,null,null,null,null,null,null,null,null,null,null,"　",0,0,{"$f":"IF($R197=S$1,MAX(S$3:S196)+1,0)","v":0},{"$f":"IF($R197=T$1,MAX(T$3:T196)+1,0)","v":0},"　",0,195," "," "]
["　",null,null,null,null,null,null,null,null,null,null,null,null,null,null,"　",0,0,{"$f":"IF($R198=S$1,MAX(S$3:S197)+1,0)","v":0},{"$f":"IF($R198=T$1,MAX(T$3:T197)+1,0)","v":0},"　",0,196," "," "]
["　",null,null,null,null,null,null,null,null,null,null,null,null,null,null,"　",0,0,{"$f":"IF($R199=S$1,MAX(S$3:S198)+1,0)","v":0},{"$f":"IF($R199=T$1,MAX(T$3:T198)+1,0)","v":0},"　",0,197," "," "]
["　",null,null,null,null,null,null,null,null,null,null,null,null,null,null,"　",0,0,{"$f":"IF($R200=S$1,MAX(S$3:S199)+1,0)","v":0},{"$f":"IF($R200=T$1,MAX(T$3:T199)+1,0)","v":0},"　",0,198," "," "]
["　",null,null,null,null,null,null,null,null,null,null,null,null,null,null,"　",0,0,{"$f":"IF($R201=S$1,MAX(S$3:S200)+1,0)","v":0},{"$f":"IF($R201=T$1,MAX(T$3:T200)+1,0)","v":0},"　",0,199," "," "]

{"sheet":"中野優勝旗","index":2,"n_rows":342,"n_cols":61,"rows_kept":342,"cut":false,"hidden":false,"merged":[[2,2,2,4],[2,5,2,9],[0,1,0,36],[1,2,1,4],[1,5,1,36],[9,0,11,0],[9,1,11,1],[9,2,11,2],[9,4,9,9],[9,27,11,27],[9,28,11,28],[5,4,5,9],[5,31,5,36],[6,0,8,0],[6,1,8,1],[6,2,8,2],[6,4,6,9],[6,27,8,27],[6,28,8,28],[6,29,8,29],[6,31,6,36],[9,29,11,29],[9,31,9,36],[10,4,10,9],[10,31,10,36],[11,4,11,9],[11,31,11,36],[7,4,7,9],[7,31,7,36],[8,4,8,9],[8,31,8,36],[12,29,14,29],[12,31,12,36],[13,4,13,9],[13,31,13,36],[14,4,14,9],[14,31,14,36],[12,0,14,0],[12,1,14,1],[12,2,14,2],[12,4,12,9],[12,27,14,27],[12,28,14,28],[15,29,17,29],[15,31,15,36],[16,4,16,9],[16,31,16,36],[17,4,17,9],[17,31,17,36],[15,0,17,0],[15,1,17,1],[15,2,17,2],[15,4,15,9],[15,27,17,27],[15,28,17,28],[18,29,20,29],[18,31,18,36],[19,4,19,9],[19,31,19,36],[20,4,20,9],[20,31,20,36],[18,0,20,0],[18,1,20,1],[18,2,20,2],[18,4,18,9],[18,27,20,27],[18,28,20,28],[21,29,23,29],[21,31,21,36],[22,4,22,9],[22,31,22,36],[23,4,23,9],[23,31,23,36],[21,0,23,0],[21,1,23,1],[21,2,23,2],[21,4,21,9],[21,27,23,27],[21,28,23,28],[24,29,26,29],[24,31,24,36],[25,4,25,9],[25,31,25,36],[26,4,26,9],[26,31,26,36],[24,25,26,25],[24,0,26,0],[24,1,26,1],[24,2,26,2],[24,4,24,9],[24,27,26,27],[24,28,26,28],[27,31,27,36],[28,4,28,9],[28,31,28,36],[29,4,29,9],[29,31,29,36],[27,25,29,25],[27,0,29,0],[27,1,29,1],[27,2,29,2],[27,4,27,9],[27,27,29,27],[27,28,29,28],[31,4,31,9],[31,31,31,36],[32,4,32,9],[32,31,32,36],[30,25,32,25],[30,0,32,0],[30,1,32,1],[30,2,32,2],[30,4,30,9],[30,27,32,27],[30,28,32,28],[34,4,34,9],[34,31,34,36],[35,4,35,9],[35,31,35,36],[33,25,35,25],[33,0,35,0],[33,1,35,1],[33,2,35,2],[33,4,33,9],[33,27,35,27],[33,28,35,28],[37,4,37,9],[37,31,37,36],[38,4,38,9],[38,31,38,36],[36,25,38,25],[36,0,38,0],[36,1,38,1],[36,2,38,2],[36,4,36,9],[36,27,38,27],[36,28,38,28],[40,4,40,9],[40,31,40,36],[41,4,41,9],[41,31,41,36],[39,25,41,25],[39,0,41,0],[39,1,41,1],[39,2,41,2],[39,4,39,9],[39,27,41,27],[39,28,41,28],[43,4,43,9],[43,31,43,36],[44,4,44,9],[44,31,44,36],[42,25,44,25],[42,0,44,0],[42,1,44,1],[42,2,44,2],[42,4,42,9],[42,27,44,27],[42,28,44,28],[48,0,50,0],[48,1,50,1],[48,2,50,2],[48,4,48,9],[48,27,50,27],[48,28,50,28],[45,29,47,29],[45,31,45,36],[46,4,46,9],[46,31,46,36],[47,4,47,9],[47,31,47,36],[45,25,47,25],[45,0,47,0],[45,1,47,1],[45,2,47,2],[45,4,45,9],[45,27,47,27],[45,28,47,28],[54,0,56,0],[54,1,56,1],[54,2,56,2],[54,4,54,9],[54,27,56,27],[54,28,56,28],[51,29,53,29],[51,31,51,36],[52,4,52,9],[52,31,52,36],[53,4,53,9],[53,31,53,36],[51,25,53,25],[51,0,53,0],[51,1,53,1],[51,2,53,2],[51,4,51,9],[51,27,53,27],[51,28,53,28],[57,2,57,3],[57,4,57,9],[57,29,57,30],[57,31,57,36],[6,25,8,25],[9,25,11,25],[12,25,14,25],[15,25,17,25],[18,25,20,25],[21,25,23,25],[54,29,56,29],[54,31,54,36],[55,4,55,9],[55,31,55,36],[56,4,56,9],[56,31,56,36],[54,25,56,25],[48,29,50,29],[48,31,48,36],[49,4,49,9],[49,31,49,36],[50,4,50,9],[50,31,50,36],[48,25,50,25],[51,52,53,52],[54,52,56,52],[21,52,23,52],[24,52,26,52],[27,52,29,52],[30,52,32,52],[33,52,35,52],[36,52,38,52],[5,39,5,42],[5,43,5,46],[5,47,5,50],[5,51,5,52],[6,52,8,52],[9,52,11,52],[12,52,14,52],[15,52,17,52],[18,52,20,52],[3,32,4,52],[2,41,2,43],[2,10,2,15],[2,16,2,20],[2,21,2,25],[39,52,41,52],[42,52,44,52],[45,52,47,52],[48,52,50,52],[5,12,5,15],[5,16,5,19],[5,20,5,23],[5,24,5,25],[42,29,44,29],[42,31,42,36],[39,29,41,29],[39,31,39,36],[36,29,38,29],[36,31,36,36],[33,29,35,29],[33,31,33,36],[30,29,32,29],[30,31,30,36],[27,29,29,29]]}
[null,"令和３年度\n第45回中野優勝旗記念弓道大会　申し込み",null,null,null,null,null,null,null,null,null,null,null,null,null,null,null,null,null,null,null,null,null,null,null,null,null,null,null,null,null,null,null,null,null,null,null,null,null,null,null,null,null,null,null,null,null,null,null,null,null,null,null,null,null,null,6,20,21,22,23]
[null,null,"学校名\n（正式名称）",null,null,null,null,null,null,null,null,null,null,null,null,null,null,null,null,null,null,null,null,null,null,null,null,null,null,null,null,null,null,null,null,null,null,null,null,null,null,null,null,null,null,null,null,null,null,null,null,null,null,null,null,null,{"$f":"IF(ISERROR(VLOOKUP($F$2,$A$63:$BE$139,BE1,FALSE)),\"\",VLOOKUP($F$2,$A$63:$BE$139,BE1,FALSE))","v":""},{"$f":"IF(ISERROR(VLOOKUP($F$2,$A$63:$BE$139,BF1,FALSE)),\"\",VLOOKUP($F$2,$A$63:$BE$139,BF1,FALSE))","v":""},{"$f":"IF(ISERROR(VLOOKUP($F$2,$A$63:$BE$139,BG1,FALSE)),\"\",VLOOKUP($F$2,$A$63:$BE$139,BG1,FALSE))","v":""},{"$f":"IF(ISERROR(VLOOKUP($F$2,$A$63:$BE$139,BH1,FALSE)),\"\",VLOOKUP($F$2,$A$63:$BE$139,BH1,FALSE))","v":""},{"$f":"IF(ISERROR(VLOOKUP($F$2,$A$63:$BE$139,BI1,FALSE)),\"\",VLOOKUP($F$2,$A$63:$BE$139,BI1,FALSE))","v":""}]
[null,null,"立会顧問"]
[null,null,null,null,null,null,null,null,null,"※2人目以降はこちらに入力",null,null,null,null,null,null,null,null,null,null,null,null,null,null,null,null,null,null,null,null,null,null,"入力が終わりましたら、このボタンを押して、「申込みファイル」を作成し、そのファイルの方をメールで送って下さい。"]
[null,null,"男子",null,null,null,null,null,null,null,null,null,null,null,null,null,null,null,null,null,null,null,null,null,null,null,null,null,null,"女子"]
[null,"男女","チーム","立順","選手名",null,null,null,null,null,"学年",null,"１回戦",null,null,null,"２回戦",null,null,null,"３回戦",null,null,null,"計",null,"備考",null,"男女","チーム","立順","選手名",null,null,null,null,null,"学年",null,"１回戦",null,null,null,"２回戦",null,null,null,"３回戦",null,null,null,"計",null,"備考"]
["A","男子",{"$f":"IF(LEN($BE$2)=0,\"\",$BE$2&A7)","v":""},1,null,null,null,null,null,null,{"$f":"IF(LEN(E7)=0,\"\",VLOOKUP(E7,リスト!$A$3:$N$201,3,FALSE))","v":""},{"$f":"IF(LEN(E7)=0,\"\",VLOOKUP(E7,リスト!$A$3:$N$201,2,FALSE))","v":""},null,null,null,null,null,null,null,null,null,null,null,null,{"$f":"COUNTIF(M7:X7,\"○\")+COUNTIF(M7:X7,\"×（○）\")","v":0},{"$f":"COUNTIF(M7:X9,\"○\")","v":0},null,"A","女子",{"$f":"IF(LEN($BE$2)=0,\"\",$BE$2&AB7)","v":""},1,null,null,null,null,null,null,{"$f":"IF(LEN(AF7)=0,\"\",VLOOKUP(AF7,リスト!$A$3:$N$201,3,FALSE))","v":""},{"$f":"IF(LEN(AF7)=0,\"\",VLOOKUP(AF7,リスト!$A$3:$N$201,2,FALSE))","v":""},null,null,null,null,null,null,null,null,null,null,null,null,{"$f":"COUNTIF(AN7:AY7,\"○\")+COUNTIF(AN7:AY7,\"×（○）\")","v":0},{"$f":"COUNTIF(AN7:AY9,\"○\")","v":0},null,null,null,{"$f":"COUNTA(E7:J9)","v":0},{"$f":"COUNTA(AF7:AK9)","v":0}]
[null,null,null,2,null,null,null,null,null,null,{"$f":"IF(LEN(E8)=0,\"\",VLOOKUP(E8,リスト!$A$3:$N$201,3,FALSE))","v":""},{"$f":"IF(LEN(E8)=0,\"\",VLOOKUP(E8,リスト!$A$3:$N$201,2,FALSE))","v":""},null,null,null,null,null,null,null,null,null,null,null,null,{"$f":"COUNTIF(M8:X8,\"○\")+COUNTIF(M8:X8,\"×（○）\")","v":0},null,null,null,null,null,2,null,null,null,null,null,null,{"$f":"IF(LEN(AF8)=0,\"\",VLOOKUP(AF8,リスト!$A$3:$N$201,3,FALSE))","v":""},{"$f":"IF(LEN(AF8)=0,\"\",VLOOKUP(AF8,リスト!$A$3:$N$201,2,FALSE))","v":""},null,null,null,null,null,null,null,null,null,null,null,null,{"$f":"COUNTIF(AN8:AY8,\"○\")+COUNTIF(AN8:AY8,\"×（○）\")","v":0},null,null,null,null,{"$f":"COUNTA(E7:J9)","v":0},{"$f":"COUNTA(AF7:AK9)","v":0}]
[null,null,null,3,null,null,null,null,null,null,{"$f":"IF(LEN(E9)=0,\"\",VLOOKUP(E9,リスト!$A$3:$N$201,3,FALSE))","v":""},{"$f":"IF(LEN(E9)=0,\"\",VLOOKUP(E9,リスト!$A$3:$N$201,2,FALSE))","v":""},null,null,null,null,null,null,null,null,null,null,null,null,0,null,null,null,null,null,3,null,null,null,null,null,null,{"$f":"IF(LEN(AF9)=0,\"\",VLOOKUP(AF9,リスト!$A$3:$N$201,3,FALSE))","v":""},{"$f":"IF(LEN(AF9)=0,\"\",VLOOKUP(AF9,リスト!$A$3:$N$201,2,FALSE))","v":""},null,null,null,null,null,null,null,null,null,null,null,null,0,null,null,null,null,{"$f":"COUNTA(E7:J9)","v":0},{"$f":"COUNTA(AF7:AK9)","v":0}]
["B","男子",{"$f":"IF(LEN($BE$2)=0,\"\",$BE$2&A10)","v":""},1,null,null,null,null,null,null,{"$f":"IF(LEN(E10)=0,\"\",VLOOKUP(E10,リスト!$A$3:$N$201,3,FALSE))","v":""},{"$f":"IF(LEN(E10)=0,\"\",VLOOKUP(E10,リスト!$A$3:$N$201,2,FALSE))","v":""},null,null,null,null,null,null,null,null,null,null,null,null,0,{"$f":"COUNTIF(M10:X12,\"○\")","v":0},null,"B","女子",{"$f":"IF(LEN($BE$2)=0,\"\",$BE$2&AB10)","v":""},1,null,null,null,null,null,null,{"$f":"IF(LEN(AF10)=0,\"\",VLOOKUP(AF10,リスト!$A$3:$N$201,3,FALSE))","v":""},{"$f":"IF(LEN(AF10)=0,\"\",VLOOKUP(AF10,リスト!$A$3:$N$201,2,FALSE))","v":""},null,null,null,null,null,null,null,null,null,null,null,null,0,{"$f":"COUNTIF(AN10:AY12,\"○\")","v":0},null,null,null,{"$f":"COUNTA(E10:J12)","v":0},{"$f":"COUNTA(AF10:AK12)","v":0}]
[null,null,null,2,null,null,null,null,null,null,{"$f":"IF(LEN(E11)=0,\"\",VLOOKUP(E11,リスト!$A$3:$N$201,3,FALSE))","v":""},{"$f":"IF(LEN(E11)=0,\"\",VLOOKUP(E11,リスト!$A$3:$N$201,2,FALSE))","v":""},null,null,null,null,null,null,null,null,null,null,null,null,0,null,null,null,null,null,2,null,null,null,null,null,null,{"$f":"IF(LEN(AF11)=0,\"\",VLOOKUP(AF11,リスト!$A$3:$N$201,3,FALSE))","v":""},{"$f":"IF(LEN(AF11)=0,\"\",VLOOKUP(AF11,リスト!$A$3:$N$201,2,FALSE))","v":""},null,null,null,null,null,null,null,null,null,null,null,null,0,null,null,null,null,{"$f":"COUNTA(E10:J12)","v":0},{"$f":"COUNTA(AF10:AK12)","v":0}]
[null,null,null,3,null,null,null,null,null,null,{"$f":"IF(LEN(E12)=0,\"\",VLOOKUP(E12,リスト!$A$3:$N$201,3,FALSE))","v":""},{"$f":"IF(LEN(E12)=0,\"\",VLOOKUP(E12,リスト!$A$3:$N$201,2,FALSE))","v":""},null,null,null,null,null,null,null,null,null,null,null,null,0,null,null,null,null,null,3,null,null,null,null,null,null,{"$f":"IF(LEN(AF12)=0,\"\",VLOOKUP(AF12,リスト!$A$3:$N$201,3,FALSE))","v":""},{"$f":"IF(LEN(AF12)=0,\"\",VLOOKUP(AF12,リスト!$A$3:$N$201,2,FALSE))","v":""},null,null,null,null,null,null,null,null,null,null,null,null,0,null,null,null,null,{"$f":"COUNTA(E10:J12)","v":0},{"$f":"COUNTA(AF10:AK12)","v":0}]
["C","男子",{"$f":"IF(LEN($BE$2)=0,\"\",$BE$2&A13)","v":""},1,null,null,null,null,null,null,{"$f":"IF(LEN(E13)=0,\"\",VLOOKUP(E13,リスト!$A$3:$N$201,3,FALSE))","v":""},{"$f":"IF(LEN(E13)=0,\"\",VLOOKUP(E13,リスト!$A$3:$N$201,2,FALSE))","v":""},null,null,null,null,null,null,null,null,null,null,null,null,0,{"$f":"COUNTIF(M13:X15,\"○\")","v":0},null,"C","女子",{"$f":"IF(LEN($BE$2)=0,\"\",$BE$2&AB13)","v":""},1,null,null,null,null,null,null,{"$f":"IF(LEN(AF13)=0,\"\",VLOOKUP(AF13,リスト!$A$3:$N$201,3,FALSE))","v":""},{"$f":"IF(LEN(AF13)=0,\"\",VLOOKUP(AF13,リスト!$A$3:$N$201,2,FALSE))","v":""},null,null,null,null,null,null,null,null,null,null,null,null,0,{"$f":"COUNTIF(AN13:AY15,\"○\")","v":0},null,null,null,{"$f":"COUNTA(E13:J15)","v":0},{"$f":"COUNTA(AF13:AK15)","v":0}]
[null,null,null,2,null,null,null,null,null,null,{"$f":"IF(LEN(E14)=0,\"\",VLOOKUP(E14,リスト!$A$3:$N$201,3,FALSE))","v":""},{"$f":"IF(LEN(E14)=0,\"\",VLOOKUP(E14,リスト!$A$3:$N$201,2,FALSE))","v":""},null,null,null,null,null,null,null,null,null,null,null,null,0,null,null,null,null,null,2,null,null,null,null,null,null,{"$f":"IF(LEN(AF14)=0,\"\",VLOOKUP(AF14,リスト!$A$3:$N$201,3,FALSE))","v":""},{"$f":"IF(LEN(AF14)=0,\"\",VLOOKUP(AF14,リスト!$A$3:$N$201,2,FALSE))","v":""},null,null,null,null,null,null,null,null,null,null,null,null,0,null,null,null,null,{"$f":"COUNTA(E13:J15)","v":0},{"$f":"COUNTA(AF13:AK15)","v":0}]
[null,null,null,3,null,null,null,null,null,null,{"$f":"IF(LEN(E15)=0,\"\",VLOOKUP(E15,リスト!$A$3:$N$201,3,FALSE))","v":""},{"$f":"IF(LEN(E15)=0,\"\",VLOOKUP(E15,リスト!$A$3:$N$201,2,FALSE))","v":""},null,null,null,null,null,null,null,null,null,null,null,null,0,null,null,null,null,null,3,null,null,null,null,null,null,{"$f":"IF(LEN(AF15)=0,\"\",VLOOKUP(AF15,リスト!$A$3:$N$201,3,FALSE))","v":""},{"$f":"IF(LEN(AF15)=0,\"\",VLOOKUP(AF15,リスト!$A$3:$N$201,2,FALSE))","v":""},null,null,null,null,null,null,null,null,null,null,null,null,0,null,null,null,null,{"$f":"COUNTA(E13:J15)","v":0},{"$f":"COUNTA(AF13:AK15)","v":0}]
["D","男子",{"$f":"IF(LEN($BE$2)=0,\"\",$BE$2&A16)","v":""},1,null,null,null,null,null,null,{"$f":"IF(LEN(E16)=0,\"\",VLOOKUP(E16,リスト!$A$3:$N$201,3,FALSE))","v":""},{"$f":"IF(LEN(E16)=0,\"\",VLOOKUP(E16,リスト!$A$3:$N$201,2,FALSE))","v":""},null,null,null,null,null,null,null,null,null,null,null,null,0,{"$f":"COUNTIF(M16:X18,\"○\")","v":0},null,"D","女子",{"$f":"IF(LEN($BE$2)=0,\"\",$BE$2&AB16)","v":""},1,null,null,null,null,null,null,{"$f":"IF(LEN(AF16)=0,\"\",VLOOKUP(AF16,リスト!$A$3:$N$201,3,FALSE))","v":""},{"$f":"IF(LEN(AF16)=0,\"\",VLOOKUP(AF16,リスト!$A$3:$N$201,2,FALSE))","v":""},null,null,null,null,null,null,null,null,null,null,null,null,0,{"$f":"COUNTIF(AN16:AY18,\"○\")","v":0},null,null,null,{"$f":"COUNTA(E16:J18)","v":0},{"$f":"COUNTA(AF16:AK18)","v":0}]
[null,null,null,2,null,null,null,null,null,null,{"$f":"IF(LEN(E17)=0,\"\",VLOOKUP(E17,リスト!$A$3:$N$201,3,FALSE))","v":""},{"$f":"IF(LEN(E17)=0,\"\",VLOOKUP(E17,リスト!$A$3:$N$201,2,FALSE))","v":""},null,null,null,null,null,null,null,null,null,null,null,null,0,null,null,null,null,null,2,null,null,null,null,null,null,{"$f":"IF(LEN(AF17)=0,\"\",VLOOKUP(AF17,リスト!$A$3:$N$201,3,FALSE))","v":""},{"$f":"IF(LEN(AF17)=0,\"\",VLOOKUP(AF17,リスト!$A$3:$N$201,2,FALSE))","v":""},null,null,null,null,null,null,null,null,null,null,null,null,0,null,null,null,null,{"$f":"COUNTA(E16:J18)","v":0},{"$f":"COUNTA(AF16:AK18)","v":0}]
[null,null,null,3,null,null,null,null,null,null,{"$f":"IF(LEN(E18)=0,\"\",VLOOKUP(E18,リスト!$A$3:$N$201,3,FALSE))","v":""},{"$f":"IF(LEN(E18)=0,\"\",VLOOKUP(E18,リスト!$A$3:$N$201,2,FALSE))","v":""},null,null,null,null,null,null,null,null,null,null,null,null,0,null,null,null,null,null,3,null,null,null,null,null,null,{"$f":"IF(LEN(AF18)=0,\"\",VLOOKUP(AF18,リスト!$A$3:$N$201,3,FALSE))","v":""},{"$f":"IF(LEN(AF18)=0,\"\",VLOOKUP(AF18,リスト!$A$3:$N$201,2,FALSE))","v":""},null,null,null,null,null,null,null,null,null,null,null,null,0,null,null,null,null,{"$f":"COUNTA(E16:J18)","v":0},{"$f":"COUNTA(AF16:AK18)","v":0}]
["E","男子",{"$f":"IF(LEN($BE$2)=0,\"\",$BE$2&A19)","v":""},1,null,null,null,null,null,null,{"$f":"IF(LEN(E19)=0,\"\",VLOOKUP(E19,リスト!$A$3:$N$201,3,FALSE))","v":""},{"$f":"IF(LEN(E19)=0,\"\",VLOOKUP(E19,リスト!$A$3:$N$201,2,FALSE))","v":""},null,null,null,null,null,null,null,null,null,null,null,null,0,{"$f":"COUNTIF(M19:X21,\"○\")","v":0},null,"E","女子",{"$f":"IF(LEN($BE$2)=0,\"\",$BE$2&AB19)","v":""},1,null,null,null,null,null,null,{"$f":"IF(LEN(AF19)=0,\"\",VLOOKUP(AF19,リスト!$A$3:$N$201,3,FALSE))","v":""},{"$f":"IF(LEN(AF19)=0,\"\",VLOOKUP(AF19,リスト!$A$3:$N$201,2,FALSE))","v":""},null,null,null,null,null,null,null,null,null,null,null,null,0,{"$f":"COUNTIF(AN19:AY21,\"○\")","v":0},null,null,null,{"$f":"COUNTA(E19:J21)","v":0},{"$f":"COUNTA(AF19:AK21)","v":0}]
[null,null,null,2,null,null,null,null,null,null,{"$f":"IF(LEN(E20)=0,\"\",VLOOKUP(E20,リスト!$A$3:$N$201,3,FALSE))","v":""},{"$f":"IF(LEN(E20)=0,\"\",VLOOKUP(E20,リスト!$A$3:$N$201,2,FALSE))","v":""},null,null,null,null,null,null,null,null,null,null,null,null,0,null,null,null,null,null,2,null,null,null,null,null,null,{"$f":"IF(LEN(AF20)=0,\"\",VLOOKUP(AF20,リスト!$A$3:$N$201,3,FALSE))","v":""},{"$f":"IF(LEN(AF20)=0,\"\",VLOOKUP(AF20,リスト!$A$3:$N$201,2,FALSE))","v":""},null,null,null,null,null,null,null,null,null,null,null,null,0,null,null,null,null,{"$f":"COUNTA(E19:J21)","v":0},{"$f":"COUNTA(AF19:AK21)","v":0}]
[null,null,null,3,null,null,null,null,null,null,{"$f":"IF(LEN(E21)=0,\"\",VLOOKUP(E21,リスト!$A$3:$N$201,3,FALSE))","v":""},{"$f":"IF(LEN(E21)=0,\"\",VLOOKUP(E21,リスト!$A$3:$N$201,2,FALSE))","v":""},null,null,null,null,null,null,null,null,null,null,null,null,0,null,null,null,null,null,3,null,null,null,null,null,null,{"$f":"IF(LEN(AF21)=0,\"\",VLOOKUP(AF21,リスト!$A$3:$N$201,3,FALSE))","v":""},{"$f":"IF(LEN(AF21)=0,\"\",VLOOKUP(AF21,リスト!$A$3:$N$201,2,FALSE))","v":""},null,null,null,null,null,null,null,null,null,null,null,null,0,null,null,null,null,{"$f":"COUNTA(E19:J21)","v":0},{"$f":"COUNTA(AF19:AK21)","v":0}]
["F","男子",{"$f":"IF(LEN($BE$2)=0,\"\",$BE$2&A22)","v":""},1,null,null,null,null,null,null,{"$f":"IF(LEN(E22)=0,\"\",VLOOKUP(E22,リスト!$A$3:$N$201,3,FALSE))","v":""},{"$f":"IF(LEN(E22)=0,\"\",VLOOKUP(E22,リスト!$A$3:$N$201,2,FALSE))","v":""},null,null,null,null,null,null,null,null,null,null,null,null,0,{"$f":"COUNTIF(M22:X24,\"○\")","v":0},null,"F","女子",{"$f":"IF(LEN($BE$2)=0,\"\",$BE$2&AB22)","v":""},1,null,null,null,null,null,null,{"$f":"IF(LEN(AF22)=0,\"\",VLOOKUP(AF22,リスト!$A$3:$N$201,3,FALSE))","v":""},{"$f":"IF(LEN(AF22)=0,\"\",VLOOKUP(AF22,リスト!$A$3:$N$201,2,FALSE))","v":""},null,null,null,null,null,null,null,null,null,null,null,null,0,{"$f":"COUNTIF(AN22:AY24,\"○\")","v":0},null,null,null,{"$f":"COUNTA(E22:J24)","v":0},{"$f":"COUNTA(AF22:AK24)","v":0}]
[null,null,null,2,null,null,null,null,null,null,{"$f":"IF(LEN(E23)=0,\"\",VLOOKUP(E23,リスト!$A$3:$N$201,3,FALSE))","v":""},{"$f":"IF(LEN(E23)=0,\"\",VLOOKUP(E23,リスト!$A$3:$N$201,2,FALSE))","v":""},null,null,null,null,null,null,null,null,null,null,null,null,0,null,null,null,null,null,2,null,null,null,null,null,null,{"$f":"IF(LEN(AF23)=0,\"\",VLOOKUP(AF23,リスト!$A$3:$N$201,3,FALSE))","v":""},{"$f":"IF(LEN(AF23)=0,\"\",VLOOKUP(AF23,リスト!$A$3:$N$201,2,FALSE))","v":""},null,null,null,null,null,null,null,null,null,null,null,null,0,null,null,null,null,{"$f":"COUNTA(E22:J24)","v":0},{"$f":"COUNTA(AF22:AK24)","v":0}]
[null,null,null,3,null,null,null,null,null,null,{"$f":"IF(LEN(E24)=0,\"\",VLOOKUP(E24,リスト!$A$3:$N$201,3,FALSE))","v":""},{"$f":"IF(LEN(E24)=0,\"\",VLOOKUP(E24,リスト!$A$3:$N$201,2,FALSE))","v":""},null,null,null,null,null,null,null,null,null,null,null,null,0,null,null,null,null,null,3,null,null,null,null,null,null,{"$f":"IF(LEN(AF24)=0,\"\",VLOOKUP(AF24,リスト!$A$3:$N$201,3,FALSE))","v":""},{"$f":"IF(LEN(AF24)=0,\"\",VLOOKUP(AF24,リスト!$A$3:$N$201,2,FALSE))","v":""},null,null,null,null,null,null,null,null,null,null,null,null,0,null,null,null,null,{"$f":"COUNTA(E22:J24)","v":0},{"$f":"COUNTA(AF22:AK24)","v":0}]
["G","男子",{"$f":"IF(LEN($BE$2)=0,\"\",$BE$2&A25)","v":""},1,null,null,null,null,null,null,{"$f":"IF(LEN(E25)=0,\"\",VLOOKUP(E25,リスト!$A$3:$N$201,3,FALSE))","v":""},{"$f":"IF(LEN(E25)=0,\"\",VLOOKUP(E25,リスト!$A$3:$N$201,2,FALSE))","v":""},null,null,null,null,null,null,null,null,null,null,null,null,0,{"$f":"COUNTIF(M25:X27,\"○\")","v":0},null,"G","女子",{"$f":"IF(LEN($BE$2)=0,\"\",$BE$2&AB25)","v":""},1,null,null,null,null,null,null,{"$f":"IF(LEN(AF25)=0,\"\",VLOOKUP(AF25,リスト!$A$3:$N$201,3,FALSE))","v":""},{"$f":"IF(LEN(AF25)=0,\"\",VLOOKUP(AF25,リスト!$A$3:$N$201,2,FALSE))","v":""},null,null,null,null,null,null,null,null,null,null,null,null,0,{"$f":"COUNTIF(AN25:AY27,\"○\")","v":0},null,null,null,{"$f":"COUNTA(E25:J27)","v":0},{"$f":"COUNTA(AF25:AK27)","v":0}]
[null,null,null,2,null,null,null,null,null,null,{"$f":"IF(LEN(E26)=0,\"\",VLOOKUP(E26,リスト!$A$3:$N$201,3,FALSE))","v":""},{"$f":"IF(LEN(E26)=0,\"\",VLOOKUP(E26,リスト!$A$3:$N$201,2,FALSE))","v":""},null,null,null,null,null,null,null,null,null,null,null,null,0,null,null,null,null,null,2,null,null,null,null,null,null,{"$f":"IF(LEN(AF26)=0,\"\",VLOOKUP(AF26,リスト!$A$3:$N$201,3,FALSE))","v":""},{"$f":"IF(LEN(AF26)=0,\"\",VLOOKUP(AF26,リスト!$A$3:$N$201,2,FALSE))","v":""},null,null,null,null,null,null,null,null,null,null,null,null,0,null,null,null,null,{"$f":"COUNTA(E25:J27)","v":0},{"$f":"COUNTA(AF25:AK27)","v":0}]
[null,null,null,3,null,null,null,null,null,null,{"$f":"IF(LEN(E27)=0,\"\",VLOOKUP(E27,リスト!$A$3:$N$201,3,FALSE))","v":""},{"$f":"IF(LEN(E27)=0,\"\",VLOOKUP(E27,リスト!$A$3:$N$201,2,FALSE))","v":""},null,null,null,null,null,null,null,null,null,null,null,null,0,null,null,null,null,null,3,null,null,null,null,null,null,{"$f":"IF(LEN(AF27)=0,\"\",VLOOKUP(AF27,リスト!$A$3:$N$201,3,FALSE))","v":""},{"$f":"IF(LEN(AF27)=0,\"\",VLOOKUP(AF27,リスト!$A$3:$N$201,2,FALSE))","v":""},null,null,null,null,null,null,null,null,null,null,null,null,0,null,null,null,null,{"$f":"COUNTA(E25:J27)","v":0},{"$f":"COUNTA(AF25:AK27)","v":0}]
["H","男子",{"$f":"IF(LEN($BE$2)=0,\"\",$BE$2&A28)","v":""},1,null,null,null,null,null,null,{"$f":"IF(LEN(E28)=0,\"\",VLOOKUP(E28,リスト!$A$3:$N$201,3,FALSE))","v":""},{"$f":"IF(LEN(E28)=0,\"\",VLOOKUP(E28,リスト!$A$3:$N$201,2,FALSE))","v":""},null,null,null,null,null,null,null,null,null,null,null,null,0,{"$f":"COUNTIF(M28:X30,\"○\")","v":0},null,"H","女子",{"$f":"IF(LEN($BE$2)=0,\"\",$BE$2&AB28)","v":""},1,null,null,null,null,null,null,{"$f":"IF(LEN(AF28)=0,\"\",VLOOKUP(AF28,リスト!$A$3:$N$201,3,FALSE))","v":""},{"$f":"IF(LEN(AF28)=0,\"\",VLOOKUP(AF28,リスト!$A$3:$N$201,2,FALSE))","v":""},null,null,null,null,null,null,null,null,null,null,null,null,0,{"$f":"COUNTIF(AN28:AY30,\"○\")","v":0},null,null,null,{"$f":"COUNTA(E28:J30)","v":0},{"$f":"COUNTA(AF28:AK30)","v":0}]
[null,null,null,2,null,null,null,null,null,null,{"$f":"IF(LEN(E29)=0,\"\",VLOOKUP(E29,リスト!$A$3:$N$201,3,FALSE))","v":""},{"$f":"IF(LEN(E29)=0,\"\",VLOOKUP(E29,リスト!$A$3:$N$201,2,FALSE))","v":""},null,null,null,null,null,null,null,null,null,null,null,null,0,null,null,null,null,null,2,null,null,null,null,null,null,{"$f":"IF(LEN(AF29)=0,\"\",VLOOKUP(AF29,リスト!$A$3:$N$201,3,FALSE))","v":""},{"$f":"IF(LEN(AF29)=0,\"\",VLOOKUP(AF29,リスト!$A$3:$N$201,2,FALSE))","v":""},null,null,null,null,null,null,null,null,null,null,null,null,0,null,null,null,null,{"$f":"COUNTA(E28:J30)","v":0},{"$f":"COUNTA(AF28:AK30)","v":0}]
[null,null,null,3,null,null,null,null,null,null,{"$f":"IF(LEN(E30)=0,\"\",VLOOKUP(E30,リスト!$A$3:$N$201,3,FALSE))","v":""},{"$f":"IF(LEN(E30)=0,\"\",VLOOKUP(E30,リスト!$A$3:$N$201,2,FALSE))","v":""},null,null,null,null,null,null,null,null,null,null,null,null,0,null,null,null,null,null,3,null,null,null,null,null,null,{"$f":"IF(LEN(AF30)=0,\"\",VLOOKUP(AF30,リスト!$A$3:$N$201,3,FALSE))","v":""},{"$f":"IF(LEN(AF30)=0,\"\",VLOOKUP(AF30,リスト!$A$3:$N$201,2,FALSE))","v":""},null,null,null,null,null,null,null,null,null,null,null,null,0,null,null,null,null,{"$f":"COUNTA(E28:J30)","v":0},{"$f":"COUNTA(AF28:AK30)","v":0}]
["I","男子",{"$f":"IF(LEN($BE$2)=0,\"\",$BE$2&A31)","v":""},1,null,null,null,null,null,null,{"$f":"IF(LEN(E31)=0,\"\",VLOOKUP(E31,リスト!$A$3:$N$201,3,FALSE))","v":""},{"$f":"IF(LEN(E31)=0,\"\",VLOOKUP(E31,リスト!$A$3:$N$201,2,FALSE))","v":""},null,null,null,null,null,null,null,null,null,null,null,null,0,{"$f":"COUNTIF(M31:X33,\"○\")","v":0},null,"I","女子",{"$f":"IF(LEN($BE$2)=0,\"\",$BE$2&AB31)","v":""},1,null,null,null,null,null,null,{"$f":"IF(LEN(AF31)=0,\"\",VLOOKUP(AF31,リスト!$A$3:$N$201,3,FALSE))","v":""},{"$f":"IF(LEN(AF31)=0,\"\",VLOOKUP(AF31,リスト!$A$3:$N$201,2,FALSE))","v":""},null,null,null,null,null,null,null,null,null,null,null,null,0,{"$f":"COUNTIF(AN31:AY33,\"○\")","v":0},null,null,null,{"$f":"COUNTA(E31:J33)","v":0},{"$f":"COUNTA(AF31:AK33)","v":0}]
[null,null,null,2,null,null,null,null,null,null,{"$f":"IF(LEN(E32)=0,\"\",VLOOKUP(E32,リスト!$A$3:$N$201,3,FALSE))","v":""},{"$f":"IF(LEN(E32)=0,\"\",VLOOKUP(E32,リスト!$A$3:$N$201,2,FALSE))","v":""},null,null,null,null,null,null,null,null,null,null,null,null,0,null,null,null,null,null,2,null,null,null,null,null,null,{"$f":"IF(LEN(AF32)=0,\"\",VLOOKUP(AF32,リスト!$A$3:$N$201,3,FALSE))","v":""},{"$f":"IF(LEN(AF32)=0,\"\",VLOOKUP(AF32,リスト!$A$3:$N$201,2,FALSE))","v":""},null,null,null,null,null,null,null,null,null,null,null,null,0,null,null,null,null,{"$f":"COUNTA(E31:J33)","v":0},{"$f":"COUNTA(AF31:AK33)","v":0}]
[null,null,null,3,null,null,null,null,null,null,{"$f":"IF(LEN(E33)=0,\"\",VLOOKUP(E33,リスト!$A$3:$N$201,3,FALSE))","v":""},{"$f":"IF(LEN(E33)=0,\"\",VLOOKUP(E33,リスト!$A$3:$N$201,2,FALSE))","v":""},null,null,null,null,null,null,null,null,null,null,null,null,0,null,null,null,null,null,3,null,null,null,null,null,null,{"$f":"IF(LEN(AF33)=0,\"\",VLOOKUP(AF33,リスト!$A$3:$N$201,3,FALSE))","v":""},{"$f":"IF(LEN(AF33)=0,\"\",VLOOKUP(AF33,リスト!$A$3:$N$201,2,FALSE))","v":""},null,null,null,null,null,null,null,null,null,null,null,null,0,null,null,null,null,{"$f":"COUNTA(E31:J33)","v":0},{"$f":"COUNTA(AF31:AK33)","v":0}]
["J","男子",{"$f":"IF(LEN($BE$2)=0,\"\",$BE$2&A34)","v":""},1,null,null,null,null,null,null,{"$f":"IF(LEN(E34)=0,\"\",VLOOKUP(E34,リスト!$A$3:$N$201,3,FALSE))","v":""},{"$f":"IF(LEN(E34)=0,\"\",VLOOKUP(E34,リスト!$A$3:$N$201,2,FALSE))","v":""},null,null,null,null,null,null,null,null,null,null,null,null,0,{"$f":"COUNTIF(M34:X36,\"○\")","v":0},null,"J","女子",{"$f":"IF(LEN($BE$2)=0,\"\",$BE$2&AB34)","v":""},1,null,null,null,null,null,null,{"$f":"IF(LEN(AF34)=0,\"\",VLOOKUP(AF34,リスト!$A$3:$N$201,3,FALSE))","v":""},{"$f":"IF(LEN(AF34)=0,\"\",VLOOKUP(AF34,リスト!$A$3:$N$201,2,FALSE))","v":""},null,null,null,null,null,null,null,null,null,null,null,null,0,{"$f":"COUNTIF(AN34:AY36,\"○\")","v":0},null,null,null,{"$f":"COUNTA(E34:J36)","v":0},{"$f":"COUNTA(AF34:AK36)","v":0}]
[null,null,null,2,null,null,null,null,null,null,{"$f":"IF(LEN(E35)=0,\"\",VLOOKUP(E35,リスト!$A$3:$N$201,3,FALSE))","v":""},{"$f":"IF(LEN(E35)=0,\"\",VLOOKUP(E35,リスト!$A$3:$N$201,2,FALSE))","v":""},null,null,null,null,null,null,null,null,null,null,null,null,0,null,null,null,null,null,2,null,null,null,null,null,null,{"$f":"IF(LEN(AF35)=0,\"\",VLOOKUP(AF35,リスト!$A$3:$N$201,3,FALSE))","v":""},{"$f":"IF(LEN(AF35)=0,\"\",VLOOKUP(AF35,リスト!$A$3:$N$201,2,FALSE))","v":""},null,null,null,null,null,null,null,null,null,null,null,null,0,null,null,null,null,{"$f":"COUNTA(E34:J36)","v":0},{"$f":"COUNTA(AF34:AK36)","v":0}]
[null,null,null,3,null,null,null,null,null,null,{"$f":"IF(LEN(E36)=0,\"\",VLOOKUP(E36,リスト!$A$3:$N$201,3,FALSE))","v":""},{"$f":"IF(LEN(E36)=0,\"\",VLOOKUP(E36,リスト!$A$3:$N$201,2,FALSE))","v":""},null,null,null,null,null,null,null,null,null,null,null,null,0,null,null,null,null,null,3,null,null,null,null,null,null,{"$f":"IF(LEN(AF36)=0,\"\",VLOOKUP(AF36,リスト!$A$3:$N$201,3,FALSE))","v":""},{"$f":"IF(LEN(AF36)=0,\"\",VLOOKUP(AF36,リスト!$A$3:$N$201,2,FALSE))","v":""},null,null,null,null,null,null,null,null,null,null,null,null,0,null,null,null,null,{"$f":"COUNTA(E34:J36)","v":0},{"$f":"COUNTA(AF34:AK36)","v":0}]
["K","男子",{"$f":"IF(LEN($BE$2)=0,\"\",$BE$2&A37)","v":""},1,null,null,null,null,null,null,{"$f":"IF(LEN(E37)=0,\"\",VLOOKUP(E37,リスト!$A$3:$N$201,3,FALSE))","v":""},{"$f":"IF(LEN(E37)=0,\"\",VLOOKUP(E37,リスト!$A$3:$N$201,2,FALSE))","v":""},null,null,null,null,null,null,null,null,null,null,null,null,0,{"$f":"COUNTIF(M37:X39,\"○\")","v":0},null,"K","女子",{"$f":"IF(LEN($BE$2)=0,\"\",$BE$2&AB37)","v":""},1,null,null,null,null,null,null,{"$f":"IF(LEN(AF37)=0,\"\",VLOOKUP(AF37,リスト!$A$3:$N$201,3,FALSE))","v":""},{"$f":"IF(LEN(AF37)=0,\"\",VLOOKUP(AF37,リスト!$A$3:$N$201,2,FALSE))","v":""},null,null,null,null,null,null,null,null,null,null,null,null,0,{"$f":"COUNTIF(AN37:AY39,\"○\")","v":0},null,null,null,{"$f":"COUNTA(E37:J39)","v":0},{"$f":"COUNTA(AF37:AK39)","v":0}]
[null,null,null,2,null,null,null,null,null,null,{"$f":"IF(LEN(E38)=0,\"\",VLOOKUP(E38,リスト!$A$3:$N$201,3,FALSE))","v":""},{"$f":"IF(LEN(E38)=0,\"\",VLOOKUP(E38,リスト!$A$3:$N$201,2,FALSE))","v":""},null,null,null,null,null,null,null,null,null,null,null,null,0,null,null,null,null,null,2,null,null,null,null,null,null,{"$f":"IF(LEN(AF38)=0,\"\",VLOOKUP(AF38,リスト!$A$3:$N$201,3,FALSE))","v":""},{"$f":"IF(LEN(AF38)=0,\"\",VLOOKUP(AF38,リスト!$A$3:$N$201,2,FALSE))","v":""},null,null,null,null,null,null,null,null,null,null,null,null,0,null,null,null,null,{"$f":"COUNTA(E37:J39)","v":0},{"$f":"COUNTA(AF37:AK39)","v":0}]
[null,null,null,3,null,null,null,null,null,null,{"$f":"IF(LEN(E39)=0,\"\",VLOOKUP(E39,リスト!$A$3:$N$201,3,FALSE))","v":""},{"$f":"IF(LEN(E39)=0,\"\",VLOOKUP(E39,リスト!$A$3:$N$201,2,FALSE))","v":""},null,null,null,null,null,null,null,null,null,null,null,null,0,null,null,null,null,null,3,null,null,null,null,null,null,{"$f":"IF(LEN(AF39)=0,\"\",VLOOKUP(AF39,リスト!$A$3:$N$201,3,FALSE))","v":""},{"$f":"IF(LEN(AF39)=0,\"\",VLOOKUP(AF39,リスト!$A$3:$N$201,2,FALSE))","v":""},null,null,null,null,null,null,null,null,null,null,null,null,0,null,null,null,null,{"$f":"COUNTA(E37:J39)","v":0},{"$f":"COUNTA(AF37:AK39)","v":0}]
["L","男子",{"$f":"IF(LEN($BE$2)=0,\"\",$BE$2&A40)","v":""},1,null,null,null,null,null,null,{"$f":"IF(LEN(E40)=0,\"\",VLOOKUP(E40,リスト!$A$3:$N$201,3,FALSE))","v":""},{"$f":"IF(LEN(E40)=0,\"\",VLOOKUP(E40,リスト!$A$3:$N$201,2,FALSE))","v":""},null,null,null,null,null,null,null,null,null,null,null,null,0,{"$f":"COUNTIF(M40:X42,\"○\")","v":0},null,"L","女子",{"$f":"IF(LEN($BE$2)=0,\"\",$BE$2&AB40)","v":""},1,null,null,null,null,null,null,{"$f":"IF(LEN(AF40)=0,\"\",VLOOKUP(AF40,リスト!$A$3:$N$201,3,FALSE))","v":""},{"$f":"IF(LEN(AF40)=0,\"\",VLOOKUP(AF40,リスト!$A$3:$N$201,2,FALSE))","v":""},null,null,null,null,null,null,null,null,null,null,null,null,0,{"$f":"COUNTIF(AN40:AY42,\"○\")","v":0},null,null,null,{"$f":"COUNTA(E40:J42)","v":0},{"$f":"COUNTA(AF40:AK42)","v":0}]
[null,null,null,2,null,null,null,null,null,null,{"$f":"IF(LEN(E41)=0,\"\",VLOOKUP(E41,リスト!$A$3:$N$201,3,FALSE))","v":""},{"$f":"IF(LEN(E41)=0,\"\",VLOOKUP(E41,リスト!$A$3:$N$201,2,FALSE))","v":""},null,null,null,null,null,null,null,null,null,null,null,null,0,null,null,null,null,null,2,null,null,null,null,null,null,{"$f":"IF(LEN(AF41)=0,\"\",VLOOKUP(AF41,リスト!$A$3:$N$201,3,FALSE))","v":""},{"$f":"IF(LEN(AF41)=0,\"\",VLOOKUP(AF41,リスト!$A$3:$N$201,2,FALSE))","v":""},null,null,null,null,null,null,null,null,null,null,null,null,0,null,null,null,null,{"$f":"COUNTA(E40:J42)","v":0},{"$f":"COUNTA(AF40:AK42)","v":0}]
[null,null,null,3,null,null,null,null,null,null,{"$f":"IF(LEN(E42)=0,\"\",VLOOKUP(E42,リスト!$A$3:$N$201,3,FALSE))","v":""},{"$f":"IF(LEN(E42)=0,\"\",VLOOKUP(E42,リスト!$A$3:$N$201,2,FALSE))","v":""},null,null,null,null,null,null,null,null,null,null,null,null,0,null,null,null,null,null,3,null,null,null,null,null,null,{"$f":"IF(LEN(AF42)=0,\"\",VLOOKUP(AF42,リスト!$A$3:$N$201,3,FALSE))","v":""},{"$f":"IF(LEN(AF42)=0,\"\",VLOOKUP(AF42,リスト!$A$3:$N$201,2,FALSE))","v":""},null,null,null,null,null,null,null,null,null,null,null,null,0,null,null,null,null,{"$f":"COUNTA(E40:J42)","v":0},{"$f":"COUNTA(AF40:AK42)","v":0}]
["M","男子",{"$f":"IF(LEN($BE$2)=0,\"\",$BE$2&A43)","v":""},1,null,null,null,null,null,null,{"$f":"IF(LEN(E43)=0,\"\",VLOOKUP(E43,リスト!$A$3:$N$201,3,FALSE))","v":""},{"$f":"IF(LEN(E43)=0,\"\",VLOOKUP(E43,リスト!$A$3:$N$201,2,FALSE))","v":""},null,null,null,null,null,null,null,null,null,null,null,null,0,{"$f":"COUNTIF(M43:X45,\"○\")","v":0},null,"M","女子",{"$f":"IF(LEN($BE$2)=0,\"\",$BE$2&AB43)","v":""},1,null,null,null,null,null,null,{"$f":"IF(LEN(AF43)=0,\"\",VLOOKUP(AF43,リスト!$A$3:$N$201,3,FALSE))","v":""},{"$f":"IF(LEN(AF43)=0,\"\",VLOOKUP(AF43,リスト!$A$3:$N$201,2,FALSE))","v":""},null,null,null,null,null,null,null,null,null,null,null,null,0,{"$f":"COUNTIF(AN43:AY45,\"○\")","v":0},null,null,null,{"$f":"COUNTA(E43:J45)","v":0},{"$f":"COUNTA(AF43:AK45)","v":0}]
[null,null,null,2,null,null,null,null,null,null,{"$f":"IF(LEN(E44)=0,\"\",VLOOKUP(E44,リスト!$A$3:$N$201,3,FALSE))","v":""},{"$f":"IF(LEN(E44)=0,\"\",VLOOKUP(E44,リスト!$A$3:$N$201,2,FALSE))","v":""},null,null,null,null,null,null,null,null,null,null,null,null,0,null,null,null,null,null,2,null,null,null,null,null,null,{"$f":"IF(LEN(AF44)=0,\"\",VLOOKUP(AF44,リスト!$A$3:$N$201,3,FALSE))","v":""},{"$f":"IF(LEN(AF44)=0,\"\",VLOOKUP(AF44,リスト!$A$3:$N$201,2,FALSE))","v":""},null,null,null,null,null,null,null,null,null,null,null,null,0,null,null,null,null,{"$f":"COUNTA(E43:J45)","v":0},{"$f":"COUNTA(AF43:AK45)","v":0}]
[null,null,null,3,null,null,null,null,null,null,{"$f":"IF(LEN(E45)=0,\"\",VLOOKUP(E45,リスト!$A$3:$N$201,3,FALSE))","v":""},{"$f":"IF(LEN(E45)=0,\"\",VLOOKUP(E45,リスト!$A$3:$N$201,2,FALSE))","v":""},null,null,null,null,null,null,null,null,null,null,null,null,0,null,null,null,null,null,3,null,null,null,null,null,null,{"$f":"IF(LEN(AF45)=0,\"\",VLOOKUP(AF45,リスト!$A$3:$N$201,3,FALSE))","v":""},{"$f":"IF(LEN(AF45)=0,\"\",VLOOKUP(AF45,リスト!$A$3:$N$201,2,FALSE))","v":""},null,null,null,null,null,null,null,null,null,null,null,null,0,null,null,null,null,{"$f":"COUNTA(E43:J45)","v":0},{"$f":"COUNTA(AF43:AK45)","v":0}]
["N","男子",{"$f":"IF(LEN($BE$2)=0,\"\",$BE$2&A46)","v":""},1,null,null,null,null,null,null,{"$f":"IF(LEN(E46)=0,\"\",VLOOKUP(E46,リスト!$A$3:$N$201,3,FALSE))","v":""},{"$f":"IF(LEN(E46)=0,\"\",VLOOKUP(E46,リスト!$A$3:$N$201,2,FALSE))","v":""},null,null,null,null,null,null,null,null,null,null,null,null,0,{"$f":"COUNTIF(M46:X48,\"○\")","v":0},null,"N","女子",{"$f":"IF(LEN($BE$2)=0,\"\",$BE$2&AB46)","v":""},1,null,null,null,null,null,null,{"$f":"IF(LEN(AF46)=0,\"\",VLOOKUP(AF46,リスト!$A$3:$N$201,3,FALSE))","v":""},{"$f":"IF(LEN(AF46)=0,\"\",VLOOKUP(AF46,リスト!$A$3:$N$201,2,FALSE))","v":""},null,null,null,null,null,null,null,null,null,null,null,null,0,{"$f":"COUNTIF(AN46:AY48,\"○\")","v":0},null,null,null,{"$f":"COUNTA(E46:J48)","v":0},{"$f":"COUNTA(AF46:AK48)","v":0}]
[null,null,null,2,null,null,null,null,null,null,{"$f":"IF(LEN(E47)=0,\"\",VLOOKUP(E47,リスト!$A$3:$N$201,3,FALSE))","v":""},{"$f":"IF(LEN(E47)=0,\"\",VLOOKUP(E47,リスト!$A$3:$N$201,2,FALSE))","v":""},null,null,null,null,null,null,null,null,null,null,null,null,0,null,null,null,null,null,2,null,null,null,null,null,null,{"$f":"IF(LEN(AF47)=0,\"\",VLOOKUP(AF47,リスト!$A$3:$N$201,3,FALSE))","v":""},{"$f":"IF(LEN(AF47)=0,\"\",VLOOKUP(AF47,リスト!$A$3:$N$201,2,FALSE))","v":""},null,null,null,null,null,null,null,null,null,null,null,null,0,null,null,null,null,{"$f":"COUNTA(E46:J48)","v":0},{"$f":"COUNTA(AF46:AK48)","v":0}]
[null,null,null,3,null,null,null,null,null,null,{"$f":"IF(LEN(E48)=0,\"\",VLOOKUP(E48,リスト!$A$3:$N$201,3,FALSE))","v":""},{"$f":"IF(LEN(E48)=0,\"\",VLOOKUP(E48,リスト!$A$3:$N$201,2,FALSE))","v":""},null,null,null,null,null,null,null,null,null,null,null,null,0,null,null,null,null,null,3,null,null,null,null,null,null,{"$f":"IF(LEN(AF48)=0,\"\",VLOOKUP(AF48,リスト!$A$3:$N$201,3,FALSE))","v":""},{"$f":"IF(LEN(AF48)=0,\"\",VLOOKUP(AF48,リスト!$A$3:$N$201,2,FALSE))","v":""},null,null,null,null,null,null,null,null,null,null,null,null,0,null,null,null,null,{"$f":"COUNTA(E46:J48)","v":0},{"$f":"COUNTA(AF46:AK48)","v":0}]
["O","男子",{"$f":"IF(LEN($BE$2)=0,\"\",$BE$2&A49)","v":""},1,null,null,null,null,null,null,{"$f":"IF(LEN(E49)=0,\"\",VLOOKUP(E49,リスト!$A$3:$N$201,3,FALSE))","v":""},{"$f":"IF(LEN(E49)=0,\"\",VLOOKUP(E49,リスト!$A$3:$N$201,2,FALSE))","v":""},null,null,null,null,null,null,null,null,null,null,null,null,0,{"$f":"COUNTIF(M49:X51,\"○\")","v":0},null,"O","女子",{"$f":"IF(LEN($BE$2)=0,\"\",$BE$2&AB49)","v":""},1,null,null,null,null,null,null,{"$f":"IF(LEN(AF49)=0,\"\",VLOOKUP(AF49,リスト!$A$3:$N$201,3,FALSE))","v":""},{"$f":"IF(LEN(AF49)=0,\"\",VLOOKUP(AF49,リスト!$A$3:$N$201,2,FALSE))","v":""},null,null,null,null,null,null,null,null,null,null,null,null,0,{"$f":"COUNTIF(AN49:AY51,\"○\")","v":0},null,null,null,{"$f":"COUNTA(E49:J51)","v":0},{"$f":"COUNTA(AF49:AK51)","v":0}]
[null,null,null,2,null,null,null,null,null,null,{"$f":"IF(LEN(E50)=0,\"\",VLOOKUP(E50,リスト!$A$3:$N$201,3,FALSE))","v":""},{"$f":"IF(LEN(E50)=0,\"\",VLOOKUP(E50,リスト!$A$3:$N$201,2,FALSE))","v":""},null,null,null,null,null,null,null,null,null,null,null,null,0,null,null,null,null,null,2,null,null,null,null,null,null,{"$f":"IF(LEN(AF50)=0,\"\",VLOOKUP(AF50,リスト!$A$3:$N$201,3,FALSE))","v":""},{"$f":"IF(LEN(AF50)=0,\"\",VLOOKUP(AF50,リスト!$A$3:$N$201,2,FALSE))","v":""},null,null,null,null,null,null,null,null,null,null,null,null,0,null,null,null,null,{"$f":"COUNTA(E49:J51)","v":0},{"$f":"COUNTA(AF49:AK51)","v":0}]
[null,null,null,3,null,null,null,null,null,null,{"$f":"IF(LEN(E51)=0,\"\",VLOOKUP(E51,リスト!$A$3:$N$201,3,FALSE))","v":""},{"$f":"IF(LEN(E51)=0,\"\",VLOOKUP(E51,リスト!$A$3:$N$201,2,FALSE))","v":""},null,null,null,null,null,null,null,null,null,null,null,null,0,null,null,null,null,null,3,null,null,null,null,null,null,{"$f":"IF(LEN(AF51)=0,\"\",VLOOKUP(AF51,リスト!$A$3:$N$201,3,FALSE))","v":""},{"$f":"IF(LEN(AF51)=0,\"\",VLOOKUP(AF51,リスト!$A$3:$N$201,2,FALSE))","v":""},null,null,null,null,null,null,null,null,null,null,null,null,0,null,null,null,null,{"$f":"COUNTA(E49:J51)","v":0},{"$f":"COUNTA(AF49:AK51)","v":0}]
["P","男子",{"$f":"IF(LEN($BE$2)=0,\"\",$BE$2&A52)","v":""},1,null,null,null,null,null,null,{"$f":"IF(LEN(E52)=0,\"\",VLOOKUP(E52,リスト!$A$3:$N$201,3,FALSE))","v":""},{"$f":"IF(LEN(E52)=0,\"\",VLOOKUP(E52,リスト!$A$3:$N$201,2,FALSE))","v":""},null,null,null,null,null,null,null,null,null,null,null,null,0,{"$f":"COUNTIF(M52:X54,\"○\")","v":0},null,"P","女子",{"$f":"IF(LEN($BE$2)=0,\"\",$BE$2&AB52)","v":""},1,null,null,null,null,null,null,{"$f":"IF(LEN(AF52)=0,\"\",VLOOKUP(AF52,リスト!$A$3:$N$201,3,FALSE))","v":""},{"$f":"IF(LEN(AF52)=0,\"\",VLOOKUP(AF52,リスト!$A$3:$N$201,2,FALSE))","v":""},null,null,null,null,null,null,null,null,null,null,null,null,0,{"$f":"COUNTIF(AN52:AY54,\"○\")","v":0},null,null,null,{"$f":"COUNTA(E52:J54)","v":0},{"$f":"COUNTA(AF52:AK54)","v":0}]
[null,null,null,2,null,null,null,null,null,null,{"$f":"IF(LEN(E53)=0,\"\",VLOOKUP(E53,リスト!$A$3:$N$201,3,FALSE))","v":""},{"$f":"IF(LEN(E53)=0,\"\",VLOOKUP(E53,リスト!$A$3:$N$201,2,FALSE))","v":""},null,null,null,null,null,null,null,null,null,null,null,null,0,null,null,null,null,null,2,null,null,null,null,null,null,{"$f":"IF(LEN(AF53)=0,\"\",VLOOKUP(AF53,リスト!$A$3:$N$201,3,FALSE))","v":""},{"$f":"IF(LEN(AF53)=0,\"\",VLOOKUP(AF53,リスト!$A$3:$N$201,2,FALSE))","v":""},null,null,null,null,null,null,null,null,null,null,null,null,0,null,null,null,null,{"$f":"COUNTA(E52:J54)","v":0},{"$f":"COUNTA(AF52:AK54)","v":0}]
[null,null,null,3,null,null,null,null,null,null,{"$f":"IF(LEN(E54)=0,\"\",VLOOKUP(E54,リスト!$A$3:$N$201,3,FALSE))","v":""},{"$f":"IF(LEN(E54)=0,\"\",VLOOKUP(E54,リスト!$A$3:$N$201,2,FALSE))","v":""},null,null,null,null,null,null,null,null,null,null,null,null,0,null,null,null,null,null,3,null,null,null,null,null,null,{"$f":"IF(LEN(AF54)=0,\"\",VLOOKUP(AF54,リスト!$A$3:$N$201,3,FALSE))","v":""},{"$f":"IF(LEN(AF54)=0,\"\",VLOOKUP(AF54,リスト!$A$3:$N$201,2,FALSE))","v":""},null,null,null,null,null,null,null,null,null,null,null,null,0,null,null,null,null,{"$f":"COUNTA(E52:J54)","v":0},{"$f":"COUNTA(AF52:AK54)","v":0}]
["Q","男子",{"$f":"IF(LEN($BE$2)=0,\"\",$BE$2&A55)","v":""},1,null,null,null,null,null,null,{"$f":"IF(LEN(E55)=0,\"\",VLOOKUP(E55,リスト!$A$3:$N$201,3,FALSE))","v":""},{"$f":"IF(LEN(E55)=0,\"\",VLOOKUP(E55,リスト!$A$3:$N$201,2,FALSE))","v":""},null,null,null,null,null,null,null,null,null,null,null,null,0,{"$f":"COUNTIF(M55:X57,\"○\")","v":0},null,"Q","女子",{"$f":"IF(LEN($BE$2)=0,\"\",$BE$2&AB55)","v":""},1,null,null,null,null,null,null,{"$f":"IF(LEN(AF55)=0,\"\",VLOOKUP(AF55,リスト!$A$3:$N$201,3,FALSE))","v":""},{"$f":"IF(LEN(AF55)=0,\"\",VLOOKUP(AF55,リスト!$A$3:$N$201,2,FALSE))","v":""},null,null,null,null,null,null,null,null,null,null,null,null,0,{"$f":"COUNTIF(AN55:AY57,\"○\")","v":0},null,null,null,{"$f":"COUNTA(E55:J57)","v":0},{"$f":"COUNTA(AF55:AK57)","v":0}]
[null,null,null,2,null,null,null,null,null,null,{"$f":"IF(LEN(E56)=0,\"\",VLOOKUP(E56,リスト!$A$3:$N$201,3,FALSE))","v":""},{"$f":"IF(LEN(E56)=0,\"\",VLOOKUP(E56,リスト!$A$3:$N$201,2,FALSE))","v":""},null,null,null,null,null,null,null,null,null,null,null,null,0,null,null,null,null,null,2,null,null,null,null,null,null,{"$f":"IF(LEN(AF56)=0,\"\",VLOOKUP(AF56,リスト!$A$3:$N$201,3,FALSE))","v":""},{"$f":"IF(LEN(AF56)=0,\"\",VLOOKUP(AF56,リスト!$A$3:$N$201,2,FALSE))","v":""},null,null,null,null,null,null,null,null,null,null,null,null,0,null,null,null,null,{"$f":"COUNTA(E55:J57)","v":0},{"$f":"COUNTA(AF55:AK57)","v":0}]
[null,null,null,3,null,null,null,null,null,null,{"$f":"IF(LEN(E57)=0,\"\",VLOOKUP(E57,リスト!$A$3:$N$201,3,FALSE))","v":""},{"$f":"IF(LEN(E57)=0,\"\",VLOOKUP(E57,リスト!$A$3:$N$201,2,FALSE))","v":""},null,null,null,null,null,null,null,null,null,null,null,null,0,null,null,null,null,null,3,null,null,null,null,null,null,{"$f":"IF(LEN(AF57)=0,\"\",VLOOKUP(AF57,リスト!$A$3:$N$201,3,FALSE))","v":""},{"$f":"IF(LEN(AF57)=0,\"\",VLOOKUP(AF57,リスト!$A$3:$N$201,2,FALSE))","v":""},null,null,null,null,null,null,null,null,null,null,null,null,0,null,null,null,null,{"$f":"COUNTA(E55:J57)","v":0},{"$f":"COUNTA(AF55:AK57)","v":0}]
[null,"男子","個人",null,null,null,null,null,null,null,{"$f":"IF(LEN(E58)=0,\"\",VLOOKUP(E58,リスト!$A$3:$N$201,3,FALSE))","v":""},{"$f":"IF(LEN(E58)=0,\"\",VLOOKUP(E58,リスト!$A$3:$N$201,2,FALSE))","v":""},null,null,null,null,null,null,null,null,null,null,null,null,0,null,null,null,"女子","個人",null,null,null,null,null,null,null,{"$f":"IF(LEN(AF58)=0,\"\",VLOOKUP(AF58,リスト!$A$3:$N$201,3,FALSE))","v":""},{"$f":"IF(LEN(AF58)=0,\"\",VLOOKUP(AF58,リスト!$A$3:$N$201,2,FALSE))","v":""},null,null,null,null,null,null,null,null,null,null,null,null,0]
[]
[]
[]
[]
[{"$f":"I63","v":"日立第一高等学校"},1,1,1,"日一","日立一","県立",0,"日立第一高等学校","日立第一","ひたちだいいち","男","女","317-0063","日立市若葉町3-15-1","0294-22-6488","","0294-21-4490","青木　睦人","安齋　正人","志賀　達哉","　","　",null,null,null,null,null,"317-0063",null,null,null,null,null,null,null,null,null,null,null,null,null,null,null,null,null,null,null,null,null,null,null,null,null,null,null,null,{"$f":"COUNTA(AF61:AK63)","v":0}]
[{"$f":"I64","v":"日立第二高等学校"},1,2,2,"日二","日立二","県立",0,"日立第二高等学校","日立第二","ひたちだいに","","女","317-0071","日立市鹿島町3-2-1","0294-22-3254","","0294-21-4583","鈴木　正人","岡見　伸行","本田　由子","　","　",null,null,null,null,null,"317-0071",null,null,null,null,null,null,null,null,null,null,null,null,null,null,null,null,null,null,null,null,null,null,null,null,null,null,null,null,{"$f":"COUNTA(AF64:AK66)","v":0}]
["日立商業高等学校",1,3,3,"日商","日立商","県立",0,"日立商業高等学校","日立商業","ひたちしょうぎょう","男","女","319-1222","日立市久慈町6-20-1","0294-52-4779","","0294-53-8243","芝田　武","隈元　美緒","笹沼　薫","八巻　千夏","　",null,null,null,null,null,"319-1222",null,null,null,null,null,null,null,null,null,null,null,null,null,null,null,null,null,null,null,null,null,null,null,null,null,null,null,null,{"$f":"COUNTA(AF64:AK66)","v":0}]
["日立北高等学校",1,4,4,"日北","日立北","県立",0,"日立北高等学校","日立北","ひたちきた","男","女","319-1411","日立市川尻町6-11-1","0294-43-2101","","0294-43-7967","鈴木　仁","矢部　克美","小中　貴司","重中　茜","　",null,null,null,null,null,"319-1411",null,null,null,null,null,null,null,null,null,null,null,null,null,null,null,null,null,null,null,null,null,null,null,null,null,null,null,null,{"$f":"COUNTA(AF64:AK66)","v":0}]
["磯原郷英高等学校",1,5,5,"磯郷","磯郷英","県立",0,"磯原郷英高等学校","磯原郷英","いそはらきょうえい","男","","319-1541","北茨城市磯原町磯原912","0293-42-0260","","0293-42-6545","蛭田　清孝","鈴木　光雄","遠藤　太郎","　","　",null,null,null,null,null,"319-1541"]
["太田第一高等学校",1,6,6,"太一","太田一","県立",0,"太田第一高等学校","太田第一","おおただいいち","男","女","313-0005","常陸太田市栄町58","0294-72-2115","","0294-72-2119","鈴木　清隆","細谷　一徳","西野　志津子","　","　",null,null,null,null,null,"313-0005"]
["太田西山高等学校",1,7,7,"西山","太西山","県立",0,"太田西山高等学校","太田西山","おおたせいざん","男","女","313-0007","常陸太田市新宿町210","0294-72-2136","","0294-72-2147","谷津　勉","平間　省一","飯嶋　弘治","　","　",null,null,null,null,null,"313-0041"]
["小瀬高等学校",2,1,8,"小瀬","小瀬","県立",0,"小瀬高等学校","小　　瀬","おせ","男","女","319-2401","常陸大宮市上小瀬1881","0295-56-2204","","0295-56-3804","内桶　二郎","宮本　耕平","金子　容子","　","　",null,null,null,null,null,"313-0007"]
["常陸大宮高等学校",2,2,9,"常大","常大宮","県立",0,"常陸大宮高等学校","常陸大宮","みとだいいち","男","女","319-2255","常陸大宮市野中町3257-2","0295-52-2175","","0295-53-6914","大曽根　淳","西野　有希","古川　亜友美","　","　",null,null,null,null,null,"319-2401"]
["水戸第一高等学校",2,3,10,"水一","水戸一","県立",0,"水戸第一高等学校","水戸第一","みとだいに","男","女","310-0011","水戸市三の丸3-10-1","029-224-2254","","029-225-5694","高村　祐一","石井　孝典","金井　正人","　","　",null,null,null,null,null,"319-2255"]
["水戸第二高等学校",2,4,11,"水二","水戸二","県立",0,"水戸第二高等学校","水戸第二","みとだいさん","","女","310-0062","水戸市大町2-2-14","029-224-2543","","029-225-5049","石井　純一","栗田　克紀","茂又　孝裕","　","　",null,null,null,null,null,"310-0011"]
["水戸第三高等学校",2,5,12,"水三","水戸三","県立",0,"水戸第三高等学校","水戸第三","みどりおか","","女","310-0011","水戸市三の丸2-7-27","029-224-2044","","029-225-4524","滑川　雅之","深谷　拓","赤津　哲也","今本　理香","　",null,null,null,null,null,"310-0062"]
["緑岡高等学校",2,6,13,"緑岡","緑岡","県立",0,"緑岡高等学校","緑　　岡","みとこうぎょう","男","女","310-0852","水戸市笠原町1284","029-241-0311","","029-241-7929","大高　淳","楠　正則","大越　亜由美","小塚　由紀子","　",null,null,null,null,null,"310-0011"]
["水戸工業高等学校",2,7,14,"水工","水戸工","県立",0,"水戸工業高等学校","水戸工業","みとさくらのまき","男","女","310-0836","水戸市元吉田町1101","029-247-5711","","029-248-6399","川嶋　正人","牧田　幸博","根本　博文","鶴田　千鶴子","　",null,null,null,null,null,"310-0852"]
["水戸桜ノ牧高等学校",2,8,15,"桜牧","桜ノ牧","県立",0,"水戸桜ノ牧高等学校","水戸桜ノ牧","さわ","男","女","310-0914","水戸市小吹町2070","029-243-3644","","029-241-9642","益子　雄行","廣原　嘉明","佐藤　敬子","寺内　芳江","　",null,null,null,null,null,"310-0836"]
["佐和高等学校",2,9,16,"佐和","佐和","県立",0,"佐和高等学校","佐　　和","かさま","男","女","312-0061","ひたちなか市稲田636-1","029-285-1819",0,"029-285-8401","渡邊　政美","辻元　誠之","池田　史絵","　","　",null,null,null,null,null,"310-0914"]
["那珂湊高等学校",2,10,17,"那湊","那珂湊","県立",0,"那珂湊高等学校","那 珂 湊","かさま","男","女","311-1224","ひたちなか市山ノ上町4-6","029-262-2278","","029-263-3961","磯野　修","関口　昭","大森　一平","満生　香子","　",null,null,null,null,null,"312-0016"]
["笠間高等学校",2,11,18,"笠間","笠間","県立",0,"笠間高等学校","笠　　間","みとさくらのまきじょうほく","男","女","309-1611","笠間市笠間1668","0296-72-1171","","0296-72-2590","小室　浩之","人見　広章","前野　秀明","　","　",null,null,null,null,null,"312-0061"]
["水戸桜ノ牧高等学校常北校",2,12,19,"常北","常北","県立",0,"水戸桜ノ牧高等学校常北校","水戸桜ノ牧常北","とうかい","男","女","311-4306","東茨城郡城里町春園1634","029-288-2028","","029-288-4969","益子　雄行","海老原　洋法","　","　","　",null,null,null,null,null,"311-1224"]
["東海高等学校",2,13,20,"東海","東海","県立",0,"東海高等学校","東　　海","いばらきひがし","男","女","319-1112","那珂郡東海村大字村松771-1","029-282-7501","","029-287-1328","鈴木　正人","小田　義雄","荒木　広大","　","　",null,null,null,null,null,"309-1611"]
["茨城東高等学校",2,14,21,"茨東","茨城東","県立",0,"茨城東高等学校","茨 城 東","なか","男","女","311-3157","東茨城郡茨城町小幡2524","029-292-6245","","029-292-2405","山﨑　浩之","大賀　洋希","菅野　学","　","　",null,null,null,null,null,"311-4306"]
["那珂高等学校",2,15,22,"那珂","那珂","県立",0,"那珂高等学校","那　　珂","いばらき","男","女","311-0111","那珂市後台1710-1","029-295-2710","","029-295-4640","白土　毅","大内　正臣","井樋　守正","　","　",null,null,null,null,null,"319-1112"]
["茨城高等学校",2,16,23,"茨城","茨城","","私立","茨城高等学校","茨　　城","すいじょう","男","女","310-0065","水戸市八幡町16-1","029-221-4936","","029-221-4923","梶　克治","遠藤　康","作山　友孝","　","　",null,null,null,null,null,"311-3157"]
["水城高等学校",2,17,24,"水城","水城",0,"私立","水城高等学校","水　　城","いばらきこうぎょうこうとうせんもん","男","女","310-0804","水戸市白梅2-1-45","029-247-6509","","029-248-7252","小田部　幹夫","中村　諒","武田　悠平","　","　",null,null,null,null,null,"311-0111"]
["茨城工業高等専門学校",2,18,25,"高専","茨高専","国立",0,"茨城工業高等専門学校","茨城工業高等専門学校","ほこただいいち","男","女","312-8508","ひたちなか市中根866","029-272-5201","","029-271-2813","米倉　達広","丸山　智章","長洲　正浩","平本　留理","大津　麻紀子",null,null,null,null,null,"310-0065"]
["鉾田第一高等学校",3,1,26,"鉾一","鉾田一","県立",0,"鉾田第一高等学校","鉾田第一","ほこただいに","男","女","311-1517","鉾田市鉾田1090-2","0291-33-2161","","0291-33-6086","飯山　美都子","星　浩一","髙野　ともえ","福釜　貴子","　",null,null,null,null,null,"310-0804"]
["鉾田第二高等学校",3,2,27,"鉾二","鉾田二","県立",0,"鉾田第二高等学校","鉾田第二","たまつくりこうぎょう","男","女","311-1517","鉾田市鉾田1158","0291-33-2171","","0291-33-6093","平山　茂男","沼里　民子","岡部　恵","市村　健一","　",null,null,null,null,null,"312-8508"]
["玉造工業高等学校",3,3,28,"玉工","玉造工","県立",0,"玉造工業高等学校","玉造工業","あそう","男","女","311-3501","行方市芹沢1552","0299-55-0138","","0299-55-3454","大塚　哲蔵","柴崎　昇一","大里　美穂","瀧　冬馬","　",null,null,null,null,null,"311-1517"]
["麻生高等学校",3,4,29,"麻生","麻生","県立",0,"麻生高等学校","麻　　生","いたこ","男","女","311-3832","行方市麻生1806","0299-72-0098","","0299-72-2317","青山　泰久","齊藤　啓","森作　実玖也","　","　",null,null,null,null,null,"311-1517"]
["潮来高等学校",3,5,30,"潮来","潮来","県立",0,"潮来高等学校","潮　　来","かしま","男","女","311-2448","潮来市須賀3025","0299-66-2142","","0299-66-2670","海老澤　浩一","宮崎　理奈","萩原　卓","　","　",null,null,null,null,null,"311-3501"]
["鹿島高等学校",3,6,31,"鹿島","鹿島","県立",0,"鹿島高等学校","鹿　　島","はさき","男","女","314-0038","鹿嶋市城山2-2-19","0299-82-1903","","0299-84-1547","小沼　浩幸","山口　薫","早乙女　舞","甲　良美","　",null,null,null,null,null,"311-3832"]
["波崎高等学校",3,7,32,"波崎","波崎","県立",0,"波崎高等学校","波　　崎","せいしんがくえん","男","女","314-0343","神栖市土合本町2-9928-1","0479-48-0044","","0479-48-4679","黒澤　義生","山田　宏","　","　","　",null,null,null,null,null,"311-2448"]
["清真学園高等学校",3,8,33,"清真","清真学",0,"私立","清真学園高等学校","清真学園","つちうらだいいち","男","女","314-0031","鹿嶋市宮中伏見4448-5","0299-83-1811","","0299-83-6414","佐藤　敏近","佐久間　和彰","炭谷　崇人","釜田　啓市","清野　千里",null,null,null,null,null,"314-0038"]
["土浦第一高等学校",4,1,34,"土一","土浦一","県立",0,"土浦第一高等学校","土浦第一","つちうらだいに","男","女","300-0051","土浦市真鍋4-4-2","029-822-0137","","029-826-3521","中澤　斉","柴沼　陽","大野　岳志","中山　千哉","　",null,null,null,null,null,"314-0343"]
["土浦第二高等学校",4,2,35,"土二","土浦二","県立",0,"土浦第二高等学校","土浦第二","つちうらだいさん","男","女","300-0041","土浦市立田町9-6","029-822-5027","","029-826-3522","長谷川　京子","杉山　尚之","土井　和恵","町田　浩一","狢川　喬",null,null,null,null,null,"314-0031"]
["土浦第三高等学校",4,3,36,"土三","土浦三","県立",0,"土浦第三高等学校","土浦第三","つちうらこうぎょう","男","女","300-0835","土浦市大岩田1599","029-821-1605","","029-826-3523","海老沼　正","松本　現","仲田　具裕","石井　美香","鎌田　千亜紀",null,null,null,null,null,"300-0051"]
["土浦工業高等学校",4,4,37,"土工","土浦工","県立",0,"土浦工業高等学校","土浦工業","いしおかだいいち","男","","300-0051","土浦市真鍋6-11-20","029-821-1953","","029-822-6924","髙野　康之","後藤　裕一","西村　久美子","千葉　一茂","関　裕子",null,null,null,null,null,"300-0041"]
["石岡第一高等学校",4,5,38,"石一","石岡一","県立",0,"石岡第一高等学校","石岡第一","いしおかだいに","男","女","315-0001","石岡市石岡1-9","0299-22-4135","","0299-22-6289","常井　安文","土居　義邦","前野　和美","矢口　千晴","　",null,null,null,null,null,"300-0835"]
["石岡第二高等学校",4,6,39,"石二","石岡二","県立",0,"石岡第二高等学校","石岡第二","いしおかしょうぎょう","男","女","315-0013","石岡市府中5-14-14","0299-23-2101","","0299-23-4895","辻　武晴","門井　寿通","柳沼　信秀","　","　",null,null,null,null,null,"300-0051"]
["石岡商業高等学校",4,7,40,"石商","石岡商","県立",0,"石岡商業高等学校","石岡商業","つちうらにほんだいがく","男","女","315-0033","石岡市東光台3-4-1","0299-26-4138","","0299-26-1029","齋藤　まさ子","青柳　優","森作　明美","　","　",null,null,null,null,null,"315-0001"]
["土浦日本大学高等学校",4,8,41,"土日","土日大",0,{"$error":"#REF!"},"土浦日本大学高等学校","土浦日本大学","じょうそうがくいん","男","女","300-0826","土浦市小松ケ丘町4-46","029-822-3382","","029-823-8743","吉田　正俊","市川　夕貴葉","森本　諭","尾西　啓輔","　",null,null,null,null,null,"315-0013"]
["常総学院高等学校",4,9,42,"常総","常総学",0,"私立","常総学院高等学校","常総学院","かすみがうら","男","女","300-0849","土浦市中村西根1010","029-842-8771","","029-841-1808","坂田　英一","塚本　重毅","柴山　紗矢香","大野　柾人","　",null,null,null,null,null,"315-0033"]
["霞ケ浦高等学校",4,10,43,"霞浦","霞ヶ浦",0,"私立","霞ケ浦高等学校","霞 ケ 浦","つちうらにほんだいがくちゅうとうきょういくがっこう","男","女","300-0301","稲敷郡阿見町青宿50","029-887-0013","","029-887-9380","下田　陽一郎","桜井　恭平","岩地　菜々子","　","　",null,null,null,null,null,"300-0826"]
["土浦日本大学中等教育学校",4,11,44,"土中","土中等",0,"私立","土浦日本大学中等教育学校","土浦日本大学中等教育学校",{"$error":"#REF!"},"","女","300-0826","土浦市小松ケ丘町4-46","029-822-3386","3000826029-822-3386029-835-3538","029-835-3538","堀切　浩一","大野　健太郎","緒方　研治","　","　",null,null,null,null,null,"300-0849"]
["青丘学院つくば高等学校","","","","青丘","青丘学",0,"私立","青丘学院つくば高等学校","青丘学院つくば",{"$error":"#REF!"},"","","315-0116","石岡市柿岡字寺田1604","0299-56-3266","","0299-56-3277","金　正龍　","新井　由己　","　","　","　",null,null,null,null,null,"300-0301"]
["竜ケ崎第一高等学校",5,1,45,"竜一","竜崎一","県立",0,"竜ケ崎第一高等学校","竜ケ崎第一","りゅうがさきだいに","男","女","301-0844","龍ヶ崎市平畑248","0297-62-2146","","0297-62-9836","太田垣　淳一","上東　萌","片岡　亜矢子","齋藤　俊希","油原　やよい",null,null,null,null,null,"300-0826"]
["竜ケ崎第二高等学校",5,2,46,"竜二","竜崎二","県立",0,"竜ケ崎第二高等学校","竜ケ崎第二","りゅうがさきみなみ","男","女","301-0834","龍ケ崎市3087","0297-62-3078","","0297-62-9850","磯山　佳美","恩田　洋一","河野　亮一","　","　",null,null,null,null,null,"301-0844"]
["竜ケ崎南高等学校",5,3,47,"竜南","竜崎南","県立",0,"竜ケ崎南高等学校","竜ケ崎南","えどさきそうごう","男","女","301-0021","龍ケ崎市北方町120","0297-64-2167","","0297-64-5241","斉藤　辰彦","杉浦　拓郎","石黒　樹","　","　",null,null,null,null,null,"301-0834"]
["江戸崎総合高等学校",5,4,48,"江総","江総合","県立",0,"江戸崎総合高等学校","江戸崎総合","とりでだいいち","男","女","300-0504","稲敷市江戸崎甲476-2","029-892-2103","","029-892-3957","後藤　光彦","坂井　昌平","篠崎　美穂","佐藤　圭一","　",null,null,null,null,null,"301-0021"]
["取手第一高等学校",5,5,49,"取一","取手一","県立",0,"取手第一高等学校","取手第一","とりでだいに","男","女","302-0013","取手市台宿2-4-1","0297-72-1348","","0297-73-7814","國府田　稔","福永　弘","山中　範子","石川　藍子","　",null,null,null,null,null,"300-0504"]
["取手第二高等学校",5,6,50,"取二","取手二","県立",0,"取手第二高等学校","取手第二","ふじしろ","男","女","302-0005","取手市東2-5-1","0297-73-0049","","0297-73-7821","広瀬　久美子","皆川　拓哉","秋葉　まゆ","成合　弘恵","　",null,null,null,null,null,"302-0013"]
["藤代高等学校",5,7,51,"藤代","藤代","県立",0,"藤代高等学校","藤　　代","うしく","男","女","300-1537","取手市毛有640","0297-82-6283","","0297-82-6021","田村　和浩","武井　知子","富岡　美和","宮河　理恵","深堀　いずみ",null,null,null,null,null,"302-0005"]
["牛久高等学校",5,8,52,"牛久","牛久","県立",0,"牛久高等学校","牛    久","うしくえいしん","男","女","300-1204","牛久市岡見町2081-1","029-873-6220","","029-874-8580","原　光広","高橋　淳子","　","　","　",null,null,null,null,null,"300-1537"]
["牛久栄進高等学校",5,9,53,"栄進","牛栄進","県立",0,"牛久栄進高等学校","牛久栄進","とうようだいうしく","男","女","300-1201","牛久市東猯穴町876","029-843-3110","","029-842-1891","宮本　順紀","塚本　晋太郎","佐久間　秀行","宇野　香代子","　",null,null,null,null,null,"300-1204"]
["東洋大学付属牛久高等学校",5,10,54,"東牛","東牛久",0,"私立","東洋大学付属牛久高等学校","東洋大学附属牛久","あいこくがくえんだいがくふぞくりゅうがさき","男","女","300-1211","牛久市柏田町1360-2","029-872-0924","","029-874-1055","藤田　正美","江橋　正安","田中　葉摘美","　","　",null,null,null,null,null,"300-1201"]
["江戸川学園取手高等学校",5,11,55,"江学","江戸川",0,"私立","江戸川学園取手高等学校","江戸川学園取手","あいこくがくえんだいがくふぞくりゅうがさき","男","女","302-0025","取手市西1-37-1","0297-74-8771","","0297-73-4851","山本　宏之","関　貴之","野田　泰誠","　","　",null,null,null,null,null,"300-1211"]
["愛国学園大学附属龍ケ崎高等学校",5,12,56,"愛国","愛国学",0,"私立","愛国学園大学附属龍ケ崎高等学校","愛国学園大学附属龍ケ崎","つくば","","女","301-0041","龍ケ崎市若柴町2747","0297-66-0757","","0297-66-0526","倉持　正男","柴崎　智宣","　","　","　",null,null,null,null,null,"302-0025"]
["筑波高等学校",6,1,57,"筑波","筑波","県立",0,"筑波高等学校","筑　　波","たけぞの","男","女","300-4231","つくば市北条4387","029-867-0041","","029-867-4688","茂呂　輝夫","五島　昭男","小松崎　秀一","　","　",null,null,null,null,null,"301-0041"]
["竹園高等学校",6,2,58,"竹園","竹園","県立",0,"竹園高等学校","竹　　園","つくばこうか","男","女","305-0032","つくば市竹園3-9-1","029-851-7515","","029-852-5533","川村　始子","園部　晃生","石毛　将明","海老沼　玲美","　",null,null,null,null,null,"300-4231"]
["つくば工科高等学校",6,3,59,"工科","つ工科","県立",0,"つくば工科高等学校","つくば工科","いわせ","男","","305-0861","つくば市谷田部1818","029-836-1441","3050861029-836-1441029-836-4700","029-836-4700","久松　政信","新田　航平","遠藤　茂","信戸　修一","　",null,null,null,null,null,"305-0032"]
["岩瀬高等学校",6,4,60,"岩瀬","岩瀬","県立",0,"岩瀬高等学校","岩　　瀬","しもだてだいいち","男","女","309-1294","桜川市岩瀬1511-1","0296-75-2475","","0296-75-4906","柴沼　克仁","堀　裕美","大久保　由美","　","　",null,null,null,null,null,"305-0861"]
["下館第一高等学校",6,5,61,"館一","下館一","県立",0,"下館第一高等学校","下館第一",{"$error":"#REF!"},"男","女","308-0825","筑西市下中山590","0296-24-6344","","0296-25-4673","赤田部　清浩","星野　雅一","　","　","　",null,null,null,null,null,"309-1294"]
["下館第二高等学校",6,6,62,"館二","下館二","県立",0,"下館第二高等学校","下館第二","しもつまだいいち","男","女","308-0051","筑西市岡芹1119","0296-22-5361",{"$error":"#REF!"},"0296-25-4683","新井　康芳","柴　弥寿子","石川　梓","斉藤　由起子","　",null,null,null,null,null,"300-4417"]
["明野高等学校",6,7,63,"明野","明野","県立",0,"明野高等学校","明野","しもつまだいに","男","女","300-4515","筑西市倉持1176-1","0296-52-3121",{"$error":"#REF!"},"0296-52-5869","山田　伸一","栗田　紗緒里","関　裕之","　","　",null,null,null,null,null,"308-0825"]
["下妻第一高等学校",6,8,64,"妻一","下妻一","県立",0,"下妻第一高等学校","下妻第一","いしげしほう","男","女","304-0067","下妻市下妻乙226-1","0296-44-5158","","0296-43-9172","渡邉　剛","中泉　尚人","飯村　好和","濵野　美智","　",null,null,null,null,null,"308-0051"]
[{"$f":"I128","v":"下妻第二高等学校"},6,9,65,"妻二","下妻二","県立",0,"下妻第二高等学校","下妻第二","みつかいどうだいいち","男","女","304-0067","下妻市下妻乙347-8","0296-44-2549","","0296-43-9173","山中　孝男","舘野　好司","大垣　朋也","　","　",null,null,null,null,null,"300-4515"]
["水海道第一高等学校",6,10,66,"海一","水海一","県立",0,"水海道第一高等学校","水海道第一","こがだいに","男","女","303-0025","常総市水海道亀岡町2543","0297-22-0029","","0297-22-5479","高橋　淳","緒方　響","内海　晴匡","越中　理之","　",null,null,null,null,null,"304-0067"]
["八千代高等学校",6,11,67,"八千代","八千代","県立",0,"八千代高等学校","八 千 代","こがだいさん","男","女","300-3561","結城郡八千代町大字平塚4824-2","0296-48-1836","","0296-48-3201","根本　雄一","高柳　元","吉澤　靖","爲我井　浩樹","　",null,null,null,null,null,"304-0067"]
["古河第二高等学校",6,12,68,"古二","古河二","県立",0,"古河第二高等学校","古河第二","さんわ","男","女","306-0024","古河市幸町19-18","0280-32-0444","","0280-31-6602","萩原　明子","谷田部　大地","梅原　香織","澁谷　菜摘","　",null,null,null,null,null,"300-2706"]
["古河第三高等学校",6,13,69,"古三","古河三","県立",0,"古河第三高等学校","古河第三","さかい","男","女","306-0054","古河市中田新田12-1","0280-48-2755","","0280-48-5424","新井　智子","木村　亜紀子","立川　正信","秋葉　尚子","　",null,null,null,null,null,"303-0025"]
["三和高等学校",6,14,70,"三和","三和","県立",0,"三和高等学校","三　　和","もりや","男","女","306-0123","古河市五部54-1","0280-76-4959","","0280-76-4935","馬場　光夫","山中　英憲","高島　美枝","　","　",null,null,null,null,null,"300-3561"]
["境高等学校",6,15,71,"境","境","県立",0,"境高等学校","境","つくばしゅうえい","男","女","306-0433","猿島郡境町175","0280-87-0123","","0280-87-5688","池田　聡","栗原　邦男","齋藤　起輝","藤井　均","　",null,null,null,null,null,"306-0024"]
["守谷高等学校",6,16,72,"守谷","守谷","県立",0,"守谷高等学校","守　　谷",0,"男","女","302-0107","守谷市大木70","0297-48-6409","","0297-45-8479","桜井　隆之","松﨑　稔昌","本田　敦","宮本　明","　",null,null,null,null,null,"306-0054"]
["つくば秀英高等学校",6,17,73,"秀英","秀英",0,"私立","つくば秀英高等学校","つくば秀英",0,"男","女","300-2655","つくば市島名151","029-847-1611","","029-847-3111","石川　英昭","谷端　弘孝","川喜多　麻里","福田　恒昭","　",null,null,null,null,null,"306-0123"]
[]
[]
[]
[]
[]
[]
[]
[{"$f":"リスト!A3","v":"　"},{"$f":"リスト!B3","v":0},{"$f":"リスト!C3","v":0},{"$f":"リスト!D3","v":0},{"$f":"リスト!E3","v":0},{"$f":"リスト!F3","v":0},{"$f":"リスト!G3","v":0},{"$f":"リスト!H3","v":0},{"$f":"リスト!I3","v":0},{"$f":"リスト!J3","v":0},{"$f":"リスト!K3","v":0},{"$f":"リスト!L3","v":0},{"$f":"リスト!M3","v":0},null,null,null,null,null,null,null,null,null,null,null,null,null,null,null,{"$f":"リスト!N3","v":0}]
[{"$f":"リスト!A4","v":"　"},{"$f":"リスト!B4","v":0},{"$f":"リスト!C4","v":0},{"$f":"リスト!D4","v":0},{"$f":"リスト!E4","v":0},{"$f":"リスト!F4","v":0},{"$f":"リスト!G4","v":0},{"$f":"リスト!H4","v":0},{"$f":"リスト!I4","v":0},{"$f":"リスト!J4","v":0},{"$f":"リスト!K4","v":0},{"$f":"リスト!L4","v":0},{"$f":"リスト!M4","v":0},null,null,null,null,null,null,null,null,null,null,null,null,null,null,null,{"$f":"リスト!N4","v":0}]
[{"$f":"リスト!A5","v":"　"},{"$f":"リスト!B5","v":0},{"$f":"リスト!C5","v":0},{"$f":"リスト!D5","v":0},{"$f":"リスト!E5","v":0},{"$f":"リスト!F5","v":0},{"$f":"リスト!G5","v":0},{"$f":"リスト!H5","v":0},{"$f":"リスト!I5","v":0},{"$f":"リスト!J5","v":0},{"$f":"リスト!K5","v":0},{"$f":"リスト!L5","v":0},{"$f":"リスト!M5","v":0},null,null,null,null,null,null,null,null,null,null,null,null,null,null,null,{"$f":"リスト!N5","v":0}]
[{"$f":"リスト!A6","v":"　"},{"$f":"リスト!B6","v":0},{"$f":"リスト!C6","v":0},{"$f":"リスト!D6","v":0},{"$f":"リスト!E6","v":0},{"$f":"リスト!F6","v":0},{"$f":"リスト!G6","v":0},{"$f":"リスト!H6","v":0},{"$f":"リスト!I6","v":0},{"$f":"リスト!J6","v":0},{"$f":"リスト!K6","v":0},{"$f":"リスト!L6","v":0},{"$f":"リスト!M6","v":0},null,null,null,null,null,null,null,null,null,null,null,null,null,null,null,{"$f":"リスト!N6","v":0}]
[{"$f":"リスト!A7","v":"　"},{"$f":"リスト!B7","v":0},{"$f":"リスト!C7","v":0},{"$f":"リスト!D7","v":0},{"$f":"リスト!E7","v":0},{"$f":"リスト!F7","v":0},{"$f":"リスト!G7","v":0},{"$f":"リスト!H7","v":0},{"$f":"リスト!I7","v":0},{"$f":"リスト!J7","v":0},{"$f":"リスト!K7","v":0},{"$f":"リスト!L7","v":0},{"$f":"リスト!M7","v":0},null,null,null,null,null,null,null,null,null,null,null,null,null,null,null,{"$f":"リスト!N7","v":0}]
[{"$f":"リスト!A8","v":"　"},{"$f":"リスト!B8","v":0},{"$f":"リスト!C8","v":0},{"$f":"リスト!D8","v":0},{"$f":"リスト!E8","v":0},{"$f":"リスト!F8","v":0},{"$f":"リスト!G8","v":0},{"$f":"リスト!H8","v":0},{"$f":"リスト!I8","v":0},{"$f":"リスト!J8","v":0},{"$f":"リスト!K8","v":0},{"$f":"リスト!L8","v":0},{"$f":"リスト!M8","v":0},null,null,null,null,null,null,null,null,null,null,null,null,null,null,null,{"$f":"リスト!N8","v":0}]
[{"$f":"リスト!A9","v":"　"},{"$f":"リスト!B9","v":0},{"$f":"リスト!C9","v":0},{"$f":"リスト!D9","v":0},{"$f":"リスト!E9","v":0},{"$f":"リスト!F9","v":0},{"$f":"リスト!G9","v":0},{"$f":"リスト!H9","v":0},{"$f":"リスト!I9","v":0},{"$f":"リスト!J9","v":0},{"$f":"リスト!K9","v":0},{"$f":"リスト!L9","v":0},{"$f":"リスト!M9","v":0},null,null,null,null,null,null,null,null,null,null,null,null,null,null,null,{"$f":"リスト!N9","v":0}]
[{"$f":"リスト!A10","v":"　"},{"$f":"リスト!B10","v":0},{"$f":"リスト!C10","v":0},{"$f":"リスト!D10","v":0},{"$f":"リスト!E10","v":0},{"$f":"リスト!F10","v":0},{"$f":"リスト!G10","v":0},{"$f":"リスト!H10","v":0},{"$f":"リスト!I10","v":0},{"$f":"リスト!J10","v":0},{"$f":"リスト!K10","v":0},{"$f":"リスト!L10","v":0},{"$f":"リスト!M10","v":0},null,null,null,null,null,null,null,null,null,null,null,null,null,null,null,{"$f":"リスト!N10","v":0}]
[{"$f":"リスト!A11","v":"　"},{"$f":"リスト!B11","v":0},{"$f":"リスト!C11","v":0},{"$f":"リスト!D11","v":0},{"$f":"リスト!E11","v":0},{"$f":"リスト!F11","v":0},{"$f":"リスト!G11","v":0},{"$f":"リスト!H11","v":0},{"$f":"リスト!I11","v":0},{"$f":"リスト!J11","v":0},{"$f":"リスト!K11","v":0},{"$f":"リスト!L11","v":0},{"$f":"リスト!M11","v":0},null,null,null,null,null,null,null,null,null,null,null,null,null,null,null,{"$f":"リスト!N11","v":0}]
[{"$f":"リスト!A12","v":"　"},{"$f":"リスト!B12","v":0},{"$f":"リスト!C12","v":0},{"$f":"リスト!D12","v":0},{"$f":"リスト!E12","v":0},{"$f":"リスト!F12","v":0},{"$f":"リスト!G12","v":0},{"$f":"リスト!H12","v":0},{"$f":"リスト!I12","v":0},{"$f":"リスト!J12","v":0},{"$f":"リスト!K12","v":0},{"$f":"リスト!L12","v":0},{"$f":"リスト!M12","v":0},null,null,null,null,null,null,null,null,null,null,null,null,null,null,null,{"$f":"リスト!N12","v":0}]
[{"$f":"リスト!A13","v":"　"},{"$f":"リスト!B13","v":0},{"$f":"リスト!C13","v":0},{"$f":"リスト!D13","v":0},{"$f":"リスト!E13","v":0},{"$f":"リスト!F13","v":0},{"$f":"リスト!G13","v":0},{"$f":"リスト!H13","v":0},{"$f":"リスト!I13","v":0},{"$f":"リスト!J13","v":0},{"$f":"リスト!K13","v":0},{"$f":"リスト!L13","v":0},{"$f":"リスト!M13","v":0},null,null,null,null,null,null,null,null,null,null,null,null,null,null,null,{"$f":"リスト!N13","v":0}]
[{"$f":"リスト!A14","v":"　"},{"$f":"リスト!B14","v":0},{"$f":"リスト!C14","v":0},{"$f":"リスト!D14","v":0},{"$f":"リスト!E14","v":0},{"$f":"リスト!F14","v":0},{"$f":"リスト!G14","v":0},{"$f":"リスト!H14","v":0},{"$f":"リスト!I14","v":0},{"$f":"リスト!J14","v":0},{"$f":"リスト!K14","v":0},{"$f":"リスト!L14","v":0},{"$f":"リスト!M14","v":0},null,null,null,null,null,null,null,null,null,null,null,null,null,null,null,{"$f":"リスト!N14","v":0}]
[{"$f":"リスト!A15","v":"　"},{"$f":"リスト!B15","v":0},{"$f":"リスト!C15","v":0},{"$f":"リスト!D15","v":0},{"$f":"リスト!E15","v":0},{"$f":"リスト!F15","v":0},{"$f":"リスト!G15","v":0},{"$f":"リスト!H15","v":0},{"$f":"リスト!I15","v":0},{"$f":"リスト!J15","v":0},{"$f":"リスト!K15","v":0},{"$f":"リスト!L15","v":0},{"$f":"リスト!M15","v":0},null,null,null,null,null,null,null,null,null,null,null,null,null,null,null,{"$f":"リスト!N15","v":0}]
[{"$f":"リスト!A16","v":"　"},{"$f":"リスト!B16","v":0},{"$f":"リスト!C16","v":0},{"$f":"リスト!D16","v":0},{"$f":"リスト!E16","v":0},{"$f":"リスト!F16","v":0},{"$f":"リスト!G16","v":0},{"$f":"リスト!H16","v":0},{"$f":"リスト!I16","v":0},{"$f":"リスト!J16","v":0},{"$f":"リスト!K16","v":0},{"$f":"リスト!L16","v":0},{"$f":"リスト!M16","v":0},null,null,null,null,null,null,null,null,null,null,null,null,null,null,null,{"$f":"リスト!N16","v":0}]
[{"$f":"リスト!A17","v":"　"},{"$f":"リスト!B17","v":0},{"$f":"リスト!C17","v":0},{"$f":"リスト!D17","v":0},{"$f":"リスト!E17","v":0},{"$f":"リスト!F17","v":0},{"$f":"リスト!G17","v":0},{"$f":"リスト!H17","v":0},{"$f":"リスト!I17","v":0},{"$f":"リスト!J17","v":0},{"$f":"リスト!K17","v":0},{"$f":"リスト!L17","v":0},{"$f":"リスト!M17","v":0},null,null,null,null,null,null,null,null,null,null,null,null,null,null,null,{"$f":"リスト!N17","v":0}]
[{"$f":"リスト!A18","v":"　"},{"$f":"リスト!B18","v":0},{"$f":"リスト!C18","v":0},{"$f":"リスト!D18","v":0},{"$f":"リスト!E18","v":0},{"$f":"リスト!F18","v":0},{"$f":"リスト!G18","v":0},{"$f":"リスト!H18","v":0},{"$f":"リスト!I18","v":0},{"$f":"リスト!J18","v":0},{"$f":"リスト!K18","v":0},{"$f":"リスト!L18","v":0},{"$f":"リスト!M18","v":0},null,null,null,null,null,null,null,null,null,null,null,null,null,null,null,{"$f":"リスト!N18","v":0}]
[{"$f":"リスト!A19","v":"　"},{"$f":"リスト!B19","v":0},{"$f":"リスト!C19","v":0},{"$f":"リスト!D19","v":0},{"$f":"リスト!E19","v":0},{"$f":"リスト!F19","v":0},{"$f":"リスト!G19","v":0},{"$f":"リスト!H19","v":0},{"$f":"リスト!I19","v":0},{"$f":"リスト!J19","v":0},{"$f":"リスト!K19","v":0},{"$f":"リスト!L19","v":0},{"$f":"リスト!M19","v":0},null,null,null,null,null,null,null,null,null,null,null,null,null,null,null,{"$f":"リスト!N19","v":0}]
[{"$f":"リスト!A20","v":"　"},{"$f":"リスト!B20","v":0},{"$f":"リスト!C20","v":0},{"$f":"リスト!D20","v":0},{"$f":"リスト!E20","v":0},{"$f":"リスト!F20","v":0},{"$f":"リスト!G20","v":0},{"$f":"リスト!H20","v":0},{"$f":"リスト!I20","v":0},{"$f":"リスト!J20","v":0},{"$f":"リスト!K20","v":0},{"$f":"リスト!L20","v":0},{"$f":"リスト!M20","v":0},null,null,null,null,null,null,null,null,null,null,null,null,null,null,null,{"$f":"リスト!N20","v":0}]
[{"$f":"リスト!A21","v":"　"},{"$f":"リスト!B21","v":0},{"$f":"リスト!C21","v":0},{"$f":"リスト!D21","v":0},{"$f":"リスト!E21","v":0},{"$f":"リスト!F21","v":0},{"$f":"リスト!G21","v":0},{"$f":"リスト!H21","v":0},{"$f":"リスト!I21","v":0},{"$f":"リスト!J21","v":0},{"$f":"リスト!K21","v":0},{"$f":"リスト!L21","v":0},{"$f":"リスト!M21","v":0},null,null,null,null,null,null,null,null,null,null,null,null,null,null,null,{"$f":"リスト!N21","v":0}]
[{"$f":"リスト!A22","v":"　"},{"$f":"リスト!B22","v":0},{"$f":"リスト!C22","v":0},{"$f":"リスト!D22","v":0},{"$f":"リスト!E22","v":0},{"$f":"リスト!F22","v":0},{"$f":"リスト!G22","v":0},{"$f":"リスト!H22","v":0},{"$f":"リスト!I22","v":0},{"$f":"リスト!J22","v":0},{"$f":"リスト!K22","v":0},{"$f":"リスト!L22","v":0},{"$f":"リスト!M22","v":0},null,null,null,null,null,null,null,null,null,null,null,null,null,null,null,{"$f":"リスト!N22","v":0}]
[{"$f":"リスト!A23","v":"　"},{"$f":"リスト!B23","v":0},{"$f":"リスト!C23","v":0},{"$f":"リスト!D23","v":0},{"$f":"リスト!E23","v":0},{"$f":"リスト!F23","v":0},{"$f":"リスト!G23","v":0},{"$f":"リスト!H23","v":0},{"$f":"リスト!I23","v":0},{"$f":"リスト!J23","v":0},{"$f":"リスト!K23","v":0},{"$f":"リスト!L23","v":0},{"$f":"リスト!M23","v":0},null,null,null,null,null,null,null,null,null,null,null,null,null,null,null,{"$f":"リスト!N23","v":0}]
[{"$f":"リスト!A24","v":"　"},{"$f":"リスト!B24","v":0},{"$f":"リスト!C24","v":0},{"$f":"リスト!D24","v":0},{"$f":"リスト!E24","v":0},{"$f":"リスト!F24","v":0},{"$f":"リスト!G24","v":0},{"$f":"リスト!H24","v":0},{"$f":"リスト!I24","v":0},{"$f":"リスト!J24","v":0},{"$f":"リスト!K24","v":0},{"$f":"リスト!L24","v":0},{"$f":"リスト!M24","v":0},null,null,null,null,null,null,null,null,null,null,null,null,null,null,null,{"$f":"リスト!N24","v":0}]
[{"$f":"リスト!A25","v":"　"},{"$f":"リスト!B25","v":0},{"$f":"リスト!C25","v":0},{"$f":"リスト!D25","v":0},{"$f":"リスト!E25","v":0},{"$f":"リスト!F25","v":0},{"$f":"リスト!G25","v":0},{"$f":"リスト!H25","v":0},{"$f":"リスト!I25","v":0},{"$f":"リスト!J25","v":0},{"$f":"リスト!K25","v":0},{"$f":"リスト!L25","v":0},{"$f":"リスト!M25","v":0},null,null,null,null,null,null,null,null,null,null,null,null,null,null,null,{"$f":"リスト!N25","v":0}]
[{"$f":"リスト!A26","v":"　"},{"$f":"リスト!B26","v":0},{"$f":"リスト!C26","v":0},{"$f":"リスト!D26","v":0},{"$f":"リスト!E26","v":0},{"$f":"リスト!F26","v":0},{"$f":"リスト!G26","v":0},{"$f":"リスト!H26","v":0},{"$f":"リスト!I26","v":0},{"$f":"リスト!J26","v":0},{"$f":"リスト!K26","v":0},{"$f":"リスト!L26","v":0},{"$f":"リスト!M26","v":0},null,null,null,null,null,null,null,null,null,null,null,null,null,null,null,{"$f":"リスト!N26","v":0}]
[{"$f":"リスト!A27","v":"　"},{"$f":"リスト!B27","v":0},{"$f":"リスト!C27","v":0},{"$f":"リスト!D27","v":0},{"$f":"リスト!E27","v":0},{"$f":"リスト!F27","v":0},{"$f":"リスト!G27","v":0},{"$f":"リスト!H27","v":0},{"$f":"リスト!I27","v":0},{"$f":"リスト!J27","v":0},{"$f":"リスト!K27","v":0},{"$f":"リスト!L27","v":0},{"$f":"リスト!M27","v":0},null,null,null,null,null,null,null,null,null,null,null,null,null,null,null,{"$f":"リスト!N27","v":0}]
[{"$f":"リスト!A28","v":"　"},{"$f":"リスト!B28","v":0},{"$f":"リスト!C28","v":0},{"$f":"リスト!D28","v":0},{"$f":"リスト!E28","v":0},{"$f":"リスト!F28","v":0},{"$f":"リスト!G28","v":0},{"$f":"リスト!H28","v":0},{"$f":"リスト!I28","v":0},{"$f":"リスト!J28","v":0},{"$f":"リスト!K28","v":0},{"$f":"リスト!L28","v":0},{"$f":"リスト!M28","v":0},null,null,null,null,null,null,null,null,null,null,null,null,null,null,null,{"$f":"リスト!N28","v":0}]
[{"$f":"リスト!A29","v":"　"},{"$f":"リスト!B29","v":0},{"$f":"リスト!C29","v":0},{"$f":"リスト!D29","v":0},{"$f":"リスト!E29","v":0},{"$f":"リスト!F29","v":0},{"$f":"リスト!G29","v":0},{"$f":"リスト!H29","v":0},{"$f":"リスト!I29","v":0},{"$f":"リスト!J29","v":0},{"$f":"リスト!K29","v":0},{"$f":"リスト!L29","v":0},{"$f":"リスト!M29","v":0},null,null,null,null,null,null,null,null,null,null,null,null,null,null,null,{"$f":"リスト!N29","v":0}]
[{"$f":"リスト!A30","v":"　"},{"$f":"リスト!B30","v":0},{"$f":"リスト!C30","v":0},{"$f":"リスト!D30","v":0},{"$f":"リスト!E30","v":0},{"$f":"リスト!F30","v":0},{"$f":"リスト!G30","v":0},{"$f":"リスト!H30","v":0},{"$f":"リスト!I30","v":0},{"$f":"リスト!J30","v":0},{"$f":"リスト!K30","v":0},{"$f":"リスト!L30","v":0},{"$f":"リスト!M30","v":0},null,null,null,null,null,null,null,null,null,null,null,null,null,null,null,{"$f":"リスト!N30","v":0}]
[{"$f":"リスト!A31","v":"　"},{"$f":"リスト!B31","v":0},{"$f":"リスト!C31","v":0},{"$f":"リスト!D31","v":0},{"$f":"リスト!E31","v":0},{"$f":"リスト!F31","v":0},{"$f":"リスト!G31","v":0},{"$f":"リスト!H31","v":0},{"$f":"リスト!I31","v":0},{"$f":"リスト!J31","v":0},{"$f":"リスト!K31","v":0},{"$f":"リスト!L31","v":0},{"$f":"リスト!M31","v":0},null,null,null,null,null,null,null,null,null,null,null,null,null,null,null,{"$f":"リスト!N31","v":0}]
[{"$f":"リスト!A32","v":"　"},{"$f":"リスト!B32","v":0},{"$f":"リスト!C32","v":0},{"$f":"リスト!D32","v":0},{"$f":"リスト!E32","v":0},{"$f":"リスト!F32","v":0},{"$f":"リスト!G32","v":0},{"$f":"リスト!H32","v":0},{"$f":"リスト!I32","v":0},{"$f":"リスト!J32","v":0},{"$f":"リスト!K32","v":0},{"$f":"リスト!L32","v":0},{"$f":"リスト!M32","v":0},null,null,null,null,null,null,null,null,null,null,null,null,null,null,null,{"$f":"リスト!N32","v":0}]
[{"$f":"リスト!A33","v":"　"},{"$f":"リスト!B33","v":0},{"$f":"リスト!C33","v":0},{"$f":"リスト!D33","v":0},{"$f":"リスト!E33","v":0},{"$f":"リスト!F33","v":0},{"$f":"リスト!G33","v":0},{"$f":"リスト!H33","v":0},{"$f":"リスト!I33","v":0},{"$f":"リスト!J33","v":0},{"$f":"リスト!K33","v":0},{"$f":"リスト!L33","v":0},{"$f":"リスト!M33","v":0},null,null,null,null,null,null,null,null,null,null,null,null,null,null,null,{"$f":"リスト!N33","v":0}]
[{"$f":"リスト!A34","v":"　"},{"$f":"リスト!B34","v":0},{"$f":"リスト!C34","v":0},{"$f":"リスト!D34","v":0},{"$f":"リスト!E34","v":0},{"$f":"リスト!F34","v":0},{"$f":"リスト!G34","v":0},{"$f":"リスト!H34","v":0},{"$f":"リスト!I34","v":0},{"$f":"リスト!J34","v":0},{"$f":"リスト!K34","v":0},{"$f":"リスト!L34","v":0},{"$f":"リスト!M34","v":0},null,null,null,null,null,null,null,null,null,null,null,null,null,null,null,{"$f":"リスト!N34","v":0}]
[{"$f":"リスト!A35","v":"　"},{"$f":"リスト!B35","v":0},{"$f":"リスト!C35","v":0},{"$f":"リスト!D35","v":0},{"$f":"リスト!E35","v":0},{"$f":"リスト!F35","v":0},{"$f":"リスト!G35","v":0},{"$f":"リスト!H35","v":0},{"$f":"リスト!I35","v":0},{"$f":"リスト!J35","v":0},{"$f":"リスト!K35","v":0},{"$f":"リスト!L35","v":0},{"$f":"リスト!M35","v":0},null,null,null,null,null,null,null,null,null,null,null,null,null,null,null,{"$f":"リスト!N35","v":0}]
[{"$f":"リスト!A36","v":"　"},{"$f":"リスト!B36","v":0},{"$f":"リスト!C36","v":0},{"$f":"リスト!D36","v":0},{"$f":"リスト!E36","v":0},{"$f":"リスト!F36","v":0},{"$f":"リスト!G36","v":0},{"$f":"リスト!H36","v":0},{"$f":"リスト!I36","v":0},{"$f":"リスト!J36","v":0},{"$f":"リスト!K36","v":0},{"$f":"リスト!L36","v":0},{"$f":"リスト!M36","v":0},null,null,null,null,null,null,null,null,null,null,null,null,null,null,null,{"$f":"リスト!N36","v":0}]
[{"$f":"リスト!A37","v":"　"},{"$f":"リスト!B37","v":0},{"$f":"リスト!C37","v":0},{"$f":"リスト!D37","v":0},{"$f":"リスト!E37","v":0},{"$f":"リスト!F37","v":0},{"$f":"リスト!G37","v":0},{"$f":"リスト!H37","v":0},{"$f":"リスト!I37","v":0},{"$f":"リスト!J37","v":0},{"$f":"リスト!K37","v":0},{"$f":"リスト!L37","v":0},{"$f":"リスト!M37","v":0},null,null,null,null,null,null,null,null,null,null,null,null,null,null,null,{"$f":"リスト!N37","v":0}]
[{"$f":"リスト!A38","v":"　"},{"$f":"リスト!B38","v":0},{"$f":"リスト!C38","v":0},{"$f":"リスト!D38","v":0},{"$f":"リスト!E38","v":0},{"$f":"リスト!F38","v":0},{"$f":"リスト!G38","v":0},{"$f":"リスト!H38","v":0},{"$f":"リスト!I38","v":0},{"$f":"リスト!J38","v":0},{"$f":"リスト!K38","v":0},{"$f":"リスト!L38","v":0},{"$f":"リスト!M38","v":0},null,null,null,null,null,null,null,null,null,null,null,null,null,null,null,{"$f":"リスト!N38","v":0}]
[{"$f":"リスト!A39","v":"　"},{"$f":"リスト!B39","v":0},{"$f":"リスト!C39","v":0},{"$f":"リスト!D39","v":0},{"$f":"リスト!E39","v":0},{"$f":"リスト!F39","v":0},{"$f":"リスト!G39","v":0},{"$f":"リスト!H39","v":0},{"$f":"リスト!I39","v":0},{"$f":"リスト!J39","v":0},{"$f":"リスト!K39","v":0},{"$f":"リスト!L39","v":0},{"$f":"リスト!M39","v":0},null,null,null,null,null,null,null,null,null,null,null,null,null,null,null,{"$f":"リスト!N39","v":0}]
[{"$f":"リスト!A40","v":"　"},{"$f":"リスト!B40","v":0},{"$f":"リスト!C40","v":0},{"$f":"リスト!D40","v":0},{"$f":"リスト!E40","v":0},{"$f":"リスト!F40","v":0},{"$f":"リスト!G40","v":0},{"$f":"リスト!H40","v":0},{"$f":"リスト!I40","v":0},{"$f":"リスト!J40","v":0},{"$f":"リスト!K40","v":0},{"$f":"リスト!L40","v":0},{"$f":"リスト!M40","v":0},null,null,null,null,null,null,null,null,null,null,null,null,null,null,null,{"$f":"リスト!N40","v":0}]
[{"$f":"リスト!A41","v":"　"},{"$f":"リスト!B41","v":0},{"$f":"リスト!C41","v":0},{"$f":"リスト!D41","v":0},{"$f":"リスト!E41","v":0},{"$f":"リスト!F41","v":0},{"$f":"リスト!G41","v":0},{"$f":"リスト!H41","v":0},{"$f":"リスト!I41","v":0},{"$f":"リスト!J41","v":0},{"$f":"リスト!K41","v":0},{"$f":"リスト!L41","v":0},{"$f":"リスト!M41","v":0},null,null,null,null,null,null,null,null,null,null,null,null,null,null,null,{"$f":"リスト!N41","v":0}]
[{"$f":"リスト!A42","v":"　"},{"$f":"リスト!B42","v":0},{"$f":"リスト!C42","v":0},{"$f":"リスト!D42","v":0},{"$f":"リスト!E42","v":0},{"$f":"リスト!F42","v":0},{"$f":"リスト!G42","v":0},{"$f":"リスト!H42","v":0},{"$f":"リスト!I42","v":0},{"$f":"リスト!J42","v":0},{"$f":"リスト!K42","v":0},{"$f":"リスト!L42","v":0},{"$f":"リスト!M42","v":0},null,null,null,null,null,null,null,null,null,null,null,null,null,null,null,{"$f":"リスト!N42","v":0}]
[{"$f":"リスト!A43","v":"　"},{"$f":"リスト!B43","v":0},{"$f":"リスト!C43","v":0},{"$f":"リスト!D43","v":0},{"$f":"リスト!E43","v":0},{"$f":"リスト!F43","v":0},{"$f":"リスト!G43","v":0},{"$f":"リスト!H43","v":0},{"$f":"リスト!I43","v":0},{"$f":"リスト!J43","v":0},{"$f":"リスト!K43","v":0},{"$f":"リスト!L43","v":0},{"$f":"リスト!M43","v":0},null,null,null,null,null,null,null,null,null,null,null,null,null,null,null,{"$f":"リスト!N43","v":0}]
[{"$f":"リスト!A44","v":"　"},{"$f":"リスト!B44","v":0},{"$f":"リスト!C44","v":0},{"$f":"リスト!D44","v":0},{"$f":"リスト!E44","v":0},{"$f":"リスト!F44","v":0},{"$f":"リスト!G44","v":0},{"$f":"リスト!H44","v":0},{"$f":"リスト!I44","v":0},{"$f":"リスト!J44","v":0},{"$f":"リスト!K44","v":0},{"$f":"リスト!L44","v":0},{"$f":"リスト!M44","v":0},null,null,null,null,null,null,null,null,null,null,null,null,null,null,null,{"$f":"リスト!N44","v":0}]
[{"$f":"リスト!A45","v":"　"},{"$f":"リスト!B45","v":0},{"$f":"リスト!C45","v":0},{"$f":"リスト!D45","v":0},{"$f":"リスト!E45","v":0},{"$f":"リスト!F45","v":0},{"$f":"リスト!G45","v":0},{"$f":"リスト!H45","v":0},{"$f":"リスト!I45","v":0},{"$f":"リスト!J45","v":0},{"$f":"リスト!K45","v":0},{"$f":"リスト!L45","v":0},{"$f":"リスト!M45","v":0},null,null,null,null,null,null,null,null,null,null,null,null,null,null,null,{"$f":"リスト!N45","v":0}]
[{"$f":"リスト!A46","v":"　"},{"$f":"リスト!B46","v":0},{"$f":"リスト!C46","v":0},{"$f":"リスト!D46","v":0},{"$f":"リスト!E46","v":0},{"$f":"リスト!F46","v":0},{"$f":"リスト!G46","v":0},{"$f":"リスト!H46","v":0},{"$f":"リスト!I46","v":0},{"$f":"リスト!J46","v":0},{"$f":"リスト!K46","v":0},{"$f":"リスト!L46","v":0},{"$f":"リスト!M46","v":0},null,null,null,null,null,null,null,null,null,null,null,null,null,null,null,{"$f":"リスト!N46","v":0}]
[{"$f":"リスト!A47","v":"　"},{"$f":"リスト!B47","v":0},{"$f":"リスト!C47","v":0},{"$f":"リスト!D47","v":0},{"$f":"リスト!E47","v":0},{"$f":"リスト!F47","v":0},{"$f":"リスト!G47","v":0},{"$f":"リスト!H47","v":0},{"$f":"リスト!I47","v":0},{"$f":"リスト!J47","v":0},{"$f":"リスト!K47","v":0},{"$f":"リスト!L47","v":0},{"$f":"リスト!M47","v":0},null,null,null,null,null,null,null,null,null,null,null,null,null,null,null,{"$f":"リスト!N47","v":0}]
[{"$f":"リスト!A48","v":"　"},{"$f":"リスト!B48","v":0},{"$f":"リスト!C48","v":0},{"$f":"リスト!D48","v":0},{"$f":"リスト!E48","v":0},{"$f":"リスト!F48","v":0},{"$f":"リスト!G48","v":0},{"$f":"リスト!H48","v":0},{"$f":"リスト!I48","v":0},{"$f":"リスト!J48","v":0},{"$f":"リスト!K48","v":0},{"$f":"リスト!L48","v":0},{"$f":"リスト!M48","v":0},null,null,null,null,null,null,null,null,null,null,null,null,null,null,null,{"$f":"リスト!N48","v":0}]
[{"$f":"リスト!A49","v":"　"},{"$f":"リスト!B49","v":0},{"$f":"リスト!C49","v":0},{"$f":"リスト!D49","v":0},{"$f":"リスト!E49","v":0},{"$f":"リスト!F49","v":0},{"$f":"リスト!G49","v":0},{"$f":"リスト!H49","v":0},{"$f":"リスト!I49","v":0},{"$f":"リスト!J49","v":0},{"$f":"リスト!K49","v":0},{"$f":"リスト!L49","v":0},{"$f":"リスト!M49","v":0},null,null,null,null,null,null,null,null,null,null,null,null,null,null,null,{"$f":"リスト!N49","v":0}]
[{"$f":"リスト!A50","v":"　"},{"$f":"リスト!B50","v":0},{"$f":"リスト!C50","v":0},{"$f":"リスト!D50","v":0},{"$f":"リスト!E50","v":0},{"$f":"リスト!F50","v":0},{"$f":"リスト!G50","v":0},{"$f":"リスト!H50","v":0},{"$f":"リスト!I50","v":0},{"$f":"リスト!J50","v":0},{"$f":"リスト!K50","v":0},{"$f":"リスト!L50","v":0},{"$f":"リスト!M50","v":0},null,null,null,null,null,null,null,null,null,null,null,null,null,null,null,{"$f":"リスト!N50","v":0}]
[{"$f":"リスト!A51","v":"　"},{"$f":"リスト!B51","v":0},{"$f":"リスト!C51","v":0},{"$f":"リスト!D51","v":0},{"$f":"リスト!E51","v":0},{"$f":"リスト!F51","v":0},{"$f":"リスト!G51","v":0},{"$f":"リスト!H51","v":0},{"$f":"リスト!I51","v":0},{"$f":"リスト!J51","v":0},{"$f":"リスト!K51","v":0},{"$f":"リスト!L51","v":0},{"$f":"リスト!M51","v":0},null,null,null,null,null,null,null,null,null,null,null,null,null,null,null,{"$f":"リスト!N51","v":0}]
[{"$f":"リスト!A52","v":"　"},{"$f":"リスト!B52","v":0},{"$f":"リスト!C52","v":0},{"$f":"リスト!D52","v":0},{"$f":"リスト!E52","v":0},{"$f":"リスト!F52","v":0},{"$f":"リスト!G52","v":0},{"$f":"リスト!H52","v":0},{"$f":"リスト!I52","v":0},{"$f":"リスト!J52","v":0},{"$f":"リスト!K52","v":0},{"$f":"リスト!L52","v":0},{"$f":"リスト!M52","v":0},null,null,null,null,null,null,null,null,null,null,null,null,null,null,null,{"$f":"リスト!N52","v":0}]
[{"$f":"リスト!A53","v":"　"},{"$f":"リスト!B53","v":0},{"$f":"リスト!C53","v":0},{"$f":"リスト!D53","v":0},{"$f":"リスト!E53","v":0},{"$f":"リスト!F53","v":0},{"$f":"リスト!G53","v":0},{"$f":"リスト!H53","v":0},{"$f":"リスト!I53","v":0},{"$f":"リスト!J53","v":0},{"$f":"リスト!K53","v":0},{"$f":"リスト!L53","v":0},{"$f":"リスト!M53","v":0},null,null,null,null,null,null,null,null,null,null,null,null,null,null,null,{"$f":"リスト!N53","v":0}]
[{"$f":"リスト!A54","v":"　"},{"$f":"リスト!B54","v":0},{"$f":"リスト!C54","v":0},{"$f":"リスト!D54","v":0},{"$f":"リスト!E54","v":0},{"$f":"リスト!F54","v":0},{"$f":"リスト!G54","v":0},{"$f":"リスト!H54","v":0},{"$f":"リスト!I54","v":0},{"$f":"リスト!J54","v":0},{"$f":"リスト!K54","v":0},{"$f":"リスト!L54","v":0},{"$f":"リスト!M54","v":0},null,null,null,null,null,null,null,null,null,null,null,null,null,null,null,{"$f":"リスト!N54","v":0}]
[{"$f":"リスト!A55","v":"　"},{"$f":"リスト!B55","v":0},{"$f":"リスト!C55","v":0},{"$f":"リスト!D55","v":0},{"$f":"リスト!E55","v":0},{"$f":"リスト!F55","v":0},{"$f":"リスト!G55","v":0},{"$f":"リスト!H55","v":0},{"$f":"リスト!I55","v":0},{"$f":"リスト!J55","v":0},{"$f":"リスト!K55","v":0},{"$f":"リスト!L55","v":0},{"$f":"リスト!M55","v":0},null,null,null,null,null,null,null,null,null,null,null,null,null,null,null,{"$f":"リスト!N55","v":0}]
[{"$f":"リスト!A56","v":"　"},{"$f":"リスト!B56","v":0},{"$f":"リスト!C56","v":0},{"$f":"リスト!D56","v":0},{"$f":"リスト!E56","v":0},{"$f":"リスト!F56","v":0},{"$f":"リスト!G56","v":0},{"$f":"リスト!H56","v":0},{"$f":"リスト!I56","v":0},{"$f":"リスト!J56","v":0},{"$f":"リスト!K56","v":0},{"$f":"リスト!L56","v":0},{"$f":"リスト!M56","v":0},null,null,null,null,null,null,null,null,null,null,null,null,null,null,null,{"$f":"リスト!N56","v":0}]
[{"$f":"リスト!A57","v":"　"},{"$f":"リスト!B57","v":0},{"$f":"リスト!C57","v":0},{"$f":"リスト!D57","v":0},{"$f":"リスト!E57","v":0},{"$f":"リスト!F57","v":0},{"$f":"リスト!G57","v":0},{"$f":"リスト!H57","v":0},{"$f":"リスト!I57","v":0},{"$f":"リスト!J57","v":0},{"$f":"リスト!K57","v":0},{"$f":"リスト!L57","v":0},{"$f":"リスト!M57","v":0},null,null,null,null,null,null,null,null,null,null,null,null,null,null,null,{"$f":"リスト!N57","v":0}]
[{"$f":"リスト!A58","v":"　"},{"$f":"リスト!B58","v":0},{"$f":"リスト!C58","v":0},{"$f":"リスト!D58","v":0},{"$f":"リスト!E58","v":0},{"$f":"リスト!F58","v":0},{"$f":"リスト!G58","v":0},{"$f":"リスト!H58","v":0},{"$f":"リスト!I58","v":0},{"$f":"リスト!J58","v":0},{"$f":"リスト!K58","v":0},{"$f":"リスト!L58","v":0},{"$f":"リスト!M58","v":0},null,null,null,null,null,null,null,null,null,null,null,null,null,null,null,{"$f":"リスト!N58","v":0}]
[{"$f":"リスト!A59","v":"　"},{"$f":"リスト!B59","v":0},{"$f":"リスト!C59","v":0},{"$f":"リスト!D59","v":0},{"$f":"リスト!E59","v":0},{"$f":"リスト!F59","v":0},{"$f":"リスト!G59","v":0},{"$f":"リスト!H59","v":0},{"$f":"リスト!I59","v":0},{"$f":"リスト!J59","v":0},{"$f":"リスト!K59","v":0},{"$f":"リスト!L59","v":0},{"$f":"リスト!M59","v":0},null,null,null,null,null,null,null,null,null,null,null,null,null,null,null,{"$f":"リスト!N59","v":0}]
[{"$f":"リスト!A60","v":"　"},{"$f":"リスト!B60","v":0},{"$f":"リスト!C60","v":0},{"$f":"リスト!D60","v":0},{"$f":"リスト!E60","v":0},{"$f":"リスト!F60","v":0},{"$f":"リスト!G60","v":0},{"$f":"リスト!H60","v":0},{"$f":"リスト!I60","v":0},{"$f":"リスト!J60","v":0},{"$f":"リスト!K60","v":0},{"$f":"リスト!L60","v":0},{"$f":"リスト!M60","v":0},null,null,null,null,null,null,null,null,null,null,null,null,null,null,null,{"$f":"リスト!N60","v":0}]
[{"$f":"リスト!A61","v":"　"},{"$f":"リスト!B61","v":0},{"$f":"リスト!C61","v":0},{"$f":"リスト!D61","v":0},{"$f":"リスト!E61","v":0},{"$f":"リスト!F61","v":0},{"$f":"リスト!G61","v":0},{"$f":"リスト!H61","v":0},{"$f":"リスト!I61","v":0},{"$f":"リスト!J61","v":0},{"$f":"リスト!K61","v":0},{"$f":"リスト!L61","v":0},{"$f":"リスト!M61","v":0},null,null,null,null,null,null,null,null,null,null,null,null,null,null,null,{"$f":"リスト!N61","v":0}]
[{"$f":"リスト!A62","v":"　"},{"$f":"リスト!B62","v":0},{"$f":"リスト!C62","v":0},{"$f":"リスト!D62","v":0},{"$f":"リスト!E62","v":0},{"$f":"リスト!F62","v":0},{"$f":"リスト!G62","v":0},{"$f":"リスト!H62","v":0},{"$f":"リスト!I62","v":0},{"$f":"リスト!J62","v":0},{"$f":"リスト!K62","v":0},{"$f":"リスト!L62","v":0},{"$f":"リスト!M62","v":0},null,null,null,null,null,null,null,null,null,null,null,null,null,null,null,{"$f":"リスト!N62","v":0}]
[{"$f":"リスト!A63","v":"　"},{"$f":"リスト!B63","v":0},{"$f":"リスト!C63","v":0},{"$f":"リスト!D63","v":0},{"$f":"リスト!E63","v":0},{"$f":"リスト!F63","v":0},{"$f":"リスト!G63","v":0},{"$f":"リスト!H63","v":0},{"$f":"リスト!I63","v":0},{"$f":"リスト!J63","v":0},{"$f":"リスト!K63","v":0},{"$f":"リスト!L63","v":0},{"$f":"リスト!M63","v":0},null,null,null,null,null,null,null,null,null,null,null,null,null,null,null,{"$f":"リスト!N63","v":0}]
[{"$f":"リスト!A64","v":"　"},{"$f":"リスト!B64","v":0},{"$f":"リスト!C64","v":0},{"$f":"リスト!D64","v":0},{"$f":"リスト!E64","v":0},{"$f":"リスト!F64","v":0},{"$f":"リスト!G64","v":0},{"$f":"リスト!H64","v":0},{"$f":"リスト!I64","v":0},{"$f":"リスト!J64","v":0},{"$f":"リスト!K64","v":0},{"$f":"リスト!L64","v":0},{"$f":"リスト!M64","v":0},null,null,null,null,null,null,null,null,null,null,null,null,null,null,null,{"$f":"リスト!N64","v":0}]
[{"$f":"リスト!A65","v":"　"},{"$f":"リスト!B65","v":0},{"$f":"リスト!C65","v":0},{"$f":"リスト!D65","v":0},{"$f":"リスト!E65","v":0},{"$f":"リスト!F65","v":0},{"$f":"リスト!G65","v":0},{"$f":"リスト!H65","v":0},{"$f":"リスト!I65","v":0},{"$f":"リスト!J65","v":0},{"$f":"リスト!K65","v":0},{"$f":"リスト!L65","v":0},{"$f":"リスト!M65","v":0},null,null,null,null,null,null,null,null,null,null,null,null,null,null,null,{"$f":"リスト!N65","v":0}]
[{"$f":"リスト!A66","v":"　"},{"$f":"リスト!B66","v":0},{"$f":"リスト!C66","v":0},{"$f":"リスト!D66","v":0},{"$f":"リスト!E66","v":0},{"$f":"リスト!F66","v":0},{"$f":"リスト!G66","v":0},{"$f":"リスト!H66","v":0},{"$f":"リスト!I66","v":0},{"$f":"リスト!J66","v":0},{"$f":"リスト!K66","v":0},{"$f":"リスト!L66","v":0},{"$f":"リスト!M66","v":0},null,null,null,null,null,null,null,null,null,null,null,null,null,null,null,{"$f":"リスト!N66","v":0}]
[{"$f":"リスト!A67","v":"　"},{"$f":"リスト!B67","v":0},{"$f":"リスト!C67","v":0},{"$f":"リスト!D67","v":0},{"$f":"リスト!E67","v":0},{"$f":"リスト!F67","v":0},{"$f":"リスト!G67","v":0},{"$f":"リスト!H67","v":0},{"$f":"リスト!I67","v":0},{"$f":"リスト!J67","v":0},{"$f":"リスト!K67","v":0},{"$f":"リスト!L67","v":0},{"$f":"リスト!M67","v":0},null,null,null,null,null,null,null,null,null,null,null,null,null,null,null,{"$f":"リスト!N67","v":0}]
[{"$f":"リスト!A68","v":"　"},{"$f":"リスト!B68","v":0},{"$f":"リスト!C68","v":0},{"$f":"リスト!D68","v":0},{"$f":"リスト!E68","v":0},{"$f":"リスト!F68","v":0},{"$f":"リスト!G68","v":0},{"$f":"リスト!H68","v":0},{"$f":"リスト!I68","v":0},{"$f":"リスト!J68","v":0},{"$f":"リスト!K68","v":0},{"$f":"リスト!L68","v":0},{"$f":"リスト!M68","v":0},null,null,null,null,null,null,null,null,null,null,null,null,null,null,null,{"$f":"リスト!N68","v":0}]
[{"$f":"リスト!A69","v":"　"},{"$f":"リスト!B69","v":0},{"$f":"リスト!C69","v":0},{"$f":"リスト!D69","v":0},{"$f":"リスト!E69","v":0},{"$f":"リスト!F69","v":0},{"$f":"リスト!G69","v":0},{"$f":"リスト!H69","v":0},{"$f":"リスト!I69","v":0},{"$f":"リスト!J69","v":0},{"$f":"リスト!K69","v":0},{"$f":"リスト!L69","v":0},{"$f":"リスト!M69","v":0},null,null,null,null,null,null,null,null,null,null,null,null,null,null,null,{"$f":"リスト!N69","v":0}]
[{"$f":"リスト!A70","v":"　"},{"$f":"リスト!B70","v":0},{"$f":"リスト!C70","v":0},{"$f":"リスト!D70","v":0},{"$f":"リスト!E70","v":0},{"$f":"リスト!F70","v":0},{"$f":"リスト!G70","v":0},{"$f":"リスト!H70","v":0},{"$f":"リスト!I70","v":0},{"$f":"リスト!J70","v":0},{"$f":"リスト!K70","v":0},{"$f":"リスト!L70","v":0},{"$f":"リスト!M70","v":0},null,null,null,null,null,null,null,null,null,null,null,null,null,null,null,{"$f":"リスト!N70","v":0}]
[{"$f":"リスト!A71","v":"　"},{"$f":"リスト!B71","v":0},{"$f":"リスト!C71","v":0},{"$f":"リスト!D71","v":0},{"$f":"リスト!E71","v":0},{"$f":"リスト!F71","v":0},{"$f":"リスト!G71","v":0},{"$f":"リスト!H71","v":0},{"$f":"リスト!I71","v":0},{"$f":"リスト!J71","v":0},{"$f":"リスト!K71","v":0},{"$f":"リスト!L71","v":0},{"$f":"リスト!M71","v":0},null,null,null,null,null,null,null,null,null,null,null,null,null,null,null,{"$f":"リスト!N71","v":0}]
[{"$f":"リスト!A72","v":"　"},{"$f":"リスト!B72","v":0},{"$f":"リスト!C72","v":0},{"$f":"リスト!D72","v":0},{"$f":"リスト!E72","v":0},{"$f":"リスト!F72","v":0},{"$f":"リスト!G72","v":0},{"$f":"リスト!H72","v":0},{"$f":"リスト!I72","v":0},{"$f":"リスト!J72","v":0},{"$f":"リスト!K72","v":0},{"$f":"リスト!L72","v":0},{"$f":"リスト!M72","v":0},null,null,null,null,null,null,null,null,null,null,null,null,null,null,null,{"$f":"リスト!N72","v":0}]
[{"$f":"リスト!A73","v":"　"},{"$f":"リスト!B73","v":0},{"$f":"リスト!C73","v":0},{"$f":"リスト!D73","v":0},{"$f":"リスト!E73","v":0},{"$f":"リスト!F73","v":0},{"$f":"リスト!G73","v":0},{"$f":"リスト!H73","v":0},{"$f":"リスト!I73","v":0},{"$f":"リスト!J73","v":0},{"$f":"リスト!K73","v":0},{"$f":"リスト!L73","v":0},{"$f":"リスト!M73","v":0},null,null,null,null,null,null,null,null,null,null,null,null,null,null,null,{"$f":"リスト!N73","v":0}]
[{"$f":"リスト!A74","v":"　"},{"$f":"リスト!B74","v":0},{"$f":"リスト!C74","v":0},{"$f":"リスト!D74","v":0},{"$f":"リスト!E74","v":0},{"$f":"リスト!F74","v":0},{"$f":"リスト!G74","v":0},{"$f":"リスト!H74","v":0},{"$f":"リスト!I74","v":0},{"$f":"リスト!J74","v":0},{"$f":"リスト!K74","v":0},{"$f":"リスト!L74","v":0},{"$f":"リスト!M74","v":0},null,null,null,null,null,null,null,null,null,null,null,null,null,null,null,{"$f":"リスト!N74","v":0}]
[{"$f":"リスト!A75","v":"　"},{"$f":"リスト!B75","v":0},{"$f":"リスト!C75","v":0},{"$f":"リスト!D75","v":0},{"$f":"リスト!E75","v":0},{"$f":"リスト!F75","v":0},{"$f":"リスト!G75","v":0},{"$f":"リスト!H75","v":0},{"$f":"リスト!I75","v":0},{"$f":"リスト!J75","v":0},{"$f":"リスト!K75","v":0},{"$f":"リスト!L75","v":0},{"$f":"リスト!M75","v":0},null,null,null,null,null,null,null,null,null,null,null,null,null,null,null,{"$f":"リスト!N75","v":0}]
[{"$f":"リスト!A76","v":"　"},{"$f":"リスト!B76","v":0},{"$f":"リスト!C76","v":0},{"$f":"リスト!D76","v":0},{"$f":"リスト!E76","v":0},{"$f":"リスト!F76","v":0},{"$f":"リスト!G76","v":0},{"$f":"リスト!H76","v":0},{"$f":"リスト!I76","v":0},{"$f":"リスト!J76","v":0},{"$f":"リスト!K76","v":0},{"$f":"リスト!L76","v":0},{"$f":"リスト!M76","v":0},null,null,null,null,null,null,null,null,null,null,null,null,null,null,null,{"$f":"リスト!N76","v":0}]
[{"$f":"リスト!A77","v":"　"},{"$f":"リスト!B77","v":0},{"$f":"リスト!C77","v":0},{"$f":"リスト!D77","v":0},{"$f":"リスト!E77","v":0},{"$f":"リスト!F77","v":0},{"$f":"リスト!G77","v":0},{"$f":"リスト!H77","v":0},{"$f":"リスト!I77","v":0},{"$f":"リスト!J77","v":0},{"$f":"リスト!K77","v":0},{"$f":"リスト!L77","v":0},{"$f":"リスト!M77","v":0},null,null,null,null,null,null,null,null,null,null,null,null,null,null,null,{"$f":"リスト!N77","v":0}]
[{"$f":"リスト!A78","v":"　"},{"$f":"リスト!B78","v":0},{"$f":"リスト!C78","v":0},{"$f":"リスト!D78","v":0},{"$f":"リスト!E78","v":0},{"$f":"リスト!F78","v":0},{"$f":"リスト!G78","v":0},{"$f":"リスト!H78","v":0},{"$f":"リスト!I78","v":0},{"$f":"リスト!J78","v":0},{"$f":"リスト!K78","v":0},{"$f":"リスト!L78","v":0},{"$f":"リスト!M78","v":0},null,null,null,null,null,null,null,null,null,null,null,null,null,null,null,{"$f":"リスト!N78","v":0}]
[{"$f":"リスト!A79","v":"　"},{"$f":"リスト!B79","v":0},{"$f":"リスト!C79","v":0},{"$f":"リスト!D79","v":0},{"$f":"リスト!E79","v":0},{"$f":"リスト!F79","v":0},{"$f":"リスト!G79","v":0},{"$f":"リスト!H79","v":0},{"$f":"リスト!I79","v":0},{"$f":"リスト!J79","v":0},{"$f":"リスト!K79","v":0},{"$f":"リスト!L79","v":0},{"$f":"リスト!M79","v":0},null,null,null,null,null,null,null,null,null,null,null,null,null,null,null,{"$f":"リスト!N79","v":0}]
[{"$f":"リスト!A80","v":"　"},{"$f":"リスト!B80","v":0},{"$f":"リスト!C80","v":0},{"$f":"リスト!D80","v":0},{"$f":"リスト!E80","v":0},{"$f":"リスト!F80","v":0},{"$f":"リスト!G80","v":0},{"$f":"リスト!H80","v":0},{"$f":"リスト!I80","v":0},{"$f":"リスト!J80","v":0},{"$f":"リスト!K80","v":0},{"$f":"リスト!L80","v":0},{"$f":"リスト!M80","v":0},null,null,null,null,null,null,null,null,null,null,null,null,null,null,null,{"$f":"リスト!N80","v":0}]
[{"$f":"リスト!A81","v":"　"},{"$f":"リスト!B81","v":0},{"$f":"リスト!C81","v":0},{"$f":"リスト!D81","v":0},{"$f":"リスト!E81","v":0},{"$f":"リスト!F81","v":0},{"$f":"リスト!G81","v":0},{"$f":"リスト!H81","v":0},{"$f":"リスト!I81","v":0},{"$f":"リスト!J81","v":0},{"$f":"リスト!K81","v":0},{"$f":"リスト!L81","v":0},{"$f":"リスト!M81","v":0},null,null,null,null,null,null,null,null,null,null,null,null,null,null,null,{"$f":"リスト!N81","v":0}]
[{"$f":"リスト!A82","v":"　"},{"$f":"リスト!B82","v":0},{"$f":"リスト!C82","v":0},{"$f":"リスト!D82","v":0},{"$f":"リスト!E82","v":0},{"$f":"リスト!F82","v":0},{"$f":"リスト!G82","v":0},{"$f":"リスト!H82","v":0},{"$f":"リスト!I82","v":0},{"$f":"リスト!J82","v":0},{"$f":"リスト!K82","v":0},{"$f":"リスト!L82","v":0},{"$f":"リスト!M82","v":0},null,null,null,null,null,null,null,null,null,null,null,null,null,null,null,{"$f":"リスト!N82","v":0}]
[{"$f":"リスト!A83","v":"　"},{"$f":"リスト!B83","v":0},{"$f":"リスト!C83","v":0},{"$f":"リスト!D83","v":0},{"$f":"リスト!E83","v":0},{"$f":"リスト!F83","v":0},{"$f":"リスト!G83","v":0},{"$f":"リスト!H83","v":0},{"$f":"リスト!I83","v":0},{"$f":"リスト!J83","v":0},{"$f":"リスト!K83","v":0},{"$f":"リスト!L83","v":0},{"$f":"リスト!M83","v":0},null,null,null,null,null,null,null,null,null,null,null,null,null,null,null,{"$f":"リスト!N83","v":0}]
[{"$f":"リスト!A84","v":"　"},{"$f":"リスト!B84","v":0},{"$f":"リスト!C84","v":0},{"$f":"リスト!D84","v":0},{"$f":"リスト!E84","v":0},{"$f":"リスト!F84","v":0},{"$f":"リスト!G84","v":0},{"$f":"リスト!H84","v":0},{"$f":"リスト!I84","v":0},{"$f":"リスト!J84","v":0},{"$f":"リスト!K84","v":0},{"$f":"リスト!L84","v":0},{"$f":"リスト!M84","v":0},null,null,null,null,null,null,null,null,null,null,null,null,null,null,null,{"$f":"リスト!N84","v":0}]
[{"$f":"リスト!A85","v":"　"},{"$f":"リスト!B85","v":0},{"$f":"リスト!C85","v":0},{"$f":"リスト!D85","v":0},{"$f":"リスト!E85","v":0},{"$f":"リスト!F85","v":0},{"$f":"リスト!G85","v":0},{"$f":"リスト!H85","v":0},{"$f":"リスト!I85","v":0},{"$f":"リスト!J85","v":0},{"$f":"リスト!K85","v":0},{"$f":"リスト!L85","v":0},{"$f":"リスト!M85","v":0},null,null,null,null,null,null,null,null,null,null,null,null,null,null,null,{"$f":"リスト!N85","v":0}]
[{"$f":"リスト!A86","v":"　"},{"$f":"リスト!B86","v":0},{"$f":"リスト!C86","v":0},{"$f":"リスト!D86","v":0},{"$f":"リスト!E86","v":0},{"$f":"リスト!F86","v":0},{"$f":"リスト!G86","v":0},{"$f":"リスト!H86","v":0},{"$f":"リスト!I86","v":0},{"$f":"リスト!J86","v":0},{"$f":"リスト!K86","v":0},{"$f":"リスト!L86","v":0},{"$f":"リスト!M86","v":0},null,null,null,null,null,null,null,null,null,null,null,null,null,null,null,{"$f":"リスト!N86","v":0}]
[{"$f":"リスト!A87","v":"　"},{"$f":"リスト!B87","v":0},{"$f":"リスト!C87","v":0},{"$f":"リスト!D87","v":0},{"$f":"リスト!E87","v":0},{"$f":"リスト!F87","v":0},{"$f":"リスト!G87","v":0},{"$f":"リスト!H87","v":0},{"$f":"リスト!I87","v":0},{"$f":"リスト!J87","v":0},{"$f":"リスト!K87","v":0},{"$f":"リスト!L87","v":0},{"$f":"リスト!M87","v":0},null,null,null,null,null,null,null,null,null,null,null,null,null,null,null,{"$f":"リスト!N87","v":0}]
[{"$f":"リスト!A88","v":"　"},{"$f":"リスト!B88","v":0},{"$f":"リスト!C88","v":0},{"$f":"リスト!D88","v":0},{"$f":"リスト!E88","v":0},{"$f":"リスト!F88","v":0},{"$f":"リスト!G88","v":0},{"$f":"リスト!H88","v":0},{"$f":"リスト!I88","v":0},{"$f":"リスト!J88","v":0},{"$f":"リスト!K88","v":0},{"$f":"リスト!L88","v":0},{"$f":"リスト!M88","v":0},null,null,null,null,null,null,null,null,null,null,null,null,null,null,null,{"$f":"リスト!N88","v":0}]
[{"$f":"リスト!A89","v":"　"},{"$f":"リスト!B89","v":0},{"$f":"リスト!C89","v":0},{"$f":"リスト!D89","v":0},{"$f":"リスト!E89","v":0},{"$f":"リスト!F89","v":0},{"$f":"リスト!G89","v":0},{"$f":"リスト!H89","v":0},{"$f":"リスト!I89","v":0},{"$f":"リスト!J89","v":0},{"$f":"リスト!K89","v":0},{"$f":"リスト!L89","v":0},{"$f":"リスト!M89","v":0},null,null,null,null,null,null,null,null,null,null,null,null,null,null,null,{"$f":"リスト!N89","v":0}]
[{"$f":"リスト!A90","v":"　"},{"$f":"リスト!B90","v":0},{"$f":"リスト!C90","v":0},{"$f":"リスト!D90","v":0},{"$f":"リスト!E90","v":0},{"$f":"リスト!F90","v":0},{"$f":"リスト!G90","v":0},{"$f":"リスト!H90","v":0},{"$f":"リスト!I90","v":0},{"$f":"リスト!J90","v":0},{"$f":"リスト!K90","v":0},{"$f":"リスト!L90","v":0},{"$f":"リスト!M90","v":0},null,null,null,null,null,null,null,null,null,null,null,null,null,null,null,{"$f":"リスト!N90","v":0}]
[{"$f":"リスト!A91","v":"　"},{"$f":"リスト!B91","v":0},{"$f":"リスト!C91","v":0},{"$f":"リスト!D91","v":0},{"$f":"リスト!E91","v":0},{"$f":"リスト!F91","v":0},{"$f":"リスト!G91","v":0},{"$f":"リスト!H91","v":0},{"$f":"リスト!I91","v":0},{"$f":"リスト!J91","v":0},{"$f":"リスト!K91","v":0},{"$f":"リスト!L91","v":0},{"$f":"リスト!M91","v":0},null,null,null,null,null,null,null,null,null,null,null,null,null,null,null,{"$f":"リスト!N91","v":0}]
[{"$f":"リスト!A92","v":"　"},{"$f":"リスト!B92","v":0},{"$f":"リスト!C92","v":0},{"$f":"リスト!D92","v":0},{"$f":"リスト!E92","v":0},{"$f":"リスト!F92","v":0},{"$f":"リスト!G92","v":0},{"$f":"リスト!H92","v":0},{"$f":"リスト!I92","v":0},{"$f":"リスト!J92","v":0},{"$f":"リスト!K92","v":0},{"$f":"リスト!L92","v":0},{"$f":"リスト!M92","v":0},null,null,null,null,null,null,null,null,null,null,null,null,null,null,null,{"$f":"リスト!N92","v":0}]
[{"$f":"リスト!A93","v":"　"},{"$f":"リスト!B93","v":0},{"$f":"リスト!C93","v":0},{"$f":"リスト!D93","v":0},{"$f":"リスト!E93","v":0},{"$f":"リスト!F93","v":0},{"$f":"リスト!G93","v":0},{"$f":"リスト!H93","v":0},{"$f":"リスト!I93","v":0},{"$f":"リスト!J93","v":0},{"$f":"リスト!K93","v":0},{"$f":"リスト!L93","v":0},{"$f":"リスト!M93","v":0},null,null,null,null,null,null,null,null,null,null,null,null,null,null,null,{"$f":"リスト!N93","v":0}]
[{"$f":"リスト!A94","v":"　"},{"$f":"リスト!B94","v":0},{"$f":"リスト!C94","v":0},{"$f":"リスト!D94","v":0},{"$f":"リスト!E94","v":0},{"$f":"リスト!F94","v":0},{"$f":"リスト!G94","v":0},{"$f":"リスト!H94","v":0},{"$f":"リスト!I94","v":0},{"$f":"リスト!J94","v":0},{"$f":"リスト!K94","v":0},{"$f":"リスト!L94","v":0},{"$f":"リスト!M94","v":0},null,null,null,null,null,null,null,null,null,null,null,null,null,null,null,{"$f":"リスト!N94","v":0}]
[{"$f":"リスト!A95","v":"　"},{"$f":"リスト!B95","v":0},{"$f":"リスト!C95","v":0},{"$f":"リスト!D95","v":0},{"$f":"リスト!E95","v":0},{"$f":"リスト!F95","v":0},{"$f":"リスト!G95","v":0},{"$f":"リスト!H95","v":0},{"$f":"リスト!I95","v":0},{"$f":"リスト!J95","v":0},{"$f":"リスト!K95","v":0},{"$f":"リスト!L95","v":0},{"$f":"リスト!M95","v":0},null,null,null,null,null,null,null,null,null,null,null,null,null,null,null,{"$f":"リスト!N95","v":0}]
[{"$f":"リスト!A96","v":"　"},{"$f":"リスト!B96","v":0},{"$f":"リスト!C96","v":0},{"$f":"リスト!D96","v":0},{"$f":"リスト!E96","v":0},{"$f":"リスト!F96","v":0},{"$f":"リスト!G96","v":0},{"$f":"リスト!H96","v":0},{"$f":"リスト!I96","v":0},{"$f":"リスト!J96","v":0},{"$f":"リスト!K96","v":0},{"$f":"リスト!L96","v":0},{"$f":"リスト!M96","v":0},null,null,null,null,null,null,null,null,null,null,null,null,null,null,null,{"$f":"リスト!N96","v":0}]
[{"$f":"リスト!A97","v":"　"},{"$f":"リスト!B97","v":0},{"$f":"リスト!C97","v":0},{"$f":"リスト!D97","v":0},{"$f":"リスト!E97","v":0},{"$f":"リスト!F97","v":0},{"$f":"リスト!G97","v":0},{"$f":"リスト!H97","v":0},{"$f":"リスト!I97","v":0},{"$f":"リスト!J97","v":0},{"$f":"リスト!K97","v":0},{"$f":"リスト!L97","v":0},{"$f":"リスト!M97","v":0},null,null,null,null,null,null,null,null,null,null,null,null,null,null,null,{"$f":"リスト!N97","v":0}]
[{"$f":"リスト!A98","v":"　"},{"$f":"リスト!B98","v":0},{"$f":"リスト!C98","v":0},{"$f":"リスト!D98","v":0},{"$f":"リスト!E98","v":0},{"$f":"リスト!F98","v":0},{"$f":"リスト!G98","v":0},{"$f":"リスト!H98","v":0},{"$f":"リスト!I98","v":0},{"$f":"リスト!J98","v":0},{"$f":"リスト!K98","v":0},{"$f":"リスト!L98","v":0},{"$f":"リスト!M98","v":0},null,null,null,null,null,null,null,null,null,null,null,null,null,null,null,{"$f":"リスト!N98","v":0}]
[{"$f":"リスト!A99","v":"　"},{"$f":"リスト!B99","v":0},{"$f":"リスト!C99","v":0},{"$f":"リスト!D99","v":0},{"$f":"リスト!E99","v":0},{"$f":"リスト!F99","v":0},{"$f":"リスト!G99","v":0},{"$f":"リスト!H99","v":0},{"$f":"リスト!I99","v":0},{"$f":"リスト!J99","v":0},{"$f":"リスト!K99","v":0},{"$f":"リスト!L99","v":0},{"$f":"リスト!M99","v":0},null,null,null,null,null,null,null,null,null,null,null,null,null,null,null,{"$f":"リスト!N99","v":0}]
[{"$f":"リスト!A100","v":"　"},{"$f":"リスト!B100","v":0},{"$f":"リスト!C100","v":0},{"$f":"リスト!D100","v":0},{"$f":"リスト!E100","v":0},{"$f":"リスト!F100","v":0},{"$f":"リスト!G100","v":0},{"$f":"リスト!H100","v":0},{"$f":"リスト!I100","v":0},{"$f":"リスト!J100","v":0},{"$f":"リスト!K100","v":0},{"$f":"リスト!L100","v":0},{"$f":"リスト!M100","v":0},null,null,null,null,null,null,null,null,null,null,null,null,null,null,null,{"$f":"リスト!N100","v":0}]
[{"$f":"リスト!A101","v":"　"},{"$f":"リスト!B101","v":0},{"$f":"リスト!C101","v":0},{"$f":"リスト!D101","v":0},{"$f":"リスト!E101","v":0},{"$f":"リスト!F101","v":0},{"$f":"リスト!G101","v":0},{"$f":"リスト!H101","v":0},{"$f":"リスト!I101","v":0},{"$f":"リスト!J101","v":0},{"$f":"リスト!K101","v":0},{"$f":"リスト!L101","v":0},{"$f":"リスト!M101","v":0},null,null,null,null,null,null,null,null,null,null,null,null,null,null,null,{"$f":"リスト!N101","v":0}]
[{"$f":"リスト!A102","v":"　"},{"$f":"リスト!B102","v":0},{"$f":"リスト!C102","v":0},{"$f":"リスト!D102","v":0},{"$f":"リスト!E102","v":0},{"$f":"リスト!F102","v":0},{"$f":"リスト!G102","v":0},{"$f":"リスト!H102","v":0},{"$f":"リスト!I102","v":0},{"$f":"リスト!J102","v":0},{"$f":"リスト!K102","v":0},{"$f":"リスト!L102","v":0},{"$f":"リスト!M102","v":0},null,null,null,null,null,null,null,null,null,null,null,null,null,null,null,{"$f":"リスト!N102","v":0}]
[{"$f":"リスト!A103","v":"　"},{"$f":"リスト!B103","v":0},{"$f":"リスト!C103","v":0},{"$f":"リスト!D103","v":0},{"$f":"リスト!E103","v":0},{"$f":"リスト!F103","v":0},{"$f":"リスト!G103","v":0},{"$f":"リスト!H103","v":0},{"$f":"リスト!I103","v":0},{"$f":"リスト!J103","v":0},{"$f":"リスト!K103","v":0},{"$f":"リスト!L103","v":0},{"$f":"リスト!M103","v":0},null,null,null,null,null,null,null,null,null,null,null,null,null,null,null,{"$f":"リスト!N103","v":0}]
[{"$f":"リスト!A104","v":"　"},{"$f":"リスト!B104","v":0},{"$f":"リスト!C104","v":0},{"$f":"リスト!D104","v":0},{"$f":"リスト!E104","v":0},{"$f":"リスト!F104","v":0},{"$f":"リスト!G104","v":0},{"$f":"リスト!H104","v":0},{"$f":"リスト!I104","v":0},{"$f":"リスト!J104","v":0},{"$f":"リスト!K104","v":0},{"$f":"リスト!L104","v":0},{"$f":"リスト!M104","v":0},null,null,null,null,null,null,null,null,null,null,null,null,null,null,null,{"$f":"リスト!N104","v":0}]
[{"$f":"リスト!A105","v":"　"},{"$f":"リスト!B105","v":0},{"$f":"リスト!C105","v":0},{"$f":"リスト!D105","v":0},{"$f":"リスト!E105","v":0},{"$f":"リスト!F105","v":0},{"$f":"リスト!G105","v":0},{"$f":"リスト!H105","v":0},{"$f":"リスト!I105","v":0},{"$f":"リスト!J105","v":0},{"$f":"リスト!K105","v":0},{"$f":"リスト!L105","v":0},{"$f":"リスト!M105","v":0},null,null,null,null,null,null,null,null,null,null,null,null,null,null,null,{"$f":"リスト!N105","v":0}]
[{"$f":"リスト!A106","v":"　"},{"$f":"リスト!B106","v":0},{"$f":"リスト!C106","v":0},{"$f":"リスト!D106","v":0},{"$f":"リスト!E106","v":0},{"$f":"リスト!F106","v":0},{"$f":"リスト!G106","v":0},{"$f":"リスト!H106","v":0},{"$f":"リスト!I106","v":0},{"$f":"リスト!J106","v":0},{"$f":"リスト!K106","v":0},{"$f":"リスト!L106","v":0},{"$f":"リスト!M106","v":0},null,null,null,null,null,null,null,null,null,null,null,null,null,null,null,{"$f":"リスト!N106","v":0}]
[{"$f":"リスト!A107","v":"　"},{"$f":"リスト!B107","v":0},{"$f":"リスト!C107","v":0},{"$f":"リスト!D107","v":0},{"$f":"リスト!E107","v":0},{"$f":"リスト!F107","v":0},{"$f":"リスト!G107","v":0},{"$f":"リスト!H107","v":0},{"$f":"リスト!I107","v":0},{"$f":"リスト!J107","v":0},{"$f":"リスト!K107","v":0},{"$f":"リスト!L107","v":0},{"$f":"リスト!M107","v":0},null,null,null,null,null,null,null,null,null,null,null,null,null,null,null,{"$f":"リスト!N107","v":0}]
[{"$f":"リスト!A108","v":"　"},{"$f":"リスト!B108","v":0},{"$f":"リスト!C108","v":0},{"$f":"リスト!D108","v":0},{"$f":"リスト!E108","v":0},{"$f":"リスト!F108","v":0},{"$f":"リスト!G108","v":0},{"$f":"リスト!H108","v":0},{"$f":"リスト!I108","v":0},{"$f":"リスト!J108","v":0},{"$f":"リスト!K108","v":0},{"$f":"リスト!L108","v":0},{"$f":"リスト!M108","v":0},null,null,null,null,null,null,null,null,null,null,null,null,null,null,null,{"$f":"リスト!N108","v":0}]
[{"$f":"リスト!A109","v":"　"},{"$f":"リスト!B109","v":0},{"$f":"リスト!C109","v":0},{"$f":"リスト!D109","v":0},{"$f":"リスト!E109","v":0},{"$f":"リスト!F109","v":0},{"$f":"リスト!G109","v":0},{"$f":"リスト!H109","v":0},{"$f":"リスト!I109","v":0},{"$f":"リスト!J109","v":0},{"$f":"リスト!K109","v":0},{"$f":"リスト!L109","v":0},{"$f":"リスト!M109","v":0},null,null,null,null,null,null,null,null,null,null,null,null,null,null,null,{"$f":"リスト!N109","v":0}]
[{"$f":"リスト!A110","v":"　"},{"$f":"リスト!B110","v":0},{"$f":"リスト!C110","v":0},{"$f":"リスト!D110","v":0},{"$f":"リスト!E110","v":0},{"$f":"リスト!F110","v":0},{"$f":"リスト!G110","v":0},{"$f":"リスト!H110","v":0},{"$f":"リスト!I110","v":0},{"$f":"リスト!J110","v":0},{"$f":"リスト!K110","v":0},{"$f":"リスト!L110","v":0},{"$f":"リスト!M110","v":0},null,null,null,null,null,null,null,null,null,null,null,null,null,null,null,{"$f":"リスト!N110","v":0}]
[{"$f":"リスト!A111","v":"　"},{"$f":"リスト!B111","v":0},{"$f":"リスト!C111","v":0},{"$f":"リスト!D111","v":0},{"$f":"リスト!E111","v":0},{"$f":"リスト!F111","v":0},{"$f":"リスト!G111","v":0},{"$f":"リスト!H111","v":0},{"$f":"リスト!I111","v":0},{"$f":"リスト!J111","v":0},{"$f":"リスト!K111","v":0},{"$f":"リスト!L111","v":0},{"$f":"リスト!M111","v":0},null,null,null,null,null,null,null,null,null,null,null,null,null,null,null,{"$f":"リスト!N111","v":0}]
[{"$f":"リスト!A112","v":"　"},{"$f":"リスト!B112","v":0},{"$f":"リスト!C112","v":0},{"$f":"リスト!D112","v":0},{"$f":"リスト!E112","v":0},{"$f":"リスト!F112","v":0},{"$f":"リスト!G112","v":0},{"$f":"リスト!H112","v":0},{"$f":"リスト!I112","v":0},{"$f":"リスト!J112","v":0},{"$f":"リスト!K112","v":0},{"$f":"リスト!L112","v":0},{"$f":"リスト!M112","v":0},null,null,null,null,null,null,null,null,null,null,null,null,null,null,null,{"$f":"リスト!N112","v":0}]
[{"$f":"リスト!A113","v":"　"},{"$f":"リスト!B113","v":0},{"$f":"リスト!C113","v":0},{"$f":"リスト!D113","v":0},{"$f":"リスト!E113","v":0},{"$f":"リスト!F113","v":0},{"$f":"リスト!G113","v":0},{"$f":"リスト!H113","v":0},{"$f":"リスト!I113","v":0},{"$f":"リスト!J113","v":0},{"$f":"リスト!K113","v":0},{"$f":"リスト!L113","v":0},{"$f":"リスト!M113","v":0},null,null,null,null,null,null,null,null,null,null,null,null,null,null,null,{"$f":"リスト!N113","v":0}]
[{"$f":"リスト!A114","v":"　"},{"$f":"リスト!B114","v":0},{"$f":"リスト!C114","v":0},{"$f":"リスト!D114","v":0},{"$f":"リスト!E114","v":0},{"$f":"リスト!F114","v":0},{"$f":"リスト!G114","v":0},{"$f":"リスト!H114","v":0},{"$f":"リスト!I114","v":0},{"$f":"リスト!J114","v":0},{"$f":"リスト!K114","v":0},{"$f":"リスト!L114","v":0},{"$f":"リスト!M114","v":0},null,null,null,null,null,null,null,null,null,null,null,null,null,null,null,{"$f":"リスト!N114","v":0}]
[{"$f":"リスト!A115","v":"　"},{"$f":"リスト!B115","v":0},{"$f":"リスト!C115","v":0},{"$f":"リスト!D115","v":0},{"$f":"リスト!E115","v":0},{"$f":"リスト!F115","v":0},{"$f":"リスト!G115","v":0},{"$f":"リスト!H115","v":0},{"$f":"リスト!I115","v":0},{"$f":"リスト!J115","v":0},{"$f":"リスト!K115","v":0},{"$f":"リスト!L115","v":0},{"$f":"リスト!M115","v":0},null,null,null,null,null,null,null,null,null,null,null,null,null,null,null,{"$f":"リスト!N115","v":0}]
[{"$f":"リスト!A116","v":"　"},{"$f":"リスト!B116","v":0},{"$f":"リスト!C116","v":0},{"$f":"リスト!D116","v":0},{"$f":"リスト!E116","v":0},{"$f":"リスト!F116","v":0},{"$f":"リスト!G116","v":0},{"$f":"リスト!H116","v":0},{"$f":"リスト!I116","v":0},{"$f":"リスト!J116","v":0},{"$f":"リスト!K116","v":0},{"$f":"リスト!L116","v":0},{"$f":"リスト!M116","v":0},null,null,null,null,null,null,null,null,null,null,null,null,null,null,null,{"$f":"リスト!N116","v":0}]
[{"$f":"リスト!A117","v":"　"},{"$f":"リスト!B117","v":0},{"$f":"リスト!C117","v":0},{"$f":"リスト!D117","v":0},{"$f":"リスト!E117","v":0},{"$f":"リスト!F117","v":0},{"$f":"リスト!G117","v":0},{"$f":"リスト!H117","v":0},{"$f":"リスト!I117","v":0},{"$f":"リスト!J117","v":0},{"$f":"リスト!K117","v":0},{"$f":"リスト!L117","v":0},{"$f":"リスト!M117","v":0},null,null,null,null,null,null,null,null,null,null,null,null,null,null,null,{"$f":"リスト!N117","v":0}]
[{"$f":"リスト!A118","v":"　"},{"$f":"リスト!B118","v":0},{"$f":"リスト!C118","v":0},{"$f":"リスト!D118","v":0},{"$f":"リスト!E118","v":0},{"$f":"リスト!F118","v":0},{"$f":"リスト!G118","v":0},{"$f":"リスト!H118","v":0},{"$f":"リスト!I118","v":0},{"$f":"リスト!J118","v":0},{"$f":"リスト!K118","v":0},{"$f":"リスト!L118","v":0},{"$f":"リスト!M118","v":0},null,null,null,null,null,null,null,null,null,null,null,null,null,null,null,{"$f":"リスト!N118","v":0}]
[{"$f":"リスト!A119","v":"　"},{"$f":"リスト!B119","v":0},{"$f":"リスト!C119","v":0},{"$f":"リスト!D119","v":0},{"$f":"リスト!E119","v":0},{"$f":"リスト!F119","v":0},{"$f":"リスト!G119","v":0},{"$f":"リスト!H119","v":0},{"$f":"リスト!I119","v":0},{"$f":"リスト!J119","v":0},{"$f":"リスト!K119","v":0},{"$f":"リスト!L119","v":0},{"$f":"リスト!M119","v":0},null,null,null,null,null,null,null,null,null,null,null,null,null,null,null,{"$f":"リスト!N119","v":0}]
[{"$f":"リスト!A120","v":"　"},{"$f":"リスト!B120","v":0},{"$f":"リスト!C120","v":0},{"$f":"リスト!D120","v":0},{"$f":"リスト!E120","v":0},{"$f":"リスト!F120","v":0},{"$f":"リスト!G120","v":0},{"$f":"リスト!H120","v":0},{"$f":"リスト!I120","v":0},{"$f":"リスト!J120","v":0},{"$f":"リスト!K120","v":0},{"$f":"リスト!L120","v":0},{"$f":"リスト!M120","v":0},null,null,null,null,null,null,null,null,null,null,null,null,null,null,null,{"$f":"リスト!N120","v":0}]
[{"$f":"リスト!A121","v":"　"},{"$f":"リスト!B121","v":0},{"$f":"リスト!C121","v":0},{"$f":"リスト!D121","v":0},{"$f":"リスト!E121","v":0},{"$f":"リスト!F121","v":0},{"$f":"リスト!G121","v":0},{"$f":"リスト!H121","v":0},{"$f":"リスト!I121","v":0},{"$f":"リスト!J121","v":0},{"$f":"リスト!K121","v":0},{"$f":"リスト!L121","v":0},{"$f":"リスト!M121","v":0},null,null,null,null,null,null,null,null,null,null,null,null,null,null,null,{"$f":"リスト!N121","v":0}]
[{"$f":"リスト!A122","v":"　"},{"$f":"リスト!B122","v":0},{"$f":"リスト!C122","v":0},{"$f":"リスト!D122","v":0},{"$f":"リスト!E122","v":0},{"$f":"リスト!F122","v":0},{"$f":"リスト!G122","v":0},{"$f":"リスト!H122","v":0},{"$f":"リスト!I122","v":0},{"$f":"リスト!J122","v":0},{"$f":"リスト!K122","v":0},{"$f":"リスト!L122","v":0},{"$f":"リスト!M122","v":0},null,null,null,null,null,null,null,null,null,null,null,null,null,null,null,{"$f":"リスト!N122","v":0}]
[{"$f":"リスト!A123","v":"　"},{"$f":"リスト!B123","v":0},{"$f":"リスト!C123","v":0},{"$f":"リスト!D123","v":0},{"$f":"リスト!E123","v":0},{"$f":"リスト!F123","v":0},{"$f":"リスト!G123","v":0},{"$f":"リスト!H123","v":0},{"$f":"リスト!I123","v":0},{"$f":"リスト!J123","v":0},{"$f":"リスト!K123","v":0},{"$f":"リスト!L123","v":0},{"$f":"リスト!M123","v":0},null,null,null,null,null,null,null,null,null,null,null,null,null,null,null,{"$f":"リスト!N123","v":0}]
[{"$f":"リスト!A124","v":"　"},{"$f":"リスト!B124","v":0},{"$f":"リスト!C124","v":0},{"$f":"リスト!D124","v":0},{"$f":"リスト!E124","v":0},{"$f":"リスト!F124","v":0},{"$f":"リスト!G124","v":0},{"$f":"リスト!H124","v":0},{"$f":"リスト!I124","v":0},{"$f":"リスト!J124","v":0},{"$f":"リスト!K124","v":0},{"$f":"リスト!L124","v":0},{"$f":"リスト!M124","v":0},null,null,null,null,null,null,null,null,null,null,null,null,null,null,null,{"$f":"リスト!N124","v":0}]
[{"$f":"リスト!A125","v":"　"},{"$f":"リスト!B125","v":0},{"$f":"リスト!C125","v":0},{"$f":"リスト!D125","v":0},{"$f":"リスト!E125","v":0},{"$f":"リスト!F125","v":0},{"$f":"リスト!G125","v":0},{"$f":"リスト!H125","v":0},{"$f":"リスト!I125","v":0},{"$f":"リスト!J125","v":0},{"$f":"リスト!K125","v":0},{"$f":"リスト!L125","v":0},{"$f":"リスト!M125","v":0},null,null,null,null,null,null,null,null,null,null,null,null,null,null,null,{"$f":"リスト!N125","v":0}]
[{"$f":"リスト!A126","v":"　"},{"$f":"リスト!B126","v":0},{"$f":"リスト!C126","v":0},{"$f":"リスト!D126","v":0},{"$f":"リスト!E126","v":0},{"$f":"リスト!F126","v":0},{"$f":"リスト!G126","v":0},{"$f":"リスト!H126","v":0},{"$f":"リスト!I126","v":0},{"$f":"リスト!J126","v":0},{"$f":"リスト!K126","v":0},{"$f":"リスト!L126","v":0},{"$f":"リスト!M126","v":0},null,null,null,null,null,null,null,null,null,null,null,null,null,null,null,{"$f":"リスト!N126","v":0}]
[{"$f":"リスト!A127","v":"　"},{"$f":"リスト!B127","v":0},{"$f":"リスト!C127","v":0},{"$f":"リスト!D127","v":0},{"$f":"リスト!E127","v":0},{"$f":"リスト!F127","v":0},{"$f":"リスト!G127","v":0},{"$f":"リスト!H127","v":0},{"$f":"リスト!I127","v":0},{"$f":"リスト!J127","v":0},{"$f":"リスト!K127","v":0},{"$f":"リスト!L127","v":0},{"$f":"リスト!M127","v":0},null,null,null,null,null,null,null,null,null,null,null,null,null,null,null,{"$f":"リスト!N127","v":0}]
[{"$f":"リスト!A128","v":"　"},{"$f":"リスト!B128","v":0},{"$f":"リスト!C128","v":0},{"$f":"リスト!D128","v":0},{"$f":"リスト!E128","v":0},{"$f":"リスト!F128","v":0},{"$f":"リスト!G128","v":0},{"$f":"リスト!H128","v":0},{"$f":"リスト!I128","v":0},{"$f":"リスト!J128","v":0},{"$f":"リスト!K128","v":0},{"$f":"リスト!L128","v":0},{"$f":"リスト!M128","v":0},null,null,null,null,null,null,null,null,null,null,null,null,null,null,null,{"$f":"リスト!N128","v":0}]
[{"$f":"リスト!A129","v":"　"},{"$f":"リスト!B129","v":0},{"$f":"リスト!C129","v":0},{"$f":"リスト!D129","v":0},{"$f":"リスト!E129","v":0},{"$f":"リスト!F129","v":0},{"$f":"リスト!G129","v":0},{"$f":"リスト!H129","v":0},{"$f":"リスト!I129","v":0},{"$f":"リスト!J129","v":0},{"$f":"リスト!K129","v":0},{"$f":"リスト!L129","v":0},{"$f":"リスト!M129","v":0},null,null,null,null,null,null,null,null,null,null,null,null,null,null,null,{"$f":"リスト!N129","v":0}]
[{"$f":"リスト!A130","v":"　"},{"$f":"リスト!B130","v":0},{"$f":"リスト!C130","v":0},{"$f":"リスト!D130","v":0},{"$f":"リスト!E130","v":0},{"$f":"リスト!F130","v":0},{"$f":"リスト!G130","v":0},{"$f":"リスト!H130","v":0},{"$f":"リスト!I130","v":0},{"$f":"リスト!J130","v":0},{"$f":"リスト!K130","v":0},{"$f":"リスト!L130","v":0},{"$f":"リスト!M130","v":0},null,null,null,null,null,null,null,null,null,null,null,null,null,null,null,{"$f":"リスト!N130","v":0}]
[{"$f":"リスト!A131","v":"　"},{"$f":"リスト!B131","v":0},{"$f":"リスト!C131","v":0},{"$f":"リスト!D131","v":0},{"$f":"リスト!E131","v":0},{"$f":"リスト!F131","v":0},{"$f":"リスト!G131","v":0},{"$f":"リスト!H131","v":0},{"$f":"リスト!I131","v":0},{"$f":"リスト!J131","v":0},{"$f":"リスト!K131","v":0},{"$f":"リスト!L131","v":0},{"$f":"リスト!M131","v":0},null,null,null,null,null,null,null,null,null,null,null,null,null,null,null,{"$f":"リスト!N131","v":0}]
[{"$f":"リスト!A132","v":"　"},{"$f":"リスト!B132","v":0},{"$f":"リスト!C132","v":0},{"$f":"リスト!D132","v":0},{"$f":"リスト!E132","v":0},{"$f":"リスト!F132","v":0},{"$f":"リスト!G132","v":0},{"$f":"リスト!H132","v":0},{"$f":"リスト!I132","v":0},{"$f":"リスト!J132","v":0},{"$f":"リスト!K132","v":0},{"$f":"リスト!L132","v":0},{"$f":"リスト!M132","v":0},null,null,null,null,null,null,null,null,null,null,null,null,null,null,null,{"$f":"リスト!N132","v":0}]
[{"$f":"リスト!A133","v":"　"},{"$f":"リスト!B133","v":0},{"$f":"リスト!C133","v":0},{"$f":"リスト!D133","v":0},{"$f":"リスト!E133","v":0},{"$f":"リスト!F133","v":0},{"$f":"リスト!G133","v":0},{"$f":"リスト!H133","v":0},{"$f":"リスト!I133","v":0},{"$f":"リスト!J133","v":0},{"$f":"リスト!K133","v":0},{"$f":"リスト!L133","v":0},{"$f":"リスト!M133","v":0},null,null,null,null,null,null,null,null,null,null,null,null,null,null,null,{"$f":"リスト!N133","v":0}]
[{"$f":"リスト!A134","v":"　"},{"$f":"リスト!B134","v":0},{"$f":"リスト!C134","v":0},{"$f":"リスト!D134","v":0},{"$f":"リスト!E134","v":0},{"$f":"リスト!F134","v":0},{"$f":"リスト!G134","v":0},{"$f":"リスト!H134","v":0},{"$f":"リスト!I134","v":0},{"$f":"リスト!J134","v":0},{"$f":"リスト!K134","v":0},{"$f":"リスト!L134","v":0},{"$f":"リスト!M134","v":0},null,null,null,null,null,null,null,null,null,null,null,null,null,null,null,{"$f":"リスト!N134","v":0}]
[{"$f":"リスト!A135","v":"　"},{"$f":"リスト!B135","v":0},{"$f":"リスト!C135","v":0},{"$f":"リスト!D135","v":0},{"$f":"リスト!E135","v":0},{"$f":"リスト!F135","v":0},{"$f":"リスト!G135","v":0},{"$f":"リスト!H135","v":0},{"$f":"リスト!I135","v":0},{"$f":"リスト!J135","v":0},{"$f":"リスト!K135","v":0},{"$f":"リスト!L135","v":0},{"$f":"リスト!M135","v":0},null,null,null,null,null,null,null,null,null,null,null,null,null,null,null,{"$f":"リスト!N135","v":0}]
[{"$f":"リスト!A136","v":"　"},{"$f":"リスト!B136","v":0},{"$f":"リスト!C136","v":0},{"$f":"リスト!D136","v":0},{"$f":"リスト!E136","v":0},{"$f":"リスト!F136","v":0},{"$f":"リスト!G136","v":0},{"$f":"リスト!H136","v":0},{"$f":"リスト!I136","v":0},{"$f":"リスト!J136","v":0},{"$f":"リスト!K136","v":0},{"$f":"リスト!L136","v":0},{"$f":"リスト!M136","v":0},null,null,null,null,null,null,null,null,null,null,null,null,null,null,null,{"$f":"リスト!N136","v":0}]
[{"$f":"リスト!A137","v":"　"},{"$f":"リスト!B137","v":0},{"$f":"リスト!C137","v":0},{"$f":"リスト!D137","v":0},{"$f":"リスト!E137","v":0},{"$f":"リスト!F137","v":0},{"$f":"リスト!G137","v":0},{"$f":"リスト!H137","v":0},{"$f":"リスト!I137","v":0},{"$f":"リスト!J137","v":0},{"$f":"リスト!K137","v":0},{"$f":"リスト!L137","v":0},{"$f":"リスト!M137","v":0},null,null,null,null,null,null,null,null,null,null,null,null,null,null,null,{"$f":"リスト!N137","v":0}]
[{"$f":"リスト!A138","v":"　"},{"$f":"リスト!B138","v":0},{"$f":"リスト!C138","v":0},{"$f":"リスト!D138","v":0},{"$f":"リスト!E138","v":0},{"$f":"リスト!F138","v":0},{"$f":"リスト!G138","v":0},{"$f":"リスト!H138","v":0},{"$f":"リスト!I138","v":0},{"$f":"リスト!J138","v":0},{"$f":"リスト!K138","v":0},{"$f":"リスト!L138","v":0},{"$f":"リスト!M138","v":0},null,null,null,null,null,null,null,null,null,null,null,null,null,null,null,{"$f":"リスト!N138","v":0}]
[{"$f":"リスト!A139","v":"　"},{"$f":"リスト!B139","v":0},{"$f":"リスト!C139","v":0},{"$f":"リスト!D139","v":0},{"$f":"リスト!E139","v":0},{"$f":"リスト!F139","v":0},{"$f":"リスト!G139","v":0},{"$f":"リスト!H139","v":0},{"$f":"リスト!I139","v":0},{"$f":"リスト!J139","v":0},{"$f":"リスト!K139","v":0},{"$f":"リスト!L139","v":0},{"$f":"リスト!M139","v":0},null,null,null,null,null,null,null,null,null,null,null,null,null,null,null,{"$f":"リスト!N139","v":0}]
[{"$f":"リスト!A140","v":"　"},{"$f":"リスト!B140","v":0},{"$f":"リスト!C140","v":0},{"$f":"リスト!D140","v":0},{"$f":"リスト!E140","v":0},{"$f":"リスト!F140","v":0},{"$f":"リスト!G140","v":0},{"$f":"リスト!H140","v":0},{"$f":"リスト!I140","v":0},{"$f":"リスト!J140","v":0},{"$f":"リスト!K140","v":0},{"$f":"リスト!L140","v":0},{"$f":"リスト!M140","v":0},null,null,null,null,null,null,null,null,null,null,null,null,null,null,null,{"$f":"リスト!N140","v":0}]
[{"$f":"リスト!A141","v":"　"},{"$f":"リスト!B141","v":0},{"$f":"リスト!C141","v":0},{"$f":"リスト!D141","v":0},{"$f":"リスト!E141","v":0},{"$f":"リスト!F141","v":0},{"$f":"リスト!G141","v":0},{"$f":"リスト!H141","v":0},{"$f":"リスト!I141","v":0},{"$f":"リスト!J141","v":0},{"$f":"リスト!K141","v":0},{"$f":"リスト!L141","v":0},{"$f":"リスト!M141","v":0},null,null,null,null,null,null,null,null,null,null,null,null,null,null,null,{"$f":"リスト!N141","v":0}]
[{"$f":"リスト!A142","v":"　"},{"$f":"リスト!B142","v":0},{"$f":"リスト!C142","v":0},{"$f":"リスト!D142","v":0},{"$f":"リスト!E142","v":0},{"$f":"リスト!F142","v":0},{"$f":"リスト!G142","v":0},{"$f":"リスト!H142","v":0},{"$f":"リスト!I142","v":0},{"$f":"リスト!J142","v":0},{"$f":"リスト!K142","v":0},{"$f":"リスト!L142","v":0},{"$f":"リスト!M142","v":0},null,null,null,null,null,null,null,null,null,null,null,null,null,null,null,{"$f":"リスト!N142","v":0}]
[{"$f":"リスト!A143","v":"　"},{"$f":"リスト!B143","v":0},{"$f":"リスト!C143","v":0},{"$f":"リスト!D143","v":0},{"$f":"リスト!E143","v":0},{"$f":"リスト!F143","v":0},{"$f":"リスト!G143","v":0},{"$f":"リスト!H143","v":0},{"$f":"リスト!I143","v":0},{"$f":"リスト!J143","v":0},{"$f":"リスト!K143","v":0},{"$f":"リスト!L143","v":0},{"$f":"リスト!M143","v":0},null,null,null,null,null,null,null,null,null,null,null,null,null,null,null,{"$f":"リスト!N143","v":0}]
[{"$f":"リスト!A144","v":"　"},{"$f":"リスト!B144","v":0},{"$f":"リスト!C144","v":0},{"$f":"リスト!D144","v":0},{"$f":"リスト!E144","v":0},{"$f":"リスト!F144","v":0},{"$f":"リスト!G144","v":0},{"$f":"リスト!H144","v":0},{"$f":"リスト!I144","v":0},{"$f":"リスト!J144","v":0},{"$f":"リスト!K144","v":0},{"$f":"リスト!L144","v":0},{"$f":"リスト!M144","v":0},null,null,null,null,null,null,null,null,null,null,null,null,null,null,null,{"$f":"リスト!N144","v":0}]
[{"$f":"リスト!A145","v":"　"},{"$f":"リスト!B145","v":0},{"$f":"リスト!C145","v":0},{"$f":"リスト!D145","v":0},{"$f":"リスト!E145","v":0},{"$f":"リスト!F145","v":0},{"$f":"リスト!G145","v":0},{"$f":"リスト!H145","v":0},{"$f":"リスト!I145","v":0},{"$f":"リスト!J145","v":0},{"$f":"リスト!K145","v":0},{"$f":"リスト!L145","v":0},{"$f":"リスト!M145","v":0},null,null,null,null,null,null,null,null,null,null,null,null,null,null,null,{"$f":"リスト!N145","v":0}]
[{"$f":"リスト!A146","v":"　"},{"$f":"リスト!B146","v":0},{"$f":"リスト!C146","v":0},{"$f":"リスト!D146","v":0},{"$f":"リスト!E146","v":0},{"$f":"リスト!F146","v":0},{"$f":"リスト!G146","v":0},{"$f":"リスト!H146","v":0},{"$f":"リスト!I146","v":0},{"$f":"リスト!J146","v":0},{"$f":"リスト!K146","v":0},{"$f":"リスト!L146","v":0},{"$f":"リスト!M146","v":0},null,null,null,null,null,null,null,null,null,null,null,null,null,null,null,{"$f":"リスト!N146","v":0}]
[{"$f":"リスト!A147","v":"　"},{"$f":"リスト!B147","v":0},{"$f":"リスト!C147","v":0},{"$f":"リスト!D147","v":0},{"$f":"リスト!E147","v":0},{"$f":"リスト!F147","v":0},{"$f":"リスト!G147","v":0},{"$f":"リスト!H147","v":0},{"$f":"リスト!I147","v":0},{"$f":"リスト!J147","v":0},{"$f":"リスト!K147","v":0},{"$f":"リスト!L147","v":0},{"$f":"リスト!M147","v":0},null,null,null,null,null,null,null,null,null,null,null,null,null,null,null,{"$f":"リスト!N147","v":0}]
[{"$f":"リスト!A148","v":"　"},{"$f":"リスト!B148","v":0},{"$f":"リスト!C148","v":0},{"$f":"リスト!D148","v":0},{"$f":"リスト!E148","v":0},{"$f":"リスト!F148","v":0},{"$f":"リスト!G148","v":0},{"$f":"リスト!H148","v":0},{"$f":"リスト!I148","v":0},{"$f":"リスト!J148","v":0},{"$f":"リスト!K148","v":0},{"$f":"リスト!L148","v":0},{"$f":"リスト!M148","v":0},null,null,null,null,null,null,null,null,null,null,null,null,null,null,null,{"$f":"リスト!N148","v":0}]
[{"$f":"リスト!A149","v":"　"},{"$f":"リスト!B149","v":0},{"$f":"リスト!C149","v":0},{"$f":"リスト!D149","v":0},{"$f":"リスト!E149","v":0},{"$f":"リスト!F149","v":0},{"$f":"リスト!G149","v":0},{"$f":"リスト!H149","v":0},{"$f":"リスト!I149","v":0},{"$f":"リスト!J149","v":0},{"$f":"リスト!K149","v":0},{"$f":"リスト!L149","v":0},{"$f":"リスト!M149","v":0},null,null,null,null,null,null,null,null,null,null,null,null,null,null,null,{"$f":"リスト!N149","v":0}]
[{"$f":"リスト!A150","v":"　"},{"$f":"リスト!B150","v":0},{"$f":"リスト!C150","v":0},{"$f":"リスト!D150","v":0},{"$f":"リスト!E150","v":0},{"$f":"リスト!F150","v":0},{"$f":"リスト!G150","v":0},{"$f":"リスト!H150","v":0},{"$f":"リスト!I150","v":0},{"$f":"リスト!J150","v":0},{"$f":"リスト!K150","v":0},{"$f":"リスト!L150","v":0},{"$f":"リスト!M150","v":0},null,null,null,null,null,null,null,null,null,null,null,null,null,null,null,{"$f":"リスト!N150","v":0}]
[{"$f":"リスト!A151","v":"　"},{"$f":"リスト!B151","v":0},{"$f":"リスト!C151","v":0},{"$f":"リスト!D151","v":0},{"$f":"リスト!E151","v":0},{"$f":"リスト!F151","v":0},{"$f":"リスト!G151","v":0},{"$f":"リスト!H151","v":0},{"$f":"リスト!I151","v":0},{"$f":"リスト!J151","v":0},{"$f":"リスト!K151","v":0},{"$f":"リスト!L151","v":0},{"$f":"リスト!M151","v":0},null,null,null,null,null,null,null,null,null,null,null,null,null,null,null,{"$f":"リスト!N151","v":0}]
[{"$f":"リスト!A152","v":"　"},{"$f":"リスト!B152","v":0},{"$f":"リスト!C152","v":0},{"$f":"リスト!D152","v":0},{"$f":"リスト!E152","v":0},{"$f":"リスト!F152","v":0},{"$f":"リスト!G152","v":0},{"$f":"リスト!H152","v":0},{"$f":"リスト!I152","v":0},{"$f":"リスト!J152","v":0},{"$f":"リスト!K152","v":0},{"$f":"リスト!L152","v":0},{"$f":"リスト!M152","v":0},null,null,null,null,null,null,null,null,null,null,null,null,null,null,null,{"$f":"リスト!N152","v":0}]
[{"$f":"リスト!A153","v":"　"},{"$f":"リスト!B153","v":0},{"$f":"リスト!C153","v":0},{"$f":"リスト!D153","v":0},{"$f":"リスト!E153","v":0},{"$f":"リスト!F153","v":0},{"$f":"リスト!G153","v":0},{"$f":"リスト!H153","v":0},{"$f":"リスト!I153","v":0},{"$f":"リスト!J153","v":0},{"$f":"リスト!K153","v":0},{"$f":"リスト!L153","v":0},{"$f":"リスト!M153","v":0},null,null,null,null,null,null,null,null,null,null,null,null,null,null,null,{"$f":"リスト!N153","v":0}]
[{"$f":"リスト!A154","v":"　"},{"$f":"リスト!B154","v":0},{"$f":"リスト!C154","v":0},{"$f":"リスト!D154","v":0},{"$f":"リスト!E154","v":0},{"$f":"リスト!F154","v":0},{"$f":"リスト!G154","v":0},{"$f":"リスト!H154","v":0},{"$f":"リスト!I154","v":0},{"$f":"リスト!J154","v":0},{"$f":"リスト!K154","v":0},{"$f":"リスト!L154","v":0},{"$f":"リスト!M154","v":0},null,null,null,null,null,null,null,null,null,null,null,null,null,null,null,{"$f":"リスト!N154","v":0}]
[{"$f":"リスト!A155","v":"　"},{"$f":"リスト!B155","v":0},{"$f":"リスト!C155","v":0},{"$f":"リスト!D155","v":0},{"$f":"リスト!E155","v":0},{"$f":"リスト!F155","v":0},{"$f":"リスト!G155","v":0},{"$f":"リスト!H155","v":0},{"$f":"リスト!I155","v":0},{"$f":"リスト!J155","v":0},{"$f":"リスト!K155","v":0},{"$f":"リスト!L155","v":0},{"$f":"リスト!M155","v":0},null,null,null,null,null,null,null,null,null,null,null,null,null,null,null,{"$f":"リスト!N155","v":0}]
[{"$f":"リスト!A156","v":"　"},{"$f":"リスト!B156","v":0},{"$f":"リスト!C156","v":0},{"$f":"リスト!D156","v":0},{"$f":"リスト!E156","v":0},{"$f":"リスト!F156","v":0},{"$f":"リスト!G156","v":0},{"$f":"リスト!H156","v":0},{"$f":"リスト!I156","v":0},{"$f":"リスト!J156","v":0},{"$f":"リスト!K156","v":0},{"$f":"リスト!L156","v":0},{"$f":"リスト!M156","v":0},null,null,null,null,null,null,null,null,null,null,null,null,null,null,null,{"$f":"リスト!N156","v":0}]
[{"$f":"リスト!A157","v":"　"},{"$f":"リスト!B157","v":0},{"$f":"リスト!C157","v":0},{"$f":"リスト!D157","v":0},{"$f":"リスト!E157","v":0},{"$f":"リスト!F157","v":0},{"$f":"リスト!G157","v":0},{"$f":"リスト!H157","v":0},{"$f":"リスト!I157","v":0},{"$f":"リスト!J157","v":0},{"$f":"リスト!K157","v":0},{"$f":"リスト!L157","v":0},{"$f":"リスト!M157","v":0},null,null,null,null,null,null,null,null,null,null,null,null,null,null,null,{"$f":"リスト!N157","v":0}]
[{"$f":"リスト!A158","v":"　"},{"$f":"リスト!B158","v":0},{"$f":"リスト!C158","v":0},{"$f":"リスト!D158","v":0},{"$f":"リスト!E158","v":0},{"$f":"リスト!F158","v":0},{"$f":"リスト!G158","v":0},{"$f":"リスト!H158","v":0},{"$f":"リスト!I158","v":0},{"$f":"リスト!J158","v":0},{"$f":"リスト!K158","v":0},{"$f":"リスト!L158","v":0},{"$f":"リスト!M158","v":0},null,null,null,null,null,null,null,null,null,null,null,null,null,null,null,{"$f":"リスト!N158","v":0}]
[{"$f":"リスト!A159","v":"　"},{"$f":"リスト!B159","v":0},{"$f":"リスト!C159","v":0},{"$f":"リスト!D159","v":0},{"$f":"リスト!E159","v":0},{"$f":"リスト!F159","v":0},{"$f":"リスト!G159","v":0},{"$f":"リスト!H159","v":0},{"$f":"リスト!I159","v":0},{"$f":"リスト!J159","v":0},{"$f":"リスト!K159","v":0},{"$f":"リスト!L159","v":0},{"$f":"リスト!M159","v":0},null,null,null,null,null,null,null,null,null,null,null,null,null,null,null,{"$f":"リスト!N159","v":0}]
[{"$f":"リスト!A160","v":"　"},{"$f":"リスト!B160","v":0},{"$f":"リスト!C160","v":0},{"$f":"リスト!D160","v":0},{"$f":"リスト!E160","v":0},{"$f":"リスト!F160","v":0},{"$f":"リスト!G160","v":0},{"$f":"リスト!H160","v":0},{"$f":"リスト!I160","v":0},{"$f":"リスト!J160","v":0},{"$f":"リスト!K160","v":0},{"$f":"リスト!L160","v":0},{"$f":"リスト!M160","v":0},null,null,null,null,null,null,null,null,null,null,null,null,null,null,null,{"$f":"リスト!N160","v":0}]
[{"$f":"リスト!A161","v":"　"},{"$f":"リスト!B161","v":0},{"$f":"リスト!C161","v":0},{"$f":"リスト!D161","v":0},{"$f":"リスト!E161","v":0},{"$f":"リスト!F161","v":0},{"$f":"リスト!G161","v":0},{"$f":"リスト!H161","v":0},{"$f":"リスト!I161","v":0},{"$f":"リスト!J161","v":0},{"$f":"リスト!K161","v":0},{"$f":"リスト!L161","v":0},{"$f":"リスト!M161","v":0},null,null,null,null,null,null,null,null,null,null,null,null,null,null,null,{"$f":"リスト!N161","v":0}]
[{"$f":"リスト!A162","v":"　"},{"$f":"リスト!B162","v":0},{"$f":"リスト!C162","v":0},{"$f":"リスト!D162","v":0},{"$f":"リスト!E162","v":0},{"$f":"リスト!F162","v":0},{"$f":"リスト!G162","v":0},{"$f":"リスト!H162","v":0},{"$f":"リスト!I162","v":0},{"$f":"リスト!J162","v":0},{"$f":"リスト!K162","v":0},{"$f":"リスト!L162","v":0},{"$f":"リスト!M162","v":0},null,null,null,null,null,null,null,null,null,null,null,null,null,null,null,{"$f":"リスト!N162","v":0}]
[{"$f":"リスト!A163","v":"　"},{"$f":"リスト!B163","v":0},{"$f":"リスト!C163","v":0},{"$f":"リスト!D163","v":0},{"$f":"リスト!E163","v":0},{"$f":"リスト!F163","v":0},{"$f":"リスト!G163","v":0},{"$f":"リスト!H163","v":0},{"$f":"リスト!I163","v":0},{"$f":"リスト!J163","v":0},{"$f":"リスト!K163","v":0},{"$f":"リスト!L163","v":0},{"$f":"リスト!M163","v":0},null,null,null,null,null,null,null,null,null,null,null,null,null,null,null,{"$f":"リスト!N163","v":0}]
[{"$f":"リスト!A164","v":"　"},{"$f":"リスト!B164","v":0},{"$f":"リスト!C164","v":0},{"$f":"リスト!D164","v":0},{"$f":"リスト!E164","v":0},{"$f":"リスト!F164","v":0},{"$f":"リスト!G164","v":0},{"$f":"リスト!H164","v":0},{"$f":"リスト!I164","v":0},{"$f":"リスト!J164","v":0},{"$f":"リスト!K164","v":0},{"$f":"リスト!L164","v":0},{"$f":"リスト!M164","v":0},null,null,null,null,null,null,null,null,null,null,null,null,null,null,null,{"$f":"リスト!N164","v":0}]
[{"$f":"リスト!A165","v":"　"},{"$f":"リスト!B165","v":0},{"$f":"リスト!C165","v":0},{"$f":"リスト!D165","v":0},{"$f":"リスト!E165","v":0},{"$f":"リスト!F165","v":0},{"$f":"リスト!G165","v":0},{"$f":"リスト!H165","v":0},{"$f":"リスト!I165","v":0},{"$f":"リスト!J165","v":0},{"$f":"リスト!K165","v":0},{"$f":"リスト!L165","v":0},{"$f":"リスト!M165","v":0},null,null,null,null,null,null,null,null,null,null,null,null,null,null,null,{"$f":"リスト!N165","v":0}]
[{"$f":"リスト!A166","v":"　"},{"$f":"リスト!B166","v":0},{"$f":"リスト!C166","v":0},{"$f":"リスト!D166","v":0},{"$f":"リスト!E166","v":0},{"$f":"リスト!F166","v":0},{"$f":"リスト!G166","v":0},{"$f":"リスト!H166","v":0},{"$f":"リスト!I166","v":0},{"$f":"リスト!J166","v":0},{"$f":"リスト!K166","v":0},{"$f":"リスト!L166","v":0},{"$f":"リスト!M166","v":0},null,null,null,null,null,null,null,null,null,null,null,null,null,null,null,{"$f":"リスト!N166","v":0}]
[{"$f":"リスト!A167","v":"　"},{"$f":"リスト!B167","v":0},{"$f":"リスト!C167","v":0},{"$f":"リスト!D167","v":0},{"$f":"リスト!E167","v":0},{"$f":"リスト!F167","v":0},{"$f":"リスト!G167","v":0},{"$f":"リスト!H167","v":0},{"$f":"リスト!I167","v":0},{"$f":"リスト!J167","v":0},{"$f":"リスト!K167","v":0},{"$f":"リスト!L167","v":0},{"$f":"リスト!M167","v":0},null,null,null,null,null,null,null,null,null,null,null,null,null,null,null,{"$f":"リスト!N167","v":0}]
[{"$f":"リスト!A168","v":"　"},{"$f":"リスト!B168","v":0},{"$f":"リスト!C168","v":0},{"$f":"リスト!D168","v":0},{"$f":"リスト!E168","v":0},{"$f":"リスト!F168","v":0},{"$f":"リスト!G168","v":0},{"$f":"リスト!H168","v":0},{"$f":"リスト!I168","v":0},{"$f":"リスト!J168","v":0},{"$f":"リスト!K168","v":0},{"$f":"リスト!L168","v":0},{"$f":"リスト!M168","v":0},null,null,null,null,null,null,null,null,null,null,null,null,null,null,null,{"$f":"リスト!N168","v":0}]
[{"$f":"リスト!A169","v":"　"},{"$f":"リスト!B169","v":0},{"$f":"リスト!C169","v":0},{"$f":"リスト!D169","v":0},{"$f":"リスト!E169","v":0},{"$f":"リスト!F169","v":0},{"$f":"リスト!G169","v":0},{"$f":"リスト!H169","v":0},{"$f":"リスト!I169","v":0},{"$f":"リスト!J169","v":0},{"$f":"リスト!K169","v":0},{"$f":"リスト!L169","v":0},{"$f":"リスト!M169","v":0},null,null,null,null,null,null,null,null,null,null,null,null,null,null,null,{"$f":"リスト!N169","v":0}]
[{"$f":"リスト!A170","v":"　"},{"$f":"リスト!B170","v":0},{"$f":"リスト!C170","v":0},{"$f":"リスト!D170","v":0},{"$f":"リスト!E170","v":0},{"$f":"リスト!F170","v":0},{"$f":"リスト!G170","v":0},{"$f":"リスト!H170","v":0},{"$f":"リスト!I170","v":0},{"$f":"リスト!J170","v":0},{"$f":"リスト!K170","v":0},{"$f":"リスト!L170","v":0},{"$f":"リスト!M170","v":0},null,null,null,null,null,null,null,null,null,null,null,null,null,null,null,{"$f":"リスト!N170","v":0}]
[{"$f":"リスト!A171","v":"　"},{"$f":"リスト!B171","v":0},{"$f":"リスト!C171","v":0},{"$f":"リスト!D171","v":0},{"$f":"リスト!E171","v":0},{"$f":"リスト!F171","v":0},{"$f":"リスト!G171","v":0},{"$f":"リスト!H171","v":0},{"$f":"リスト!I171","v":0},{"$f":"リスト!J171","v":0},{"$f":"リスト!K171","v":0},{"$f":"リスト!L171","v":0},{"$f":"リスト!M171","v":0},null,null,null,null,null,null,null,null,null,null,null,null,null,null,null,{"$f":"リスト!N171","v":0}]
[{"$f":"リスト!A172","v":"　"},{"$f":"リスト!B172","v":0},{"$f":"リスト!C172","v":0},{"$f":"リスト!D172","v":0},{"$f":"リスト!E172","v":0},{"$f":"リスト!F172","v":0},{"$f":"リスト!G172","v":0},{"$f":"リスト!H172","v":0},{"$f":"リスト!I172","v":0},{"$f":"リスト!J172","v":0},{"$f":"リスト!K172","v":0},{"$f":"リスト!L172","v":0},{"$f":"リスト!M172","v":0},null,null,null,null,null,null,null,null,null,null,null,null,null,null,null,{"$f":"リスト!N172","v":0}]
[{"$f":"リスト!A173","v":"　"},{"$f":"リスト!B173","v":0},{"$f":"リスト!C173","v":0},{"$f":"リスト!D173","v":0},{"$f":"リスト!E173","v":0},{"$f":"リスト!F173","v":0},{"$f":"リスト!G173","v":0},{"$f":"リスト!H173","v":0},{"$f":"リスト!I173","v":0},{"$f":"リスト!J173","v":0},{"$f":"リスト!K173","v":0},{"$f":"リスト!L173","v":0},{"$f":"リスト!M173","v":0},null,null,null,null,null,null,null,null,null,null,null,null,null,null,null,{"$f":"リスト!N173","v":0}]
[{"$f":"リスト!A174","v":"　"},{"$f":"リスト!B174","v":0},{"$f":"リスト!C174","v":0},{"$f":"リスト!D174","v":0},{"$f":"リスト!E174","v":0},{"$f":"リスト!F174","v":0},{"$f":"リスト!G174","v":0},{"$f":"リスト!H174","v":0},{"$f":"リスト!I174","v":0},{"$f":"リスト!J174","v":0},{"$f":"リスト!K174","v":0},{"$f":"リスト!L174","v":0},{"$f":"リスト!M174","v":0},null,null,null,null,null,null,null,null,null,null,null,null,null,null,null,{"$f":"リスト!N174","v":0}]
[{"$f":"リスト!A175","v":"　"},{"$f":"リスト!B175","v":0},{"$f":"リスト!C175","v":0},{"$f":"リスト!D175","v":0},{"$f":"リスト!E175","v":0},{"$f":"リスト!F175","v":0},{"$f":"リスト!G175","v":0},{"$f":"リスト!H175","v":0},{"$f":"リスト!I175","v":0},{"$f":"リスト!J175","v":0},{"$f":"リスト!K175","v":0},{"$f":"リスト!L175","v":0},{"$f":"リスト!M175","v":0},null,null,null,null,null,null,null,null,null,null,null,null,null,null,null,{"$f":"リスト!N175","v":0}]
[{"$f":"リスト!A176","v":"　"},{"$f":"リスト!B176","v":0},{"$f":"リスト!C176","v":0},{"$f":"リスト!D176","v":0},{"$f":"リスト!E176","v":0},{"$f":"リスト!F176","v":0},{"$f":"リスト!G176","v":0},{"$f":"リスト!H176","v":0},{"$f":"リスト!I176","v":0},{"$f":"リスト!J176","v":0},{"$f":"リスト!K176","v":0},{"$f":"リスト!L176","v":0},{"$f":"リスト!M176","v":0},null,null,null,null,null,null,null,null,null,null,null,null,null,null,null,{"$f":"リスト!N176","v":0}]
[{"$f":"リスト!A177","v":"　"},{"$f":"リスト!B177","v":0},{"$f":"リスト!C177","v":0},{"$f":"リスト!D177","v":0},{"$f":"リスト!E177","v":0},{"$f":"リスト!F177","v":0},{"$f":"リスト!G177","v":0},{"$f":"リスト!H177","v":0},{"$f":"リスト!I177","v":0},{"$f":"リスト!J177","v":0},{"$f":"リスト!K177","v":0},{"$f":"リスト!L177","v":0},{"$f":"リスト!M177","v":0},null,null,null,null,null,null,null,null,null,null,null,null,null,null,null,{"$f":"リスト!N177","v":0}]
[{"$f":"リスト!A178","v":"　"},{"$f":"リスト!B178","v":0},{"$f":"リスト!C178","v":0},{"$f":"リスト!D178","v":0},{"$f":"リスト!E178","v":0},{"$f":"リスト!F178","v":0},{"$f":"リスト!G178","v":0},{"$f":"リスト!H178","v":0},{"$f":"リスト!I178","v":0},{"$f":"リスト!J178","v":0},{"$f":"リスト!K178","v":0},{"$f":"リスト!L178","v":0},{"$f":"リスト!M178","v":0},null,null,null,null,null,null,null,null,null,null,null,null,null,null,null,{"$f":"リスト!N178","v":0}]
[{"$f":"リスト!A179","v":"　"},{"$f":"リスト!B179","v":0},{"$f":"リスト!C179","v":0},{"$f":"リスト!D179","v":0},{"$f":"リスト!E179","v":0},{"$f":"リスト!F179","v":0},{"$f":"リスト!G179","v":0},{"$f":"リスト!H179","v":0},{"$f":"リスト!I179","v":0},{"$f":"リスト!J179","v":0},{"$f":"リスト!K179","v":0},{"$f":"リスト!L179","v":0},{"$f":"リスト!M179","v":0},null,null,null,null,null,null,null,null,null,null,null,null,null,null,null,{"$f":"リスト!N179","v":0}]
[{"$f":"リスト!A180","v":"　"},{"$f":"リスト!B180","v":0},{"$f":"リスト!C180","v":0},{"$f":"リスト!D180","v":0},{"$f":"リスト!E180","v":0},{"$f":"リスト!F180","v":0},{"$f":"リスト!G180","v":0},{"$f":"リスト!H180","v":0},{"$f":"リスト!I180","v":0},{"$f":"リスト!J180","v":0},{"$f":"リスト!K180","v":0},{"$f":"リスト!L180","v":0},{"$f":"リスト!M180","v":0},null,null,null,null,null,null,null,null,null,null,null,null,null,null,null,{"$f":"リスト!N180","v":0}]
[{"$f":"リスト!A181","v":"　"},{"$f":"リスト!B181","v":0},{"$f":"リスト!C181","v":0},{"$f":"リスト!D181","v":0},{"$f":"リスト!E181","v":0},{"$f":"リスト!F181","v":0},{"$f":"リスト!G181","v":0},{"$f":"リスト!H181","v":0},{"$f":"リスト!I181","v":0},{"$f":"リスト!J181","v":0},{"$f":"リスト!K181","v":0},{"$f":"リスト!L181","v":0},{"$f":"リスト!M181","v":0},null,null,null,null,null,null,null,null,null,null,null,null,null,null,null,{"$f":"リスト!N181","v":0}]
[{"$f":"リスト!A182","v":"　"},{"$f":"リスト!B182","v":0},{"$f":"リスト!C182","v":0},{"$f":"リスト!D182","v":0},{"$f":"リスト!E182","v":0},{"$f":"リスト!F182","v":0},{"$f":"リスト!G182","v":0},{"$f":"リスト!H182","v":0},{"$f":"リスト!I182","v":0},{"$f":"リスト!J182","v":0},{"$f":"リスト!K182","v":0},{"$f":"リスト!L182","v":0},{"$f":"リスト!M182","v":0},null,null,null,null,null,null,null,null,null,null,null,null,null,null,null,{"$f":"リスト!N182","v":0}]
[{"$f":"リスト!A183","v":"　"},{"$f":"リスト!B183","v":0},{"$f":"リスト!C183","v":0},{"$f":"リスト!D183","v":0},{"$f":"リスト!E183","v":0},{"$f":"リスト!F183","v":0},{"$f":"リスト!G183","v":0},{"$f":"リスト!H183","v":0},{"$f":"リスト!I183","v":0},{"$f":"リスト!J183","v":0},{"$f":"リスト!K183","v":0},{"$f":"リスト!L183","v":0},{"$f":"リスト!M183","v":0},null,null,null,null,null,null,null,null,null,null,null,null,null,null,null,{"$f":"リスト!N183","v":0}]
[{"$f":"リスト!A184","v":"　"},{"$f":"リスト!B184","v":0},{"$f":"リスト!C184","v":0},{"$f":"リスト!D184","v":0},{"$f":"リスト!E184","v":0},{"$f":"リスト!F184","v":0},{"$f":"リスト!G184","v":0},{"$f":"リスト!H184","v":0},{"$f":"リスト!I184","v":0},{"$f":"リスト!J184","v":0},{"$f":"リスト!K184","v":0},{"$f":"リスト!L184","v":0},{"$f":"リスト!M184","v":0},null,null,null,null,null,null,null,null,null,null,null,null,null,null,null,{"$f":"リスト!N184","v":0}]
[{"$f":"リスト!A185","v":"　"},{"$f":"リスト!B185","v":0},{"$f":"リスト!C185","v":0},{"$f":"リスト!D185","v":0},{"$f":"リスト!E185","v":0},{"$f":"リスト!F185","v":0},{"$f":"リスト!G185","v":0},{"$f":"リスト!H185","v":0},{"$f":"リスト!I185","v":0},{"$f":"リスト!J185","v":0},{"$f":"リスト!K185","v":0},{"$f":"リスト!L185","v":0},{"$f":"リスト!M185","v":0},null,null,null,null,null,null,null,null,null,null,null,null,null,null,null,{"$f":"リスト!N185","v":0}]
[{"$f":"リスト!A186","v":"　"},{"$f":"リスト!B186","v":0},{"$f":"リスト!C186","v":0},{"$f":"リスト!D186","v":0},{"$f":"リスト!E186","v":0},{"$f":"リスト!F186","v":0},{"$f":"リスト!G186","v":0},{"$f":"リスト!H186","v":0},{"$f":"リスト!I186","v":0},{"$f":"リスト!J186","v":0},{"$f":"リスト!K186","v":0},{"$f":"リスト!L186","v":0},{"$f":"リスト!M186","v":0},null,null,null,null,null,null,null,null,null,null,null,null,null,null,null,{"$f":"リスト!N186","v":0}]
[{"$f":"リスト!A187","v":"　"},{"$f":"リスト!B187","v":0},{"$f":"リスト!C187","v":0},{"$f":"リスト!D187","v":0},{"$f":"リスト!E187","v":0},{"$f":"リスト!F187","v":0},{"$f":"リスト!G187","v":0},{"$f":"リスト!H187","v":0},{"$f":"リスト!I187","v":0},{"$f":"リスト!J187","v":0},{"$f":"リスト!K187","v":0},{"$f":"リスト!L187","v":0},{"$f":"リスト!M187","v":0},null,null,null,null,null,null,null,null,null,null,null,null,null,null,null,{"$f":"リスト!N187","v":0}]
[{"$f":"リスト!A188","v":"　"},{"$f":"リスト!B188","v":0},{"$f":"リスト!C188","v":0},{"$f":"リスト!D188","v":0},{"$f":"リスト!E188","v":0},{"$f":"リスト!F188","v":0},{"$f":"リスト!G188","v":0},{"$f":"リスト!H188","v":0},{"$f":"リスト!I188","v":0},{"$f":"リスト!J188","v":0},{"$f":"リスト!K188","v":0},{"$f":"リスト!L188","v":0},{"$f":"リスト!M188","v":0},null,null,null,null,null,null,null,null,null,null,null,null,null,null,null,{"$f":"リスト!N188","v":0}]
[{"$f":"リスト!A189","v":"　"},{"$f":"リスト!B189","v":0},{"$f":"リスト!C189","v":0},{"$f":"リスト!D189","v":0},{"$f":"リスト!E189","v":0},{"$f":"リスト!F189","v":0},{"$f":"リスト!G189","v":0},{"$f":"リスト!H189","v":0},{"$f":"リスト!I189","v":0},{"$f":"リスト!J189","v":0},{"$f":"リスト!K189","v":0},{"$f":"リスト!L189","v":0},{"$f":"リスト!M189","v":0},null,null,null,null,null,null,null,null,null,null,null,null,null,null,null,{"$f":"リスト!N189","v":0}]
[{"$f":"リスト!A190","v":"　"},{"$f":"リスト!B190","v":0},{"$f":"リスト!C190","v":0},{"$f":"リスト!D190","v":0},{"$f":"リスト!E190","v":0},{"$f":"リスト!F190","v":0},{"$f":"リスト!G190","v":0},{"$f":"リスト!H190","v":0},{"$f":"リスト!I190","v":0},{"$f":"リスト!J190","v":0},{"$f":"リスト!K190","v":0},{"$f":"リスト!L190","v":0},{"$f":"リスト!M190","v":0},null,null,null,null,null,null,null,null,null,null,null,null,null,null,null,{"$f":"リスト!N190","v":0}]
[{"$f":"リスト!A191","v":"　"},{"$f":"リスト!B191","v":0},{"$f":"リスト!C191","v":0},{"$f":"リスト!D191","v":0},{"$f":"リスト!E191","v":0},{"$f":"リスト!F191","v":0},{"$f":"リスト!G191","v":0},{"$f":"リスト!H191","v":0},{"$f":"リスト!I191","v":0},{"$f":"リスト!J191","v":0},{"$f":"リスト!K191","v":0},{"$f":"リスト!L191","v":0},{"$f":"リスト!M191","v":0},null,null,null,null,null,null,null,null,null,null,null,null,null,null,null,{"$f":"リスト!N191","v":0}]
[{"$f":"リスト!A192","v":"　"},{"$f":"リスト!B192","v":0},{"$f":"リスト!C192","v":0},{"$f":"リスト!D192","v":0},{"$f":"リスト!E192","v":0},{"$f":"リスト!F192","v":0},{"$f":"リスト!G192","v":0},{"$f":"リスト!H192","v":0},{"$f":"リスト!I192","v":0},{"$f":"リスト!J192","v":0},{"$f":"リスト!K192","v":0},{"$f":"リスト!L192","v":0},{"$f":"リスト!M192","v":0},null,null,null,null,null,null,null,null,null,null,null,null,null,null,null,{"$f":"リスト!N192","v":0}]
[{"$f":"リスト!A193","v":"　"},{"$f":"リスト!B193","v":0},{"$f":"リスト!C193","v":0},{"$f":"リスト!D193","v":0},{"$f":"リスト!E193","v":0},{"$f":"リスト!F193","v":0},{"$f":"リスト!G193","v":0},{"$f":"リスト!H193","v":0},{"$f":"リスト!I193","v":0},{"$f":"リスト!J193","v":0},{"$f":"リスト!K193","v":0},{"$f":"リスト!L193","v":0},{"$f":"リスト!M193","v":0},null,null,null,null,null,null,null,null,null,null,null,null,null,null,null,{"$f":"リスト!N193","v":0}]
[{"$f":"リスト!A194","v":"　"},{"$f":"リスト!B194","v":0},{"$f":"リスト!C194","v":0},{"$f":"リスト!D194","v":0},{"$f":"リスト!E194","v":0},{"$f":"リスト!F194","v":0},{"$f":"リスト!G194","v":0},{"$f":"リスト!H194","v":0},{"$f":"リスト!I194","v":0},{"$f":"リスト!J194","v":0},{"$f":"リスト!K194","v":0},{"$f":"リスト!L194","v":0},{"$f":"リスト!M194","v":0},null,null,null,null,null,null,null,null,null,null,null,null,null,null,null,{"$f":"リスト!N194","v":0}]
[{"$f":"リスト!A195","v":"　"},{"$f":"リスト!B195","v":0},{"$f":"リスト!C195","v":0},{"$f":"リスト!D195","v":0},{"$f":"リスト!E195","v":0},{"$f":"リスト!F195","v":0},{"$f":"リスト!G195","v":0},{"$f":"リスト!H195","v":0},{"$f":"リスト!I195","v":0},{"$f":"リスト!J195","v":0},{"$f":"リスト!K195","v":0},{"$f":"リスト!L195","v":0},{"$f":"リスト!M195","v":0},null,null,null,null,null,null,null,null,null,null,null,null,null,null,null,{"$f":"リスト!N195","v":0}]
[{"$f":"リスト!A196","v":"　"},{"$f":"リスト!B196","v":0},{"$f":"リスト!C196","v":0},{"$f":"リスト!D196","v":0},{"$f":"リスト!E196","v":0},{"$f":"リスト!F196","v":0},{"$f":"リスト!G196","v":0},{"$f":"リスト!H196","v":0},{"$f":"リスト!I196","v":0},{"$f":"リスト!J196","v":0},{"$f":"リスト!K196","v":0},{"$f":"リスト!L196","v":0},{"$f":"リスト!M196","v":0},null,null,null,null,null,null,null,null,null,null,null,null,null,null,null,{"$f":"リスト!N196","v":0}]
[{"$f":"リスト!A197","v":"　"},{"$f":"リスト!B197","v":0},{"$f":"リスト!C197","v":0},{"$f":"リスト!D197","v":0},{"$f":"リスト!E197","v":0},{"$f":"リスト!F197","v":0},{"$f":"リスト!G197","v":0},{"$f":"リスト!H197","v":0},{"$f":"リスト!I197","v":0},{"$f":"リスト!J197","v":0},{"$f":"リスト!K197","v":0},{"$f":"リスト!L197","v":0},{"$f":"リスト!M197","v":0},null,null,null,null,null,null,null,null,null,null,null,null,null,null,null,{"$f":"リスト!N197","v":0}]
[{"$f":"リスト!A198","v":"　"},{"$f":"リスト!B198","v":0},{"$f":"リスト!C198","v":0},{"$f":"リスト!D198","v":0},{"$f":"リスト!E198","v":0},{"$f":"リスト!F198","v":0},{"$f":"リスト!G198","v":0},{"$f":"リスト!H198","v":0},{"$f":"リスト!I198","v":0},{"$f":"リスト!J198","v":0},{"$f":"リスト!K198","v":0},{"$f":"リスト!L198","v":0},{"$f":"リスト!M198","v":0},null,null,null,null,null,null,null,null,null,null,null,null,null,null,null,{"$f":"リスト!N198","v":0}]
[{"$f":"リスト!A199","v":"　"},{"$f":"リスト!B199","v":0},{"$f":"リスト!C199","v":0},{"$f":"リスト!D199","v":0},{"$f":"リスト!E199","v":0},{"$f":"リスト!F199","v":0},{"$f":"リスト!G199","v":0},{"$f":"リスト!H199","v":0},{"$f":"リスト!I199","v":0},{"$f":"リスト!J199","v":0},{"$f":"リスト!K199","v":0},{"$f":"リスト!L199","v":0},{"$f":"リスト!M199","v":0},null,null,null,null,null,null,null,null,null,null,null,null,null,null,null,{"$f":"リスト!N199","v":0}]
[{"$f":"リスト!A200","v":"　"},{"$f":"リスト!B200","v":0},{"$f":"リスト!C200","v":0},{"$f":"リスト!D200","v":0},{"$f":"リスト!E200","v":0},{"$f":"リスト!F200","v":0},{"$f":"リスト!G200","v":0},{"$f":"リスト!H200","v":0},{"$f":"リスト!I200","v":0},{"$f":"リスト!J200","v":0},{"$f":"リスト!K200","v":0},{"$f":"リスト!L200","v":0},{"$f":"リスト!M200","v":0},null,null,null,null,null,null,null,null,null,null,null,null,null,null,null,{"$f":"リスト!N200","v":0}]
[{"$f":"リスト!A201","v":"　"},{"$f":"リスト!B201","v":0},{"$f":"リスト!C201","v":0},{"$f":"リスト!D201","v":0},{"$f":"リスト!E201","v":0},{"$f":"リスト!F201","v":0},{"$f":"リスト!G201","v":0},{"$f":"リスト!H201","v":0},{"$f":"リスト!I201","v":0},{"$f":"リスト!J201","v":0},{"$f":"リスト!K201","v":0},{"$f":"リスト!L201","v":0},{"$f":"リスト!M201","v":0},null,null,null,null,null,null,null,null,null,null,null,null,null,null,null,{"$f":"リスト!N201","v":0}]